Workbook
Name DataEnter: #REF!
Name DataEnter: #REF!
Name DataEnter: #REF!
Name DataEntry: #REF!
Name DataEntry: #REF!
Name DataEntry: #REF!
Name EmergencyShelter: DropDownMenus!$B$4:$B$5
Name ES: DropDownMenus!#REF!
Name ES: DropDownMenus!#REF!
Name EssentialServices: DropDownMenus!#REF!
Name EssentialServices: DropDownMenus!#REF!
Name ExpenseTypeESG: DropDownMenus!#REF!
Name ExpenseTypeESG: DropDownMenus!#REF!
Name GrantComponent: DropDownMenus!#REF!
Name GrantComponent: DropDownMenus!#REF!
Name Operations: DropDownMenus!#REF!
Name Operations: DropDownMenus!#REF!
Name Services: DropDownMenus!#REF!
Name Services: DropDownMenus!#REF!

Sheet Back-Up Summary
C4: Date
C5: Grant Number
C6: Agency Name
C7: Total Requested Amount | D7: =D14 -> 0
C9: Funding Component | D9: Request Amount
C10: HMIS
C11: Expense Detail Total Amount | D11: =HMIS!C11 -> 0
C12: Coordinated Entry
C13: Expense Detail Total Amount | D13: ='Coordinated Entry System'!C11 -> 0
C14: Total Requested Amount | D14: =SUM(D11,D13) -> 0
C15: Total Administration Amount | D15: =SUM(HMIS!C12,'Coordinated Entry System'!C12:D12) -> 0
B17: CERTIFICATION
B18: By signing this report, I certify to the best of my knowledge and belief that the report is true, complete, and accurate, and the expenditures are for the purposes and objectives set forth in the terms and conditions of the MoHIP award.
B19: Authorized Signature
B20: Printed Name
B22: MHDC Personnel Use Only
B23: Notes: | E23: Approval

Sheet HMIS
A7: Date | C7: ='Back-Up Summary'!D4 -> 0
A8: Grant Number | C8: ='Back-Up Summary'!D5 -> 0
A9: Agency Name | C9: ='Back-Up Summary'!D6 -> 0
A10: Reporting Range | G10: Instructions:
A11: Total HMIS Expenses | C11: =SUM(I35,I84,I136,I188) -> 0 | G11: Please include the last four digits of the SSN for employee salary within the detail description.
A12: Total HMIS Administration Expenses | C12: =SUM(C38,C87,C139,C190) -> 0
A14: No. | B14: Expense Type | C14: Incurred Date(s) (i.e., Pay Period) | D14: Paid Date | E14: Check Number | F14: Vendor | G14: Total Amount | H14: MoHIP % | I14: Amount Paid by MoHIP | J14: Detail Description
A15: 1 | G15: 0 | H15: =IFERROR(I15/G15,0) -> 0 | I15: 0
A16: =A15+1 -> 2 | G16: 0 | H16: =IFERROR(I16/G16,0) -> 0 | I16: 0
A17: =A16+1 -> 3 | G17: 0 | H17: =IFERROR(I17/G17,0) -> 0 | I17: 0
A18: =A17+1 -> 4 | G18: 0 | H18: =IFERROR(I18/G18,0) -> 0 | I18: 0
A19: =A18+1 -> 5 | G19: 0 | H19: =IFERROR(I19/G19,0) -> 0 | I19: 0
A20: =A19+1 -> 6 | G20: 0 | H20: =IFERROR(I20/G20,0) -> 0 | I20: 0
A21: =A20+1 -> 7 | G21: 0 | H21: =IFERROR(I21/G21,0) -> 0 | I21: 0
A22: =A21+1 -> 8 | G22: 0 | H22: =IFERROR(I22/G22,0) -> 0 | I22: 0
A23: =A22+1 -> 9 | G23: 0 | H23: =IFERROR(I23/G23,0) -> 0 | I23: 0
A24: =A23+1 -> 10 | G24: 0 | H24: =IFERROR(I24/G24,0) -> 0 | I24: 0
A25: =A24+1 -> 11 | G25: 0 | H25: =IFERROR(I25/G25,0) -> 0 | I25: 0
A26: =A25+1 -> 12 | G26: 0 | H26: =IFERROR(I26/G26,0) -> 0 | I26: 0
A27: =A26+1 -> 13 | G27: 0 | H27: =IFERROR(I27/G27,0) -> 0 | I27: 0
... A34: =A33+1 -> 20 | G34: 0 | H34: =IFERROR(I34/G34,0) -> 0 | I34: 0
G35: Page 1 Total | I35: =SUM(I15:I34) -> 0
A38: Pg 1. Total Administration | C38: =SUM(C39:C40) -> 0
A39: Indirect Costs: | C39: =SUMIF(Table124[Expense Type], "Indirect Costs", Table124[Amount Paid by MoHIP] ) -> 0
A40: Administration: | C40: =SUMIF(Table124[Expense Type], "Administration", Table124[Amount Paid by MoHIP]) -> 0
A58: Date | C58: =C7 -> 0
A59: Grant Number | C59: =C8 -> 0
A60: Agency Name | C60: =C9 -> 0
A61: Reporting Range | C61: =C10 -> 0
A63: No. | B63: Expense Type | C63: Incurred Date(s) (i.e., Pay Period) | D63: Paid Date | E63: Check Number | F63: Vendor | G63: Total Amount | H63: MoHIP % | I63: Amount Paid by MoHIP | J63: Detail Description
A64: 21 | G64: 0 | H64: =IFERROR(I64/G64,0) -> 0 | I64: 0
A65: 22 | G65: 0 | H65: =IFERROR(I65/G65,0) -> 0 | I65: 0
A66: 23 | G66: 0 | H66: =IFERROR(I66/G66,0) -> 0 | I66: 0
A67: =A66+1 -> 24 | G67: 0 | H67: =IFERROR(I67/G67,0) -> 0 | I67: 0
A68: =A67+1 -> 25 | G68: 0 | H68: =IFERROR(I68/G68,0) -> 0 | I68: 0
A69: =A68+1 -> 26 | G69: 0 | H69: =IFERROR(I69/G69,0) -> 0 | I69: 0
A70: =A69+1 -> 27 | G70: 0 | H70: =IFERROR(I70/G70,0) -> 0 | I70: 0
A71: =A70+1 -> 28 | G71: 0 | H71: =IFERROR(I71/G71,0) -> 0 | I71: 0
A72: =A71+1 -> 29 | G72: 0 | H72: =IFERROR(I72/G72,0) -> 0 | I72: 0
A73: =A72+1 -> 30 | G73: 0 | H73: =IFERROR(I73/G73,0) -> 0 | I73: 0
...

Sheet Coordinated Entry System
A7: Date | C7: ='Back-Up Summary'!D4 -> 0
A8: Grant Number | C8: ='Back-Up Summary'!D5 -> 0
A9: Agency Name | C9: ='Back-Up Summary'!D6 -> 0
A10: Reporting Range | H10: Instructions:
A11: Total Coordinated Entry Expenses | C11: =SUM(I31,I87,I137,I185) -> 0 | D11: Salary/Benefits | H11: Please include the last four digits of the SSN for employee salary within the detail description.
A12: Total Coordinated Entry Admin Expenses | C12: =SUM(C33,C90,C142,C189) -> 0
A15: No. | B15: Expense Type | C15: Incurred Date(s) (i.e., Pay Period) | D15: Paid Date | E15: Check Number | F15: Vendor | G15: Total Amount | H15: MoHIP % | I15: Amount Paid by MoHIP | J15: Detail Description
A16: 1 | G16: 0 | H16: =IFERROR(I16/Table15712[[#This Row],[Total Amount]],0) -> 0 | I16: 0
A17: 2 | G17: 0 | H17: =IFERROR(I17/Table15712[[#This Row],[Total Amount]],0) -> 0 | I17: 0
A18: 3 | G18: 0 | H18: =IFERROR(I18/Table15712[[#This Row],[Total Amount]],0) -> 0 | I18: 0
A19: 4 | G19: 0 | H19: =IFERROR(I19/Table15712[[#This Row],[Total Amount]],0) -> 0 | I19: 0
A20: 5 | G20: 0 | H20: =IFERROR(I20/Table15712[[#This Row],[Total Amount]],0) -> 0 | I20: 0
A21: 6 | G21: 0 | H21: =IFERROR(I21/Table15712[[#This Row],[Total Amount]],0) -> 0 | I21: 0
A22: 7 | G22: 0 | H22: =IFERROR(I22/Table15712[[#This Row],[Total Amount]],0) -> 0 | I22: 0
A23: 8 | G23: 0 | H23: =IFERROR(I23/Table15712[[#This Row],[Total Amount]],0) -> 0 | I23: 0
A24: 9 | G24: 0 | H24: =IFERROR(I24/Table15712[[#This Row],[Total Amount]],0) -> 0 | I24: 0
A25: 10 | G25: 0 | H25: =IFERROR(I25/Table15712[[#This Row],[Total Amount]],0) -> 0 | I25: 0
A26: 11 | G26: 0 | H26: =IFERROR(I26/Table15712[[#This Row],[Total Amount]],0) -> 0 | I26: 0
A27: 12 | G27: 0 | H27: =IFERROR(I27/Table15712[[#This Row],[Total Amount]],0) -> 0 | I27: 0
... A30: 15 | G30: 0 | H30: =IFERROR(I30/Table15712[[#This Row],[Total Amount]],0) -> 0 | I30: 0
G31: Page 1 Total | I31: =SUM(I16:I30) -> 0
A33: Pg 1. Total Administration | C33: =SUM(C34:C35) -> 0
A34: Indirect Costs: | C34: =SUMIF(Table15712[Expense Type], "Indirect Costs", Table15712[Amount Paid by MoHIP]) -> 0
A35: Administration: | C35: =SUMIF(Table15712[Expense Type], "Administration", Table15712[Amount Paid by MoHIP]) -> 0
A61: Date | C61: =C7 -> 0
A62: Grant Number | C62: =C8 -> 0
A63: Agency Name | C63: =C9 -> 0
A64: Reporting Range | C64: =C10 -> 0
A66: No. | B66: Expense Type | C66: Incurred Date(s) (i.e., Pay Period) | D66: Paid Date | E66: Check Number | F66: Vendor | G66: Total Amount | H66: MoHIP % | I66: Amount Paid by MoHIP | J66: Detail Description
A67: 16 | G67: 0 | H67: =IFERROR(I67/G67,0) -> 0 | I67: 0
A68: 17 | G68: 0 | H68: =IFERROR(I68/G68,0) -> 0 | I68: 0
A69: 18 | G69: 0 | H69: =IFERROR(I69/G69,0) -> 0 | I69: 0
A70: 19 | G70: 0 | H70: =IFERROR(I70/G70,0) -> 0 | I70: 0
A71: 20 | G71: 0 | H71: =IFERROR(I71/G71,0) -> 0 | I71: 0
A72: 21 | G72: 0 | H72: =IFERROR(I72/G72,0) -> 0 | I72: 0
A73: 22 | G73: 0 | H73: =IFERROR(I73/G73,0) -> 0 | I73: 0
A74: 23 | G74: 0 | H74: =IFERROR(I74/G74,0) -> 0 | I74: 0
A75: 24 | G75: 0 | H75: =IFERROR(I75/G75,0) -> 0 | I75: 0
A76: 25 | G76: 0 | H76: =IFERROR(I76/G76,0) -> 0 | I76: 0
A77: 26 | G77: 0 | H77: =IFERROR(I77/G77,0) -> 0 | I77: 0
...

Sheet DropDownMenus
A1: Drop Down List Values - 1.14.2019
A2: Tab | B2: Values
A3: Emergency Shelter | B3: Emergency Shelter Expense Types
B4: Essential Services
B5: Operations
A8: HMIS Expense Types | B8: CES Expense Types | C8: SO Expense Types | D8: Admin Expense Types | E8: Housing Services Expense Types
A9: Salary/Benefits | B9: Salary/Benefits | C9: Engagement | D9: Equipment | E9: Moving Costs
A10: HMIS Software Costs | B10: Equipment - hardware | C10: Housing-Focused CM | D10: Insurance | E10: Housing Search & Placement
A11: Hosting/Technical Services | B11: Equipment - software | C11: Emergency Health Services | D11: Maintenance | E11: Housing Stability Case Management
A12: Indirect Costs | B12: Software Licensing Costs | C12: Emergency Mental Health Services | D12: Mileage
A13: Administration | B13: Travel associated with CES | C13: Transportation | D13: Salary/Benefits
B14: Indirect Costs | C14: Other (Please Specify)** | D14: Security
B15: Administration | D15: Supplies
D16: Other (please specify)**
