{"text_format":"1","workbook":"xlsx","n_sheets":7,"sheets":["Instructions","Certification","Development Summary","Building Detail","Unit Detail","Unit Summary","Hidden1"],"not_rendered":{"charts":0,"images":1,"macros":1,"external_links":0,"defined_names":15,"comments":0,"pivot_tables":0},"unopened":[],"bounds":{"document_bytes":16777216,"sheet_cells":100000,"rows_first":2000,"rows_last":500,"rows_between":2000,"halvings":0,"cell_chars":16384,"cell_head_chars":4096},"cells_cut":0,"cells_raw":0,"read":"whole","date_system":"1900"}

{"sheet":"Instructions","index":0,"n_rows":59,"n_cols":3,"rows_kept":59,"cut":false,"hidden":false,"merged":[[9,2,9,13],[10,2,10,13],[7,1,7,13],[22,2,22,13],[49,1,49,10],[20,2,20,13],[23,2,23,13],[45,2,45,14],[46,2,46,13],[47,2,47,13],[21,2,21,13],[24,2,24,13],[57,1,57,13],[58,1,58,13],[1,1,1,13],[51,1,51,4],[52,1,52,13],[53,1,53,13],[54,1,54,13],[15,2,15,14],[16,2,16,13],[17,2,17,13],[19,2,19,14],[50,1,50,13],[12,2,12,14],[13,2,13,13],[55,1,55,13],[56,1,56,13]]}
[]
[null,"INSTRUCTIONS:"]
[null,"Complete fillable fields in order of tabs:"]
[null,1,"Certification"]
[null,2,"Development Summary"]
[null,3,"Building Detail"]
[null,4,"Unit Detail"]
[null,"Once the detail is completed on each tab, the summary information will fill in on the Development Summary and Building Detail tabs."]
[]
[null,null,"Certification Tab"]
[null,null,"•  Signed hard-copy or PDF version must be submitted along with the electronic excel version."]
[]
[null,null,"Development Summary Tab"]
[null,null,"•  If all units in all buildings are claiming the same credit types (i.e. Acquisition, Rehabilitation, New); the unit level detail of the  Credit Type does not need to be completed."]
[]
[null,null,"Building Detail Tab"]
[null,null,"•  Residential Building Numbers must be filled in before Unit Detail can be completed."]
[null,null,"•  Residential Building Numbers must use the assigned Building Identification Number (BIN) once assigned."]
[]
[null,null,"Unit Detail Tab"]
[null,null,"•  Drop down for Building # will be populated from Building Number fields from Building Detail tab."]
[null,null,"•  All units must have a Primary Unit Designation. A unit may or may not have one or more secondary unit designations."]
[null,null,"•  Mark each primary and secondary unit designation with an \"x\" for the appropriate box."]
[null,null,"•  Once a Building # is selected, all unit assignments will be attributed to that building until a different Building number is selected."]
[null,null,"•  Unit designations are limited to five characters"]
[]
[]
[]
[]
[]
[]
[]
[]
[]
[]
[]
[]
[]
[]
[]
[]
[]
[]
[]
[]
[null,null,"Unit Summary Tab"]
[null,null,"• Once all detail for all units and buildings is completed click \"Update\" for summary of unit types including HOME and NHTF."]
[null,null,"•  If any unit detail is changed, the \"Update\" link must be clicked again to refresh."]
[]
[null,"General Insturctions"]
[null,"•  Market rate only buildings are NOT allowed."]
[null,"•  Light blue fields are fillable."]
[null,"•  Each building in the development must be listed, all units must be  identified  for each building."]
[null,"•  Each building must have an address listed, the final mailing address for each  building must be updated on the Cost Certification version. The building addresses listed on the Cost Certification version must match the building addresses submitted in the Cost Certification packet. "]
[null,"•  Square feet must be in whole numbers."]
[null,"•  HOME and NHTF Units: For HOME and/or NHTF units that are combined with LIHTC units, mark the HOME and/or NHTF column in addition to the LIHTC column."]
[null,"•  Employee Units: If the development is 100% Low Income units - both LI and Emp columns should be marked in the unit detail; If there are market units in the project, just the Emp column should be marked."]
[null,"•  Census Tract:  The census tract for each building may vary in a scattered site project, please note that the census tract listed for each building must correspond  to that specific building address, not just the main project address."]
[null,"•  Unit Number Assignment (Cost Certification Version):  The unit number assignments listed in the Residential Building detail must be the final, actual unit numbers assigned within each building. If the unit number assignments differ from what is submitted on this form and require revision, a per-unit change fee may be assessed, as detailed above. "]

{"sheet":"Certification","index":1,"n_rows":43,"n_cols":23,"rows_kept":43,"cut":false,"hidden":false,"merged":[[12,4,12,21],[9,1,9,21],[18,1,18,21],[39,3,39,21],[37,3,37,21],[34,3,34,21],[32,3,32,21],[28,3,28,21],[26,3,26,21],[23,3,23,21],[21,3,21,21],[20,3,20,21],[25,3,25,21],[30,3,30,21],[42,3,42,21],[1,5,1,21],[3,5,3,21],[7,1,7,2],[13,22,18,24],[5,5,5,21],[7,18,7,21],[7,12,7,16],[7,3,7,9],[7,10,7,11],[5,1,5,4],[12,1,12,3],[14,1,14,3],[16,1,16,3],[16,4,16,21],[14,4,14,21]]}
[null,"Form 3345 | Plan Review Worksheet | Certification"]
[null,"Development Name: "]
[]
[null,"Development Number: "]
[]
[null,"Development Address:"]
[]
[null,"City:",null,null,null,null,null,null,null,null,"County: ",null,null,null,null,null,null,"Zip: "]
[]
[null,"Contact Information"]
[]
[null,"Contact information for questions regarding this Plan Review Worksheet:"]
[null,"Contact Name:"]
[null,null,null,null,null,null,null,null,null,null,null,null,null,null,null,null,null,null,null,null,null,null,"If the same credits will not be claimed for ALL units in ALL buildings, the Credit Type for each unit on \"Unit Detail\" tab must be completed."]
[null,"Email Address:"]
[]
[null,"Phone Number:"]
[]
[null,"Document Version"]
[null,"Select version."]
[null,null,null,"Pre-Conditional Submission - The owner hereby certifies that the information presented in this document is the most current information available at the time of submission."]
[]
[null,null,null,"Owner Signature"]
[]
[null,null,null,"Name, Title"]
[null,null,null,"Firm Submission - The owner hereby certifies that the information presented in this document is the most current information available at the time of submission."]
[]
[null,null,null,"Owner Signature"]
[]
[null,null,null,"Name, Title"]
[null,null,null,"Cost Certification - The Owner and Management Company hereby certify that all of the information presented in this document is true, correct and final. If a revision of the unit number assignments, detailed on the Unit Detail tab, are required after the submission of this fully-executed document, Missouri Housing Development Commission may assess a fee of $25 per unit number change for incorrect information."]
[null,null,null,null,null,null,null,null,null,null,null,null,null,null,null,null,null,null,null,null,null,null," "]
[]
[null,null,null,"Owner Signature"]
[]
[null,null,null,"Name, Title"]
[]
[]
[null,null,null,"Management Company Signature"]
[]
[null,null,null,"Name, Title"]
[]
[null,null,null,"This document may be submitted electronically to MHDC via email. If submitted as such, the undersigned agrees that the signature thereon is to be treated as an original signature and the document is to be treated as an original document with the same effect and enforceability."]

{"sheet":"Development Summary","index":2,"n_rows":57,"n_cols":23,"rows_kept":57,"cut":false,"hidden":false,"merged":[[13,11,15,21],[7,1,7,8],[9,1,9,10],[2,5,2,21],[1,5,1,21],[9,11,9,15],[5,11,5,15],[5,1,5,8],[11,11,11,15]]}
[null,"Form 3345 | Plan Review Worksheet | Development Summary"]
[null,"Development Name: ",null,null,null,{"$f":"Certification!F2","v":0}]
[null,"Development Number: ",null,null,null,{"$f":"Certification!F4","v":0}]
[]
[null,"Development Information"]
[null,"Is this a scattered site development?"]
[]
[null,"Credit types claimed in development: ",null,null,null,null,null,null,null,null,null,null,null,"New",null,"Acq",null,"Rehabilitation"]
[]
[null,"All units in all building claiming same credit type(s)?",null,null,null,null,null,null,null,null,null,null,null,null,null,null,null,null,null,null,null,null,"If the same credits will not be claimed for ALL units in ALL buildings, the Credit Type for each unit on \"Unit Detail\" tab must be completed."]
[]
[null,"Resyndicated Development? "]
[]
[null,null,"If yes, list project number(s) and name(s)"]
[]
[]
[null,null,null,null,null,null,null,null,null,null,null,null,null,null,null,null,null,null,null," "]
[null,"Buildings Summary"]
[null,null,{"$f":"'Building Detail'!C15","v":0},"Residential Buildings"]
[null,null,{"$f":"'Building Detail'!D6","v":0},"Non Residential Buildings"]
[null,null,{"$f":"SUM(C19:C20)","v":0},"Total Buildings"]
[null,"Development Square Feet Summary"]
[null,null,"Residential Buildings"]
[null,null,{"$f":"'Building Detail'!O15","v":0},"sq ft","Low-Income Residential"]
[null,null,{"$f":"'Building Detail'!P15","v":0},"sq ft","Market Rate Residential"]
[null,null,{"$f":"'Building Detail'!Q15","v":0},"sq ft","Employee Residential  "]
[null,null,{"$f":"SUM(C24:C26)","v":0},"sq ft","Total Residential  "]
[null,null,{"$f":"'Building Detail'!N15","v":0},"sq ft","Commercial Space"]
[null,null,{"$f":"'Building Detail'!M15","v":0},"sq ft","Common Space"]
[null,null,{"$f":"SUM(C28:C29)","v":0},"sq ft","Total Common and Commercial Space - Residential"]
[null,null,{"$f":"SUM(C30,C27)","v":0},"sq ft","Total Building   - Residential Buildings"]
[null,null,"Non Residential Buildings"]
[null,null,{"$f":"'Building Detail'!M6","v":0},"sq ft","Commercial Space"]
[null,null,{"$f":"'Building Detail'!L6","v":0},"sq ft","Common Space"]
[null,null,{"$f":"SUM(C33:C34)","v":0},"sq ft","Total Non Residential  "]
[null,null,"All Buildings"]
[null,null,{"$f":"C27","v":0},"sq ft","Total Residential  "]
[null,null,{"$f":"SUM(C28,C33)","v":0},"sq ft","Total Commercial Space"]
[null,null,{"$f":"SUM(C29,C34)","v":0},"sq ft","Total Common Space"]
[null,null,{"$f":"SUM(C37:C39)","v":0},"sq ft","Total All Buildings"]
[null,"Residential Units Summary"]
[null,null,"Unit Type"]
[null,null,{"$f":"'Building Detail'!U15","v":0},"units","Low-Income "]
[null,null,{"$f":"'Building Detail'!V15","v":0},"units","Market "]
[null,null,{"$f":"'Building Detail'!W15","v":0},"units","Employee "]
[null,null,{"$f":"SUM(C43:C45)","v":0},"units","Total "]
[null,null,"Unit Designation Summary"]
[null,null,{"$f":"COUNTA('Unit Detail'!$O$8:$O$400)","v":0},"units","HOME"]
[null,null,{"$f":"COUNTA('Unit Detail'!$P$8:$P$400)","v":0},"units","NHTF"]
[null,null,{"$f":"COUNTA('Unit Detail'!$Q$8:$Q$400)","v":0},"units","AHAP"]
[null,null,{"$f":"COUNTA('Unit Detail'!$S$8:$S$400)","v":0},"units","SA - Permanent Supportive Housing"]
[null,null,{"$f":"COUNTA('Unit Detail'!$R$8:$R$400)","v":0},"units","SA - Vulnerable Populations"]
[null,null,{"$f":"COUNTA('Unit Detail'!$T$8:$T$400)","v":0},"units","Companion Living"]
[null,null,{"$f":"COUNTA('Unit Detail'!$U$8:$U$400)","v":0},"units","IEH"]
[null,null,{"$f":"COUNTA('Unit Detail'!$V$8:$V$400)","v":0},"units","Workforce"]
[null,null,{"$f":"COUNTA('Unit Detail'!$W$8:$W$400)","v":0},"units","Section 8"]
[null,null,{"$f":"COUNTA('Unit Detail'!$X$8:$X$400)","v":0},"units","Accessible "]

{"sheet":"Building Detail","index":3,"n_rows":855,"n_cols":26,"rows_kept":855,"cut":false,"hidden":false,"merged":[[851,2,851,6],[852,2,852,6],[853,2,853,6],[854,2,854,6],[842,2,842,6],[843,2,843,6],[844,2,844,6],[845,2,845,6],[846,2,846,6],[847,2,847,6],[848,2,848,6],[849,2,849,6],[850,2,850,6],[833,2,833,6],[834,2,834,6],[835,2,835,6],[836,2,836,6],[837,2,837,6],[838,2,838,6],[839,2,839,6],[840,2,840,6],[841,2,841,6],[824,2,824,6],[825,2,825,6],[826,2,826,6],[827,2,827,6],[828,2,828,6],[829,2,829,6],[830,2,830,6],[831,2,831,6],[832,2,832,6],[815,2,815,6],[816,2,816,6],[817,2,817,6],[818,2,818,6],[819,2,819,6],[820,2,820,6],[821,2,821,6],[822,2,822,6],[823,2,823,6],[806,2,806,6],[807,2,807,6],[808,2,808,6],[809,2,809,6],[810,2,810,6],[811,2,811,6],[812,2,812,6],[813,2,813,6],[814,2,814,6],[797,2,797,6],[798,2,798,6],[799,2,799,6],[800,2,800,6],[801,2,801,6],[802,2,802,6],[803,2,803,6],[804,2,804,6],[805,2,805,6],[788,2,788,6],[789,2,789,6],[790,2,790,6],[791,2,791,6],[792,2,792,6],[793,2,793,6],[794,2,794,6],[795,2,795,6],[796,2,796,6],[779,2,779,6],[780,2,780,6],[781,2,781,6],[782,2,782,6],[783,2,783,6],[784,2,784,6],[785,2,785,6],[786,2,786,6],[787,2,787,6],[770,2,770,6],[771,2,771,6],[772,2,772,6],[773,2,773,6],[774,2,774,6],[775,2,775,6],[776,2,776,6],[777,2,777,6],[778,2,778,6],[761,2,761,6],[762,2,762,6],[763,2,763,6],[764,2,764,6],[765,2,765,6],[766,2,766,6],[767,2,767,6],[768,2,768,6],[769,2,769,6],[752,2,752,6],[753,2,753,6],[754,2,754,6],[755,2,755,6],[756,2,756,6],[757,2,757,6],[758,2,758,6],[759,2,759,6],[760,2,760,6],[743,2,743,6],[744,2,744,6],[745,2,745,6],[746,2,746,6],[747,2,747,6],[748,2,748,6],[749,2,749,6],[750,2,750,6],[751,2,751,6],[734,2,734,6],[735,2,735,6],[736,2,736,6],[737,2,737,6],[738,2,738,6],[739,2,739,6],[740,2,740,6],[741,2,741,6],[742,2,742,6],[725,2,725,6],[726,2,726,6],[727,2,727,6],[728,2,728,6],[729,2,729,6],[730,2,730,6],[731,2,731,6],[732,2,732,6],[733,2,733,6],[716,2,716,6],[717,2,717,6],[718,2,718,6],[719,2,719,6],[720,2,720,6],[721,2,721,6],[722,2,722,6],[723,2,723,6],[724,2,724,6],[707,2,707,6],[708,2,708,6],[709,2,709,6],[710,2,710,6],[711,2,711,6],[712,2,712,6],[713,2,713,6],[714,2,714,6],[715,2,715,6],[698,2,698,6],[699,2,699,6],[700,2,700,6],[701,2,701,6],[702,2,702,6],[703,2,703,6],[704,2,704,6],[705,2,705,6],[706,2,706,6],[689,2,689,6],[690,2,690,6],[691,2,691,6],[692,2,692,6],[693,2,693,6],[694,2,694,6],[695,2,695,6],[696,2,696,6],[697,2,697,6],[680,2,680,6],[681,2,681,6],[682,2,682,6],[683,2,683,6],[684,2,684,6],[685,2,685,6],[686,2,686,6],[687,2,687,6],[688,2,688,6],[671,2,671,6],[672,2,672,6],[673,2,673,6],[674,2,674,6],[675,2,675,6],[676,2,676,6],[677,2,677,6],[678,2,678,6],[679,2,679,6],[662,2,662,6],[663,2,663,6],[664,2,664,6],[665,2,665,6],[666,2,666,6],[667,2,667,6],[668,2,668,6],[669,2,669,6],[670,2,670,6],[653,2,653,6],[654,2,654,6],[655,2,655,6],[656,2,656,6],[657,2,657,6],[658,2,658,6],[659,2,659,6],[660,2,660,6],[661,2,661,6],[644,2,644,6],[645,2,645,6],[646,2,646,6],[647,2,647,6],[648,2,648,6],[649,2,649,6],[650,2,650,6],[651,2,651,6],[652,2,652,6],[635,2,635,6],[636,2,636,6],[637,2,637,6],[638,2,638,6],[639,2,639,6],[640,2,640,6],[641,2,641,6],[642,2,642,6],[643,2,643,6],[626,2,626,6],[627,2,627,6],[628,2,628,6],[629,2,629,6],[630,2,630,6],[631,2,631,6],[632,2,632,6],[633,2,633,6],[634,2,634,6],[617,2,617,6],[618,2,618,6],[619,2,619,6],[620,2,620,6],[621,2,621,6],[622,2,622,6],[623,2,623,6],[624,2,624,6],[625,2,625,6],[608,2,608,6],[609,2,609,6],[610,2,610,6],[611,2,611,6],[612,2,612,6],[613,2,613,6],[614,2,614,6],[615,2,615,6],[616,2,616,6],[599,2,599,6],[600,2,600,6],[601,2,601,6],[602,2,602,6],[603,2,603,6],[604,2,604,6],[605,2,605,6],[606,2,606,6],[607,2,607,6],[590,2,590,6],[591,2,591,6],[592,2,592,6],[593,2,593,6],[594,2,594,6],[595,2,595,6],[596,2,596,6],[597,2,597,6],[598,2,598,6],[581,2,581,6],[582,2,582,6],[583,2,583,6],[584,2,584,6],[585,2,585,6],[586,2,586,6],[587,2,587,6],[588,2,588,6],[589,2,589,6],[572,2,572,6],[573,2,573,6],[574,2,574,6],[575,2,575,6],[576,2,576,6],[577,2,577,6],[578,2,578,6],[579,2,579,6],[580,2,580,6],[563,2,563,6],[564,2,564,6],[565,2,565,6],[566,2,566,6],[567,2,567,6],[568,2,568,6],[569,2,569,6],[570,2,570,6],[571,2,571,6],[554,2,554,6],[555,2,555,6],[556,2,556,6],[557,2,557,6],[558,2,558,6],[559,2,559,6],[560,2,560,6],[561,2,561,6],[562,2,562,6],[545,2,545,6],[546,2,546,6],[547,2,547,6],[548,2,548,6],[549,2,549,6],[550,2,550,6],[551,2,551,6],[552,2,552,6],[553,2,553,6],[536,2,536,6],[537,2,537,6],[538,2,538,6],[539,2,539,6],[540,2,540,6],[541,2,541,6],[542,2,542,6],[543,2,543,6],[544,2,544,6],[527,2,527,6],[528,2,528,6],[529,2,529,6],[530,2,530,6],[531,2,531,6],[532,2,532,6],[533,2,533,6],[534,2,534,6],[535,2,535,6],[518,2,518,6],[519,2,519,6],[520,2,520,6],[521,2,521,6],[522,2,522,6],[523,2,523,6],[524,2,524,6],[525,2,525,6],[526,2,526,6],[509,2,509,6],[510,2,510,6],[511,2,511,6],[512,2,512,6],[513,2,513,6],[514,2,514,6],[515,2,515,6],[516,2,516,6],[517,2,517,6],[500,2,500,6],[501,2,501,6],[502,2,502,6],[503,2,503,6],[504,2,504,6],[505,2,505,6],[506,2,506,6],[507,2,507,6],[508,2,508,6],[491,2,491,6],[492,2,492,6],[493,2,493,6],[494,2,494,6],[495,2,495,6],[496,2,496,6],[497,2,497,6],[498,2,498,6],[499,2,499,6],[482,2,482,6],[483,2,483,6],[484,2,484,6],[485,2,485,6],[486,2,486,6],[487,2,487,6],[488,2,488,6],[489,2,489,6],[490,2,490,6],[473,2,473,6],[474,2,474,6],[475,2,475,6],[476,2,476,6],[477,2,477,6],[478,2,478,6],[479,2,479,6],[480,2,480,6],[481,2,481,6],[464,2,464,6],[465,2,465,6],[466,2,466,6],[467,2,467,6],[468,2,468,6],[469,2,469,6],[470,2,470,6],[471,2,471,6],[472,2,472,6],[455,2,455,6],[456,2,456,6],[457,2,457,6],[458,2,458,6],[459,2,459,6],[460,2,460,6],[461,2,461,6],[462,2,462,6],[463,2,463,6],[446,2,446,6],[447,2,447,6],[448,2,448,6],[449,2,449,6],[450,2,450,6],[451,2,451,6],[452,2,452,6],[453,2,453,6],[454,2,454,6],[437,2,437,6],[438,2,438,6],[439,2,439,6],[440,2,440,6],[441,2,441,6],[442,2,442,6],[443,2,443,6],[444,2,444,6],[445,2,445,6],[428,2,428,6],[429,2,429,6],[430,2,430,6],[431,2,431,6],[432,2,432,6],[433,2,433,6],[434,2,434,6],[435,2,435,6],[436,2,436,6],[419,2,419,6],[420,2,420,6],[421,2,421,6],[422,2,422,6],[423,2,423,6],[424,2,424,6],[425,2,425,6],[426,2,426,6],[427,2,427,6],[410,2,410,6],[411,2,411,6],[412,2,412,6],[413,2,413,6],[414,2,414,6],[415,2,415,6],[416,2,416,6],[417,2,417,6],[418,2,418,6],[401,2,401,6],[402,2,402,6],[403,2,403,6],[404,2,404,6],[405,2,405,6],[406,2,406,6],[407,2,407,6],[408,2,408,6],[409,2,409,6],[392,2,392,6],[393,2,393,6],[394,2,394,6],[395,2,395,6],[396,2,396,6],[397,2,397,6],[398,2,398,6],[399,2,399,6],[400,2,400,6],[383,2,383,6],[384,2,384,6],[385,2,385,6],[386,2,386,6],[387,2,387,6],[388,2,388,6],[389,2,389,6],[390,2,390,6],[391,2,391,6],[374,2,374,6],[375,2,375,6],[376,2,376,6],[377,2,377,6],[378,2,378,6],[379,2,379,6],[380,2,380,6],[381,2,381,6],[382,2,382,6],[365,2,365,6],[366,2,366,6],[367,2,367,6],[368,2,368,6],[369,2,369,6],[370,2,370,6],[371,2,371,6],[372,2,372,6],[373,2,373,6],[356,2,356,6],[357,2,357,6],[358,2,358,6],[359,2,359,6],[360,2,360,6],[361,2,361,6],[362,2,362,6],[363,2,363,6],[364,2,364,6],[347,2,347,6],[348,2,348,6],[349,2,349,6],[350,2,350,6],[351,2,351,6],[352,2,352,6],[353,2,353,6],[354,2,354,6],[355,2,355,6],[338,2,338,6],[339,2,339,6],[340,2,340,6],[341,2,341,6],[342,2,342,6],[343,2,343,6],[344,2,344,6],[345,2,345,6],[346,2,346,6],[329,2,329,6],[330,2,330,6],[331,2,331,6],[332,2,332,6],[333,2,333,6],[334,2,334,6],[335,2,335,6],[336,2,336,6],[337,2,337,6],[320,2,320,6],[321,2,321,6],[322,2,322,6],[323,2,323,6],[324,2,324,6],[325,2,325,6],[326,2,326,6],[327,2,327,6],[328,2,328,6],[311,2,311,6],[312,2,312,6],[313,2,313,6],[314,2,314,6],[315,2,315,6],[316,2,316,6],[317,2,317,6],[318,2,318,6],[319,2,319,6],[302,2,302,6],[303,2,303,6],[304,2,304,6],[305,2,305,6],[306,2,306,6],[307,2,307,6],[308,2,308,6],[309,2,309,6],[310,2,310,6],[293,2,293,6],[294,2,294,6],[295,2,295,6],[296,2,296,6],[297,2,297,6],[298,2,298,6],[299,2,299,6],[300,2,300,6],[301,2,301,6],[284,2,284,6],[285,2,285,6],[286,2,286,6],[287,2,287,6],[288,2,288,6],[289,2,289,6],[290,2,290,6],[291,2,291,6],[292,2,292,6],[275,2,275,6],[276,2,276,6],[277,2,277,6],[278,2,278,6],[279,2,279,6],[280,2,280,6],[281,2,281,6],[282,2,282,6],[283,2,283,6],[266,2,266,6],[267,2,267,6],[268,2,268,6],[269,2,269,6],[270,2,270,6],[271,2,271,6],[272,2,272,6],[273,2,273,6],[274,2,274,6],[257,2,257,6],[258,2,258,6],[259,2,259,6],[260,2,260,6],[261,2,261,6],[262,2,262,6],[263,2,263,6],[264,2,264,6],[265,2,265,6],[248,2,248,6],[249,2,249,6],[250,2,250,6],[251,2,251,6],[252,2,252,6],[253,2,253,6],[254,2,254,6],[255,2,255,6],[256,2,256,6],[239,2,239,6],[240,2,240,6],[241,2,241,6],[242,2,242,6],[243,2,243,6],[244,2,244,6],[245,2,245,6],[246,2,246,6],[247,2,247,6],[230,2,230,6],[231,2,231,6],[232,2,232,6],[233,2,233,6],[234,2,234,6],[235,2,235,6],[236,2,236,6],[237,2,237,6],[238,2,238,6],[221,2,221,6],[222,2,222,6],[223,2,223,6],[224,2,224,6],[225,2,225,6],[226,2,226,6],[227,2,227,6],[228,2,228,6],[229,2,229,6],[212,2,212,6],[213,2,213,6],[214,2,214,6],[215,2,215,6],[216,2,216,6],[217,2,217,6],[218,2,218,6],[219,2,219,6],[220,2,220,6],[203,2,203,6],[204,2,204,6],[205,2,205,6],[206,2,206,6],[207,2,207,6],[208,2,208,6],[209,2,209,6],[210,2,210,6],[211,2,211,6],[194,2,194,6],[195,2,195,6],[196,2,196,6],[197,2,197,6],[198,2,198,6],[199,2,199,6],[200,2,200,6],[201,2,201,6],[202,2,202,6],[185,2,185,6],[186,2,186,6],[187,2,187,6],[188,2,188,6],[189,2,189,6],[190,2,190,6],[191,2,191,6],[192,2,192,6],[193,2,193,6],[176,2,176,6],[177,2,177,6],[178,2,178,6],[179,2,179,6],[180,2,180,6],[181,2,181,6],[182,2,182,6],[183,2,183,6],[184,2,184,6],[167,2,167,6],[168,2,168,6],[169,2,169,6],[170,2,170,6],[171,2,171,6],[172,2,172,6],[173,2,173,6],[174,2,174,6],[175,2,175,6],[2,4,2,13],[1,4,1,13],[10,1,10,6],[9,1,9,6],[8,1,8,6],[7,1,7,6],[6,1,6,6],[11,1,11,6],[67,2,67,6],[16,2,16,6],[23,2,23,6],[24,2,24,6],[25,2,25,6],[26,2,26,6],[27,2,27,6],[17,2,17,6],[20,2,20,6],[19,2,19,6],[18,2,18,6],[21,2,21,6],[22,2,22,6],[33,2,33,6],[34,2,34,6],[35,2,35,6],[36,2,36,6],[37,2,37,6],[28,2,28,6],[29,2,29,6],[30,2,30,6],[31,2,31,6],[32,2,32,6],[43,2,43,6],[44,2,44,6],[45,2,45,6],[46,2,46,6],[47,2,47,6],[38,2,38,6],[39,2,39,6],[40,2,40,6],[41,2,41,6],[42,2,42,6],[53,2,53,6],[54,2,54,6],[55,2,55,6],[56,2,56,6],[57,2,57,6],[48,2,48,6],[49,2,49,6],[50,2,50,6],[51,2,51,6],[52,2,52,6],[63,2,63,6],[64,2,64,6],[65,2,65,6],[66,2,66,6],[58,2,58,6],[59,2,59,6],[60,2,60,6],[61,2,61,6],[62,2,62,6],[72,2,72,6],[73,2,73,6],[74,2,74,6],[75,2,75,6],[76,2,76,6],[68,2,68,6],[69,2,69,6],[70,2,70,6],[71,2,71,6],[81,2,81,6],[82,2,82,6],[83,2,83,6],[84,2,84,6],[85,2,85,6],[77,2,77,6],[78,2,78,6],[79,2,79,6],[80,2,80,6],[91,2,91,6],[92,2,92,6],[93,2,93,6],[94,2,94,6],[95,2,95,6],[86,2,86,6],[87,2,87,6],[88,2,88,6],[89,2,89,6],[90,2,90,6],[101,2,101,6],[102,2,102,6],[103,2,103,6],[104,2,104,6],[105,2,105,6],[96,2,96,6],[97,2,97,6],[98,2,98,6],[99,2,99,6],[100,2,100,6],[111,2,111,6],[112,2,112,6],[113,2,113,6],[114,2,114,6],[115,2,115,6],[106,2,106,6],[107,2,107,6],[108,2,108,6],[109,2,109,6],[110,2,110,6],[129,2,129,6],[130,2,130,6],[121,2,121,6],[122,2,122,6],[123,2,123,6],[124,2,124,6],[125,2,125,6],[116,2,116,6],[117,2,117,6],[118,2,118,6],[119,2,119,6],[120,2,120,6],[6,14,6,17],[161,2,161,6],[162,2,162,6],[156,2,156,6],[157,2,157,6],[158,2,158,6],[159,2,159,6],[160,2,160,6],[151,2,151,6],[152,2,152,6],[153,2,153,6],[154,2,154,6],[155,2,155,6],[146,2,146,6],[147,2,147,6],[148,2,148,6],[149,2,149,6],[150,2,150,6],[132,2,132,6],[133,2,133,6],[134,2,134,6],[135,2,135,6],[126,2,126,6],[127,2,127,6],[15,14,15,19],[15,20,15,24],[14,25,16,25],[166,2,166,6],[7,14,7,17],[8,14,8,17],[9,14,9,17],[10,14,10,17],[11,14,11,17],[163,2,163,6],[164,2,164,6],[165,2,165,6],[141,2,141,6],[142,2,142,6],[143,2,143,6],[144,2,144,6],[145,2,145,6],[136,2,136,6],[137,2,137,6],[138,2,138,6],[139,2,139,6],[140,2,140,6],[131,2,131,6],[128,2,128,6]]}
[null,"Form 3345 | Plan Review Worksheet | Building Detail"]
[null,"Development Name: ",null,null,{"$f":"'Development Summary'!F2","v":0}]
[null,"Development Number: ",null,null,{"$f":"'Development Summary'!F3","v":0}]
[]
[null,"Non-Residential Building Detail"]
[null,null,"Non-Residential Bldg. Count",{"$f":"COUNTIF(B8:B12,\"*\")","v":0},null,null,null,null,null,null,"TOTALS:",{"$f":"SUM(L8:L12)","v":0},{"$f":"SUM(M8:M12)","v":0},0]
[null,"Address",null,null,null,null,null,"City","Zip","Census Tract","Building in QCT?","Common Space Sq. Ft.","Cmrcl. Space Sq. Ft.","Total Sq. Ft.","Building Purpose"]
[null,null,null,null,null,null,null,null,null,null,null,null,null,{"$f":"SUM(L8:M8)","v":0}]
[null,null,null,null,null,null,null,null,null,null,null,null,null,{"$f":"SUM(L9:M9)","v":0}]
[null,null,null,null,null,null,null,null,null,null,null,null,null,0]
[null,null,null,null,null,null,null,null,null,null,null,null,null,{"$f":"SUM(L11:M11)","v":0}]
[null,null,null,null,null,null,null,null,null,null,null,null,null,0]
[null,null,null,null,null,null,null,null,null,null,null,null,null,null,"sdfsdf"]
[null,"Residential Building Detail"]
[null,"Res Bldg. Count",{"$f":"COUNTIF(B18:B800,\"*\")","v":0},null,null,null,null,null,null,null,null,"TOTALS: ",{"$f":"SUM(M18:M800)","v":0},{"$f":"SUM(N18:N800)","v":0},{"$f":"SUM(O18:O800)","v":0},0,0,0,{"$f":"SUM(S18:S800)","v":0},null,{"$f":"SUM(U18:U800)","v":0},{"$f":"SUM(V18:V800)","v":0},0,0,null,"Applicable Percentage"]
[null,"Building Detail Entry",null,null,null,null,null,null,null,null,null,null,null,null,"Square Feet Totals",null,null,null,null,null,"Unit Totals"]
[null,"Building Number","Address",null,null,null,null,"City","Zip","Census Tract","Building in QCT?","Credit Type per Building","Common Area Sq Ft","Cmrcl. Sq. Ft.","Total LIHTC Sq. Ft.","Total Market     Sq. Ft.","Total Employee Sq. Ft.","Total Res. Sq. Ft.","Total Bldg. Sq. Ft.","Applicable % Sq. Ft.","LI Units","Market Units","Employee Units","Total Units","Applicable % Units"]
[null,null,null,null,null,null,null,null,null,null,null,null,null,null,{"$f":"SUMIFS('Unit Detail'!$H$8:$H$400,'Unit Detail'!$D$8:$D$400,'Building Detail'!$B18,'Unit Detail'!$Y$8:$Y$400,1)","v":0},{"$f":"SUMIFS('Unit Detail'!$H$8:$H$400,'Unit Detail'!$D$8:$D$400,'Building Detail'!$B18,'Unit Detail'!$Y$8:$Y$400,3)","v":0},{"$f":"SUMIFS('Unit Detail'!$H$8:$H$400,'Unit Detail'!$D$8:$D$400,'Building Detail'!$B18,'Unit Detail'!$Y$8:$Y$400,2)","v":0},{"$f":"SUMIF('Unit Detail'!$D$8:$D$400,$B18,'Unit Detail'!$H$8:$H$400)","v":0},{"$f":"SUM(M18,N18,R18)","v":0},{"$f":"IF(B18=\"\",\"\",IF($P$15=0,1,O18/R18))","v":""},{"$f":"COUNTIFS('Unit Detail'!$Y$8:$Y$400,\"1\",'Unit Detail'!$D$8:$D$400,'Building Detail'!$B18)","v":0},{"$f":"COUNTIFS('Unit Detail'!$Y$8:$Y$400,\"3\",'Unit Detail'!$D$8:$D$400,'Building Detail'!$B18)","v":0},{"$f":"COUNTIFS('Unit Detail'!$Y$8:$Y$400,\"2\",'Unit Detail'!$D$8:$D$400,'Building Detail'!$B18)","v":0},{"$f":"SUM(U18:W18)","v":0},{"$f":"IF(B18=\"\",\"\",IF($P$15=0,1,U18/X18))","v":""},{"$f":"IF(Y18<T18,Y18,T18)","v":""}]
[null,null,null,null,null,null,null,null,null,null,null,null,null,null,{"$f":"SUMIFS('Unit Detail'!$H$8:$H$400,'Unit Detail'!$D$8:$D$400,'Building Detail'!$B19,'Unit Detail'!$Y$8:$Y$400,1)","v":0},{"$f":"SUMIFS('Unit Detail'!$H$8:$H$400,'Unit Detail'!$D$8:$D$400,'Building Detail'!$B19,'Unit Detail'!$Y$8:$Y$400,3)","v":0},{"$f":"SUMIFS('Unit Detail'!$H$8:$H$400,'Unit Detail'!$D$8:$D$400,'Building Detail'!$B19,'Unit Detail'!$Y$8:$Y$400,2)","v":0},{"$f":"SUMIF('Unit Detail'!$D$8:$D$400,$B19,'Unit Detail'!$H$8:$H$400)","v":0},{"$f":"SUM(M19,N19,R19)","v":0},"",{"$f":"COUNTIFS('Unit Detail'!$Y$8:$Y$400,\"1\",'Unit Detail'!$D$8:$D$400,'Building Detail'!$B19)","v":0},{"$f":"COUNTIFS('Unit Detail'!$Y$8:$Y$400,\"3\",'Unit Detail'!$D$8:$D$400,'Building Detail'!$B19)","v":0},{"$f":"COUNTIFS('Unit Detail'!$Y$8:$Y$400,\"2\",'Unit Detail'!$D$8:$D$400,'Building Detail'!$B19)","v":0},{"$f":"SUM(U19:W19)","v":0},{"$f":"IF(B19=\"\",\"\",IF($P$15=0,1,U19/X19))","v":""},""]
[null,null,null,null,null,null,null,null,null,null,null,null,null,null,{"$f":"SUMIFS('Unit Detail'!$H$8:$H$400,'Unit Detail'!$D$8:$D$400,'Building Detail'!$B20,'Unit Detail'!$Y$8:$Y$400,1)","v":0},{"$f":"SUMIFS('Unit Detail'!$H$8:$H$400,'Unit Detail'!$D$8:$D$400,'Building Detail'!$B20,'Unit Detail'!$Y$8:$Y$400,3)","v":0},{"$f":"SUMIFS('Unit Detail'!$H$8:$H$400,'Unit Detail'!$D$8:$D$400,'Building Detail'!$B20,'Unit Detail'!$Y$8:$Y$400,2)","v":0},{"$f":"SUMIF('Unit Detail'!$D$8:$D$400,$B20,'Unit Detail'!$H$8:$H$400)","v":0},0,{"$f":"IF(B20=\"\",\"\",IF($P$15=0,1,O20/R20))","v":""},{"$f":"COUNTIFS('Unit Detail'!$Y$8:$Y$400,\"1\",'Unit Detail'!$D$8:$D$400,'Building Detail'!$B20)","v":0},{"$f":"COUNTIFS('Unit Detail'!$Y$8:$Y$400,\"3\",'Unit Detail'!$D$8:$D$400,'Building Detail'!$B20)","v":0},{"$f":"COUNTIFS('Unit Detail'!$Y$8:$Y$400,\"2\",'Unit Detail'!$D$8:$D$400,'Building Detail'!$B20)","v":0},0,"",""]
[null,null,null,null,null,null,null,null,null,null,null,null,null,null,{"$f":"SUMIFS('Unit Detail'!$H$8:$H$400,'Unit Detail'!$D$8:$D$400,'Building Detail'!$B21,'Unit Detail'!$Y$8:$Y$400,1)","v":0},{"$f":"SUMIFS('Unit Detail'!$H$8:$H$400,'Unit Detail'!$D$8:$D$400,'Building Detail'!$B21,'Unit Detail'!$Y$8:$Y$400,3)","v":0},{"$f":"SUMIFS('Unit Detail'!$H$8:$H$400,'Unit Detail'!$D$8:$D$400,'Building Detail'!$B21,'Unit Detail'!$Y$8:$Y$400,2)","v":0},{"$f":"SUMIF('Unit Detail'!$D$8:$D$400,$B21,'Unit Detail'!$H$8:$H$400)","v":0},0,{"$f":"IF(B21=\"\",\"\",IF($P$15=0,1,O21/R21))","v":""},{"$f":"COUNTIFS('Unit Detail'!$Y$8:$Y$400,\"1\",'Unit Detail'!$D$8:$D$400,'Building Detail'!$B21)","v":0},{"$f":"COUNTIFS('Unit Detail'!$Y$8:$Y$400,\"3\",'Unit Detail'!$D$8:$D$400,'Building Detail'!$B21)","v":0},{"$f":"COUNTIFS('Unit Detail'!$Y$8:$Y$400,\"2\",'Unit Detail'!$D$8:$D$400,'Building Detail'!$B21)","v":0},0,"",""]
[null,null,null,null,null,null,null,null,null,null,null,null,null,null,{"$f":"SUMIFS('Unit Detail'!$H$8:$H$400,'Unit Detail'!$D$8:$D$400,'Building Detail'!$B22,'Unit Detail'!$Y$8:$Y$400,1)","v":0},{"$f":"SUMIFS('Unit Detail'!$H$8:$H$400,'Unit Detail'!$D$8:$D$400,'Building Detail'!$B22,'Unit Detail'!$Y$8:$Y$400,3)","v":0},{"$f":"SUMIFS('Unit Detail'!$H$8:$H$400,'Unit Detail'!$D$8:$D$400,'Building Detail'!$B22,'Unit Detail'!$Y$8:$Y$400,2)","v":0},{"$f":"SUMIF('Unit Detail'!$D$8:$D$400,$B22,'Unit Detail'!$H$8:$H$400)","v":0},0,"",{"$f":"COUNTIFS('Unit Detail'!$Y$8:$Y$400,\"1\",'Unit Detail'!$D$8:$D$400,'Building Detail'!$B22)","v":0},{"$f":"COUNTIFS('Unit Detail'!$Y$8:$Y$400,\"3\",'Unit Detail'!$D$8:$D$400,'Building Detail'!$B22)","v":0},{"$f":"COUNTIFS('Unit Detail'!$Y$8:$Y$400,\"2\",'Unit Detail'!$D$8:$D$400,'Building Detail'!$B22)","v":0},0,"",""]
[null,null,null,null,null,null,null,null,null,null,null,null,null,null,{"$f":"SUMIFS('Unit Detail'!$H$8:$H$400,'Unit Detail'!$D$8:$D$400,'Building Detail'!$B23,'Unit Detail'!$Y$8:$Y$400,1)","v":0},{"$f":"SUMIFS('Unit Detail'!$H$8:$H$400,'Unit Detail'!$D$8:$D$400,'Building Detail'!$B23,'Unit Detail'!$Y$8:$Y$400,3)","v":0},{"$f":"SUMIFS('Unit Detail'!$H$8:$H$400,'Unit Detail'!$D$8:$D$400,'Building Detail'!$B23,'Unit Detail'!$Y$8:$Y$400,2)","v":0},{"$f":"SUMIF('Unit Detail'!$D$8:$D$400,$B23,'Unit Detail'!$H$8:$H$400)","v":0},0,"",{"$f":"COUNTIFS('Unit Detail'!$Y$8:$Y$400,\"1\",'Unit Detail'!$D$8:$D$400,'Building Detail'!$B23)","v":0},{"$f":"COUNTIFS('Unit Detail'!$Y$8:$Y$400,\"3\",'Unit Detail'!$D$8:$D$400,'Building Detail'!$B23)","v":0},{"$f":"COUNTIFS('Unit Detail'!$Y$8:$Y$400,\"2\",'Unit Detail'!$D$8:$D$400,'Building Detail'!$B23)","v":0},0,"",""]
[null,null,null,null,null,null,null,null,null,null,null,null,null,null,{"$f":"SUMIFS('Unit Detail'!$H$8:$H$400,'Unit Detail'!$D$8:$D$400,'Building Detail'!$B24,'Unit Detail'!$Y$8:$Y$400,1)","v":0},{"$f":"SUMIFS('Unit Detail'!$H$8:$H$400,'Unit Detail'!$D$8:$D$400,'Building Detail'!$B24,'Unit Detail'!$Y$8:$Y$400,3)","v":0},{"$f":"SUMIFS('Unit Detail'!$H$8:$H$400,'Unit Detail'!$D$8:$D$400,'Building Detail'!$B24,'Unit Detail'!$Y$8:$Y$400,2)","v":0},{"$f":"SUMIF('Unit Detail'!$D$8:$D$400,$B24,'Unit Detail'!$H$8:$H$400)","v":0},0,"",{"$f":"COUNTIFS('Unit Detail'!$Y$8:$Y$400,\"1\",'Unit Detail'!$D$8:$D$400,'Building Detail'!$B24)","v":0},{"$f":"COUNTIFS('Unit Detail'!$Y$8:$Y$400,\"3\",'Unit Detail'!$D$8:$D$400,'Building Detail'!$B24)","v":0},{"$f":"COUNTIFS('Unit Detail'!$Y$8:$Y$400,\"2\",'Unit Detail'!$D$8:$D$400,'Building Detail'!$B24)","v":0},0,"",""]
[null,null,null,null,null,null,null,null,null,null,null,null,null,null,{"$f":"SUMIFS('Unit Detail'!$H$8:$H$400,'Unit Detail'!$D$8:$D$400,'Building Detail'!$B25,'Unit Detail'!$Y$8:$Y$400,1)","v":0},{"$f":"SUMIFS('Unit Detail'!$H$8:$H$400,'Unit Detail'!$D$8:$D$400,'Building Detail'!$B25,'Unit Detail'!$Y$8:$Y$400,3)","v":0},{"$f":"SUMIFS('Unit Detail'!$H$8:$H$400,'Unit Detail'!$D$8:$D$400,'Building Detail'!$B25,'Unit Detail'!$Y$8:$Y$400,2)","v":0},{"$f":"SUMIF('Unit Detail'!$D$8:$D$400,$B25,'Unit Detail'!$H$8:$H$400)","v":0},0,"",{"$f":"COUNTIFS('Unit Detail'!$Y$8:$Y$400,\"1\",'Unit Detail'!$D$8:$D$400,'Building Detail'!$B25)","v":0},{"$f":"COUNTIFS('Unit Detail'!$Y$8:$Y$400,\"3\",'Unit Detail'!$D$8:$D$400,'Building Detail'!$B25)","v":0},{"$f":"COUNTIFS('Unit Detail'!$Y$8:$Y$400,\"2\",'Unit Detail'!$D$8:$D$400,'Building Detail'!$B25)","v":0},0,"",""]
[null,null,null,null,null,null,null,null,null,null,null,null,null,null,{"$f":"SUMIFS('Unit Detail'!$H$8:$H$400,'Unit Detail'!$D$8:$D$400,'Building Detail'!$B26,'Unit Detail'!$Y$8:$Y$400,1)","v":0},{"$f":"SUMIFS('Unit Detail'!$H$8:$H$400,'Unit Detail'!$D$8:$D$400,'Building Detail'!$B26,'Unit Detail'!$Y$8:$Y$400,3)","v":0},{"$f":"SUMIFS('Unit Detail'!$H$8:$H$400,'Unit Detail'!$D$8:$D$400,'Building Detail'!$B26,'Unit Detail'!$Y$8:$Y$400,2)","v":0},{"$f":"SUMIF('Unit Detail'!$D$8:$D$400,$B26,'Unit Detail'!$H$8:$H$400)","v":0},0,"",{"$f":"COUNTIFS('Unit Detail'!$Y$8:$Y$400,\"1\",'Unit Detail'!$D$8:$D$400,'Building Detail'!$B26)","v":0},{"$f":"COUNTIFS('Unit Detail'!$Y$8:$Y$400,\"3\",'Unit Detail'!$D$8:$D$400,'Building Detail'!$B26)","v":0},{"$f":"COUNTIFS('Unit Detail'!$Y$8:$Y$400,\"2\",'Unit Detail'!$D$8:$D$400,'Building Detail'!$B26)","v":0},0,"",""]
[null,null,null,null,null,null,null,null,null,null,null,null,null,null,{"$f":"SUMIFS('Unit Detail'!$H$8:$H$400,'Unit Detail'!$D$8:$D$400,'Building Detail'!$B27,'Unit Detail'!$Y$8:$Y$400,1)","v":0},{"$f":"SUMIFS('Unit Detail'!$H$8:$H$400,'Unit Detail'!$D$8:$D$400,'Building Detail'!$B27,'Unit Detail'!$Y$8:$Y$400,3)","v":0},{"$f":"SUMIFS('Unit Detail'!$H$8:$H$400,'Unit Detail'!$D$8:$D$400,'Building Detail'!$B27,'Unit Detail'!$Y$8:$Y$400,2)","v":0},{"$f":"SUMIF('Unit Detail'!$D$8:$D$400,$B27,'Unit Detail'!$H$8:$H$400)","v":0},0,"",{"$f":"COUNTIFS('Unit Detail'!$Y$8:$Y$400,\"1\",'Unit Detail'!$D$8:$D$400,'Building Detail'!$B27)","v":0},{"$f":"COUNTIFS('Unit Detail'!$Y$8:$Y$400,\"3\",'Unit Detail'!$D$8:$D$400,'Building Detail'!$B27)","v":0},{"$f":"COUNTIFS('Unit Detail'!$Y$8:$Y$400,\"2\",'Unit Detail'!$D$8:$D$400,'Building Detail'!$B27)","v":0},0,"",""]
[null,null,null,null,null,null,null,null,null,null,null,null,null,null,{"$f":"SUMIFS('Unit Detail'!$H$8:$H$400,'Unit Detail'!$D$8:$D$400,'Building Detail'!$B28,'Unit Detail'!$Y$8:$Y$400,1)","v":0},{"$f":"SUMIFS('Unit Detail'!$H$8:$H$400,'Unit Detail'!$D$8:$D$400,'Building Detail'!$B28,'Unit Detail'!$Y$8:$Y$400,3)","v":0},{"$f":"SUMIFS('Unit Detail'!$H$8:$H$400,'Unit Detail'!$D$8:$D$400,'Building Detail'!$B28,'Unit Detail'!$Y$8:$Y$400,2)","v":0},{"$f":"SUMIF('Unit Detail'!$D$8:$D$400,$B28,'Unit Detail'!$H$8:$H$400)","v":0},0,"",{"$f":"COUNTIFS('Unit Detail'!$Y$8:$Y$400,\"1\",'Unit Detail'!$D$8:$D$400,'Building Detail'!$B28)","v":0},{"$f":"COUNTIFS('Unit Detail'!$Y$8:$Y$400,\"3\",'Unit Detail'!$D$8:$D$400,'Building Detail'!$B28)","v":0},{"$f":"COUNTIFS('Unit Detail'!$Y$8:$Y$400,\"2\",'Unit Detail'!$D$8:$D$400,'Building Detail'!$B28)","v":0},0,"",""]
[null,null,null,null,null,null,null,null,null,null,null,null,null,null,{"$f":"SUMIFS('Unit Detail'!$H$8:$H$400,'Unit Detail'!$D$8:$D$400,'Building Detail'!$B29,'Unit Detail'!$Y$8:$Y$400,1)","v":0},{"$f":"SUMIFS('Unit Detail'!$H$8:$H$400,'Unit Detail'!$D$8:$D$400,'Building Detail'!$B29,'Unit Detail'!$Y$8:$Y$400,3)","v":0},{"$f":"SUMIFS('Unit Detail'!$H$8:$H$400,'Unit Detail'!$D$8:$D$400,'Building Detail'!$B29,'Unit Detail'!$Y$8:$Y$400,2)","v":0},{"$f":"SUMIF('Unit Detail'!$D$8:$D$400,$B29,'Unit Detail'!$H$8:$H$400)","v":0},0,"",{"$f":"COUNTIFS('Unit Detail'!$Y$8:$Y$400,\"1\",'Unit Detail'!$D$8:$D$400,'Building Detail'!$B29)","v":0},{"$f":"COUNTIFS('Unit Detail'!$Y$8:$Y$400,\"3\",'Unit Detail'!$D$8:$D$400,'Building Detail'!$B29)","v":0},{"$f":"COUNTIFS('Unit Detail'!$Y$8:$Y$400,\"2\",'Unit Detail'!$D$8:$D$400,'Building Detail'!$B29)","v":0},0,"",""]
[null,null,null,null,null,null,null,null,null,null,null,null,null,null,{"$f":"SUMIFS('Unit Detail'!$H$8:$H$400,'Unit Detail'!$D$8:$D$400,'Building Detail'!$B30,'Unit Detail'!$Y$8:$Y$400,1)","v":0},{"$f":"SUMIFS('Unit Detail'!$H$8:$H$400,'Unit Detail'!$D$8:$D$400,'Building Detail'!$B30,'Unit Detail'!$Y$8:$Y$400,3)","v":0},{"$f":"SUMIFS('Unit Detail'!$H$8:$H$400,'Unit Detail'!$D$8:$D$400,'Building Detail'!$B30,'Unit Detail'!$Y$8:$Y$400,2)","v":0},{"$f":"SUMIF('Unit Detail'!$D$8:$D$400,$B30,'Unit Detail'!$H$8:$H$400)","v":0},0,"",{"$f":"COUNTIFS('Unit Detail'!$Y$8:$Y$400,\"1\",'Unit Detail'!$D$8:$D$400,'Building Detail'!$B30)","v":0},{"$f":"COUNTIFS('Unit Detail'!$Y$8:$Y$400,\"3\",'Unit Detail'!$D$8:$D$400,'Building Detail'!$B30)","v":0},{"$f":"COUNTIFS('Unit Detail'!$Y$8:$Y$400,\"2\",'Unit Detail'!$D$8:$D$400,'Building Detail'!$B30)","v":0},0,"",""]
[null,null,null,null,null,null,null,null,null,null,null,null,null,null,{"$f":"SUMIFS('Unit Detail'!$H$8:$H$400,'Unit Detail'!$D$8:$D$400,'Building Detail'!$B31,'Unit Detail'!$Y$8:$Y$400,1)","v":0},{"$f":"SUMIFS('Unit Detail'!$H$8:$H$400,'Unit Detail'!$D$8:$D$400,'Building Detail'!$B31,'Unit Detail'!$Y$8:$Y$400,3)","v":0},{"$f":"SUMIFS('Unit Detail'!$H$8:$H$400,'Unit Detail'!$D$8:$D$400,'Building Detail'!$B31,'Unit Detail'!$Y$8:$Y$400,2)","v":0},{"$f":"SUMIF('Unit Detail'!$D$8:$D$400,$B31,'Unit Detail'!$H$8:$H$400)","v":0},0,"",{"$f":"COUNTIFS('Unit Detail'!$Y$8:$Y$400,\"1\",'Unit Detail'!$D$8:$D$400,'Building Detail'!$B31)","v":0},{"$f":"COUNTIFS('Unit Detail'!$Y$8:$Y$400,\"3\",'Unit Detail'!$D$8:$D$400,'Building Detail'!$B31)","v":0},{"$f":"COUNTIFS('Unit Detail'!$Y$8:$Y$400,\"2\",'Unit Detail'!$D$8:$D$400,'Building Detail'!$B31)","v":0},0,"",""]
[null,null,null,null,null,null,null,null,null,null,null,null,null,null,{"$f":"SUMIFS('Unit Detail'!$H$8:$H$400,'Unit Detail'!$D$8:$D$400,'Building Detail'!$B32,'Unit Detail'!$Y$8:$Y$400,1)","v":0},{"$f":"SUMIFS('Unit Detail'!$H$8:$H$400,'Unit Detail'!$D$8:$D$400,'Building Detail'!$B32,'Unit Detail'!$Y$8:$Y$400,3)","v":0},{"$f":"SUMIFS('Unit Detail'!$H$8:$H$400,'Unit Detail'!$D$8:$D$400,'Building Detail'!$B32,'Unit Detail'!$Y$8:$Y$400,2)","v":0},{"$f":"SUMIF('Unit Detail'!$D$8:$D$400,$B32,'Unit Detail'!$H$8:$H$400)","v":0},0,"",{"$f":"COUNTIFS('Unit Detail'!$Y$8:$Y$400,\"1\",'Unit Detail'!$D$8:$D$400,'Building Detail'!$B32)","v":0},{"$f":"COUNTIFS('Unit Detail'!$Y$8:$Y$400,\"3\",'Unit Detail'!$D$8:$D$400,'Building Detail'!$B32)","v":0},{"$f":"COUNTIFS('Unit Detail'!$Y$8:$Y$400,\"2\",'Unit Detail'!$D$8:$D$400,'Building Detail'!$B32)","v":0},0,"",""]
[null,null,null,null,null,null,null,null,null,null,null,null,null,null,{"$f":"SUMIFS('Unit Detail'!$H$8:$H$400,'Unit Detail'!$D$8:$D$400,'Building Detail'!$B33,'Unit Detail'!$Y$8:$Y$400,1)","v":0},{"$f":"SUMIFS('Unit Detail'!$H$8:$H$400,'Unit Detail'!$D$8:$D$400,'Building Detail'!$B33,'Unit Detail'!$Y$8:$Y$400,3)","v":0},{"$f":"SUMIFS('Unit Detail'!$H$8:$H$400,'Unit Detail'!$D$8:$D$400,'Building Detail'!$B33,'Unit Detail'!$Y$8:$Y$400,2)","v":0},{"$f":"SUMIF('Unit Detail'!$D$8:$D$400,$B33,'Unit Detail'!$H$8:$H$400)","v":0},0,"",{"$f":"COUNTIFS('Unit Detail'!$Y$8:$Y$400,\"1\",'Unit Detail'!$D$8:$D$400,'Building Detail'!$B33)","v":0},{"$f":"COUNTIFS('Unit Detail'!$Y$8:$Y$400,\"3\",'Unit Detail'!$D$8:$D$400,'Building Detail'!$B33)","v":0},{"$f":"COUNTIFS('Unit Detail'!$Y$8:$Y$400,\"2\",'Unit Detail'!$D$8:$D$400,'Building Detail'!$B33)","v":0},0,"",""]
[null,null,null,null,null,null,null,null,null,null,null,null,null,null,{"$f":"SUMIFS('Unit Detail'!$H$8:$H$400,'Unit Detail'!$D$8:$D$400,'Building Detail'!$B34,'Unit Detail'!$Y$8:$Y$400,1)","v":0},{"$f":"SUMIFS('Unit Detail'!$H$8:$H$400,'Unit Detail'!$D$8:$D$400,'Building Detail'!$B34,'Unit Detail'!$Y$8:$Y$400,3)","v":0},{"$f":"SUMIFS('Unit Detail'!$H$8:$H$400,'Unit Detail'!$D$8:$D$400,'Building Detail'!$B34,'Unit Detail'!$Y$8:$Y$400,2)","v":0},{"$f":"SUMIF('Unit Detail'!$D$8:$D$400,$B34,'Unit Detail'!$H$8:$H$400)","v":0},0,"",{"$f":"COUNTIFS('Unit Detail'!$Y$8:$Y$400,\"1\",'Unit Detail'!$D$8:$D$400,'Building Detail'!$B34)","v":0},{"$f":"COUNTIFS('Unit Detail'!$Y$8:$Y$400,\"3\",'Unit Detail'!$D$8:$D$400,'Building Detail'!$B34)","v":0},{"$f":"COUNTIFS('Unit Detail'!$Y$8:$Y$400,\"2\",'Unit Detail'!$D$8:$D$400,'Building Detail'!$B34)","v":0},0,"",""]
[null,null,null,null,null,null,null,null,null,null,null,null,null,null,{"$f":"SUMIFS('Unit Detail'!$H$8:$H$400,'Unit Detail'!$D$8:$D$400,'Building Detail'!$B35,'Unit Detail'!$Y$8:$Y$400,1)","v":0},{"$f":"SUMIFS('Unit Detail'!$H$8:$H$400,'Unit Detail'!$D$8:$D$400,'Building Detail'!$B35,'Unit Detail'!$Y$8:$Y$400,3)","v":0},{"$f":"SUMIFS('Unit Detail'!$H$8:$H$400,'Unit Detail'!$D$8:$D$400,'Building Detail'!$B35,'Unit Detail'!$Y$8:$Y$400,2)","v":0},{"$f":"SUMIF('Unit Detail'!$D$8:$D$400,$B35,'Unit Detail'!$H$8:$H$400)","v":0},0,"",{"$f":"COUNTIFS('Unit Detail'!$Y$8:$Y$400,\"1\",'Unit Detail'!$D$8:$D$400,'Building Detail'!$B35)","v":0},{"$f":"COUNTIFS('Unit Detail'!$Y$8:$Y$400,\"3\",'Unit Detail'!$D$8:$D$400,'Building Detail'!$B35)","v":0},{"$f":"COUNTIFS('Unit Detail'!$Y$8:$Y$400,\"2\",'Unit Detail'!$D$8:$D$400,'Building Detail'!$B35)","v":0},0,"",""]
[null,null,null,null,null,null,null,null,null,null,null,null,null,null,{"$f":"SUMIFS('Unit Detail'!$H$8:$H$400,'Unit Detail'!$D$8:$D$400,'Building Detail'!$B36,'Unit Detail'!$Y$8:$Y$400,1)","v":0},{"$f":"SUMIFS('Unit Detail'!$H$8:$H$400,'Unit Detail'!$D$8:$D$400,'Building Detail'!$B36,'Unit Detail'!$Y$8:$Y$400,3)","v":0},{"$f":"SUMIFS('Unit Detail'!$H$8:$H$400,'Unit Detail'!$D$8:$D$400,'Building Detail'!$B36,'Unit Detail'!$Y$8:$Y$400,2)","v":0},{"$f":"SUMIF('Unit Detail'!$D$8:$D$400,$B36,'Unit Detail'!$H$8:$H$400)","v":0},0,"",{"$f":"COUNTIFS('Unit Detail'!$Y$8:$Y$400,\"1\",'Unit Detail'!$D$8:$D$400,'Building Detail'!$B36)","v":0},{"$f":"COUNTIFS('Unit Detail'!$Y$8:$Y$400,\"3\",'Unit Detail'!$D$8:$D$400,'Building Detail'!$B36)","v":0},{"$f":"COUNTIFS('Unit Detail'!$Y$8:$Y$400,\"2\",'Unit Detail'!$D$8:$D$400,'Building Detail'!$B36)","v":0},0,"",""]
[null,null,null,null,null,null,null,null,null,null,null,null,null,null,{"$f":"SUMIFS('Unit Detail'!$H$8:$H$400,'Unit Detail'!$D$8:$D$400,'Building Detail'!$B37,'Unit Detail'!$Y$8:$Y$400,1)","v":0},{"$f":"SUMIFS('Unit Detail'!$H$8:$H$400,'Unit Detail'!$D$8:$D$400,'Building Detail'!$B37,'Unit Detail'!$Y$8:$Y$400,3)","v":0},{"$f":"SUMIFS('Unit Detail'!$H$8:$H$400,'Unit Detail'!$D$8:$D$400,'Building Detail'!$B37,'Unit Detail'!$Y$8:$Y$400,2)","v":0},{"$f":"SUMIF('Unit Detail'!$D$8:$D$400,$B37,'Unit Detail'!$H$8:$H$400)","v":0},0,"",{"$f":"COUNTIFS('Unit Detail'!$Y$8:$Y$400,\"1\",'Unit Detail'!$D$8:$D$400,'Building Detail'!$B37)","v":0},{"$f":"COUNTIFS('Unit Detail'!$Y$8:$Y$400,\"3\",'Unit Detail'!$D$8:$D$400,'Building Detail'!$B37)","v":0},{"$f":"COUNTIFS('Unit Detail'!$Y$8:$Y$400,\"2\",'Unit Detail'!$D$8:$D$400,'Building Detail'!$B37)","v":0},0,"",""]
[null,null,null,null,null,null,null,null,null,null,null,null,null,null,{"$f":"SUMIFS('Unit Detail'!$H$8:$H$400,'Unit Detail'!$D$8:$D$400,'Building Detail'!$B38,'Unit Detail'!$Y$8:$Y$400,1)","v":0},{"$f":"SUMIFS('Unit Detail'!$H$8:$H$400,'Unit Detail'!$D$8:$D$400,'Building Detail'!$B38,'Unit Detail'!$Y$8:$Y$400,3)","v":0},{"$f":"SUMIFS('Unit Detail'!$H$8:$H$400,'Unit Detail'!$D$8:$D$400,'Building Detail'!$B38,'Unit Detail'!$Y$8:$Y$400,2)","v":0},{"$f":"SUMIF('Unit Detail'!$D$8:$D$400,$B38,'Unit Detail'!$H$8:$H$400)","v":0},0,"",{"$f":"COUNTIFS('Unit Detail'!$Y$8:$Y$400,\"1\",'Unit Detail'!$D$8:$D$400,'Building Detail'!$B38)","v":0},{"$f":"COUNTIFS('Unit Detail'!$Y$8:$Y$400,\"3\",'Unit Detail'!$D$8:$D$400,'Building Detail'!$B38)","v":0},{"$f":"COUNTIFS('Unit Detail'!$Y$8:$Y$400,\"2\",'Unit Detail'!$D$8:$D$400,'Building Detail'!$B38)","v":0},0,"",""]
[null,null,null,null,null,null,null,null,null,null,null,null,null,null,{"$f":"SUMIFS('Unit Detail'!$H$8:$H$400,'Unit Detail'!$D$8:$D$400,'Building Detail'!$B39,'Unit Detail'!$Y$8:$Y$400,1)","v":0},{"$f":"SUMIFS('Unit Detail'!$H$8:$H$400,'Unit Detail'!$D$8:$D$400,'Building Detail'!$B39,'Unit Detail'!$Y$8:$Y$400,3)","v":0},{"$f":"SUMIFS('Unit Detail'!$H$8:$H$400,'Unit Detail'!$D$8:$D$400,'Building Detail'!$B39,'Unit Detail'!$Y$8:$Y$400,2)","v":0},{"$f":"SUMIF('Unit Detail'!$D$8:$D$400,$B39,'Unit Detail'!$H$8:$H$400)","v":0},0,"",{"$f":"COUNTIFS('Unit Detail'!$Y$8:$Y$400,\"1\",'Unit Detail'!$D$8:$D$400,'Building Detail'!$B39)","v":0},{"$f":"COUNTIFS('Unit Detail'!$Y$8:$Y$400,\"3\",'Unit Detail'!$D$8:$D$400,'Building Detail'!$B39)","v":0},{"$f":"COUNTIFS('Unit Detail'!$Y$8:$Y$400,\"2\",'Unit Detail'!$D$8:$D$400,'Building Detail'!$B39)","v":0},0,"",""]
[null,null,null,null,null,null,null,null,null,null,null,null,null,null,{"$f":"SUMIFS('Unit Detail'!$H$8:$H$400,'Unit Detail'!$D$8:$D$400,'Building Detail'!$B40,'Unit Detail'!$Y$8:$Y$400,1)","v":0},{"$f":"SUMIFS('Unit Detail'!$H$8:$H$400,'Unit Detail'!$D$8:$D$400,'Building Detail'!$B40,'Unit Detail'!$Y$8:$Y$400,3)","v":0},{"$f":"SUMIFS('Unit Detail'!$H$8:$H$400,'Unit Detail'!$D$8:$D$400,'Building Detail'!$B40,'Unit Detail'!$Y$8:$Y$400,2)","v":0},{"$f":"SUMIF('Unit Detail'!$D$8:$D$400,$B40,'Unit Detail'!$H$8:$H$400)","v":0},0,"",{"$f":"COUNTIFS('Unit Detail'!$Y$8:$Y$400,\"1\",'Unit Detail'!$D$8:$D$400,'Building Detail'!$B40)","v":0},{"$f":"COUNTIFS('Unit Detail'!$Y$8:$Y$400,\"3\",'Unit Detail'!$D$8:$D$400,'Building Detail'!$B40)","v":0},{"$f":"COUNTIFS('Unit Detail'!$Y$8:$Y$400,\"2\",'Unit Detail'!$D$8:$D$400,'Building Detail'!$B40)","v":0},0,"",""]
[null,null,null,null,null,null,null,null,null,null,null,null,null,null,{"$f":"SUMIFS('Unit Detail'!$H$8:$H$400,'Unit Detail'!$D$8:$D$400,'Building Detail'!$B41,'Unit Detail'!$Y$8:$Y$400,1)","v":0},{"$f":"SUMIFS('Unit Detail'!$H$8:$H$400,'Unit Detail'!$D$8:$D$400,'Building Detail'!$B41,'Unit Detail'!$Y$8:$Y$400,3)","v":0},{"$f":"SUMIFS('Unit Detail'!$H$8:$H$400,'Unit Detail'!$D$8:$D$400,'Building Detail'!$B41,'Unit Detail'!$Y$8:$Y$400,2)","v":0},{"$f":"SUMIF('Unit Detail'!$D$8:$D$400,$B41,'Unit Detail'!$H$8:$H$400)","v":0},0,"",{"$f":"COUNTIFS('Unit Detail'!$Y$8:$Y$400,\"1\",'Unit Detail'!$D$8:$D$400,'Building Detail'!$B41)","v":0},{"$f":"COUNTIFS('Unit Detail'!$Y$8:$Y$400,\"3\",'Unit Detail'!$D$8:$D$400,'Building Detail'!$B41)","v":0},{"$f":"COUNTIFS('Unit Detail'!$Y$8:$Y$400,\"2\",'Unit Detail'!$D$8:$D$400,'Building Detail'!$B41)","v":0},0,"",""]
[null,null,null,null,null,null,null,null,null,null,null,null,null,null,{"$f":"SUMIFS('Unit Detail'!$H$8:$H$400,'Unit Detail'!$D$8:$D$400,'Building Detail'!$B42,'Unit Detail'!$Y$8:$Y$400,1)","v":0},{"$f":"SUMIFS('Unit Detail'!$H$8:$H$400,'Unit Detail'!$D$8:$D$400,'Building Detail'!$B42,'Unit Detail'!$Y$8:$Y$400,3)","v":0},{"$f":"SUMIFS('Unit Detail'!$H$8:$H$400,'Unit Detail'!$D$8:$D$400,'Building Detail'!$B42,'Unit Detail'!$Y$8:$Y$400,2)","v":0},{"$f":"SUMIF('Unit Detail'!$D$8:$D$400,$B42,'Unit Detail'!$H$8:$H$400)","v":0},0,"",{"$f":"COUNTIFS('Unit Detail'!$Y$8:$Y$400,\"1\",'Unit Detail'!$D$8:$D$400,'Building Detail'!$B42)","v":0},{"$f":"COUNTIFS('Unit Detail'!$Y$8:$Y$400,\"3\",'Unit Detail'!$D$8:$D$400,'Building Detail'!$B42)","v":0},{"$f":"COUNTIFS('Unit Detail'!$Y$8:$Y$400,\"2\",'Unit Detail'!$D$8:$D$400,'Building Detail'!$B42)","v":0},0,"",""]
[null,null,null,null,null,null,null,null,null,null,null,null,null,null,{"$f":"SUMIFS('Unit Detail'!$H$8:$H$400,'Unit Detail'!$D$8:$D$400,'Building Detail'!$B43,'Unit Detail'!$Y$8:$Y$400,1)","v":0},{"$f":"SUMIFS('Unit Detail'!$H$8:$H$400,'Unit Detail'!$D$8:$D$400,'Building Detail'!$B43,'Unit Detail'!$Y$8:$Y$400,3)","v":0},{"$f":"SUMIFS('Unit Detail'!$H$8:$H$400,'Unit Detail'!$D$8:$D$400,'Building Detail'!$B43,'Unit Detail'!$Y$8:$Y$400,2)","v":0},{"$f":"SUMIF('Unit Detail'!$D$8:$D$400,$B43,'Unit Detail'!$H$8:$H$400)","v":0},0,"",{"$f":"COUNTIFS('Unit Detail'!$Y$8:$Y$400,\"1\",'Unit Detail'!$D$8:$D$400,'Building Detail'!$B43)","v":0},{"$f":"COUNTIFS('Unit Detail'!$Y$8:$Y$400,\"3\",'Unit Detail'!$D$8:$D$400,'Building Detail'!$B43)","v":0},{"$f":"COUNTIFS('Unit Detail'!$Y$8:$Y$400,\"2\",'Unit Detail'!$D$8:$D$400,'Building Detail'!$B43)","v":0},0,"",""]
[null,null,null,null,null,null,null,null,null,null,null,null,null,null,{"$f":"SUMIFS('Unit Detail'!$H$8:$H$400,'Unit Detail'!$D$8:$D$400,'Building Detail'!$B44,'Unit Detail'!$Y$8:$Y$400,1)","v":0},{"$f":"SUMIFS('Unit Detail'!$H$8:$H$400,'Unit Detail'!$D$8:$D$400,'Building Detail'!$B44,'Unit Detail'!$Y$8:$Y$400,3)","v":0},{"$f":"SUMIFS('Unit Detail'!$H$8:$H$400,'Unit Detail'!$D$8:$D$400,'Building Detail'!$B44,'Unit Detail'!$Y$8:$Y$400,2)","v":0},{"$f":"SUMIF('Unit Detail'!$D$8:$D$400,$B44,'Unit Detail'!$H$8:$H$400)","v":0},0,"",{"$f":"COUNTIFS('Unit Detail'!$Y$8:$Y$400,\"1\",'Unit Detail'!$D$8:$D$400,'Building Detail'!$B44)","v":0},{"$f":"COUNTIFS('Unit Detail'!$Y$8:$Y$400,\"3\",'Unit Detail'!$D$8:$D$400,'Building Detail'!$B44)","v":0},{"$f":"COUNTIFS('Unit Detail'!$Y$8:$Y$400,\"2\",'Unit Detail'!$D$8:$D$400,'Building Detail'!$B44)","v":0},0,"",""]
[null,null,null,null,null,null,null,null,null,null,null,null,null,null,{"$f":"SUMIFS('Unit Detail'!$H$8:$H$400,'Unit Detail'!$D$8:$D$400,'Building Detail'!$B45,'Unit Detail'!$Y$8:$Y$400,1)","v":0},{"$f":"SUMIFS('Unit Detail'!$H$8:$H$400,'Unit Detail'!$D$8:$D$400,'Building Detail'!$B45,'Unit Detail'!$Y$8:$Y$400,3)","v":0},{"$f":"SUMIFS('Unit Detail'!$H$8:$H$400,'Unit Detail'!$D$8:$D$400,'Building Detail'!$B45,'Unit Detail'!$Y$8:$Y$400,2)","v":0},{"$f":"SUMIF('Unit Detail'!$D$8:$D$400,$B45,'Unit Detail'!$H$8:$H$400)","v":0},0,"",{"$f":"COUNTIFS('Unit Detail'!$Y$8:$Y$400,\"1\",'Unit Detail'!$D$8:$D$400,'Building Detail'!$B45)","v":0},{"$f":"COUNTIFS('Unit Detail'!$Y$8:$Y$400,\"3\",'Unit Detail'!$D$8:$D$400,'Building Detail'!$B45)","v":0},{"$f":"COUNTIFS('Unit Detail'!$Y$8:$Y$400,\"2\",'Unit Detail'!$D$8:$D$400,'Building Detail'!$B45)","v":0},0,"",""]
[null,null,null,null,null,null,null,null,null,null,null,null,null,null,{"$f":"SUMIFS('Unit Detail'!$H$8:$H$400,'Unit Detail'!$D$8:$D$400,'Building Detail'!$B46,'Unit Detail'!$Y$8:$Y$400,1)","v":0},{"$f":"SUMIFS('Unit Detail'!$H$8:$H$400,'Unit Detail'!$D$8:$D$400,'Building Detail'!$B46,'Unit Detail'!$Y$8:$Y$400,3)","v":0},{"$f":"SUMIFS('Unit Detail'!$H$8:$H$400,'Unit Detail'!$D$8:$D$400,'Building Detail'!$B46,'Unit Detail'!$Y$8:$Y$400,2)","v":0},{"$f":"SUMIF('Unit Detail'!$D$8:$D$400,$B46,'Unit Detail'!$H$8:$H$400)","v":0},0,"",{"$f":"COUNTIFS('Unit Detail'!$Y$8:$Y$400,\"1\",'Unit Detail'!$D$8:$D$400,'Building Detail'!$B46)","v":0},{"$f":"COUNTIFS('Unit Detail'!$Y$8:$Y$400,\"3\",'Unit Detail'!$D$8:$D$400,'Building Detail'!$B46)","v":0},{"$f":"COUNTIFS('Unit Detail'!$Y$8:$Y$400,\"2\",'Unit Detail'!$D$8:$D$400,'Building Detail'!$B46)","v":0},0,"",""]
[null,null,null,null,null,null,null,null,null,null,null,null,null,null,{"$f":"SUMIFS('Unit Detail'!$H$8:$H$400,'Unit Detail'!$D$8:$D$400,'Building Detail'!$B47,'Unit Detail'!$Y$8:$Y$400,1)","v":0},{"$f":"SUMIFS('Unit Detail'!$H$8:$H$400,'Unit Detail'!$D$8:$D$400,'Building Detail'!$B47,'Unit Detail'!$Y$8:$Y$400,3)","v":0},{"$f":"SUMIFS('Unit Detail'!$H$8:$H$400,'Unit Detail'!$D$8:$D$400,'Building Detail'!$B47,'Unit Detail'!$Y$8:$Y$400,2)","v":0},{"$f":"SUMIF('Unit Detail'!$D$8:$D$400,$B47,'Unit Detail'!$H$8:$H$400)","v":0},0,"",{"$f":"COUNTIFS('Unit Detail'!$Y$8:$Y$400,\"1\",'Unit Detail'!$D$8:$D$400,'Building Detail'!$B47)","v":0},{"$f":"COUNTIFS('Unit Detail'!$Y$8:$Y$400,\"3\",'Unit Detail'!$D$8:$D$400,'Building Detail'!$B47)","v":0},{"$f":"COUNTIFS('Unit Detail'!$Y$8:$Y$400,\"2\",'Unit Detail'!$D$8:$D$400,'Building Detail'!$B47)","v":0},0,"",""]
[null,null,null,null,null,null,null,null,null,null,null,null,null,null,{"$f":"SUMIFS('Unit Detail'!$H$8:$H$400,'Unit Detail'!$D$8:$D$400,'Building Detail'!$B48,'Unit Detail'!$Y$8:$Y$400,1)","v":0},{"$f":"SUMIFS('Unit Detail'!$H$8:$H$400,'Unit Detail'!$D$8:$D$400,'Building Detail'!$B48,'Unit Detail'!$Y$8:$Y$400,3)","v":0},{"$f":"SUMIFS('Unit Detail'!$H$8:$H$400,'Unit Detail'!$D$8:$D$400,'Building Detail'!$B48,'Unit Detail'!$Y$8:$Y$400,2)","v":0},{"$f":"SUMIF('Unit Detail'!$D$8:$D$400,$B48,'Unit Detail'!$H$8:$H$400)","v":0},0,"",{"$f":"COUNTIFS('Unit Detail'!$Y$8:$Y$400,\"1\",'Unit Detail'!$D$8:$D$400,'Building Detail'!$B48)","v":0},{"$f":"COUNTIFS('Unit Detail'!$Y$8:$Y$400,\"3\",'Unit Detail'!$D$8:$D$400,'Building Detail'!$B48)","v":0},{"$f":"COUNTIFS('Unit Detail'!$Y$8:$Y$400,\"2\",'Unit Detail'!$D$8:$D$400,'Building Detail'!$B48)","v":0},0,"",""]
[null,null,null,null,null,null,null,null,null,null,null,null,null,null,{"$f":"SUMIFS('Unit Detail'!$H$8:$H$400,'Unit Detail'!$D$8:$D$400,'Building Detail'!$B49,'Unit Detail'!$Y$8:$Y$400,1)","v":0},{"$f":"SUMIFS('Unit Detail'!$H$8:$H$400,'Unit Detail'!$D$8:$D$400,'Building Detail'!$B49,'Unit Detail'!$Y$8:$Y$400,3)","v":0},{"$f":"SUMIFS('Unit Detail'!$H$8:$H$400,'Unit Detail'!$D$8:$D$400,'Building Detail'!$B49,'Unit Detail'!$Y$8:$Y$400,2)","v":0},{"$f":"SUMIF('Unit Detail'!$D$8:$D$400,$B49,'Unit Detail'!$H$8:$H$400)","v":0},0,"",{"$f":"COUNTIFS('Unit Detail'!$Y$8:$Y$400,\"1\",'Unit Detail'!$D$8:$D$400,'Building Detail'!$B49)","v":0},{"$f":"COUNTIFS('Unit Detail'!$Y$8:$Y$400,\"3\",'Unit Detail'!$D$8:$D$400,'Building Detail'!$B49)","v":0},{"$f":"COUNTIFS('Unit Detail'!$Y$8:$Y$400,\"2\",'Unit Detail'!$D$8:$D$400,'Building Detail'!$B49)","v":0},0,"",""]
[null,null,null,null,null,null,null,null,null,null,null,null,null,null,{"$f":"SUMIFS('Unit Detail'!$H$8:$H$400,'Unit Detail'!$D$8:$D$400,'Building Detail'!$B50,'Unit Detail'!$Y$8:$Y$400,1)","v":0},{"$f":"SUMIFS('Unit Detail'!$H$8:$H$400,'Unit Detail'!$D$8:$D$400,'Building Detail'!$B50,'Unit Detail'!$Y$8:$Y$400,3)","v":0},{"$f":"SUMIFS('Unit Detail'!$H$8:$H$400,'Unit Detail'!$D$8:$D$400,'Building Detail'!$B50,'Unit Detail'!$Y$8:$Y$400,2)","v":0},{"$f":"SUMIF('Unit Detail'!$D$8:$D$400,$B50,'Unit Detail'!$H$8:$H$400)","v":0},0,"",{"$f":"COUNTIFS('Unit Detail'!$Y$8:$Y$400,\"1\",'Unit Detail'!$D$8:$D$400,'Building Detail'!$B50)","v":0},{"$f":"COUNTIFS('Unit Detail'!$Y$8:$Y$400,\"3\",'Unit Detail'!$D$8:$D$400,'Building Detail'!$B50)","v":0},{"$f":"COUNTIFS('Unit Detail'!$Y$8:$Y$400,\"2\",'Unit Detail'!$D$8:$D$400,'Building Detail'!$B50)","v":0},0,"",""]
[null,null,null,null,null,null,null,null,null,null,null,null,null,null,{"$f":"SUMIFS('Unit Detail'!$H$8:$H$400,'Unit Detail'!$D$8:$D$400,'Building Detail'!$B51,'Unit Detail'!$Y$8:$Y$400,1)","v":0},{"$f":"SUMIFS('Unit Detail'!$H$8:$H$400,'Unit Detail'!$D$8:$D$400,'Building Detail'!$B51,'Unit Detail'!$Y$8:$Y$400,3)","v":0},{"$f":"SUMIFS('Unit Detail'!$H$8:$H$400,'Unit Detail'!$D$8:$D$400,'Building Detail'!$B51,'Unit Detail'!$Y$8:$Y$400,2)","v":0},{"$f":"SUMIF('Unit Detail'!$D$8:$D$400,$B51,'Unit Detail'!$H$8:$H$400)","v":0},0,"",{"$f":"COUNTIFS('Unit Detail'!$Y$8:$Y$400,\"1\",'Unit Detail'!$D$8:$D$400,'Building Detail'!$B51)","v":0},{"$f":"COUNTIFS('Unit Detail'!$Y$8:$Y$400,\"3\",'Unit Detail'!$D$8:$D$400,'Building Detail'!$B51)","v":0},{"$f":"COUNTIFS('Unit Detail'!$Y$8:$Y$400,\"2\",'Unit Detail'!$D$8:$D$400,'Building Detail'!$B51)","v":0},0,"",""]
[null,null,null,null,null,null,null,null,null,null,null,null,null,null,{"$f":"SUMIFS('Unit Detail'!$H$8:$H$400,'Unit Detail'!$D$8:$D$400,'Building Detail'!$B52,'Unit Detail'!$Y$8:$Y$400,1)","v":0},{"$f":"SUMIFS('Unit Detail'!$H$8:$H$400,'Unit Detail'!$D$8:$D$400,'Building Detail'!$B52,'Unit Detail'!$Y$8:$Y$400,3)","v":0},{"$f":"SUMIFS('Unit Detail'!$H$8:$H$400,'Unit Detail'!$D$8:$D$400,'Building Detail'!$B52,'Unit Detail'!$Y$8:$Y$400,2)","v":0},{"$f":"SUMIF('Unit Detail'!$D$8:$D$400,$B52,'Unit Detail'!$H$8:$H$400)","v":0},0,"",{"$f":"COUNTIFS('Unit Detail'!$Y$8:$Y$400,\"1\",'Unit Detail'!$D$8:$D$400,'Building Detail'!$B52)","v":0},{"$f":"COUNTIFS('Unit Detail'!$Y$8:$Y$400,\"3\",'Unit Detail'!$D$8:$D$400,'Building Detail'!$B52)","v":0},{"$f":"COUNTIFS('Unit Detail'!$Y$8:$Y$400,\"2\",'Unit Detail'!$D$8:$D$400,'Building Detail'!$B52)","v":0},0,"",""]
[null,null,null,null,null,null,null,null,null,null,null,null,null,null,{"$f":"SUMIFS('Unit Detail'!$H$8:$H$400,'Unit Detail'!$D$8:$D$400,'Building Detail'!$B53,'Unit Detail'!$Y$8:$Y$400,1)","v":0},{"$f":"SUMIFS('Unit Detail'!$H$8:$H$400,'Unit Detail'!$D$8:$D$400,'Building Detail'!$B53,'Unit Detail'!$Y$8:$Y$400,3)","v":0},{"$f":"SUMIFS('Unit Detail'!$H$8:$H$400,'Unit Detail'!$D$8:$D$400,'Building Detail'!$B53,'Unit Detail'!$Y$8:$Y$400,2)","v":0},{"$f":"SUMIF('Unit Detail'!$D$8:$D$400,$B53,'Unit Detail'!$H$8:$H$400)","v":0},0,"",{"$f":"COUNTIFS('Unit Detail'!$Y$8:$Y$400,\"1\",'Unit Detail'!$D$8:$D$400,'Building Detail'!$B53)","v":0},{"$f":"COUNTIFS('Unit Detail'!$Y$8:$Y$400,\"3\",'Unit Detail'!$D$8:$D$400,'Building Detail'!$B53)","v":0},{"$f":"COUNTIFS('Unit Detail'!$Y$8:$Y$400,\"2\",'Unit Detail'!$D$8:$D$400,'Building Detail'!$B53)","v":0},0,"",""]
[null,null,null,null,null,null,null,null,null,null,null,null,null,null,{"$f":"SUMIFS('Unit Detail'!$H$8:$H$400,'Unit Detail'!$D$8:$D$400,'Building Detail'!$B54,'Unit Detail'!$Y$8:$Y$400,1)","v":0},{"$f":"SUMIFS('Unit Detail'!$H$8:$H$400,'Unit Detail'!$D$8:$D$400,'Building Detail'!$B54,'Unit Detail'!$Y$8:$Y$400,3)","v":0},{"$f":"SUMIFS('Unit Detail'!$H$8:$H$400,'Unit Detail'!$D$8:$D$400,'Building Detail'!$B54,'Unit Detail'!$Y$8:$Y$400,2)","v":0},{"$f":"SUMIF('Unit Detail'!$D$8:$D$400,$B54,'Unit Detail'!$H$8:$H$400)","v":0},0,"",{"$f":"COUNTIFS('Unit Detail'!$Y$8:$Y$400,\"1\",'Unit Detail'!$D$8:$D$400,'Building Detail'!$B54)","v":0},{"$f":"COUNTIFS('Unit Detail'!$Y$8:$Y$400,\"3\",'Unit Detail'!$D$8:$D$400,'Building Detail'!$B54)","v":0},{"$f":"COUNTIFS('Unit Detail'!$Y$8:$Y$400,\"2\",'Unit Detail'!$D$8:$D$400,'Building Detail'!$B54)","v":0},0,"",""]
[null,null,null,null,null,null,null,null,null,null,null,null,null,null,{"$f":"SUMIFS('Unit Detail'!$H$8:$H$400,'Unit Detail'!$D$8:$D$400,'Building Detail'!$B55,'Unit Detail'!$Y$8:$Y$400,1)","v":0},{"$f":"SUMIFS('Unit Detail'!$H$8:$H$400,'Unit Detail'!$D$8:$D$400,'Building Detail'!$B55,'Unit Detail'!$Y$8:$Y$400,3)","v":0},{"$f":"SUMIFS('Unit Detail'!$H$8:$H$400,'Unit Detail'!$D$8:$D$400,'Building Detail'!$B55,'Unit Detail'!$Y$8:$Y$400,2)","v":0},{"$f":"SUMIF('Unit Detail'!$D$8:$D$400,$B55,'Unit Detail'!$H$8:$H$400)","v":0},0,"",{"$f":"COUNTIFS('Unit Detail'!$Y$8:$Y$400,\"1\",'Unit Detail'!$D$8:$D$400,'Building Detail'!$B55)","v":0},{"$f":"COUNTIFS('Unit Detail'!$Y$8:$Y$400,\"3\",'Unit Detail'!$D$8:$D$400,'Building Detail'!$B55)","v":0},{"$f":"COUNTIFS('Unit Detail'!$Y$8:$Y$400,\"2\",'Unit Detail'!$D$8:$D$400,'Building Detail'!$B55)","v":0},0,"",""]
[null,null,null,null,null,null,null,null,null,null,null,null,null,null,{"$f":"SUMIFS('Unit Detail'!$H$8:$H$400,'Unit Detail'!$D$8:$D$400,'Building Detail'!$B56,'Unit Detail'!$Y$8:$Y$400,1)","v":0},{"$f":"SUMIFS('Unit Detail'!$H$8:$H$400,'Unit Detail'!$D$8:$D$400,'Building Detail'!$B56,'Unit Detail'!$Y$8:$Y$400,3)","v":0},{"$f":"SUMIFS('Unit Detail'!$H$8:$H$400,'Unit Detail'!$D$8:$D$400,'Building Detail'!$B56,'Unit Detail'!$Y$8:$Y$400,2)","v":0},{"$f":"SUMIF('Unit Detail'!$D$8:$D$400,$B56,'Unit Detail'!$H$8:$H$400)","v":0},0,"",{"$f":"COUNTIFS('Unit Detail'!$Y$8:$Y$400,\"1\",'Unit Detail'!$D$8:$D$400,'Building Detail'!$B56)","v":0},{"$f":"COUNTIFS('Unit Detail'!$Y$8:$Y$400,\"3\",'Unit Detail'!$D$8:$D$400,'Building Detail'!$B56)","v":0},{"$f":"COUNTIFS('Unit Detail'!$Y$8:$Y$400,\"2\",'Unit Detail'!$D$8:$D$400,'Building Detail'!$B56)","v":0},0,"",""]
[null,null,null,null,null,null,null,null,null,null,null,null,null,null,{"$f":"SUMIFS('Unit Detail'!$H$8:$H$400,'Unit Detail'!$D$8:$D$400,'Building Detail'!$B57,'Unit Detail'!$Y$8:$Y$400,1)","v":0},{"$f":"SUMIFS('Unit Detail'!$H$8:$H$400,'Unit Detail'!$D$8:$D$400,'Building Detail'!$B57,'Unit Detail'!$Y$8:$Y$400,3)","v":0},{"$f":"SUMIFS('Unit Detail'!$H$8:$H$400,'Unit Detail'!$D$8:$D$400,'Building Detail'!$B57,'Unit Detail'!$Y$8:$Y$400,2)","v":0},{"$f":"SUMIF('Unit Detail'!$D$8:$D$400,$B57,'Unit Detail'!$H$8:$H$400)","v":0},0,"",{"$f":"COUNTIFS('Unit Detail'!$Y$8:$Y$400,\"1\",'Unit Detail'!$D$8:$D$400,'Building Detail'!$B57)","v":0},{"$f":"COUNTIFS('Unit Detail'!$Y$8:$Y$400,\"3\",'Unit Detail'!$D$8:$D$400,'Building Detail'!$B57)","v":0},{"$f":"COUNTIFS('Unit Detail'!$Y$8:$Y$400,\"2\",'Unit Detail'!$D$8:$D$400,'Building Detail'!$B57)","v":0},0,"",""]
[null,null,null,null,null,null,null,null,null,null,null,null,null,null,{"$f":"SUMIFS('Unit Detail'!$H$8:$H$400,'Unit Detail'!$D$8:$D$400,'Building Detail'!$B58,'Unit Detail'!$Y$8:$Y$400,1)","v":0},{"$f":"SUMIFS('Unit Detail'!$H$8:$H$400,'Unit Detail'!$D$8:$D$400,'Building Detail'!$B58,'Unit Detail'!$Y$8:$Y$400,3)","v":0},{"$f":"SUMIFS('Unit Detail'!$H$8:$H$400,'Unit Detail'!$D$8:$D$400,'Building Detail'!$B58,'Unit Detail'!$Y$8:$Y$400,2)","v":0},{"$f":"SUMIF('Unit Detail'!$D$8:$D$400,$B58,'Unit Detail'!$H$8:$H$400)","v":0},0,"",{"$f":"COUNTIFS('Unit Detail'!$Y$8:$Y$400,\"1\",'Unit Detail'!$D$8:$D$400,'Building Detail'!$B58)","v":0},{"$f":"COUNTIFS('Unit Detail'!$Y$8:$Y$400,\"3\",'Unit Detail'!$D$8:$D$400,'Building Detail'!$B58)","v":0},{"$f":"COUNTIFS('Unit Detail'!$Y$8:$Y$400,\"2\",'Unit Detail'!$D$8:$D$400,'Building Detail'!$B58)","v":0},0,"",""]
[null,null,null,null,null,null,null,null,null,null,null,null,null,null,{"$f":"SUMIFS('Unit Detail'!$H$8:$H$400,'Unit Detail'!$D$8:$D$400,'Building Detail'!$B59,'Unit Detail'!$Y$8:$Y$400,1)","v":0},{"$f":"SUMIFS('Unit Detail'!$H$8:$H$400,'Unit Detail'!$D$8:$D$400,'Building Detail'!$B59,'Unit Detail'!$Y$8:$Y$400,3)","v":0},{"$f":"SUMIFS('Unit Detail'!$H$8:$H$400,'Unit Detail'!$D$8:$D$400,'Building Detail'!$B59,'Unit Detail'!$Y$8:$Y$400,2)","v":0},{"$f":"SUMIF('Unit Detail'!$D$8:$D$400,$B59,'Unit Detail'!$H$8:$H$400)","v":0},0,"",{"$f":"COUNTIFS('Unit Detail'!$Y$8:$Y$400,\"1\",'Unit Detail'!$D$8:$D$400,'Building Detail'!$B59)","v":0},{"$f":"COUNTIFS('Unit Detail'!$Y$8:$Y$400,\"3\",'Unit Detail'!$D$8:$D$400,'Building Detail'!$B59)","v":0},{"$f":"COUNTIFS('Unit Detail'!$Y$8:$Y$400,\"2\",'Unit Detail'!$D$8:$D$400,'Building Detail'!$B59)","v":0},0,"",""]
[null,null,null,null,null,null,null,null,null,null,null,null,null,null,{"$f":"SUMIFS('Unit Detail'!$H$8:$H$400,'Unit Detail'!$D$8:$D$400,'Building Detail'!$B60,'Unit Detail'!$Y$8:$Y$400,1)","v":0},{"$f":"SUMIFS('Unit Detail'!$H$8:$H$400,'Unit Detail'!$D$8:$D$400,'Building Detail'!$B60,'Unit Detail'!$Y$8:$Y$400,3)","v":0},{"$f":"SUMIFS('Unit Detail'!$H$8:$H$400,'Unit Detail'!$D$8:$D$400,'Building Detail'!$B60,'Unit Detail'!$Y$8:$Y$400,2)","v":0},{"$f":"SUMIF('Unit Detail'!$D$8:$D$400,$B60,'Unit Detail'!$H$8:$H$400)","v":0},0,"",{"$f":"COUNTIFS('Unit Detail'!$Y$8:$Y$400,\"1\",'Unit Detail'!$D$8:$D$400,'Building Detail'!$B60)","v":0},{"$f":"COUNTIFS('Unit Detail'!$Y$8:$Y$400,\"3\",'Unit Detail'!$D$8:$D$400,'Building Detail'!$B60)","v":0},{"$f":"COUNTIFS('Unit Detail'!$Y$8:$Y$400,\"2\",'Unit Detail'!$D$8:$D$400,'Building Detail'!$B60)","v":0},0,"",""]
[null,null,null,null,null,null,null,null,null,null,null,null,null,null,{"$f":"SUMIFS('Unit Detail'!$H$8:$H$400,'Unit Detail'!$D$8:$D$400,'Building Detail'!$B61,'Unit Detail'!$Y$8:$Y$400,1)","v":0},{"$f":"SUMIFS('Unit Detail'!$H$8:$H$400,'Unit Detail'!$D$8:$D$400,'Building Detail'!$B61,'Unit Detail'!$Y$8:$Y$400,3)","v":0},{"$f":"SUMIFS('Unit Detail'!$H$8:$H$400,'Unit Detail'!$D$8:$D$400,'Building Detail'!$B61,'Unit Detail'!$Y$8:$Y$400,2)","v":0},{"$f":"SUMIF('Unit Detail'!$D$8:$D$400,$B61,'Unit Detail'!$H$8:$H$400)","v":0},0,"",{"$f":"COUNTIFS('Unit Detail'!$Y$8:$Y$400,\"1\",'Unit Detail'!$D$8:$D$400,'Building Detail'!$B61)","v":0},{"$f":"COUNTIFS('Unit Detail'!$Y$8:$Y$400,\"3\",'Unit Detail'!$D$8:$D$400,'Building Detail'!$B61)","v":0},{"$f":"COUNTIFS('Unit Detail'!$Y$8:$Y$400,\"2\",'Unit Detail'!$D$8:$D$400,'Building Detail'!$B61)","v":0},0,"",""]
[null,null,null,null,null,null,null,null,null,null,null,null,null,null,{"$f":"SUMIFS('Unit Detail'!$H$8:$H$400,'Unit Detail'!$D$8:$D$400,'Building Detail'!$B62,'Unit Detail'!$Y$8:$Y$400,1)","v":0},{"$f":"SUMIFS('Unit Detail'!$H$8:$H$400,'Unit Detail'!$D$8:$D$400,'Building Detail'!$B62,'Unit Detail'!$Y$8:$Y$400,3)","v":0},{"$f":"SUMIFS('Unit Detail'!$H$8:$H$400,'Unit Detail'!$D$8:$D$400,'Building Detail'!$B62,'Unit Detail'!$Y$8:$Y$400,2)","v":0},{"$f":"SUMIF('Unit Detail'!$D$8:$D$400,$B62,'Unit Detail'!$H$8:$H$400)","v":0},0,"",{"$f":"COUNTIFS('Unit Detail'!$Y$8:$Y$400,\"1\",'Unit Detail'!$D$8:$D$400,'Building Detail'!$B62)","v":0},{"$f":"COUNTIFS('Unit Detail'!$Y$8:$Y$400,\"3\",'Unit Detail'!$D$8:$D$400,'Building Detail'!$B62)","v":0},{"$f":"COUNTIFS('Unit Detail'!$Y$8:$Y$400,\"2\",'Unit Detail'!$D$8:$D$400,'Building Detail'!$B62)","v":0},0,"",""]
[null,null,null,null,null,null,null,null,null,null,null,null,null,null,{"$f":"SUMIFS('Unit Detail'!$H$8:$H$400,'Unit Detail'!$D$8:$D$400,'Building Detail'!$B63,'Unit Detail'!$Y$8:$Y$400,1)","v":0},{"$f":"SUMIFS('Unit Detail'!$H$8:$H$400,'Unit Detail'!$D$8:$D$400,'Building Detail'!$B63,'Unit Detail'!$Y$8:$Y$400,3)","v":0},{"$f":"SUMIFS('Unit Detail'!$H$8:$H$400,'Unit Detail'!$D$8:$D$400,'Building Detail'!$B63,'Unit Detail'!$Y$8:$Y$400,2)","v":0},{"$f":"SUMIF('Unit Detail'!$D$8:$D$400,$B63,'Unit Detail'!$H$8:$H$400)","v":0},0,"",{"$f":"COUNTIFS('Unit Detail'!$Y$8:$Y$400,\"1\",'Unit Detail'!$D$8:$D$400,'Building Detail'!$B63)","v":0},{"$f":"COUNTIFS('Unit Detail'!$Y$8:$Y$400,\"3\",'Unit Detail'!$D$8:$D$400,'Building Detail'!$B63)","v":0},{"$f":"COUNTIFS('Unit Detail'!$Y$8:$Y$400,\"2\",'Unit Detail'!$D$8:$D$400,'Building Detail'!$B63)","v":0},0,"",""]
[null,null,null,null,null,null,null,null,null,null,null,null,null,null,{"$f":"SUMIFS('Unit Detail'!$H$8:$H$400,'Unit Detail'!$D$8:$D$400,'Building Detail'!$B64,'Unit Detail'!$Y$8:$Y$400,1)","v":0},{"$f":"SUMIFS('Unit Detail'!$H$8:$H$400,'Unit Detail'!$D$8:$D$400,'Building Detail'!$B64,'Unit Detail'!$Y$8:$Y$400,3)","v":0},{"$f":"SUMIFS('Unit Detail'!$H$8:$H$400,'Unit Detail'!$D$8:$D$400,'Building Detail'!$B64,'Unit Detail'!$Y$8:$Y$400,2)","v":0},{"$f":"SUMIF('Unit Detail'!$D$8:$D$400,$B64,'Unit Detail'!$H$8:$H$400)","v":0},0,"",{"$f":"COUNTIFS('Unit Detail'!$Y$8:$Y$400,\"1\",'Unit Detail'!$D$8:$D$400,'Building Detail'!$B64)","v":0},{"$f":"COUNTIFS('Unit Detail'!$Y$8:$Y$400,\"3\",'Unit Detail'!$D$8:$D$400,'Building Detail'!$B64)","v":0},{"$f":"COUNTIFS('Unit Detail'!$Y$8:$Y$400,\"2\",'Unit Detail'!$D$8:$D$400,'Building Detail'!$B64)","v":0},0,"",""]
[null,null,null,null,null,null,null,null,null,null,null,null,null,null,{"$f":"SUMIFS('Unit Detail'!$H$8:$H$400,'Unit Detail'!$D$8:$D$400,'Building Detail'!$B65,'Unit Detail'!$Y$8:$Y$400,1)","v":0},{"$f":"SUMIFS('Unit Detail'!$H$8:$H$400,'Unit Detail'!$D$8:$D$400,'Building Detail'!$B65,'Unit Detail'!$Y$8:$Y$400,3)","v":0},{"$f":"SUMIFS('Unit Detail'!$H$8:$H$400,'Unit Detail'!$D$8:$D$400,'Building Detail'!$B65,'Unit Detail'!$Y$8:$Y$400,2)","v":0},{"$f":"SUMIF('Unit Detail'!$D$8:$D$400,$B65,'Unit Detail'!$H$8:$H$400)","v":0},0,"",{"$f":"COUNTIFS('Unit Detail'!$Y$8:$Y$400,\"1\",'Unit Detail'!$D$8:$D$400,'Building Detail'!$B65)","v":0},{"$f":"COUNTIFS('Unit Detail'!$Y$8:$Y$400,\"3\",'Unit Detail'!$D$8:$D$400,'Building Detail'!$B65)","v":0},{"$f":"COUNTIFS('Unit Detail'!$Y$8:$Y$400,\"2\",'Unit Detail'!$D$8:$D$400,'Building Detail'!$B65)","v":0},0,"",""]
[null,null,null,null,null,null,null,null,null,null,null,null,null,null,{"$f":"SUMIFS('Unit Detail'!$H$8:$H$400,'Unit Detail'!$D$8:$D$400,'Building Detail'!$B66,'Unit Detail'!$Y$8:$Y$400,1)","v":0},{"$f":"SUMIFS('Unit Detail'!$H$8:$H$400,'Unit Detail'!$D$8:$D$400,'Building Detail'!$B66,'Unit Detail'!$Y$8:$Y$400,3)","v":0},{"$f":"SUMIFS('Unit Detail'!$H$8:$H$400,'Unit Detail'!$D$8:$D$400,'Building Detail'!$B66,'Unit Detail'!$Y$8:$Y$400,2)","v":0},{"$f":"SUMIF('Unit Detail'!$D$8:$D$400,$B66,'Unit Detail'!$H$8:$H$400)","v":0},0,"",{"$f":"COUNTIFS('Unit Detail'!$Y$8:$Y$400,\"1\",'Unit Detail'!$D$8:$D$400,'Building Detail'!$B66)","v":0},{"$f":"COUNTIFS('Unit Detail'!$Y$8:$Y$400,\"3\",'Unit Detail'!$D$8:$D$400,'Building Detail'!$B66)","v":0},{"$f":"COUNTIFS('Unit Detail'!$Y$8:$Y$400,\"2\",'Unit Detail'!$D$8:$D$400,'Building Detail'!$B66)","v":0},0,"",""]
[null,null,null,null,null,null,null,null,null,null,null,null,null,null,{"$f":"SUMIFS('Unit Detail'!$H$8:$H$400,'Unit Detail'!$D$8:$D$400,'Building Detail'!$B67,'Unit Detail'!$Y$8:$Y$400,1)","v":0},{"$f":"SUMIFS('Unit Detail'!$H$8:$H$400,'Unit Detail'!$D$8:$D$400,'Building Detail'!$B67,'Unit Detail'!$Y$8:$Y$400,3)","v":0},{"$f":"SUMIFS('Unit Detail'!$H$8:$H$400,'Unit Detail'!$D$8:$D$400,'Building Detail'!$B67,'Unit Detail'!$Y$8:$Y$400,2)","v":0},{"$f":"SUMIF('Unit Detail'!$D$8:$D$400,$B67,'Unit Detail'!$H$8:$H$400)","v":0},0,"",{"$f":"COUNTIFS('Unit Detail'!$Y$8:$Y$400,\"1\",'Unit Detail'!$D$8:$D$400,'Building Detail'!$B67)","v":0},{"$f":"COUNTIFS('Unit Detail'!$Y$8:$Y$400,\"3\",'Unit Detail'!$D$8:$D$400,'Building Detail'!$B67)","v":0},{"$f":"COUNTIFS('Unit Detail'!$Y$8:$Y$400,\"2\",'Unit Detail'!$D$8:$D$400,'Building Detail'!$B67)","v":0},0,"",""]
[null,null,null,null,null,null,null,null,null,null,null,null,null,null,{"$f":"SUMIFS('Unit Detail'!$H$8:$H$400,'Unit Detail'!$D$8:$D$400,'Building Detail'!$B68,'Unit Detail'!$Y$8:$Y$400,1)","v":0},{"$f":"SUMIFS('Unit Detail'!$H$8:$H$400,'Unit Detail'!$D$8:$D$400,'Building Detail'!$B68,'Unit Detail'!$Y$8:$Y$400,3)","v":0},{"$f":"SUMIFS('Unit Detail'!$H$8:$H$400,'Unit Detail'!$D$8:$D$400,'Building Detail'!$B68,'Unit Detail'!$Y$8:$Y$400,2)","v":0},{"$f":"SUMIF('Unit Detail'!$D$8:$D$400,$B68,'Unit Detail'!$H$8:$H$400)","v":0},0,"",{"$f":"COUNTIFS('Unit Detail'!$Y$8:$Y$400,\"1\",'Unit Detail'!$D$8:$D$400,'Building Detail'!$B68)","v":0},{"$f":"COUNTIFS('Unit Detail'!$Y$8:$Y$400,\"3\",'Unit Detail'!$D$8:$D$400,'Building Detail'!$B68)","v":0},{"$f":"COUNTIFS('Unit Detail'!$Y$8:$Y$400,\"2\",'Unit Detail'!$D$8:$D$400,'Building Detail'!$B68)","v":0},0,"",""]
[null,null,null,null,null,null,null,null,null,null,null,null,null,null,{"$f":"SUMIFS('Unit Detail'!$H$8:$H$400,'Unit Detail'!$D$8:$D$400,'Building Detail'!$B69,'Unit Detail'!$Y$8:$Y$400,1)","v":0},{"$f":"SUMIFS('Unit Detail'!$H$8:$H$400,'Unit Detail'!$D$8:$D$400,'Building Detail'!$B69,'Unit Detail'!$Y$8:$Y$400,3)","v":0},{"$f":"SUMIFS('Unit Detail'!$H$8:$H$400,'Unit Detail'!$D$8:$D$400,'Building Detail'!$B69,'Unit Detail'!$Y$8:$Y$400,2)","v":0},{"$f":"SUMIF('Unit Detail'!$D$8:$D$400,$B69,'Unit Detail'!$H$8:$H$400)","v":0},0,"",{"$f":"COUNTIFS('Unit Detail'!$Y$8:$Y$400,\"1\",'Unit Detail'!$D$8:$D$400,'Building Detail'!$B69)","v":0},{"$f":"COUNTIFS('Unit Detail'!$Y$8:$Y$400,\"3\",'Unit Detail'!$D$8:$D$400,'Building Detail'!$B69)","v":0},{"$f":"COUNTIFS('Unit Detail'!$Y$8:$Y$400,\"2\",'Unit Detail'!$D$8:$D$400,'Building Detail'!$B69)","v":0},0,"",""]
[null,null,null,null,null,null,null,null,null,null,null,null,null,null,{"$f":"SUMIFS('Unit Detail'!$H$8:$H$400,'Unit Detail'!$D$8:$D$400,'Building Detail'!$B70,'Unit Detail'!$Y$8:$Y$400,1)","v":0},{"$f":"SUMIFS('Unit Detail'!$H$8:$H$400,'Unit Detail'!$D$8:$D$400,'Building Detail'!$B70,'Unit Detail'!$Y$8:$Y$400,3)","v":0},{"$f":"SUMIFS('Unit Detail'!$H$8:$H$400,'Unit Detail'!$D$8:$D$400,'Building Detail'!$B70,'Unit Detail'!$Y$8:$Y$400,2)","v":0},{"$f":"SUMIF('Unit Detail'!$D$8:$D$400,$B70,'Unit Detail'!$H$8:$H$400)","v":0},0,"",{"$f":"COUNTIFS('Unit Detail'!$Y$8:$Y$400,\"1\",'Unit Detail'!$D$8:$D$400,'Building Detail'!$B70)","v":0},{"$f":"COUNTIFS('Unit Detail'!$Y$8:$Y$400,\"3\",'Unit Detail'!$D$8:$D$400,'Building Detail'!$B70)","v":0},{"$f":"COUNTIFS('Unit Detail'!$Y$8:$Y$400,\"2\",'Unit Detail'!$D$8:$D$400,'Building Detail'!$B70)","v":0},0,"",""]
[null,null,null,null,null,null,null,null,null,null,null,null,null,null,{"$f":"SUMIFS('Unit Detail'!$H$8:$H$400,'Unit Detail'!$D$8:$D$400,'Building Detail'!$B71,'Unit Detail'!$Y$8:$Y$400,1)","v":0},{"$f":"SUMIFS('Unit Detail'!$H$8:$H$400,'Unit Detail'!$D$8:$D$400,'Building Detail'!$B71,'Unit Detail'!$Y$8:$Y$400,3)","v":0},{"$f":"SUMIFS('Unit Detail'!$H$8:$H$400,'Unit Detail'!$D$8:$D$400,'Building Detail'!$B71,'Unit Detail'!$Y$8:$Y$400,2)","v":0},{"$f":"SUMIF('Unit Detail'!$D$8:$D$400,$B71,'Unit Detail'!$H$8:$H$400)","v":0},0,"",{"$f":"COUNTIFS('Unit Detail'!$Y$8:$Y$400,\"1\",'Unit Detail'!$D$8:$D$400,'Building Detail'!$B71)","v":0},{"$f":"COUNTIFS('Unit Detail'!$Y$8:$Y$400,\"3\",'Unit Detail'!$D$8:$D$400,'Building Detail'!$B71)","v":0},{"$f":"COUNTIFS('Unit Detail'!$Y$8:$Y$400,\"2\",'Unit Detail'!$D$8:$D$400,'Building Detail'!$B71)","v":0},0,"",""]
[null,null,null,null,null,null,null,null,null,null,null,null,null,null,{"$f":"SUMIFS('Unit Detail'!$H$8:$H$400,'Unit Detail'!$D$8:$D$400,'Building Detail'!$B72,'Unit Detail'!$Y$8:$Y$400,1)","v":0},{"$f":"SUMIFS('Unit Detail'!$H$8:$H$400,'Unit Detail'!$D$8:$D$400,'Building Detail'!$B72,'Unit Detail'!$Y$8:$Y$400,3)","v":0},{"$f":"SUMIFS('Unit Detail'!$H$8:$H$400,'Unit Detail'!$D$8:$D$400,'Building Detail'!$B72,'Unit Detail'!$Y$8:$Y$400,2)","v":0},{"$f":"SUMIF('Unit Detail'!$D$8:$D$400,$B72,'Unit Detail'!$H$8:$H$400)","v":0},0,"",{"$f":"COUNTIFS('Unit Detail'!$Y$8:$Y$400,\"1\",'Unit Detail'!$D$8:$D$400,'Building Detail'!$B72)","v":0},{"$f":"COUNTIFS('Unit Detail'!$Y$8:$Y$400,\"3\",'Unit Detail'!$D$8:$D$400,'Building Detail'!$B72)","v":0},{"$f":"COUNTIFS('Unit Detail'!$Y$8:$Y$400,\"2\",'Unit Detail'!$D$8:$D$400,'Building Detail'!$B72)","v":0},0,"",""]
[null,null,null,null,null,null,null,null,null,null,null,null,null,null,{"$f":"SUMIFS('Unit Detail'!$H$8:$H$400,'Unit Detail'!$D$8:$D$400,'Building Detail'!$B73,'Unit Detail'!$Y$8:$Y$400,1)","v":0},{"$f":"SUMIFS('Unit Detail'!$H$8:$H$400,'Unit Detail'!$D$8:$D$400,'Building Detail'!$B73,'Unit Detail'!$Y$8:$Y$400,3)","v":0},{"$f":"SUMIFS('Unit Detail'!$H$8:$H$400,'Unit Detail'!$D$8:$D$400,'Building Detail'!$B73,'Unit Detail'!$Y$8:$Y$400,2)","v":0},{"$f":"SUMIF('Unit Detail'!$D$8:$D$400,$B73,'Unit Detail'!$H$8:$H$400)","v":0},0,"",{"$f":"COUNTIFS('Unit Detail'!$Y$8:$Y$400,\"1\",'Unit Detail'!$D$8:$D$400,'Building Detail'!$B73)","v":0},{"$f":"COUNTIFS('Unit Detail'!$Y$8:$Y$400,\"3\",'Unit Detail'!$D$8:$D$400,'Building Detail'!$B73)","v":0},{"$f":"COUNTIFS('Unit Detail'!$Y$8:$Y$400,\"2\",'Unit Detail'!$D$8:$D$400,'Building Detail'!$B73)","v":0},0,"",""]
[null,null,null,null,null,null,null,null,null,null,null,null,null,null,{"$f":"SUMIFS('Unit Detail'!$H$8:$H$400,'Unit Detail'!$D$8:$D$400,'Building Detail'!$B74,'Unit Detail'!$Y$8:$Y$400,1)","v":0},{"$f":"SUMIFS('Unit Detail'!$H$8:$H$400,'Unit Detail'!$D$8:$D$400,'Building Detail'!$B74,'Unit Detail'!$Y$8:$Y$400,3)","v":0},{"$f":"SUMIFS('Unit Detail'!$H$8:$H$400,'Unit Detail'!$D$8:$D$400,'Building Detail'!$B74,'Unit Detail'!$Y$8:$Y$400,2)","v":0},{"$f":"SUMIF('Unit Detail'!$D$8:$D$400,$B74,'Unit Detail'!$H$8:$H$400)","v":0},0,"",{"$f":"COUNTIFS('Unit Detail'!$Y$8:$Y$400,\"1\",'Unit Detail'!$D$8:$D$400,'Building Detail'!$B74)","v":0},{"$f":"COUNTIFS('Unit Detail'!$Y$8:$Y$400,\"3\",'Unit Detail'!$D$8:$D$400,'Building Detail'!$B74)","v":0},{"$f":"COUNTIFS('Unit Detail'!$Y$8:$Y$400,\"2\",'Unit Detail'!$D$8:$D$400,'Building Detail'!$B74)","v":0},0,"",""]
[null,null,null,null,null,null,null,null,null,null,null,null,null,null,{"$f":"SUMIFS('Unit Detail'!$H$8:$H$400,'Unit Detail'!$D$8:$D$400,'Building Detail'!$B75,'Unit Detail'!$Y$8:$Y$400,1)","v":0},{"$f":"SUMIFS('Unit Detail'!$H$8:$H$400,'Unit Detail'!$D$8:$D$400,'Building Detail'!$B75,'Unit Detail'!$Y$8:$Y$400,3)","v":0},{"$f":"SUMIFS('Unit Detail'!$H$8:$H$400,'Unit Detail'!$D$8:$D$400,'Building Detail'!$B75,'Unit Detail'!$Y$8:$Y$400,2)","v":0},{"$f":"SUMIF('Unit Detail'!$D$8:$D$400,$B75,'Unit Detail'!$H$8:$H$400)","v":0},0,"",{"$f":"COUNTIFS('Unit Detail'!$Y$8:$Y$400,\"1\",'Unit Detail'!$D$8:$D$400,'Building Detail'!$B75)","v":0},{"$f":"COUNTIFS('Unit Detail'!$Y$8:$Y$400,\"3\",'Unit Detail'!$D$8:$D$400,'Building Detail'!$B75)","v":0},{"$f":"COUNTIFS('Unit Detail'!$Y$8:$Y$400,\"2\",'Unit Detail'!$D$8:$D$400,'Building Detail'!$B75)","v":0},0,"",""]
[null,null,null,null,null,null,null,null,null,null,null,null,null,null,{"$f":"SUMIFS('Unit Detail'!$H$8:$H$400,'Unit Detail'!$D$8:$D$400,'Building Detail'!$B76,'Unit Detail'!$Y$8:$Y$400,1)","v":0},{"$f":"SUMIFS('Unit Detail'!$H$8:$H$400,'Unit Detail'!$D$8:$D$400,'Building Detail'!$B76,'Unit Detail'!$Y$8:$Y$400,3)","v":0},{"$f":"SUMIFS('Unit Detail'!$H$8:$H$400,'Unit Detail'!$D$8:$D$400,'Building Detail'!$B76,'Unit Detail'!$Y$8:$Y$400,2)","v":0},{"$f":"SUMIF('Unit Detail'!$D$8:$D$400,$B76,'Unit Detail'!$H$8:$H$400)","v":0},0,"",{"$f":"COUNTIFS('Unit Detail'!$Y$8:$Y$400,\"1\",'Unit Detail'!$D$8:$D$400,'Building Detail'!$B76)","v":0},{"$f":"COUNTIFS('Unit Detail'!$Y$8:$Y$400,\"3\",'Unit Detail'!$D$8:$D$400,'Building Detail'!$B76)","v":0},{"$f":"COUNTIFS('Unit Detail'!$Y$8:$Y$400,\"2\",'Unit Detail'!$D$8:$D$400,'Building Detail'!$B76)","v":0},0,"",""]
[null,null,null,null,null,null,null,null,null,null,null,null,null,null,{"$f":"SUMIFS('Unit Detail'!$H$8:$H$400,'Unit Detail'!$D$8:$D$400,'Building Detail'!$B77,'Unit Detail'!$Y$8:$Y$400,1)","v":0},{"$f":"SUMIFS('Unit Detail'!$H$8:$H$400,'Unit Detail'!$D$8:$D$400,'Building Detail'!$B77,'Unit Detail'!$Y$8:$Y$400,3)","v":0},{"$f":"SUMIFS('Unit Detail'!$H$8:$H$400,'Unit Detail'!$D$8:$D$400,'Building Detail'!$B77,'Unit Detail'!$Y$8:$Y$400,2)","v":0},{"$f":"SUMIF('Unit Detail'!$D$8:$D$400,$B77,'Unit Detail'!$H$8:$H$400)","v":0},0,"",{"$f":"COUNTIFS('Unit Detail'!$Y$8:$Y$400,\"1\",'Unit Detail'!$D$8:$D$400,'Building Detail'!$B77)","v":0},{"$f":"COUNTIFS('Unit Detail'!$Y$8:$Y$400,\"3\",'Unit Detail'!$D$8:$D$400,'Building Detail'!$B77)","v":0},{"$f":"COUNTIFS('Unit Detail'!$Y$8:$Y$400,\"2\",'Unit Detail'!$D$8:$D$400,'Building Detail'!$B77)","v":0},0,"",""]
[null,null,null,null,null,null,null,null,null,null,null,null,null,null,{"$f":"SUMIFS('Unit Detail'!$H$8:$H$400,'Unit Detail'!$D$8:$D$400,'Building Detail'!$B78,'Unit Detail'!$Y$8:$Y$400,1)","v":0},{"$f":"SUMIFS('Unit Detail'!$H$8:$H$400,'Unit Detail'!$D$8:$D$400,'Building Detail'!$B78,'Unit Detail'!$Y$8:$Y$400,3)","v":0},{"$f":"SUMIFS('Unit Detail'!$H$8:$H$400,'Unit Detail'!$D$8:$D$400,'Building Detail'!$B78,'Unit Detail'!$Y$8:$Y$400,2)","v":0},{"$f":"SUMIF('Unit Detail'!$D$8:$D$400,$B78,'Unit Detail'!$H$8:$H$400)","v":0},0,"",{"$f":"COUNTIFS('Unit Detail'!$Y$8:$Y$400,\"1\",'Unit Detail'!$D$8:$D$400,'Building Detail'!$B78)","v":0},{"$f":"COUNTIFS('Unit Detail'!$Y$8:$Y$400,\"3\",'Unit Detail'!$D$8:$D$400,'Building Detail'!$B78)","v":0},{"$f":"COUNTIFS('Unit Detail'!$Y$8:$Y$400,\"2\",'Unit Detail'!$D$8:$D$400,'Building Detail'!$B78)","v":0},0,"",""]
[null,null,null,null,null,null,null,null,null,null,null,null,null,null,{"$f":"SUMIFS('Unit Detail'!$H$8:$H$400,'Unit Detail'!$D$8:$D$400,'Building Detail'!$B79,'Unit Detail'!$Y$8:$Y$400,1)","v":0},{"$f":"SUMIFS('Unit Detail'!$H$8:$H$400,'Unit Detail'!$D$8:$D$400,'Building Detail'!$B79,'Unit Detail'!$Y$8:$Y$400,3)","v":0},{"$f":"SUMIFS('Unit Detail'!$H$8:$H$400,'Unit Detail'!$D$8:$D$400,'Building Detail'!$B79,'Unit Detail'!$Y$8:$Y$400,2)","v":0},{"$f":"SUMIF('Unit Detail'!$D$8:$D$400,$B79,'Unit Detail'!$H$8:$H$400)","v":0},0,"",{"$f":"COUNTIFS('Unit Detail'!$Y$8:$Y$400,\"1\",'Unit Detail'!$D$8:$D$400,'Building Detail'!$B79)","v":0},{"$f":"COUNTIFS('Unit Detail'!$Y$8:$Y$400,\"3\",'Unit Detail'!$D$8:$D$400,'Building Detail'!$B79)","v":0},{"$f":"COUNTIFS('Unit Detail'!$Y$8:$Y$400,\"2\",'Unit Detail'!$D$8:$D$400,'Building Detail'!$B79)","v":0},0,"",""]
[null,null,null,null,null,null,null,null,null,null,null,null,null,null,{"$f":"SUMIFS('Unit Detail'!$H$8:$H$400,'Unit Detail'!$D$8:$D$400,'Building Detail'!$B80,'Unit Detail'!$Y$8:$Y$400,1)","v":0},{"$f":"SUMIFS('Unit Detail'!$H$8:$H$400,'Unit Detail'!$D$8:$D$400,'Building Detail'!$B80,'Unit Detail'!$Y$8:$Y$400,3)","v":0},{"$f":"SUMIFS('Unit Detail'!$H$8:$H$400,'Unit Detail'!$D$8:$D$400,'Building Detail'!$B80,'Unit Detail'!$Y$8:$Y$400,2)","v":0},{"$f":"SUMIF('Unit Detail'!$D$8:$D$400,$B80,'Unit Detail'!$H$8:$H$400)","v":0},0,"",{"$f":"COUNTIFS('Unit Detail'!$Y$8:$Y$400,\"1\",'Unit Detail'!$D$8:$D$400,'Building Detail'!$B80)","v":0},{"$f":"COUNTIFS('Unit Detail'!$Y$8:$Y$400,\"3\",'Unit Detail'!$D$8:$D$400,'Building Detail'!$B80)","v":0},{"$f":"COUNTIFS('Unit Detail'!$Y$8:$Y$400,\"2\",'Unit Detail'!$D$8:$D$400,'Building Detail'!$B80)","v":0},0,"",""]
[null,null,null,null,null,null,null,null,null,null,null,null,null,null,{"$f":"SUMIFS('Unit Detail'!$H$8:$H$400,'Unit Detail'!$D$8:$D$400,'Building Detail'!$B81,'Unit Detail'!$Y$8:$Y$400,1)","v":0},{"$f":"SUMIFS('Unit Detail'!$H$8:$H$400,'Unit Detail'!$D$8:$D$400,'Building Detail'!$B81,'Unit Detail'!$Y$8:$Y$400,3)","v":0},{"$f":"SUMIFS('Unit Detail'!$H$8:$H$400,'Unit Detail'!$D$8:$D$400,'Building Detail'!$B81,'Unit Detail'!$Y$8:$Y$400,2)","v":0},{"$f":"SUMIF('Unit Detail'!$D$8:$D$400,$B81,'Unit Detail'!$H$8:$H$400)","v":0},0,"",{"$f":"COUNTIFS('Unit Detail'!$Y$8:$Y$400,\"1\",'Unit Detail'!$D$8:$D$400,'Building Detail'!$B81)","v":0},{"$f":"COUNTIFS('Unit Detail'!$Y$8:$Y$400,\"3\",'Unit Detail'!$D$8:$D$400,'Building Detail'!$B81)","v":0},{"$f":"COUNTIFS('Unit Detail'!$Y$8:$Y$400,\"2\",'Unit Detail'!$D$8:$D$400,'Building Detail'!$B81)","v":0},0,"",""]
[null,null,null,null,null,null,null,null,null,null,null,null,null,null,{"$f":"SUMIFS('Unit Detail'!$H$8:$H$400,'Unit Detail'!$D$8:$D$400,'Building Detail'!$B82,'Unit Detail'!$Y$8:$Y$400,1)","v":0},{"$f":"SUMIFS('Unit Detail'!$H$8:$H$400,'Unit Detail'!$D$8:$D$400,'Building Detail'!$B82,'Unit Detail'!$Y$8:$Y$400,3)","v":0},{"$f":"SUMIFS('Unit Detail'!$H$8:$H$400,'Unit Detail'!$D$8:$D$400,'Building Detail'!$B82,'Unit Detail'!$Y$8:$Y$400,2)","v":0},{"$f":"SUMIF('Unit Detail'!$D$8:$D$400,$B82,'Unit Detail'!$H$8:$H$400)","v":0},0,"",{"$f":"COUNTIFS('Unit Detail'!$Y$8:$Y$400,\"1\",'Unit Detail'!$D$8:$D$400,'Building Detail'!$B82)","v":0},{"$f":"COUNTIFS('Unit Detail'!$Y$8:$Y$400,\"3\",'Unit Detail'!$D$8:$D$400,'Building Detail'!$B82)","v":0},{"$f":"COUNTIFS('Unit Detail'!$Y$8:$Y$400,\"2\",'Unit Detail'!$D$8:$D$400,'Building Detail'!$B82)","v":0},0,"",{"$f":"IF(Y82<T82,Y82,T82)","v":""}]
[null,null,null,null,null,null,null,null,null,null,null,null,null,null,{"$f":"SUMIFS('Unit Detail'!$H$8:$H$400,'Unit Detail'!$D$8:$D$400,'Building Detail'!$B83,'Unit Detail'!$Y$8:$Y$400,1)","v":0},{"$f":"SUMIFS('Unit Detail'!$H$8:$H$400,'Unit Detail'!$D$8:$D$400,'Building Detail'!$B83,'Unit Detail'!$Y$8:$Y$400,3)","v":0},{"$f":"SUMIFS('Unit Detail'!$H$8:$H$400,'Unit Detail'!$D$8:$D$400,'Building Detail'!$B83,'Unit Detail'!$Y$8:$Y$400,2)","v":0},{"$f":"SUMIF('Unit Detail'!$D$8:$D$400,$B83,'Unit Detail'!$H$8:$H$400)","v":0},{"$f":"SUM(M83,N83,R83)","v":0},"",{"$f":"COUNTIFS('Unit Detail'!$Y$8:$Y$400,\"1\",'Unit Detail'!$D$8:$D$400,'Building Detail'!$B83)","v":0},{"$f":"COUNTIFS('Unit Detail'!$Y$8:$Y$400,\"3\",'Unit Detail'!$D$8:$D$400,'Building Detail'!$B83)","v":0},{"$f":"COUNTIFS('Unit Detail'!$Y$8:$Y$400,\"2\",'Unit Detail'!$D$8:$D$400,'Building Detail'!$B83)","v":0},{"$f":"SUM(U83:W83)","v":0},{"$f":"IF(B83=\"\",\"\",IF($P$15=0,1,U83/X83))","v":""},""]
[null,null,null,null,null,null,null,null,null,null,null,null,null,null,{"$f":"SUMIFS('Unit Detail'!$H$8:$H$400,'Unit Detail'!$D$8:$D$400,'Building Detail'!$B84,'Unit Detail'!$Y$8:$Y$400,1)","v":0},{"$f":"SUMIFS('Unit Detail'!$H$8:$H$400,'Unit Detail'!$D$8:$D$400,'Building Detail'!$B84,'Unit Detail'!$Y$8:$Y$400,3)","v":0},{"$f":"SUMIFS('Unit Detail'!$H$8:$H$400,'Unit Detail'!$D$8:$D$400,'Building Detail'!$B84,'Unit Detail'!$Y$8:$Y$400,2)","v":0},{"$f":"SUMIF('Unit Detail'!$D$8:$D$400,$B84,'Unit Detail'!$H$8:$H$400)","v":0},0,"",{"$f":"COUNTIFS('Unit Detail'!$Y$8:$Y$400,\"1\",'Unit Detail'!$D$8:$D$400,'Building Detail'!$B84)","v":0},{"$f":"COUNTIFS('Unit Detail'!$Y$8:$Y$400,\"3\",'Unit Detail'!$D$8:$D$400,'Building Detail'!$B84)","v":0},{"$f":"COUNTIFS('Unit Detail'!$Y$8:$Y$400,\"2\",'Unit Detail'!$D$8:$D$400,'Building Detail'!$B84)","v":0},0,"",""]
[null,null,null,null,null,null,null,null,null,null,null,null,null,null,{"$f":"SUMIFS('Unit Detail'!$H$8:$H$400,'Unit Detail'!$D$8:$D$400,'Building Detail'!$B85,'Unit Detail'!$Y$8:$Y$400,1)","v":0},{"$f":"SUMIFS('Unit Detail'!$H$8:$H$400,'Unit Detail'!$D$8:$D$400,'Building Detail'!$B85,'Unit Detail'!$Y$8:$Y$400,3)","v":0},{"$f":"SUMIFS('Unit Detail'!$H$8:$H$400,'Unit Detail'!$D$8:$D$400,'Building Detail'!$B85,'Unit Detail'!$Y$8:$Y$400,2)","v":0},{"$f":"SUMIF('Unit Detail'!$D$8:$D$400,$B85,'Unit Detail'!$H$8:$H$400)","v":0},0,{"$f":"IF(B85=\"\",\"\",IF($P$15=0,1,O85/R85))","v":""},{"$f":"COUNTIFS('Unit Detail'!$Y$8:$Y$400,\"1\",'Unit Detail'!$D$8:$D$400,'Building Detail'!$B85)","v":0},{"$f":"COUNTIFS('Unit Detail'!$Y$8:$Y$400,\"3\",'Unit Detail'!$D$8:$D$400,'Building Detail'!$B85)","v":0},{"$f":"COUNTIFS('Unit Detail'!$Y$8:$Y$400,\"2\",'Unit Detail'!$D$8:$D$400,'Building Detail'!$B85)","v":0},0,"",""]
[null,null,null,null,null,null,null,null,null,null,null,null,null,null,{"$f":"SUMIFS('Unit Detail'!$H$8:$H$400,'Unit Detail'!$D$8:$D$400,'Building Detail'!$B86,'Unit Detail'!$Y$8:$Y$400,1)","v":0},{"$f":"SUMIFS('Unit Detail'!$H$8:$H$400,'Unit Detail'!$D$8:$D$400,'Building Detail'!$B86,'Unit Detail'!$Y$8:$Y$400,3)","v":0},{"$f":"SUMIFS('Unit Detail'!$H$8:$H$400,'Unit Detail'!$D$8:$D$400,'Building Detail'!$B86,'Unit Detail'!$Y$8:$Y$400,2)","v":0},{"$f":"SUMIF('Unit Detail'!$D$8:$D$400,$B86,'Unit Detail'!$H$8:$H$400)","v":0},0,"",{"$f":"COUNTIFS('Unit Detail'!$Y$8:$Y$400,\"1\",'Unit Detail'!$D$8:$D$400,'Building Detail'!$B86)","v":0},{"$f":"COUNTIFS('Unit Detail'!$Y$8:$Y$400,\"3\",'Unit Detail'!$D$8:$D$400,'Building Detail'!$B86)","v":0},{"$f":"COUNTIFS('Unit Detail'!$Y$8:$Y$400,\"2\",'Unit Detail'!$D$8:$D$400,'Building Detail'!$B86)","v":0},0,"",""]
[null,null,null,null,null,null,null,null,null,null,null,null,null,null,{"$f":"SUMIFS('Unit Detail'!$H$8:$H$400,'Unit Detail'!$D$8:$D$400,'Building Detail'!$B87,'Unit Detail'!$Y$8:$Y$400,1)","v":0},{"$f":"SUMIFS('Unit Detail'!$H$8:$H$400,'Unit Detail'!$D$8:$D$400,'Building Detail'!$B87,'Unit Detail'!$Y$8:$Y$400,3)","v":0},{"$f":"SUMIFS('Unit Detail'!$H$8:$H$400,'Unit Detail'!$D$8:$D$400,'Building Detail'!$B87,'Unit Detail'!$Y$8:$Y$400,2)","v":0},{"$f":"SUMIF('Unit Detail'!$D$8:$D$400,$B87,'Unit Detail'!$H$8:$H$400)","v":0},0,"",{"$f":"COUNTIFS('Unit Detail'!$Y$8:$Y$400,\"1\",'Unit Detail'!$D$8:$D$400,'Building Detail'!$B87)","v":0},{"$f":"COUNTIFS('Unit Detail'!$Y$8:$Y$400,\"3\",'Unit Detail'!$D$8:$D$400,'Building Detail'!$B87)","v":0},{"$f":"COUNTIFS('Unit Detail'!$Y$8:$Y$400,\"2\",'Unit Detail'!$D$8:$D$400,'Building Detail'!$B87)","v":0},0,"",""]
[null,null,null,null,null,null,null,null,null,null,null,null,null,null,{"$f":"SUMIFS('Unit Detail'!$H$8:$H$400,'Unit Detail'!$D$8:$D$400,'Building Detail'!$B88,'Unit Detail'!$Y$8:$Y$400,1)","v":0},{"$f":"SUMIFS('Unit Detail'!$H$8:$H$400,'Unit Detail'!$D$8:$D$400,'Building Detail'!$B88,'Unit Detail'!$Y$8:$Y$400,3)","v":0},{"$f":"SUMIFS('Unit Detail'!$H$8:$H$400,'Unit Detail'!$D$8:$D$400,'Building Detail'!$B88,'Unit Detail'!$Y$8:$Y$400,2)","v":0},{"$f":"SUMIF('Unit Detail'!$D$8:$D$400,$B88,'Unit Detail'!$H$8:$H$400)","v":0},0,"",{"$f":"COUNTIFS('Unit Detail'!$Y$8:$Y$400,\"1\",'Unit Detail'!$D$8:$D$400,'Building Detail'!$B88)","v":0},{"$f":"COUNTIFS('Unit Detail'!$Y$8:$Y$400,\"3\",'Unit Detail'!$D$8:$D$400,'Building Detail'!$B88)","v":0},{"$f":"COUNTIFS('Unit Detail'!$Y$8:$Y$400,\"2\",'Unit Detail'!$D$8:$D$400,'Building Detail'!$B88)","v":0},0,"",""]
[null,null,null,null,null,null,null,null,null,null,null,null,null,null,{"$f":"SUMIFS('Unit Detail'!$H$8:$H$400,'Unit Detail'!$D$8:$D$400,'Building Detail'!$B89,'Unit Detail'!$Y$8:$Y$400,1)","v":0},{"$f":"SUMIFS('Unit Detail'!$H$8:$H$400,'Unit Detail'!$D$8:$D$400,'Building Detail'!$B89,'Unit Detail'!$Y$8:$Y$400,3)","v":0},{"$f":"SUMIFS('Unit Detail'!$H$8:$H$400,'Unit Detail'!$D$8:$D$400,'Building Detail'!$B89,'Unit Detail'!$Y$8:$Y$400,2)","v":0},{"$f":"SUMIF('Unit Detail'!$D$8:$D$400,$B89,'Unit Detail'!$H$8:$H$400)","v":0},0,"",{"$f":"COUNTIFS('Unit Detail'!$Y$8:$Y$400,\"1\",'Unit Detail'!$D$8:$D$400,'Building Detail'!$B89)","v":0},{"$f":"COUNTIFS('Unit Detail'!$Y$8:$Y$400,\"3\",'Unit Detail'!$D$8:$D$400,'Building Detail'!$B89)","v":0},{"$f":"COUNTIFS('Unit Detail'!$Y$8:$Y$400,\"2\",'Unit Detail'!$D$8:$D$400,'Building Detail'!$B89)","v":0},0,"",""]
[null,null,null,null,null,null,null,null,null,null,null,null,null,null,{"$f":"SUMIFS('Unit Detail'!$H$8:$H$400,'Unit Detail'!$D$8:$D$400,'Building Detail'!$B90,'Unit Detail'!$Y$8:$Y$400,1)","v":0},{"$f":"SUMIFS('Unit Detail'!$H$8:$H$400,'Unit Detail'!$D$8:$D$400,'Building Detail'!$B90,'Unit Detail'!$Y$8:$Y$400,3)","v":0},{"$f":"SUMIFS('Unit Detail'!$H$8:$H$400,'Unit Detail'!$D$8:$D$400,'Building Detail'!$B90,'Unit Detail'!$Y$8:$Y$400,2)","v":0},{"$f":"SUMIF('Unit Detail'!$D$8:$D$400,$B90,'Unit Detail'!$H$8:$H$400)","v":0},0,"",{"$f":"COUNTIFS('Unit Detail'!$Y$8:$Y$400,\"1\",'Unit Detail'!$D$8:$D$400,'Building Detail'!$B90)","v":0},{"$f":"COUNTIFS('Unit Detail'!$Y$8:$Y$400,\"3\",'Unit Detail'!$D$8:$D$400,'Building Detail'!$B90)","v":0},{"$f":"COUNTIFS('Unit Detail'!$Y$8:$Y$400,\"2\",'Unit Detail'!$D$8:$D$400,'Building Detail'!$B90)","v":0},0,"",""]
[null,null,null,null,null,null,null,null,null,null,null,null,null,null,{"$f":"SUMIFS('Unit Detail'!$H$8:$H$400,'Unit Detail'!$D$8:$D$400,'Building Detail'!$B91,'Unit Detail'!$Y$8:$Y$400,1)","v":0},{"$f":"SUMIFS('Unit Detail'!$H$8:$H$400,'Unit Detail'!$D$8:$D$400,'Building Detail'!$B91,'Unit Detail'!$Y$8:$Y$400,3)","v":0},{"$f":"SUMIFS('Unit Detail'!$H$8:$H$400,'Unit Detail'!$D$8:$D$400,'Building Detail'!$B91,'Unit Detail'!$Y$8:$Y$400,2)","v":0},{"$f":"SUMIF('Unit Detail'!$D$8:$D$400,$B91,'Unit Detail'!$H$8:$H$400)","v":0},0,"",{"$f":"COUNTIFS('Unit Detail'!$Y$8:$Y$400,\"1\",'Unit Detail'!$D$8:$D$400,'Building Detail'!$B91)","v":0},{"$f":"COUNTIFS('Unit Detail'!$Y$8:$Y$400,\"3\",'Unit Detail'!$D$8:$D$400,'Building Detail'!$B91)","v":0},{"$f":"COUNTIFS('Unit Detail'!$Y$8:$Y$400,\"2\",'Unit Detail'!$D$8:$D$400,'Building Detail'!$B91)","v":0},0,"",""]
[null,null,null,null,null,null,null,null,null,null,null,null,null,null,{"$f":"SUMIFS('Unit Detail'!$H$8:$H$400,'Unit Detail'!$D$8:$D$400,'Building Detail'!$B92,'Unit Detail'!$Y$8:$Y$400,1)","v":0},{"$f":"SUMIFS('Unit Detail'!$H$8:$H$400,'Unit Detail'!$D$8:$D$400,'Building Detail'!$B92,'Unit Detail'!$Y$8:$Y$400,3)","v":0},{"$f":"SUMIFS('Unit Detail'!$H$8:$H$400,'Unit Detail'!$D$8:$D$400,'Building Detail'!$B92,'Unit Detail'!$Y$8:$Y$400,2)","v":0},{"$f":"SUMIF('Unit Detail'!$D$8:$D$400,$B92,'Unit Detail'!$H$8:$H$400)","v":0},0,"",{"$f":"COUNTIFS('Unit Detail'!$Y$8:$Y$400,\"1\",'Unit Detail'!$D$8:$D$400,'Building Detail'!$B92)","v":0},{"$f":"COUNTIFS('Unit Detail'!$Y$8:$Y$400,\"3\",'Unit Detail'!$D$8:$D$400,'Building Detail'!$B92)","v":0},{"$f":"COUNTIFS('Unit Detail'!$Y$8:$Y$400,\"2\",'Unit Detail'!$D$8:$D$400,'Building Detail'!$B92)","v":0},0,"",""]
[null,null,null,null,null,null,null,null,null,null,null,null,null,null,{"$f":"SUMIFS('Unit Detail'!$H$8:$H$400,'Unit Detail'!$D$8:$D$400,'Building Detail'!$B93,'Unit Detail'!$Y$8:$Y$400,1)","v":0},{"$f":"SUMIFS('Unit Detail'!$H$8:$H$400,'Unit Detail'!$D$8:$D$400,'Building Detail'!$B93,'Unit Detail'!$Y$8:$Y$400,3)","v":0},{"$f":"SUMIFS('Unit Detail'!$H$8:$H$400,'Unit Detail'!$D$8:$D$400,'Building Detail'!$B93,'Unit Detail'!$Y$8:$Y$400,2)","v":0},{"$f":"SUMIF('Unit Detail'!$D$8:$D$400,$B93,'Unit Detail'!$H$8:$H$400)","v":0},0,"",{"$f":"COUNTIFS('Unit Detail'!$Y$8:$Y$400,\"1\",'Unit Detail'!$D$8:$D$400,'Building Detail'!$B93)","v":0},{"$f":"COUNTIFS('Unit Detail'!$Y$8:$Y$400,\"3\",'Unit Detail'!$D$8:$D$400,'Building Detail'!$B93)","v":0},{"$f":"COUNTIFS('Unit Detail'!$Y$8:$Y$400,\"2\",'Unit Detail'!$D$8:$D$400,'Building Detail'!$B93)","v":0},0,"",""]
[null,null,null,null,null,null,null,null,null,null,null,null,null,null,{"$f":"SUMIFS('Unit Detail'!$H$8:$H$400,'Unit Detail'!$D$8:$D$400,'Building Detail'!$B94,'Unit Detail'!$Y$8:$Y$400,1)","v":0},{"$f":"SUMIFS('Unit Detail'!$H$8:$H$400,'Unit Detail'!$D$8:$D$400,'Building Detail'!$B94,'Unit Detail'!$Y$8:$Y$400,3)","v":0},{"$f":"SUMIFS('Unit Detail'!$H$8:$H$400,'Unit Detail'!$D$8:$D$400,'Building Detail'!$B94,'Unit Detail'!$Y$8:$Y$400,2)","v":0},{"$f":"SUMIF('Unit Detail'!$D$8:$D$400,$B94,'Unit Detail'!$H$8:$H$400)","v":0},0,"",{"$f":"COUNTIFS('Unit Detail'!$Y$8:$Y$400,\"1\",'Unit Detail'!$D$8:$D$400,'Building Detail'!$B94)","v":0},{"$f":"COUNTIFS('Unit Detail'!$Y$8:$Y$400,\"3\",'Unit Detail'!$D$8:$D$400,'Building Detail'!$B94)","v":0},{"$f":"COUNTIFS('Unit Detail'!$Y$8:$Y$400,\"2\",'Unit Detail'!$D$8:$D$400,'Building Detail'!$B94)","v":0},0,"",""]
[null,null,null,null,null,null,null,null,null,null,null,null,null,null,{"$f":"SUMIFS('Unit Detail'!$H$8:$H$400,'Unit Detail'!$D$8:$D$400,'Building Detail'!$B95,'Unit Detail'!$Y$8:$Y$400,1)","v":0},{"$f":"SUMIFS('Unit Detail'!$H$8:$H$400,'Unit Detail'!$D$8:$D$400,'Building Detail'!$B95,'Unit Detail'!$Y$8:$Y$400,3)","v":0},{"$f":"SUMIFS('Unit Detail'!$H$8:$H$400,'Unit Detail'!$D$8:$D$400,'Building Detail'!$B95,'Unit Detail'!$Y$8:$Y$400,2)","v":0},{"$f":"SUMIF('Unit Detail'!$D$8:$D$400,$B95,'Unit Detail'!$H$8:$H$400)","v":0},0,"",{"$f":"COUNTIFS('Unit Detail'!$Y$8:$Y$400,\"1\",'Unit Detail'!$D$8:$D$400,'Building Detail'!$B95)","v":0},{"$f":"COUNTIFS('Unit Detail'!$Y$8:$Y$400,\"3\",'Unit Detail'!$D$8:$D$400,'Building Detail'!$B95)","v":0},{"$f":"COUNTIFS('Unit Detail'!$Y$8:$Y$400,\"2\",'Unit Detail'!$D$8:$D$400,'Building Detail'!$B95)","v":0},0,"",""]
[null,null,null,null,null,null,null,null,null,null,null,null,null,null,{"$f":"SUMIFS('Unit Detail'!$H$8:$H$400,'Unit Detail'!$D$8:$D$400,'Building Detail'!$B96,'Unit Detail'!$Y$8:$Y$400,1)","v":0},{"$f":"SUMIFS('Unit Detail'!$H$8:$H$400,'Unit Detail'!$D$8:$D$400,'Building Detail'!$B96,'Unit Detail'!$Y$8:$Y$400,3)","v":0},{"$f":"SUMIFS('Unit Detail'!$H$8:$H$400,'Unit Detail'!$D$8:$D$400,'Building Detail'!$B96,'Unit Detail'!$Y$8:$Y$400,2)","v":0},{"$f":"SUMIF('Unit Detail'!$D$8:$D$400,$B96,'Unit Detail'!$H$8:$H$400)","v":0},0,"",{"$f":"COUNTIFS('Unit Detail'!$Y$8:$Y$400,\"1\",'Unit Detail'!$D$8:$D$400,'Building Detail'!$B96)","v":0},{"$f":"COUNTIFS('Unit Detail'!$Y$8:$Y$400,\"3\",'Unit Detail'!$D$8:$D$400,'Building Detail'!$B96)","v":0},{"$f":"COUNTIFS('Unit Detail'!$Y$8:$Y$400,\"2\",'Unit Detail'!$D$8:$D$400,'Building Detail'!$B96)","v":0},0,"",""]
[null,null,null,null,null,null,null,null,null,null,null,null,null,null,{"$f":"SUMIFS('Unit Detail'!$H$8:$H$400,'Unit Detail'!$D$8:$D$400,'Building Detail'!$B97,'Unit Detail'!$Y$8:$Y$400,1)","v":0},{"$f":"SUMIFS('Unit Detail'!$H$8:$H$400,'Unit Detail'!$D$8:$D$400,'Building Detail'!$B97,'Unit Detail'!$Y$8:$Y$400,3)","v":0},{"$f":"SUMIFS('Unit Detail'!$H$8:$H$400,'Unit Detail'!$D$8:$D$400,'Building Detail'!$B97,'Unit Detail'!$Y$8:$Y$400,2)","v":0},{"$f":"SUMIF('Unit Detail'!$D$8:$D$400,$B97,'Unit Detail'!$H$8:$H$400)","v":0},0,"",{"$f":"COUNTIFS('Unit Detail'!$Y$8:$Y$400,\"1\",'Unit Detail'!$D$8:$D$400,'Building Detail'!$B97)","v":0},{"$f":"COUNTIFS('Unit Detail'!$Y$8:$Y$400,\"3\",'Unit Detail'!$D$8:$D$400,'Building Detail'!$B97)","v":0},{"$f":"COUNTIFS('Unit Detail'!$Y$8:$Y$400,\"2\",'Unit Detail'!$D$8:$D$400,'Building Detail'!$B97)","v":0},0,"",""]
[null,null,null,null,null,null,null,null,null,null,null,null,null,null,{"$f":"SUMIFS('Unit Detail'!$H$8:$H$400,'Unit Detail'!$D$8:$D$400,'Building Detail'!$B98,'Unit Detail'!$Y$8:$Y$400,1)","v":0},{"$f":"SUMIFS('Unit Detail'!$H$8:$H$400,'Unit Detail'!$D$8:$D$400,'Building Detail'!$B98,'Unit Detail'!$Y$8:$Y$400,3)","v":0},{"$f":"SUMIFS('Unit Detail'!$H$8:$H$400,'Unit Detail'!$D$8:$D$400,'Building Detail'!$B98,'Unit Detail'!$Y$8:$Y$400,2)","v":0},{"$f":"SUMIF('Unit Detail'!$D$8:$D$400,$B98,'Unit Detail'!$H$8:$H$400)","v":0},{"$f":"SUM(M98,N98,R98)","v":0},"",{"$f":"COUNTIFS('Unit Detail'!$Y$8:$Y$400,\"1\",'Unit Detail'!$D$8:$D$400,'Building Detail'!$B98)","v":0},{"$f":"COUNTIFS('Unit Detail'!$Y$8:$Y$400,\"3\",'Unit Detail'!$D$8:$D$400,'Building Detail'!$B98)","v":0},{"$f":"COUNTIFS('Unit Detail'!$Y$8:$Y$400,\"2\",'Unit Detail'!$D$8:$D$400,'Building Detail'!$B98)","v":0},{"$f":"SUM(U98:W98)","v":0},"",""]
[null,null,null,null,null,null,null,null,null,null,null,null,null,null,{"$f":"SUMIFS('Unit Detail'!$H$8:$H$400,'Unit Detail'!$D$8:$D$400,'Building Detail'!$B99,'Unit Detail'!$Y$8:$Y$400,1)","v":0},{"$f":"SUMIFS('Unit Detail'!$H$8:$H$400,'Unit Detail'!$D$8:$D$400,'Building Detail'!$B99,'Unit Detail'!$Y$8:$Y$400,3)","v":0},{"$f":"SUMIFS('Unit Detail'!$H$8:$H$400,'Unit Detail'!$D$8:$D$400,'Building Detail'!$B99,'Unit Detail'!$Y$8:$Y$400,2)","v":0},{"$f":"SUMIF('Unit Detail'!$D$8:$D$400,$B99,'Unit Detail'!$H$8:$H$400)","v":0},0,"",{"$f":"COUNTIFS('Unit Detail'!$Y$8:$Y$400,\"1\",'Unit Detail'!$D$8:$D$400,'Building Detail'!$B99)","v":0},{"$f":"COUNTIFS('Unit Detail'!$Y$8:$Y$400,\"3\",'Unit Detail'!$D$8:$D$400,'Building Detail'!$B99)","v":0},{"$f":"COUNTIFS('Unit Detail'!$Y$8:$Y$400,\"2\",'Unit Detail'!$D$8:$D$400,'Building Detail'!$B99)","v":0},0,"",""]
[null,null,null,null,null,null,null,null,null,null,null,null,null,null,{"$f":"SUMIFS('Unit Detail'!$H$8:$H$400,'Unit Detail'!$D$8:$D$400,'Building Detail'!$B100,'Unit Detail'!$Y$8:$Y$400,1)","v":0},{"$f":"SUMIFS('Unit Detail'!$H$8:$H$400,'Unit Detail'!$D$8:$D$400,'Building Detail'!$B100,'Unit Detail'!$Y$8:$Y$400,3)","v":0},{"$f":"SUMIFS('Unit Detail'!$H$8:$H$400,'Unit Detail'!$D$8:$D$400,'Building Detail'!$B100,'Unit Detail'!$Y$8:$Y$400,2)","v":0},{"$f":"SUMIF('Unit Detail'!$D$8:$D$400,$B100,'Unit Detail'!$H$8:$H$400)","v":0},0,"",{"$f":"COUNTIFS('Unit Detail'!$Y$8:$Y$400,\"1\",'Unit Detail'!$D$8:$D$400,'Building Detail'!$B100)","v":0},{"$f":"COUNTIFS('Unit Detail'!$Y$8:$Y$400,\"3\",'Unit Detail'!$D$8:$D$400,'Building Detail'!$B100)","v":0},{"$f":"COUNTIFS('Unit Detail'!$Y$8:$Y$400,\"2\",'Unit Detail'!$D$8:$D$400,'Building Detail'!$B100)","v":0},0,"",""]
[null,null,null,null,null,null,null,null,null,null,null,null,null,null,{"$f":"SUMIFS('Unit Detail'!$H$8:$H$400,'Unit Detail'!$D$8:$D$400,'Building Detail'!$B101,'Unit Detail'!$Y$8:$Y$400,1)","v":0},{"$f":"SUMIFS('Unit Detail'!$H$8:$H$400,'Unit Detail'!$D$8:$D$400,'Building Detail'!$B101,'Unit Detail'!$Y$8:$Y$400,3)","v":0},{"$f":"SUMIFS('Unit Detail'!$H$8:$H$400,'Unit Detail'!$D$8:$D$400,'Building Detail'!$B101,'Unit Detail'!$Y$8:$Y$400,2)","v":0},{"$f":"SUMIF('Unit Detail'!$D$8:$D$400,$B101,'Unit Detail'!$H$8:$H$400)","v":0},0,"",{"$f":"COUNTIFS('Unit Detail'!$Y$8:$Y$400,\"1\",'Unit Detail'!$D$8:$D$400,'Building Detail'!$B101)","v":0},{"$f":"COUNTIFS('Unit Detail'!$Y$8:$Y$400,\"3\",'Unit Detail'!$D$8:$D$400,'Building Detail'!$B101)","v":0},{"$f":"COUNTIFS('Unit Detail'!$Y$8:$Y$400,\"2\",'Unit Detail'!$D$8:$D$400,'Building Detail'!$B101)","v":0},0,"",""]
[null,null,null,null,null,null,null,null,null,null,null,null,null,null,{"$f":"SUMIFS('Unit Detail'!$H$8:$H$400,'Unit Detail'!$D$8:$D$400,'Building Detail'!$B102,'Unit Detail'!$Y$8:$Y$400,1)","v":0},{"$f":"SUMIFS('Unit Detail'!$H$8:$H$400,'Unit Detail'!$D$8:$D$400,'Building Detail'!$B102,'Unit Detail'!$Y$8:$Y$400,3)","v":0},{"$f":"SUMIFS('Unit Detail'!$H$8:$H$400,'Unit Detail'!$D$8:$D$400,'Building Detail'!$B102,'Unit Detail'!$Y$8:$Y$400,2)","v":0},{"$f":"SUMIF('Unit Detail'!$D$8:$D$400,$B102,'Unit Detail'!$H$8:$H$400)","v":0},0,"",{"$f":"COUNTIFS('Unit Detail'!$Y$8:$Y$400,\"1\",'Unit Detail'!$D$8:$D$400,'Building Detail'!$B102)","v":0},{"$f":"COUNTIFS('Unit Detail'!$Y$8:$Y$400,\"3\",'Unit Detail'!$D$8:$D$400,'Building Detail'!$B102)","v":0},{"$f":"COUNTIFS('Unit Detail'!$Y$8:$Y$400,\"2\",'Unit Detail'!$D$8:$D$400,'Building Detail'!$B102)","v":0},0,"",""]
[null,null,null,null,null,null,null,null,null,null,null,null,null,null,{"$f":"SUMIFS('Unit Detail'!$H$8:$H$400,'Unit Detail'!$D$8:$D$400,'Building Detail'!$B103,'Unit Detail'!$Y$8:$Y$400,1)","v":0},{"$f":"SUMIFS('Unit Detail'!$H$8:$H$400,'Unit Detail'!$D$8:$D$400,'Building Detail'!$B103,'Unit Detail'!$Y$8:$Y$400,3)","v":0},{"$f":"SUMIFS('Unit Detail'!$H$8:$H$400,'Unit Detail'!$D$8:$D$400,'Building Detail'!$B103,'Unit Detail'!$Y$8:$Y$400,2)","v":0},{"$f":"SUMIF('Unit Detail'!$D$8:$D$400,$B103,'Unit Detail'!$H$8:$H$400)","v":0},0,"",{"$f":"COUNTIFS('Unit Detail'!$Y$8:$Y$400,\"1\",'Unit Detail'!$D$8:$D$400,'Building Detail'!$B103)","v":0},{"$f":"COUNTIFS('Unit Detail'!$Y$8:$Y$400,\"3\",'Unit Detail'!$D$8:$D$400,'Building Detail'!$B103)","v":0},{"$f":"COUNTIFS('Unit Detail'!$Y$8:$Y$400,\"2\",'Unit Detail'!$D$8:$D$400,'Building Detail'!$B103)","v":0},0,"",""]
[null,null,null,null,null,null,null,null,null,null,null,null,null,null,{"$f":"SUMIFS('Unit Detail'!$H$8:$H$400,'Unit Detail'!$D$8:$D$400,'Building Detail'!$B104,'Unit Detail'!$Y$8:$Y$400,1)","v":0},{"$f":"SUMIFS('Unit Detail'!$H$8:$H$400,'Unit Detail'!$D$8:$D$400,'Building Detail'!$B104,'Unit Detail'!$Y$8:$Y$400,3)","v":0},{"$f":"SUMIFS('Unit Detail'!$H$8:$H$400,'Unit Detail'!$D$8:$D$400,'Building Detail'!$B104,'Unit Detail'!$Y$8:$Y$400,2)","v":0},{"$f":"SUMIF('Unit Detail'!$D$8:$D$400,$B104,'Unit Detail'!$H$8:$H$400)","v":0},0,"",{"$f":"COUNTIFS('Unit Detail'!$Y$8:$Y$400,\"1\",'Unit Detail'!$D$8:$D$400,'Building Detail'!$B104)","v":0},{"$f":"COUNTIFS('Unit Detail'!$Y$8:$Y$400,\"3\",'Unit Detail'!$D$8:$D$400,'Building Detail'!$B104)","v":0},{"$f":"COUNTIFS('Unit Detail'!$Y$8:$Y$400,\"2\",'Unit Detail'!$D$8:$D$400,'Building Detail'!$B104)","v":0},0,"",""]
[null,null,null,null,null,null,null,null,null,null,null,null,null,null,{"$f":"SUMIFS('Unit Detail'!$H$8:$H$400,'Unit Detail'!$D$8:$D$400,'Building Detail'!$B105,'Unit Detail'!$Y$8:$Y$400,1)","v":0},{"$f":"SUMIFS('Unit Detail'!$H$8:$H$400,'Unit Detail'!$D$8:$D$400,'Building Detail'!$B105,'Unit Detail'!$Y$8:$Y$400,3)","v":0},{"$f":"SUMIFS('Unit Detail'!$H$8:$H$400,'Unit Detail'!$D$8:$D$400,'Building Detail'!$B105,'Unit Detail'!$Y$8:$Y$400,2)","v":0},{"$f":"SUMIF('Unit Detail'!$D$8:$D$400,$B105,'Unit Detail'!$H$8:$H$400)","v":0},0,"",{"$f":"COUNTIFS('Unit Detail'!$Y$8:$Y$400,\"1\",'Unit Detail'!$D$8:$D$400,'Building Detail'!$B105)","v":0},{"$f":"COUNTIFS('Unit Detail'!$Y$8:$Y$400,\"3\",'Unit Detail'!$D$8:$D$400,'Building Detail'!$B105)","v":0},{"$f":"COUNTIFS('Unit Detail'!$Y$8:$Y$400,\"2\",'Unit Detail'!$D$8:$D$400,'Building Detail'!$B105)","v":0},0,"",""]
[null,null,null,null,null,null,null,null,null,null,null,null,null,null,{"$f":"SUMIFS('Unit Detail'!$H$8:$H$400,'Unit Detail'!$D$8:$D$400,'Building Detail'!$B106,'Unit Detail'!$Y$8:$Y$400,1)","v":0},{"$f":"SUMIFS('Unit Detail'!$H$8:$H$400,'Unit Detail'!$D$8:$D$400,'Building Detail'!$B106,'Unit Detail'!$Y$8:$Y$400,3)","v":0},{"$f":"SUMIFS('Unit Detail'!$H$8:$H$400,'Unit Detail'!$D$8:$D$400,'Building Detail'!$B106,'Unit Detail'!$Y$8:$Y$400,2)","v":0},{"$f":"SUMIF('Unit Detail'!$D$8:$D$400,$B106,'Unit Detail'!$H$8:$H$400)","v":0},0,"",{"$f":"COUNTIFS('Unit Detail'!$Y$8:$Y$400,\"1\",'Unit Detail'!$D$8:$D$400,'Building Detail'!$B106)","v":0},{"$f":"COUNTIFS('Unit Detail'!$Y$8:$Y$400,\"3\",'Unit Detail'!$D$8:$D$400,'Building Detail'!$B106)","v":0},{"$f":"COUNTIFS('Unit Detail'!$Y$8:$Y$400,\"2\",'Unit Detail'!$D$8:$D$400,'Building Detail'!$B106)","v":0},0,"",""]
[null,null,null,null,null,null,null,null,null,null,null,null,null,null,{"$f":"SUMIFS('Unit Detail'!$H$8:$H$400,'Unit Detail'!$D$8:$D$400,'Building Detail'!$B107,'Unit Detail'!$Y$8:$Y$400,1)","v":0},{"$f":"SUMIFS('Unit Detail'!$H$8:$H$400,'Unit Detail'!$D$8:$D$400,'Building Detail'!$B107,'Unit Detail'!$Y$8:$Y$400,3)","v":0},{"$f":"SUMIFS('Unit Detail'!$H$8:$H$400,'Unit Detail'!$D$8:$D$400,'Building Detail'!$B107,'Unit Detail'!$Y$8:$Y$400,2)","v":0},{"$f":"SUMIF('Unit Detail'!$D$8:$D$400,$B107,'Unit Detail'!$H$8:$H$400)","v":0},0,"",{"$f":"COUNTIFS('Unit Detail'!$Y$8:$Y$400,\"1\",'Unit Detail'!$D$8:$D$400,'Building Detail'!$B107)","v":0},{"$f":"COUNTIFS('Unit Detail'!$Y$8:$Y$400,\"3\",'Unit Detail'!$D$8:$D$400,'Building Detail'!$B107)","v":0},{"$f":"COUNTIFS('Unit Detail'!$Y$8:$Y$400,\"2\",'Unit Detail'!$D$8:$D$400,'Building Detail'!$B107)","v":0},0,"",""]
[null,null,null,null,null,null,null,null,null,null,null,null,null,null,{"$f":"SUMIFS('Unit Detail'!$H$8:$H$400,'Unit Detail'!$D$8:$D$400,'Building Detail'!$B108,'Unit Detail'!$Y$8:$Y$400,1)","v":0},{"$f":"SUMIFS('Unit Detail'!$H$8:$H$400,'Unit Detail'!$D$8:$D$400,'Building Detail'!$B108,'Unit Detail'!$Y$8:$Y$400,3)","v":0},{"$f":"SUMIFS('Unit Detail'!$H$8:$H$400,'Unit Detail'!$D$8:$D$400,'Building Detail'!$B108,'Unit Detail'!$Y$8:$Y$400,2)","v":0},{"$f":"SUMIF('Unit Detail'!$D$8:$D$400,$B108,'Unit Detail'!$H$8:$H$400)","v":0},0,"",{"$f":"COUNTIFS('Unit Detail'!$Y$8:$Y$400,\"1\",'Unit Detail'!$D$8:$D$400,'Building Detail'!$B108)","v":0},{"$f":"COUNTIFS('Unit Detail'!$Y$8:$Y$400,\"3\",'Unit Detail'!$D$8:$D$400,'Building Detail'!$B108)","v":0},{"$f":"COUNTIFS('Unit Detail'!$Y$8:$Y$400,\"2\",'Unit Detail'!$D$8:$D$400,'Building Detail'!$B108)","v":0},0,"",""]
[null,null,null,null,null,null,null,null,null,null,null,null,null,null,{"$f":"SUMIFS('Unit Detail'!$H$8:$H$400,'Unit Detail'!$D$8:$D$400,'Building Detail'!$B109,'Unit Detail'!$Y$8:$Y$400,1)","v":0},{"$f":"SUMIFS('Unit Detail'!$H$8:$H$400,'Unit Detail'!$D$8:$D$400,'Building Detail'!$B109,'Unit Detail'!$Y$8:$Y$400,3)","v":0},{"$f":"SUMIFS('Unit Detail'!$H$8:$H$400,'Unit Detail'!$D$8:$D$400,'Building Detail'!$B109,'Unit Detail'!$Y$8:$Y$400,2)","v":0},{"$f":"SUMIF('Unit Detail'!$D$8:$D$400,$B109,'Unit Detail'!$H$8:$H$400)","v":0},0,"",{"$f":"COUNTIFS('Unit Detail'!$Y$8:$Y$400,\"1\",'Unit Detail'!$D$8:$D$400,'Building Detail'!$B109)","v":0},{"$f":"COUNTIFS('Unit Detail'!$Y$8:$Y$400,\"3\",'Unit Detail'!$D$8:$D$400,'Building Detail'!$B109)","v":0},{"$f":"COUNTIFS('Unit Detail'!$Y$8:$Y$400,\"2\",'Unit Detail'!$D$8:$D$400,'Building Detail'!$B109)","v":0},0,"",""]
[null,null,null,null,null,null,null,null,null,null,null,null,null,null,{"$f":"SUMIFS('Unit Detail'!$H$8:$H$400,'Unit Detail'!$D$8:$D$400,'Building Detail'!$B110,'Unit Detail'!$Y$8:$Y$400,1)","v":0},{"$f":"SUMIFS('Unit Detail'!$H$8:$H$400,'Unit Detail'!$D$8:$D$400,'Building Detail'!$B110,'Unit Detail'!$Y$8:$Y$400,3)","v":0},{"$f":"SUMIFS('Unit Detail'!$H$8:$H$400,'Unit Detail'!$D$8:$D$400,'Building Detail'!$B110,'Unit Detail'!$Y$8:$Y$400,2)","v":0},{"$f":"SUMIF('Unit Detail'!$D$8:$D$400,$B110,'Unit Detail'!$H$8:$H$400)","v":0},0,"",{"$f":"COUNTIFS('Unit Detail'!$Y$8:$Y$400,\"1\",'Unit Detail'!$D$8:$D$400,'Building Detail'!$B110)","v":0},{"$f":"COUNTIFS('Unit Detail'!$Y$8:$Y$400,\"3\",'Unit Detail'!$D$8:$D$400,'Building Detail'!$B110)","v":0},{"$f":"COUNTIFS('Unit Detail'!$Y$8:$Y$400,\"2\",'Unit Detail'!$D$8:$D$400,'Building Detail'!$B110)","v":0},0,"",""]
[null,null,null,null,null,null,null,null,null,null,null,null,null,null,{"$f":"SUMIFS('Unit Detail'!$H$8:$H$400,'Unit Detail'!$D$8:$D$400,'Building Detail'!$B111,'Unit Detail'!$Y$8:$Y$400,1)","v":0},{"$f":"SUMIFS('Unit Detail'!$H$8:$H$400,'Unit Detail'!$D$8:$D$400,'Building Detail'!$B111,'Unit Detail'!$Y$8:$Y$400,3)","v":0},{"$f":"SUMIFS('Unit Detail'!$H$8:$H$400,'Unit Detail'!$D$8:$D$400,'Building Detail'!$B111,'Unit Detail'!$Y$8:$Y$400,2)","v":0},{"$f":"SUMIF('Unit Detail'!$D$8:$D$400,$B111,'Unit Detail'!$H$8:$H$400)","v":0},0,"",{"$f":"COUNTIFS('Unit Detail'!$Y$8:$Y$400,\"1\",'Unit Detail'!$D$8:$D$400,'Building Detail'!$B111)","v":0},{"$f":"COUNTIFS('Unit Detail'!$Y$8:$Y$400,\"3\",'Unit Detail'!$D$8:$D$400,'Building Detail'!$B111)","v":0},{"$f":"COUNTIFS('Unit Detail'!$Y$8:$Y$400,\"2\",'Unit Detail'!$D$8:$D$400,'Building Detail'!$B111)","v":0},0,"",""]
[null,null,null,null,null,null,null,null,null,null,null,null,null,null,{"$f":"SUMIFS('Unit Detail'!$H$8:$H$400,'Unit Detail'!$D$8:$D$400,'Building Detail'!$B112,'Unit Detail'!$Y$8:$Y$400,1)","v":0},{"$f":"SUMIFS('Unit Detail'!$H$8:$H$400,'Unit Detail'!$D$8:$D$400,'Building Detail'!$B112,'Unit Detail'!$Y$8:$Y$400,3)","v":0},{"$f":"SUMIFS('Unit Detail'!$H$8:$H$400,'Unit Detail'!$D$8:$D$400,'Building Detail'!$B112,'Unit Detail'!$Y$8:$Y$400,2)","v":0},{"$f":"SUMIF('Unit Detail'!$D$8:$D$400,$B112,'Unit Detail'!$H$8:$H$400)","v":0},0,"",{"$f":"COUNTIFS('Unit Detail'!$Y$8:$Y$400,\"1\",'Unit Detail'!$D$8:$D$400,'Building Detail'!$B112)","v":0},{"$f":"COUNTIFS('Unit Detail'!$Y$8:$Y$400,\"3\",'Unit Detail'!$D$8:$D$400,'Building Detail'!$B112)","v":0},{"$f":"COUNTIFS('Unit Detail'!$Y$8:$Y$400,\"2\",'Unit Detail'!$D$8:$D$400,'Building Detail'!$B112)","v":0},0,"",""]
[null,null,null,null,null,null,null,null,null,null,null,null,null,null,{"$f":"SUMIFS('Unit Detail'!$H$8:$H$400,'Unit Detail'!$D$8:$D$400,'Building Detail'!$B113,'Unit Detail'!$Y$8:$Y$400,1)","v":0},{"$f":"SUMIFS('Unit Detail'!$H$8:$H$400,'Unit Detail'!$D$8:$D$400,'Building Detail'!$B113,'Unit Detail'!$Y$8:$Y$400,3)","v":0},{"$f":"SUMIFS('Unit Detail'!$H$8:$H$400,'Unit Detail'!$D$8:$D$400,'Building Detail'!$B113,'Unit Detail'!$Y$8:$Y$400,2)","v":0},{"$f":"SUMIF('Unit Detail'!$D$8:$D$400,$B113,'Unit Detail'!$H$8:$H$400)","v":0},0,"",{"$f":"COUNTIFS('Unit Detail'!$Y$8:$Y$400,\"1\",'Unit Detail'!$D$8:$D$400,'Building Detail'!$B113)","v":0},{"$f":"COUNTIFS('Unit Detail'!$Y$8:$Y$400,\"3\",'Unit Detail'!$D$8:$D$400,'Building Detail'!$B113)","v":0},{"$f":"COUNTIFS('Unit Detail'!$Y$8:$Y$400,\"2\",'Unit Detail'!$D$8:$D$400,'Building Detail'!$B113)","v":0},0,"",""]
[null,null,null,null,null,null,null,null,null,null,null,null,null,null,{"$f":"SUMIFS('Unit Detail'!$H$8:$H$400,'Unit Detail'!$D$8:$D$400,'Building Detail'!$B114,'Unit Detail'!$Y$8:$Y$400,1)","v":0},{"$f":"SUMIFS('Unit Detail'!$H$8:$H$400,'Unit Detail'!$D$8:$D$400,'Building Detail'!$B114,'Unit Detail'!$Y$8:$Y$400,3)","v":0},{"$f":"SUMIFS('Unit Detail'!$H$8:$H$400,'Unit Detail'!$D$8:$D$400,'Building Detail'!$B114,'Unit Detail'!$Y$8:$Y$400,2)","v":0},{"$f":"SUMIF('Unit Detail'!$D$8:$D$400,$B114,'Unit Detail'!$H$8:$H$400)","v":0},0,"",{"$f":"COUNTIFS('Unit Detail'!$Y$8:$Y$400,\"1\",'Unit Detail'!$D$8:$D$400,'Building Detail'!$B114)","v":0},{"$f":"COUNTIFS('Unit Detail'!$Y$8:$Y$400,\"3\",'Unit Detail'!$D$8:$D$400,'Building Detail'!$B114)","v":0},{"$f":"COUNTIFS('Unit Detail'!$Y$8:$Y$400,\"2\",'Unit Detail'!$D$8:$D$400,'Building Detail'!$B114)","v":0},0,"",""]
[null,null,null,null,null,null,null,null,null,null,null,null,null,null,{"$f":"SUMIFS('Unit Detail'!$H$8:$H$400,'Unit Detail'!$D$8:$D$400,'Building Detail'!$B115,'Unit Detail'!$Y$8:$Y$400,1)","v":0},{"$f":"SUMIFS('Unit Detail'!$H$8:$H$400,'Unit Detail'!$D$8:$D$400,'Building Detail'!$B115,'Unit Detail'!$Y$8:$Y$400,3)","v":0},{"$f":"SUMIFS('Unit Detail'!$H$8:$H$400,'Unit Detail'!$D$8:$D$400,'Building Detail'!$B115,'Unit Detail'!$Y$8:$Y$400,2)","v":0},{"$f":"SUMIF('Unit Detail'!$D$8:$D$400,$B115,'Unit Detail'!$H$8:$H$400)","v":0},0,"",{"$f":"COUNTIFS('Unit Detail'!$Y$8:$Y$400,\"1\",'Unit Detail'!$D$8:$D$400,'Building Detail'!$B115)","v":0},{"$f":"COUNTIFS('Unit Detail'!$Y$8:$Y$400,\"3\",'Unit Detail'!$D$8:$D$400,'Building Detail'!$B115)","v":0},{"$f":"COUNTIFS('Unit Detail'!$Y$8:$Y$400,\"2\",'Unit Detail'!$D$8:$D$400,'Building Detail'!$B115)","v":0},0,"",""]
[null,null,null,null,null,null,null,null,null,null,null,null,null,null,{"$f":"SUMIFS('Unit Detail'!$H$8:$H$400,'Unit Detail'!$D$8:$D$400,'Building Detail'!$B116,'Unit Detail'!$Y$8:$Y$400,1)","v":0},{"$f":"SUMIFS('Unit Detail'!$H$8:$H$400,'Unit Detail'!$D$8:$D$400,'Building Detail'!$B116,'Unit Detail'!$Y$8:$Y$400,3)","v":0},{"$f":"SUMIFS('Unit Detail'!$H$8:$H$400,'Unit Detail'!$D$8:$D$400,'Building Detail'!$B116,'Unit Detail'!$Y$8:$Y$400,2)","v":0},{"$f":"SUMIF('Unit Detail'!$D$8:$D$400,$B116,'Unit Detail'!$H$8:$H$400)","v":0},0,"",{"$f":"COUNTIFS('Unit Detail'!$Y$8:$Y$400,\"1\",'Unit Detail'!$D$8:$D$400,'Building Detail'!$B116)","v":0},{"$f":"COUNTIFS('Unit Detail'!$Y$8:$Y$400,\"3\",'Unit Detail'!$D$8:$D$400,'Building Detail'!$B116)","v":0},{"$f":"COUNTIFS('Unit Detail'!$Y$8:$Y$400,\"2\",'Unit Detail'!$D$8:$D$400,'Building Detail'!$B116)","v":0},0,"",""]
[null,null,null,null,null,null,null,null,null,null,null,null,null,null,{"$f":"SUMIFS('Unit Detail'!$H$8:$H$400,'Unit Detail'!$D$8:$D$400,'Building Detail'!$B117,'Unit Detail'!$Y$8:$Y$400,1)","v":0},{"$f":"SUMIFS('Unit Detail'!$H$8:$H$400,'Unit Detail'!$D$8:$D$400,'Building Detail'!$B117,'Unit Detail'!$Y$8:$Y$400,3)","v":0},{"$f":"SUMIFS('Unit Detail'!$H$8:$H$400,'Unit Detail'!$D$8:$D$400,'Building Detail'!$B117,'Unit Detail'!$Y$8:$Y$400,2)","v":0},{"$f":"SUMIF('Unit Detail'!$D$8:$D$400,$B117,'Unit Detail'!$H$8:$H$400)","v":0},0,"",{"$f":"COUNTIFS('Unit Detail'!$Y$8:$Y$400,\"1\",'Unit Detail'!$D$8:$D$400,'Building Detail'!$B117)","v":0},{"$f":"COUNTIFS('Unit Detail'!$Y$8:$Y$400,\"3\",'Unit Detail'!$D$8:$D$400,'Building Detail'!$B117)","v":0},{"$f":"COUNTIFS('Unit Detail'!$Y$8:$Y$400,\"2\",'Unit Detail'!$D$8:$D$400,'Building Detail'!$B117)","v":0},0,"",""]
[null,null,null,null,null,null,null,null,null,null,null,null,null,null,{"$f":"SUMIFS('Unit Detail'!$H$8:$H$400,'Unit Detail'!$D$8:$D$400,'Building Detail'!$B118,'Unit Detail'!$Y$8:$Y$400,1)","v":0},{"$f":"SUMIFS('Unit Detail'!$H$8:$H$400,'Unit Detail'!$D$8:$D$400,'Building Detail'!$B118,'Unit Detail'!$Y$8:$Y$400,3)","v":0},{"$f":"SUMIFS('Unit Detail'!$H$8:$H$400,'Unit Detail'!$D$8:$D$400,'Building Detail'!$B118,'Unit Detail'!$Y$8:$Y$400,2)","v":0},{"$f":"SUMIF('Unit Detail'!$D$8:$D$400,$B118,'Unit Detail'!$H$8:$H$400)","v":0},0,"",{"$f":"COUNTIFS('Unit Detail'!$Y$8:$Y$400,\"1\",'Unit Detail'!$D$8:$D$400,'Building Detail'!$B118)","v":0},{"$f":"COUNTIFS('Unit Detail'!$Y$8:$Y$400,\"3\",'Unit Detail'!$D$8:$D$400,'Building Detail'!$B118)","v":0},{"$f":"COUNTIFS('Unit Detail'!$Y$8:$Y$400,\"2\",'Unit Detail'!$D$8:$D$400,'Building Detail'!$B118)","v":0},0,"",""]
[null,null,null,null,null,null,null,null,null,null,null,null,null,null,{"$f":"SUMIFS('Unit Detail'!$H$8:$H$400,'Unit Detail'!$D$8:$D$400,'Building Detail'!$B119,'Unit Detail'!$Y$8:$Y$400,1)","v":0},{"$f":"SUMIFS('Unit Detail'!$H$8:$H$400,'Unit Detail'!$D$8:$D$400,'Building Detail'!$B119,'Unit Detail'!$Y$8:$Y$400,3)","v":0},{"$f":"SUMIFS('Unit Detail'!$H$8:$H$400,'Unit Detail'!$D$8:$D$400,'Building Detail'!$B119,'Unit Detail'!$Y$8:$Y$400,2)","v":0},{"$f":"SUMIF('Unit Detail'!$D$8:$D$400,$B119,'Unit Detail'!$H$8:$H$400)","v":0},0,"",{"$f":"COUNTIFS('Unit Detail'!$Y$8:$Y$400,\"1\",'Unit Detail'!$D$8:$D$400,'Building Detail'!$B119)","v":0},{"$f":"COUNTIFS('Unit Detail'!$Y$8:$Y$400,\"3\",'Unit Detail'!$D$8:$D$400,'Building Detail'!$B119)","v":0},{"$f":"COUNTIFS('Unit Detail'!$Y$8:$Y$400,\"2\",'Unit Detail'!$D$8:$D$400,'Building Detail'!$B119)","v":0},0,"",""]
[null,null,null,null,null,null,null,null,null,null,null,null,null,null,{"$f":"SUMIFS('Unit Detail'!$H$8:$H$400,'Unit Detail'!$D$8:$D$400,'Building Detail'!$B120,'Unit Detail'!$Y$8:$Y$400,1)","v":0},{"$f":"SUMIFS('Unit Detail'!$H$8:$H$400,'Unit Detail'!$D$8:$D$400,'Building Detail'!$B120,'Unit Detail'!$Y$8:$Y$400,3)","v":0},{"$f":"SUMIFS('Unit Detail'!$H$8:$H$400,'Unit Detail'!$D$8:$D$400,'Building Detail'!$B120,'Unit Detail'!$Y$8:$Y$400,2)","v":0},{"$f":"SUMIF('Unit Detail'!$D$8:$D$400,$B120,'Unit Detail'!$H$8:$H$400)","v":0},0,"",{"$f":"COUNTIFS('Unit Detail'!$Y$8:$Y$400,\"1\",'Unit Detail'!$D$8:$D$400,'Building Detail'!$B120)","v":0},{"$f":"COUNTIFS('Unit Detail'!$Y$8:$Y$400,\"3\",'Unit Detail'!$D$8:$D$400,'Building Detail'!$B120)","v":0},{"$f":"COUNTIFS('Unit Detail'!$Y$8:$Y$400,\"2\",'Unit Detail'!$D$8:$D$400,'Building Detail'!$B120)","v":0},0,"",""]
[null,null,null,null,null,null,null,null,null,null,null,null,null,null,{"$f":"SUMIFS('Unit Detail'!$H$8:$H$400,'Unit Detail'!$D$8:$D$400,'Building Detail'!$B121,'Unit Detail'!$Y$8:$Y$400,1)","v":0},{"$f":"SUMIFS('Unit Detail'!$H$8:$H$400,'Unit Detail'!$D$8:$D$400,'Building Detail'!$B121,'Unit Detail'!$Y$8:$Y$400,3)","v":0},{"$f":"SUMIFS('Unit Detail'!$H$8:$H$400,'Unit Detail'!$D$8:$D$400,'Building Detail'!$B121,'Unit Detail'!$Y$8:$Y$400,2)","v":0},{"$f":"SUMIF('Unit Detail'!$D$8:$D$400,$B121,'Unit Detail'!$H$8:$H$400)","v":0},0,"",{"$f":"COUNTIFS('Unit Detail'!$Y$8:$Y$400,\"1\",'Unit Detail'!$D$8:$D$400,'Building Detail'!$B121)","v":0},{"$f":"COUNTIFS('Unit Detail'!$Y$8:$Y$400,\"3\",'Unit Detail'!$D$8:$D$400,'Building Detail'!$B121)","v":0},{"$f":"COUNTIFS('Unit Detail'!$Y$8:$Y$400,\"2\",'Unit Detail'!$D$8:$D$400,'Building Detail'!$B121)","v":0},0,"",""]
[null,null,null,null,null,null,null,null,null,null,null,null,null,null,{"$f":"SUMIFS('Unit Detail'!$H$8:$H$400,'Unit Detail'!$D$8:$D$400,'Building Detail'!$B122,'Unit Detail'!$Y$8:$Y$400,1)","v":0},{"$f":"SUMIFS('Unit Detail'!$H$8:$H$400,'Unit Detail'!$D$8:$D$400,'Building Detail'!$B122,'Unit Detail'!$Y$8:$Y$400,3)","v":0},{"$f":"SUMIFS('Unit Detail'!$H$8:$H$400,'Unit Detail'!$D$8:$D$400,'Building Detail'!$B122,'Unit Detail'!$Y$8:$Y$400,2)","v":0},{"$f":"SUMIF('Unit Detail'!$D$8:$D$400,$B122,'Unit Detail'!$H$8:$H$400)","v":0},0,"",{"$f":"COUNTIFS('Unit Detail'!$Y$8:$Y$400,\"1\",'Unit Detail'!$D$8:$D$400,'Building Detail'!$B122)","v":0},{"$f":"COUNTIFS('Unit Detail'!$Y$8:$Y$400,\"3\",'Unit Detail'!$D$8:$D$400,'Building Detail'!$B122)","v":0},{"$f":"COUNTIFS('Unit Detail'!$Y$8:$Y$400,\"2\",'Unit Detail'!$D$8:$D$400,'Building Detail'!$B122)","v":0},0,"",""]
[null,null,null,null,null,null,null,null,null,null,null,null,null,null,{"$f":"SUMIFS('Unit Detail'!$H$8:$H$400,'Unit Detail'!$D$8:$D$400,'Building Detail'!$B123,'Unit Detail'!$Y$8:$Y$400,1)","v":0},{"$f":"SUMIFS('Unit Detail'!$H$8:$H$400,'Unit Detail'!$D$8:$D$400,'Building Detail'!$B123,'Unit Detail'!$Y$8:$Y$400,3)","v":0},{"$f":"SUMIFS('Unit Detail'!$H$8:$H$400,'Unit Detail'!$D$8:$D$400,'Building Detail'!$B123,'Unit Detail'!$Y$8:$Y$400,2)","v":0},{"$f":"SUMIF('Unit Detail'!$D$8:$D$400,$B123,'Unit Detail'!$H$8:$H$400)","v":0},0,"",{"$f":"COUNTIFS('Unit Detail'!$Y$8:$Y$400,\"1\",'Unit Detail'!$D$8:$D$400,'Building Detail'!$B123)","v":0},{"$f":"COUNTIFS('Unit Detail'!$Y$8:$Y$400,\"3\",'Unit Detail'!$D$8:$D$400,'Building Detail'!$B123)","v":0},{"$f":"COUNTIFS('Unit Detail'!$Y$8:$Y$400,\"2\",'Unit Detail'!$D$8:$D$400,'Building Detail'!$B123)","v":0},0,"",""]
[null,null,null,null,null,null,null,null,null,null,null,null,null,null,{"$f":"SUMIFS('Unit Detail'!$H$8:$H$400,'Unit Detail'!$D$8:$D$400,'Building Detail'!$B124,'Unit Detail'!$Y$8:$Y$400,1)","v":0},{"$f":"SUMIFS('Unit Detail'!$H$8:$H$400,'Unit Detail'!$D$8:$D$400,'Building Detail'!$B124,'Unit Detail'!$Y$8:$Y$400,3)","v":0},{"$f":"SUMIFS('Unit Detail'!$H$8:$H$400,'Unit Detail'!$D$8:$D$400,'Building Detail'!$B124,'Unit Detail'!$Y$8:$Y$400,2)","v":0},{"$f":"SUMIF('Unit Detail'!$D$8:$D$400,$B124,'Unit Detail'!$H$8:$H$400)","v":0},0,"",{"$f":"COUNTIFS('Unit Detail'!$Y$8:$Y$400,\"1\",'Unit Detail'!$D$8:$D$400,'Building Detail'!$B124)","v":0},{"$f":"COUNTIFS('Unit Detail'!$Y$8:$Y$400,\"3\",'Unit Detail'!$D$8:$D$400,'Building Detail'!$B124)","v":0},{"$f":"COUNTIFS('Unit Detail'!$Y$8:$Y$400,\"2\",'Unit Detail'!$D$8:$D$400,'Building Detail'!$B124)","v":0},0,"",""]
[null,null,null,null,null,null,null,null,null,null,null,null,null,null,{"$f":"SUMIFS('Unit Detail'!$H$8:$H$400,'Unit Detail'!$D$8:$D$400,'Building Detail'!$B125,'Unit Detail'!$Y$8:$Y$400,1)","v":0},{"$f":"SUMIFS('Unit Detail'!$H$8:$H$400,'Unit Detail'!$D$8:$D$400,'Building Detail'!$B125,'Unit Detail'!$Y$8:$Y$400,3)","v":0},{"$f":"SUMIFS('Unit Detail'!$H$8:$H$400,'Unit Detail'!$D$8:$D$400,'Building Detail'!$B125,'Unit Detail'!$Y$8:$Y$400,2)","v":0},{"$f":"SUMIF('Unit Detail'!$D$8:$D$400,$B125,'Unit Detail'!$H$8:$H$400)","v":0},0,"",{"$f":"COUNTIFS('Unit Detail'!$Y$8:$Y$400,\"1\",'Unit Detail'!$D$8:$D$400,'Building Detail'!$B125)","v":0},{"$f":"COUNTIFS('Unit Detail'!$Y$8:$Y$400,\"3\",'Unit Detail'!$D$8:$D$400,'Building Detail'!$B125)","v":0},{"$f":"COUNTIFS('Unit Detail'!$Y$8:$Y$400,\"2\",'Unit Detail'!$D$8:$D$400,'Building Detail'!$B125)","v":0},0,"",""]
[null,null,null,null,null,null,null,null,null,null,null,null,null,null,{"$f":"SUMIFS('Unit Detail'!$H$8:$H$400,'Unit Detail'!$D$8:$D$400,'Building Detail'!$B126,'Unit Detail'!$Y$8:$Y$400,1)","v":0},{"$f":"SUMIFS('Unit Detail'!$H$8:$H$400,'Unit Detail'!$D$8:$D$400,'Building Detail'!$B126,'Unit Detail'!$Y$8:$Y$400,3)","v":0},{"$f":"SUMIFS('Unit Detail'!$H$8:$H$400,'Unit Detail'!$D$8:$D$400,'Building Detail'!$B126,'Unit Detail'!$Y$8:$Y$400,2)","v":0},{"$f":"SUMIF('Unit Detail'!$D$8:$D$400,$B126,'Unit Detail'!$H$8:$H$400)","v":0},0,"",{"$f":"COUNTIFS('Unit Detail'!$Y$8:$Y$400,\"1\",'Unit Detail'!$D$8:$D$400,'Building Detail'!$B126)","v":0},{"$f":"COUNTIFS('Unit Detail'!$Y$8:$Y$400,\"3\",'Unit Detail'!$D$8:$D$400,'Building Detail'!$B126)","v":0},{"$f":"COUNTIFS('Unit Detail'!$Y$8:$Y$400,\"2\",'Unit Detail'!$D$8:$D$400,'Building Detail'!$B126)","v":0},0,"",""]
[null,null,null,null,null,null,null,null,null,null,null,null,null,null,{"$f":"SUMIFS('Unit Detail'!$H$8:$H$400,'Unit Detail'!$D$8:$D$400,'Building Detail'!$B127,'Unit Detail'!$Y$8:$Y$400,1)","v":0},{"$f":"SUMIFS('Unit Detail'!$H$8:$H$400,'Unit Detail'!$D$8:$D$400,'Building Detail'!$B127,'Unit Detail'!$Y$8:$Y$400,3)","v":0},{"$f":"SUMIFS('Unit Detail'!$H$8:$H$400,'Unit Detail'!$D$8:$D$400,'Building Detail'!$B127,'Unit Detail'!$Y$8:$Y$400,2)","v":0},{"$f":"SUMIF('Unit Detail'!$D$8:$D$400,$B127,'Unit Detail'!$H$8:$H$400)","v":0},0,"",{"$f":"COUNTIFS('Unit Detail'!$Y$8:$Y$400,\"1\",'Unit Detail'!$D$8:$D$400,'Building Detail'!$B127)","v":0},{"$f":"COUNTIFS('Unit Detail'!$Y$8:$Y$400,\"3\",'Unit Detail'!$D$8:$D$400,'Building Detail'!$B127)","v":0},{"$f":"COUNTIFS('Unit Detail'!$Y$8:$Y$400,\"2\",'Unit Detail'!$D$8:$D$400,'Building Detail'!$B127)","v":0},0,"",""]
[null,null,null,null,null,null,null,null,null,null,null,null,null,null,{"$f":"SUMIFS('Unit Detail'!$H$8:$H$400,'Unit Detail'!$D$8:$D$400,'Building Detail'!$B128,'Unit Detail'!$Y$8:$Y$400,1)","v":0},{"$f":"SUMIFS('Unit Detail'!$H$8:$H$400,'Unit Detail'!$D$8:$D$400,'Building Detail'!$B128,'Unit Detail'!$Y$8:$Y$400,3)","v":0},{"$f":"SUMIFS('Unit Detail'!$H$8:$H$400,'Unit Detail'!$D$8:$D$400,'Building Detail'!$B128,'Unit Detail'!$Y$8:$Y$400,2)","v":0},{"$f":"SUMIF('Unit Detail'!$D$8:$D$400,$B128,'Unit Detail'!$H$8:$H$400)","v":0},0,"",{"$f":"COUNTIFS('Unit Detail'!$Y$8:$Y$400,\"1\",'Unit Detail'!$D$8:$D$400,'Building Detail'!$B128)","v":0},{"$f":"COUNTIFS('Unit Detail'!$Y$8:$Y$400,\"3\",'Unit Detail'!$D$8:$D$400,'Building Detail'!$B128)","v":0},{"$f":"COUNTIFS('Unit Detail'!$Y$8:$Y$400,\"2\",'Unit Detail'!$D$8:$D$400,'Building Detail'!$B128)","v":0},0,"",""]
[null,null,null,null,null,null,null,null,null,null,null,null,null,null,{"$f":"SUMIFS('Unit Detail'!$H$8:$H$400,'Unit Detail'!$D$8:$D$400,'Building Detail'!$B129,'Unit Detail'!$Y$8:$Y$400,1)","v":0},{"$f":"SUMIFS('Unit Detail'!$H$8:$H$400,'Unit Detail'!$D$8:$D$400,'Building Detail'!$B129,'Unit Detail'!$Y$8:$Y$400,3)","v":0},{"$f":"SUMIFS('Unit Detail'!$H$8:$H$400,'Unit Detail'!$D$8:$D$400,'Building Detail'!$B129,'Unit Detail'!$Y$8:$Y$400,2)","v":0},{"$f":"SUMIF('Unit Detail'!$D$8:$D$400,$B129,'Unit Detail'!$H$8:$H$400)","v":0},0,"",{"$f":"COUNTIFS('Unit Detail'!$Y$8:$Y$400,\"1\",'Unit Detail'!$D$8:$D$400,'Building Detail'!$B129)","v":0},{"$f":"COUNTIFS('Unit Detail'!$Y$8:$Y$400,\"3\",'Unit Detail'!$D$8:$D$400,'Building Detail'!$B129)","v":0},{"$f":"COUNTIFS('Unit Detail'!$Y$8:$Y$400,\"2\",'Unit Detail'!$D$8:$D$400,'Building Detail'!$B129)","v":0},0,"",""]
[null,null,null,null,null,null,null,null,null,null,null,null,null,null,{"$f":"SUMIFS('Unit Detail'!$H$8:$H$400,'Unit Detail'!$D$8:$D$400,'Building Detail'!$B130,'Unit Detail'!$Y$8:$Y$400,1)","v":0},{"$f":"SUMIFS('Unit Detail'!$H$8:$H$400,'Unit Detail'!$D$8:$D$400,'Building Detail'!$B130,'Unit Detail'!$Y$8:$Y$400,3)","v":0},{"$f":"SUMIFS('Unit Detail'!$H$8:$H$400,'Unit Detail'!$D$8:$D$400,'Building Detail'!$B130,'Unit Detail'!$Y$8:$Y$400,2)","v":0},{"$f":"SUMIF('Unit Detail'!$D$8:$D$400,$B130,'Unit Detail'!$H$8:$H$400)","v":0},0,"",{"$f":"COUNTIFS('Unit Detail'!$Y$8:$Y$400,\"1\",'Unit Detail'!$D$8:$D$400,'Building Detail'!$B130)","v":0},{"$f":"COUNTIFS('Unit Detail'!$Y$8:$Y$400,\"3\",'Unit Detail'!$D$8:$D$400,'Building Detail'!$B130)","v":0},{"$f":"COUNTIFS('Unit Detail'!$Y$8:$Y$400,\"2\",'Unit Detail'!$D$8:$D$400,'Building Detail'!$B130)","v":0},0,"",""]
[null,null,null,null,null,null,null,null,null,null,null,null,null,null,{"$f":"SUMIFS('Unit Detail'!$H$8:$H$400,'Unit Detail'!$D$8:$D$400,'Building Detail'!$B131,'Unit Detail'!$Y$8:$Y$400,1)","v":0},{"$f":"SUMIFS('Unit Detail'!$H$8:$H$400,'Unit Detail'!$D$8:$D$400,'Building Detail'!$B131,'Unit Detail'!$Y$8:$Y$400,3)","v":0},{"$f":"SUMIFS('Unit Detail'!$H$8:$H$400,'Unit Detail'!$D$8:$D$400,'Building Detail'!$B131,'Unit Detail'!$Y$8:$Y$400,2)","v":0},{"$f":"SUMIF('Unit Detail'!$D$8:$D$400,$B131,'Unit Detail'!$H$8:$H$400)","v":0},0,"",{"$f":"COUNTIFS('Unit Detail'!$Y$8:$Y$400,\"1\",'Unit Detail'!$D$8:$D$400,'Building Detail'!$B131)","v":0},{"$f":"COUNTIFS('Unit Detail'!$Y$8:$Y$400,\"3\",'Unit Detail'!$D$8:$D$400,'Building Detail'!$B131)","v":0},{"$f":"COUNTIFS('Unit Detail'!$Y$8:$Y$400,\"2\",'Unit Detail'!$D$8:$D$400,'Building Detail'!$B131)","v":0},0,"",""]
[null,null,null,null,null,null,null,null,null,null,null,null,null,null,{"$f":"SUMIFS('Unit Detail'!$H$8:$H$400,'Unit Detail'!$D$8:$D$400,'Building Detail'!$B132,'Unit Detail'!$Y$8:$Y$400,1)","v":0},{"$f":"SUMIFS('Unit Detail'!$H$8:$H$400,'Unit Detail'!$D$8:$D$400,'Building Detail'!$B132,'Unit Detail'!$Y$8:$Y$400,3)","v":0},{"$f":"SUMIFS('Unit Detail'!$H$8:$H$400,'Unit Detail'!$D$8:$D$400,'Building Detail'!$B132,'Unit Detail'!$Y$8:$Y$400,2)","v":0},{"$f":"SUMIF('Unit Detail'!$D$8:$D$400,$B132,'Unit Detail'!$H$8:$H$400)","v":0},0,"",{"$f":"COUNTIFS('Unit Detail'!$Y$8:$Y$400,\"1\",'Unit Detail'!$D$8:$D$400,'Building Detail'!$B132)","v":0},{"$f":"COUNTIFS('Unit Detail'!$Y$8:$Y$400,\"3\",'Unit Detail'!$D$8:$D$400,'Building Detail'!$B132)","v":0},{"$f":"COUNTIFS('Unit Detail'!$Y$8:$Y$400,\"2\",'Unit Detail'!$D$8:$D$400,'Building Detail'!$B132)","v":0},0,"",""]
[null,null,null,null,null,null,null,null,null,null,null,null,null,null,{"$f":"SUMIFS('Unit Detail'!$H$8:$H$400,'Unit Detail'!$D$8:$D$400,'Building Detail'!$B133,'Unit Detail'!$Y$8:$Y$400,1)","v":0},{"$f":"SUMIFS('Unit Detail'!$H$8:$H$400,'Unit Detail'!$D$8:$D$400,'Building Detail'!$B133,'Unit Detail'!$Y$8:$Y$400,3)","v":0},{"$f":"SUMIFS('Unit Detail'!$H$8:$H$400,'Unit Detail'!$D$8:$D$400,'Building Detail'!$B133,'Unit Detail'!$Y$8:$Y$400,2)","v":0},{"$f":"SUMIF('Unit Detail'!$D$8:$D$400,$B133,'Unit Detail'!$H$8:$H$400)","v":0},0,"",{"$f":"COUNTIFS('Unit Detail'!$Y$8:$Y$400,\"1\",'Unit Detail'!$D$8:$D$400,'Building Detail'!$B133)","v":0},{"$f":"COUNTIFS('Unit Detail'!$Y$8:$Y$400,\"3\",'Unit Detail'!$D$8:$D$400,'Building Detail'!$B133)","v":0},{"$f":"COUNTIFS('Unit Detail'!$Y$8:$Y$400,\"2\",'Unit Detail'!$D$8:$D$400,'Building Detail'!$B133)","v":0},0,"",""]
[null,null,null,null,null,null,null,null,null,null,null,null,null,null,{"$f":"SUMIFS('Unit Detail'!$H$8:$H$400,'Unit Detail'!$D$8:$D$400,'Building Detail'!$B134,'Unit Detail'!$Y$8:$Y$400,1)","v":0},{"$f":"SUMIFS('Unit Detail'!$H$8:$H$400,'Unit Detail'!$D$8:$D$400,'Building Detail'!$B134,'Unit Detail'!$Y$8:$Y$400,3)","v":0},{"$f":"SUMIFS('Unit Detail'!$H$8:$H$400,'Unit Detail'!$D$8:$D$400,'Building Detail'!$B134,'Unit Detail'!$Y$8:$Y$400,2)","v":0},{"$f":"SUMIF('Unit Detail'!$D$8:$D$400,$B134,'Unit Detail'!$H$8:$H$400)","v":0},0,"",{"$f":"COUNTIFS('Unit Detail'!$Y$8:$Y$400,\"1\",'Unit Detail'!$D$8:$D$400,'Building Detail'!$B134)","v":0},{"$f":"COUNTIFS('Unit Detail'!$Y$8:$Y$400,\"3\",'Unit Detail'!$D$8:$D$400,'Building Detail'!$B134)","v":0},{"$f":"COUNTIFS('Unit Detail'!$Y$8:$Y$400,\"2\",'Unit Detail'!$D$8:$D$400,'Building Detail'!$B134)","v":0},0,"",""]
[null,null,null,null,null,null,null,null,null,null,null,null,null,null,{"$f":"SUMIFS('Unit Detail'!$H$8:$H$400,'Unit Detail'!$D$8:$D$400,'Building Detail'!$B135,'Unit Detail'!$Y$8:$Y$400,1)","v":0},{"$f":"SUMIFS('Unit Detail'!$H$8:$H$400,'Unit Detail'!$D$8:$D$400,'Building Detail'!$B135,'Unit Detail'!$Y$8:$Y$400,3)","v":0},{"$f":"SUMIFS('Unit Detail'!$H$8:$H$400,'Unit Detail'!$D$8:$D$400,'Building Detail'!$B135,'Unit Detail'!$Y$8:$Y$400,2)","v":0},{"$f":"SUMIF('Unit Detail'!$D$8:$D$400,$B135,'Unit Detail'!$H$8:$H$400)","v":0},0,"",{"$f":"COUNTIFS('Unit Detail'!$Y$8:$Y$400,\"1\",'Unit Detail'!$D$8:$D$400,'Building Detail'!$B135)","v":0},{"$f":"COUNTIFS('Unit Detail'!$Y$8:$Y$400,\"3\",'Unit Detail'!$D$8:$D$400,'Building Detail'!$B135)","v":0},{"$f":"COUNTIFS('Unit Detail'!$Y$8:$Y$400,\"2\",'Unit Detail'!$D$8:$D$400,'Building Detail'!$B135)","v":0},0,"",""]
[null,null,null,null,null,null,null,null,null,null,null,null,null,null,{"$f":"SUMIFS('Unit Detail'!$H$8:$H$400,'Unit Detail'!$D$8:$D$400,'Building Detail'!$B136,'Unit Detail'!$Y$8:$Y$400,1)","v":0},{"$f":"SUMIFS('Unit Detail'!$H$8:$H$400,'Unit Detail'!$D$8:$D$400,'Building Detail'!$B136,'Unit Detail'!$Y$8:$Y$400,3)","v":0},{"$f":"SUMIFS('Unit Detail'!$H$8:$H$400,'Unit Detail'!$D$8:$D$400,'Building Detail'!$B136,'Unit Detail'!$Y$8:$Y$400,2)","v":0},{"$f":"SUMIF('Unit Detail'!$D$8:$D$400,$B136,'Unit Detail'!$H$8:$H$400)","v":0},0,"",{"$f":"COUNTIFS('Unit Detail'!$Y$8:$Y$400,\"1\",'Unit Detail'!$D$8:$D$400,'Building Detail'!$B136)","v":0},{"$f":"COUNTIFS('Unit Detail'!$Y$8:$Y$400,\"3\",'Unit Detail'!$D$8:$D$400,'Building Detail'!$B136)","v":0},{"$f":"COUNTIFS('Unit Detail'!$Y$8:$Y$400,\"2\",'Unit Detail'!$D$8:$D$400,'Building Detail'!$B136)","v":0},0,"",""]
[null,null,null,null,null,null,null,null,null,null,null,null,null,null,{"$f":"SUMIFS('Unit Detail'!$H$8:$H$400,'Unit Detail'!$D$8:$D$400,'Building Detail'!$B137,'Unit Detail'!$Y$8:$Y$400,1)","v":0},{"$f":"SUMIFS('Unit Detail'!$H$8:$H$400,'Unit Detail'!$D$8:$D$400,'Building Detail'!$B137,'Unit Detail'!$Y$8:$Y$400,3)","v":0},{"$f":"SUMIFS('Unit Detail'!$H$8:$H$400,'Unit Detail'!$D$8:$D$400,'Building Detail'!$B137,'Unit Detail'!$Y$8:$Y$400,2)","v":0},{"$f":"SUMIF('Unit Detail'!$D$8:$D$400,$B137,'Unit Detail'!$H$8:$H$400)","v":0},0,"",{"$f":"COUNTIFS('Unit Detail'!$Y$8:$Y$400,\"1\",'Unit Detail'!$D$8:$D$400,'Building Detail'!$B137)","v":0},{"$f":"COUNTIFS('Unit Detail'!$Y$8:$Y$400,\"3\",'Unit Detail'!$D$8:$D$400,'Building Detail'!$B137)","v":0},{"$f":"COUNTIFS('Unit Detail'!$Y$8:$Y$400,\"2\",'Unit Detail'!$D$8:$D$400,'Building Detail'!$B137)","v":0},0,"",""]
[null,null,null,null,null,null,null,null,null,null,null,null,null,null,{"$f":"SUMIFS('Unit Detail'!$H$8:$H$400,'Unit Detail'!$D$8:$D$400,'Building Detail'!$B138,'Unit Detail'!$Y$8:$Y$400,1)","v":0},{"$f":"SUMIFS('Unit Detail'!$H$8:$H$400,'Unit Detail'!$D$8:$D$400,'Building Detail'!$B138,'Unit Detail'!$Y$8:$Y$400,3)","v":0},{"$f":"SUMIFS('Unit Detail'!$H$8:$H$400,'Unit Detail'!$D$8:$D$400,'Building Detail'!$B138,'Unit Detail'!$Y$8:$Y$400,2)","v":0},{"$f":"SUMIF('Unit Detail'!$D$8:$D$400,$B138,'Unit Detail'!$H$8:$H$400)","v":0},0,"",{"$f":"COUNTIFS('Unit Detail'!$Y$8:$Y$400,\"1\",'Unit Detail'!$D$8:$D$400,'Building Detail'!$B138)","v":0},{"$f":"COUNTIFS('Unit Detail'!$Y$8:$Y$400,\"3\",'Unit Detail'!$D$8:$D$400,'Building Detail'!$B138)","v":0},{"$f":"COUNTIFS('Unit Detail'!$Y$8:$Y$400,\"2\",'Unit Detail'!$D$8:$D$400,'Building Detail'!$B138)","v":0},0,"",""]
[null,null,null,null,null,null,null,null,null,null,null,null,null,null,{"$f":"SUMIFS('Unit Detail'!$H$8:$H$400,'Unit Detail'!$D$8:$D$400,'Building Detail'!$B139,'Unit Detail'!$Y$8:$Y$400,1)","v":0},{"$f":"SUMIFS('Unit Detail'!$H$8:$H$400,'Unit Detail'!$D$8:$D$400,'Building Detail'!$B139,'Unit Detail'!$Y$8:$Y$400,3)","v":0},{"$f":"SUMIFS('Unit Detail'!$H$8:$H$400,'Unit Detail'!$D$8:$D$400,'Building Detail'!$B139,'Unit Detail'!$Y$8:$Y$400,2)","v":0},{"$f":"SUMIF('Unit Detail'!$D$8:$D$400,$B139,'Unit Detail'!$H$8:$H$400)","v":0},0,"",{"$f":"COUNTIFS('Unit Detail'!$Y$8:$Y$400,\"1\",'Unit Detail'!$D$8:$D$400,'Building Detail'!$B139)","v":0},{"$f":"COUNTIFS('Unit Detail'!$Y$8:$Y$400,\"3\",'Unit Detail'!$D$8:$D$400,'Building Detail'!$B139)","v":0},{"$f":"COUNTIFS('Unit Detail'!$Y$8:$Y$400,\"2\",'Unit Detail'!$D$8:$D$400,'Building Detail'!$B139)","v":0},0,"",""]
[null,null,null,null,null,null,null,null,null,null,null,null,null,null,{"$f":"SUMIFS('Unit Detail'!$H$8:$H$400,'Unit Detail'!$D$8:$D$400,'Building Detail'!$B140,'Unit Detail'!$Y$8:$Y$400,1)","v":0},{"$f":"SUMIFS('Unit Detail'!$H$8:$H$400,'Unit Detail'!$D$8:$D$400,'Building Detail'!$B140,'Unit Detail'!$Y$8:$Y$400,3)","v":0},{"$f":"SUMIFS('Unit Detail'!$H$8:$H$400,'Unit Detail'!$D$8:$D$400,'Building Detail'!$B140,'Unit Detail'!$Y$8:$Y$400,2)","v":0},{"$f":"SUMIF('Unit Detail'!$D$8:$D$400,$B140,'Unit Detail'!$H$8:$H$400)","v":0},0,"",{"$f":"COUNTIFS('Unit Detail'!$Y$8:$Y$400,\"1\",'Unit Detail'!$D$8:$D$400,'Building Detail'!$B140)","v":0},{"$f":"COUNTIFS('Unit Detail'!$Y$8:$Y$400,\"3\",'Unit Detail'!$D$8:$D$400,'Building Detail'!$B140)","v":0},{"$f":"COUNTIFS('Unit Detail'!$Y$8:$Y$400,\"2\",'Unit Detail'!$D$8:$D$400,'Building Detail'!$B140)","v":0},0,"",""]
[null,null,null,null,null,null,null,null,null,null,null,null,null,null,{"$f":"SUMIFS('Unit Detail'!$H$8:$H$400,'Unit Detail'!$D$8:$D$400,'Building Detail'!$B141,'Unit Detail'!$Y$8:$Y$400,1)","v":0},{"$f":"SUMIFS('Unit Detail'!$H$8:$H$400,'Unit Detail'!$D$8:$D$400,'Building Detail'!$B141,'Unit Detail'!$Y$8:$Y$400,3)","v":0},{"$f":"SUMIFS('Unit Detail'!$H$8:$H$400,'Unit Detail'!$D$8:$D$400,'Building Detail'!$B141,'Unit Detail'!$Y$8:$Y$400,2)","v":0},{"$f":"SUMIF('Unit Detail'!$D$8:$D$400,$B141,'Unit Detail'!$H$8:$H$400)","v":0},0,"",{"$f":"COUNTIFS('Unit Detail'!$Y$8:$Y$400,\"1\",'Unit Detail'!$D$8:$D$400,'Building Detail'!$B141)","v":0},{"$f":"COUNTIFS('Unit Detail'!$Y$8:$Y$400,\"3\",'Unit Detail'!$D$8:$D$400,'Building Detail'!$B141)","v":0},{"$f":"COUNTIFS('Unit Detail'!$Y$8:$Y$400,\"2\",'Unit Detail'!$D$8:$D$400,'Building Detail'!$B141)","v":0},0,"",""]
[null,null,null,null,null,null,null,null,null,null,null,null,null,null,{"$f":"SUMIFS('Unit Detail'!$H$8:$H$400,'Unit Detail'!$D$8:$D$400,'Building Detail'!$B142,'Unit Detail'!$Y$8:$Y$400,1)","v":0},{"$f":"SUMIFS('Unit Detail'!$H$8:$H$400,'Unit Detail'!$D$8:$D$400,'Building Detail'!$B142,'Unit Detail'!$Y$8:$Y$400,3)","v":0},{"$f":"SUMIFS('Unit Detail'!$H$8:$H$400,'Unit Detail'!$D$8:$D$400,'Building Detail'!$B142,'Unit Detail'!$Y$8:$Y$400,2)","v":0},{"$f":"SUMIF('Unit Detail'!$D$8:$D$400,$B142,'Unit Detail'!$H$8:$H$400)","v":0},0,"",{"$f":"COUNTIFS('Unit Detail'!$Y$8:$Y$400,\"1\",'Unit Detail'!$D$8:$D$400,'Building Detail'!$B142)","v":0},{"$f":"COUNTIFS('Unit Detail'!$Y$8:$Y$400,\"3\",'Unit Detail'!$D$8:$D$400,'Building Detail'!$B142)","v":0},{"$f":"COUNTIFS('Unit Detail'!$Y$8:$Y$400,\"2\",'Unit Detail'!$D$8:$D$400,'Building Detail'!$B142)","v":0},0,"",""]
[null,null,null,null,null,null,null,null,null,null,null,null,null,null,{"$f":"SUMIFS('Unit Detail'!$H$8:$H$400,'Unit Detail'!$D$8:$D$400,'Building Detail'!$B143,'Unit Detail'!$Y$8:$Y$400,1)","v":0},{"$f":"SUMIFS('Unit Detail'!$H$8:$H$400,'Unit Detail'!$D$8:$D$400,'Building Detail'!$B143,'Unit Detail'!$Y$8:$Y$400,3)","v":0},{"$f":"SUMIFS('Unit Detail'!$H$8:$H$400,'Unit Detail'!$D$8:$D$400,'Building Detail'!$B143,'Unit Detail'!$Y$8:$Y$400,2)","v":0},{"$f":"SUMIF('Unit Detail'!$D$8:$D$400,$B143,'Unit Detail'!$H$8:$H$400)","v":0},0,"",{"$f":"COUNTIFS('Unit Detail'!$Y$8:$Y$400,\"1\",'Unit Detail'!$D$8:$D$400,'Building Detail'!$B143)","v":0},{"$f":"COUNTIFS('Unit Detail'!$Y$8:$Y$400,\"3\",'Unit Detail'!$D$8:$D$400,'Building Detail'!$B143)","v":0},{"$f":"COUNTIFS('Unit Detail'!$Y$8:$Y$400,\"2\",'Unit Detail'!$D$8:$D$400,'Building Detail'!$B143)","v":0},0,"",""]
[null,null,null,null,null,null,null,null,null,null,null,null,null,null,{"$f":"SUMIFS('Unit Detail'!$H$8:$H$400,'Unit Detail'!$D$8:$D$400,'Building Detail'!$B144,'Unit Detail'!$Y$8:$Y$400,1)","v":0},{"$f":"SUMIFS('Unit Detail'!$H$8:$H$400,'Unit Detail'!$D$8:$D$400,'Building Detail'!$B144,'Unit Detail'!$Y$8:$Y$400,3)","v":0},{"$f":"SUMIFS('Unit Detail'!$H$8:$H$400,'Unit Detail'!$D$8:$D$400,'Building Detail'!$B144,'Unit Detail'!$Y$8:$Y$400,2)","v":0},{"$f":"SUMIF('Unit Detail'!$D$8:$D$400,$B144,'Unit Detail'!$H$8:$H$400)","v":0},0,"",{"$f":"COUNTIFS('Unit Detail'!$Y$8:$Y$400,\"1\",'Unit Detail'!$D$8:$D$400,'Building Detail'!$B144)","v":0},{"$f":"COUNTIFS('Unit Detail'!$Y$8:$Y$400,\"3\",'Unit Detail'!$D$8:$D$400,'Building Detail'!$B144)","v":0},{"$f":"COUNTIFS('Unit Detail'!$Y$8:$Y$400,\"2\",'Unit Detail'!$D$8:$D$400,'Building Detail'!$B144)","v":0},0,"",""]
[null,null,null,null,null,null,null,null,null,null,null,null,null,null,{"$f":"SUMIFS('Unit Detail'!$H$8:$H$400,'Unit Detail'!$D$8:$D$400,'Building Detail'!$B145,'Unit Detail'!$Y$8:$Y$400,1)","v":0},{"$f":"SUMIFS('Unit Detail'!$H$8:$H$400,'Unit Detail'!$D$8:$D$400,'Building Detail'!$B145,'Unit Detail'!$Y$8:$Y$400,3)","v":0},{"$f":"SUMIFS('Unit Detail'!$H$8:$H$400,'Unit Detail'!$D$8:$D$400,'Building Detail'!$B145,'Unit Detail'!$Y$8:$Y$400,2)","v":0},{"$f":"SUMIF('Unit Detail'!$D$8:$D$400,$B145,'Unit Detail'!$H$8:$H$400)","v":0},0,"",{"$f":"COUNTIFS('Unit Detail'!$Y$8:$Y$400,\"1\",'Unit Detail'!$D$8:$D$400,'Building Detail'!$B145)","v":0},{"$f":"COUNTIFS('Unit Detail'!$Y$8:$Y$400,\"3\",'Unit Detail'!$D$8:$D$400,'Building Detail'!$B145)","v":0},{"$f":"COUNTIFS('Unit Detail'!$Y$8:$Y$400,\"2\",'Unit Detail'!$D$8:$D$400,'Building Detail'!$B145)","v":0},0,"",""]
[null,null,null,null,null,null,null,null,null,null,null,null,null,null,{"$f":"SUMIFS('Unit Detail'!$H$8:$H$400,'Unit Detail'!$D$8:$D$400,'Building Detail'!$B146,'Unit Detail'!$Y$8:$Y$400,1)","v":0},{"$f":"SUMIFS('Unit Detail'!$H$8:$H$400,'Unit Detail'!$D$8:$D$400,'Building Detail'!$B146,'Unit Detail'!$Y$8:$Y$400,3)","v":0},{"$f":"SUMIFS('Unit Detail'!$H$8:$H$400,'Unit Detail'!$D$8:$D$400,'Building Detail'!$B146,'Unit Detail'!$Y$8:$Y$400,2)","v":0},{"$f":"SUMIF('Unit Detail'!$D$8:$D$400,$B146,'Unit Detail'!$H$8:$H$400)","v":0},0,"",{"$f":"COUNTIFS('Unit Detail'!$Y$8:$Y$400,\"1\",'Unit Detail'!$D$8:$D$400,'Building Detail'!$B146)","v":0},{"$f":"COUNTIFS('Unit Detail'!$Y$8:$Y$400,\"3\",'Unit Detail'!$D$8:$D$400,'Building Detail'!$B146)","v":0},{"$f":"COUNTIFS('Unit Detail'!$Y$8:$Y$400,\"2\",'Unit Detail'!$D$8:$D$400,'Building Detail'!$B146)","v":0},0,"",{"$f":"IF(Y146<T146,Y146,T146)","v":""}]
[null,null,null,null,null,null,null,null,null,null,null,null,null,null,{"$f":"SUMIFS('Unit Detail'!$H$8:$H$400,'Unit Detail'!$D$8:$D$400,'Building Detail'!$B147,'Unit Detail'!$Y$8:$Y$400,1)","v":0},{"$f":"SUMIFS('Unit Detail'!$H$8:$H$400,'Unit Detail'!$D$8:$D$400,'Building Detail'!$B147,'Unit Detail'!$Y$8:$Y$400,3)","v":0},{"$f":"SUMIFS('Unit Detail'!$H$8:$H$400,'Unit Detail'!$D$8:$D$400,'Building Detail'!$B147,'Unit Detail'!$Y$8:$Y$400,2)","v":0},{"$f":"SUMIF('Unit Detail'!$D$8:$D$400,$B147,'Unit Detail'!$H$8:$H$400)","v":0},0,"",{"$f":"COUNTIFS('Unit Detail'!$Y$8:$Y$400,\"1\",'Unit Detail'!$D$8:$D$400,'Building Detail'!$B147)","v":0},{"$f":"COUNTIFS('Unit Detail'!$Y$8:$Y$400,\"3\",'Unit Detail'!$D$8:$D$400,'Building Detail'!$B147)","v":0},{"$f":"COUNTIFS('Unit Detail'!$Y$8:$Y$400,\"2\",'Unit Detail'!$D$8:$D$400,'Building Detail'!$B147)","v":0},0,{"$f":"IF(B147=\"\",\"\",IF($P$15=0,1,U147/X147))","v":""},""]
[null,null,null,null,null,null,null,null,null,null,null,null,null,null,{"$f":"SUMIFS('Unit Detail'!$H$8:$H$400,'Unit Detail'!$D$8:$D$400,'Building Detail'!$B148,'Unit Detail'!$Y$8:$Y$400,1)","v":0},{"$f":"SUMIFS('Unit Detail'!$H$8:$H$400,'Unit Detail'!$D$8:$D$400,'Building Detail'!$B148,'Unit Detail'!$Y$8:$Y$400,3)","v":0},{"$f":"SUMIFS('Unit Detail'!$H$8:$H$400,'Unit Detail'!$D$8:$D$400,'Building Detail'!$B148,'Unit Detail'!$Y$8:$Y$400,2)","v":0},{"$f":"SUMIF('Unit Detail'!$D$8:$D$400,$B148,'Unit Detail'!$H$8:$H$400)","v":0},0,"",{"$f":"COUNTIFS('Unit Detail'!$Y$8:$Y$400,\"1\",'Unit Detail'!$D$8:$D$400,'Building Detail'!$B148)","v":0},{"$f":"COUNTIFS('Unit Detail'!$Y$8:$Y$400,\"3\",'Unit Detail'!$D$8:$D$400,'Building Detail'!$B148)","v":0},{"$f":"COUNTIFS('Unit Detail'!$Y$8:$Y$400,\"2\",'Unit Detail'!$D$8:$D$400,'Building Detail'!$B148)","v":0},0,"",""]
[null,null,null,null,null,null,null,null,null,null,null,null,null,null,{"$f":"SUMIFS('Unit Detail'!$H$8:$H$400,'Unit Detail'!$D$8:$D$400,'Building Detail'!$B149,'Unit Detail'!$Y$8:$Y$400,1)","v":0},{"$f":"SUMIFS('Unit Detail'!$H$8:$H$400,'Unit Detail'!$D$8:$D$400,'Building Detail'!$B149,'Unit Detail'!$Y$8:$Y$400,3)","v":0},{"$f":"SUMIFS('Unit Detail'!$H$8:$H$400,'Unit Detail'!$D$8:$D$400,'Building Detail'!$B149,'Unit Detail'!$Y$8:$Y$400,2)","v":0},{"$f":"SUMIF('Unit Detail'!$D$8:$D$400,$B149,'Unit Detail'!$H$8:$H$400)","v":0},0,{"$f":"IF(B149=\"\",\"\",IF($P$15=0,1,O149/R149))","v":""},{"$f":"COUNTIFS('Unit Detail'!$Y$8:$Y$400,\"1\",'Unit Detail'!$D$8:$D$400,'Building Detail'!$B149)","v":0},{"$f":"COUNTIFS('Unit Detail'!$Y$8:$Y$400,\"3\",'Unit Detail'!$D$8:$D$400,'Building Detail'!$B149)","v":0},{"$f":"COUNTIFS('Unit Detail'!$Y$8:$Y$400,\"2\",'Unit Detail'!$D$8:$D$400,'Building Detail'!$B149)","v":0},0,"",""]
[null,null,null,null,null,null,null,null,null,null,null,null,null,null,{"$f":"SUMIFS('Unit Detail'!$H$8:$H$400,'Unit Detail'!$D$8:$D$400,'Building Detail'!$B150,'Unit Detail'!$Y$8:$Y$400,1)","v":0},{"$f":"SUMIFS('Unit Detail'!$H$8:$H$400,'Unit Detail'!$D$8:$D$400,'Building Detail'!$B150,'Unit Detail'!$Y$8:$Y$400,3)","v":0},{"$f":"SUMIFS('Unit Detail'!$H$8:$H$400,'Unit Detail'!$D$8:$D$400,'Building Detail'!$B150,'Unit Detail'!$Y$8:$Y$400,2)","v":0},{"$f":"SUMIF('Unit Detail'!$D$8:$D$400,$B150,'Unit Detail'!$H$8:$H$400)","v":0},0,"",{"$f":"COUNTIFS('Unit Detail'!$Y$8:$Y$400,\"1\",'Unit Detail'!$D$8:$D$400,'Building Detail'!$B150)","v":0},{"$f":"COUNTIFS('Unit Detail'!$Y$8:$Y$400,\"3\",'Unit Detail'!$D$8:$D$400,'Building Detail'!$B150)","v":0},{"$f":"COUNTIFS('Unit Detail'!$Y$8:$Y$400,\"2\",'Unit Detail'!$D$8:$D$400,'Building Detail'!$B150)","v":0},0,"",""]
[null,null,null,null,null,null,null,null,null,null,null,null,null,null,{"$f":"SUMIFS('Unit Detail'!$H$8:$H$400,'Unit Detail'!$D$8:$D$400,'Building Detail'!$B151,'Unit Detail'!$Y$8:$Y$400,1)","v":0},{"$f":"SUMIFS('Unit Detail'!$H$8:$H$400,'Unit Detail'!$D$8:$D$400,'Building Detail'!$B151,'Unit Detail'!$Y$8:$Y$400,3)","v":0},{"$f":"SUMIFS('Unit Detail'!$H$8:$H$400,'Unit Detail'!$D$8:$D$400,'Building Detail'!$B151,'Unit Detail'!$Y$8:$Y$400,2)","v":0},{"$f":"SUMIF('Unit Detail'!$D$8:$D$400,$B151,'Unit Detail'!$H$8:$H$400)","v":0},0,"",{"$f":"COUNTIFS('Unit Detail'!$Y$8:$Y$400,\"1\",'Unit Detail'!$D$8:$D$400,'Building Detail'!$B151)","v":0},{"$f":"COUNTIFS('Unit Detail'!$Y$8:$Y$400,\"3\",'Unit Detail'!$D$8:$D$400,'Building Detail'!$B151)","v":0},{"$f":"COUNTIFS('Unit Detail'!$Y$8:$Y$400,\"2\",'Unit Detail'!$D$8:$D$400,'Building Detail'!$B151)","v":0},0,"",""]
[null,null,null,null,null,null,null,null,null,null,null,null,null,null,{"$f":"SUMIFS('Unit Detail'!$H$8:$H$400,'Unit Detail'!$D$8:$D$400,'Building Detail'!$B152,'Unit Detail'!$Y$8:$Y$400,1)","v":0},{"$f":"SUMIFS('Unit Detail'!$H$8:$H$400,'Unit Detail'!$D$8:$D$400,'Building Detail'!$B152,'Unit Detail'!$Y$8:$Y$400,3)","v":0},{"$f":"SUMIFS('Unit Detail'!$H$8:$H$400,'Unit Detail'!$D$8:$D$400,'Building Detail'!$B152,'Unit Detail'!$Y$8:$Y$400,2)","v":0},{"$f":"SUMIF('Unit Detail'!$D$8:$D$400,$B152,'Unit Detail'!$H$8:$H$400)","v":0},0,"",{"$f":"COUNTIFS('Unit Detail'!$Y$8:$Y$400,\"1\",'Unit Detail'!$D$8:$D$400,'Building Detail'!$B152)","v":0},{"$f":"COUNTIFS('Unit Detail'!$Y$8:$Y$400,\"3\",'Unit Detail'!$D$8:$D$400,'Building Detail'!$B152)","v":0},{"$f":"COUNTIFS('Unit Detail'!$Y$8:$Y$400,\"2\",'Unit Detail'!$D$8:$D$400,'Building Detail'!$B152)","v":0},0,"",""]
[null,null,null,null,null,null,null,null,null,null,null,null,null,null,{"$f":"SUMIFS('Unit Detail'!$H$8:$H$400,'Unit Detail'!$D$8:$D$400,'Building Detail'!$B153,'Unit Detail'!$Y$8:$Y$400,1)","v":0},{"$f":"SUMIFS('Unit Detail'!$H$8:$H$400,'Unit Detail'!$D$8:$D$400,'Building Detail'!$B153,'Unit Detail'!$Y$8:$Y$400,3)","v":0},{"$f":"SUMIFS('Unit Detail'!$H$8:$H$400,'Unit Detail'!$D$8:$D$400,'Building Detail'!$B153,'Unit Detail'!$Y$8:$Y$400,2)","v":0},{"$f":"SUMIF('Unit Detail'!$D$8:$D$400,$B153,'Unit Detail'!$H$8:$H$400)","v":0},0,"",{"$f":"COUNTIFS('Unit Detail'!$Y$8:$Y$400,\"1\",'Unit Detail'!$D$8:$D$400,'Building Detail'!$B153)","v":0},{"$f":"COUNTIFS('Unit Detail'!$Y$8:$Y$400,\"3\",'Unit Detail'!$D$8:$D$400,'Building Detail'!$B153)","v":0},{"$f":"COUNTIFS('Unit Detail'!$Y$8:$Y$400,\"2\",'Unit Detail'!$D$8:$D$400,'Building Detail'!$B153)","v":0},0,"",""]
[null,null,null,null,null,null,null,null,null,null,null,null,null,null,{"$f":"SUMIFS('Unit Detail'!$H$8:$H$400,'Unit Detail'!$D$8:$D$400,'Building Detail'!$B154,'Unit Detail'!$Y$8:$Y$400,1)","v":0},{"$f":"SUMIFS('Unit Detail'!$H$8:$H$400,'Unit Detail'!$D$8:$D$400,'Building Detail'!$B154,'Unit Detail'!$Y$8:$Y$400,3)","v":0},{"$f":"SUMIFS('Unit Detail'!$H$8:$H$400,'Unit Detail'!$D$8:$D$400,'Building Detail'!$B154,'Unit Detail'!$Y$8:$Y$400,2)","v":0},{"$f":"SUMIF('Unit Detail'!$D$8:$D$400,$B154,'Unit Detail'!$H$8:$H$400)","v":0},0,"",{"$f":"COUNTIFS('Unit Detail'!$Y$8:$Y$400,\"1\",'Unit Detail'!$D$8:$D$400,'Building Detail'!$B154)","v":0},{"$f":"COUNTIFS('Unit Detail'!$Y$8:$Y$400,\"3\",'Unit Detail'!$D$8:$D$400,'Building Detail'!$B154)","v":0},{"$f":"COUNTIFS('Unit Detail'!$Y$8:$Y$400,\"2\",'Unit Detail'!$D$8:$D$400,'Building Detail'!$B154)","v":0},0,"",""]
[null,null,null,null,null,null,null,null,null,null,null,null,null,null,{"$f":"SUMIFS('Unit Detail'!$H$8:$H$400,'Unit Detail'!$D$8:$D$400,'Building Detail'!$B155,'Unit Detail'!$Y$8:$Y$400,1)","v":0},{"$f":"SUMIFS('Unit Detail'!$H$8:$H$400,'Unit Detail'!$D$8:$D$400,'Building Detail'!$B155,'Unit Detail'!$Y$8:$Y$400,3)","v":0},{"$f":"SUMIFS('Unit Detail'!$H$8:$H$400,'Unit Detail'!$D$8:$D$400,'Building Detail'!$B155,'Unit Detail'!$Y$8:$Y$400,2)","v":0},{"$f":"SUMIF('Unit Detail'!$D$8:$D$400,$B155,'Unit Detail'!$H$8:$H$400)","v":0},0,"",{"$f":"COUNTIFS('Unit Detail'!$Y$8:$Y$400,\"1\",'Unit Detail'!$D$8:$D$400,'Building Detail'!$B155)","v":0},{"$f":"COUNTIFS('Unit Detail'!$Y$8:$Y$400,\"3\",'Unit Detail'!$D$8:$D$400,'Building Detail'!$B155)","v":0},{"$f":"COUNTIFS('Unit Detail'!$Y$8:$Y$400,\"2\",'Unit Detail'!$D$8:$D$400,'Building Detail'!$B155)","v":0},0,"",""]
[null,null,null,null,null,null,null,null,null,null,null,null,null,null,{"$f":"SUMIFS('Unit Detail'!$H$8:$H$400,'Unit Detail'!$D$8:$D$400,'Building Detail'!$B156,'Unit Detail'!$Y$8:$Y$400,1)","v":0},{"$f":"SUMIFS('Unit Detail'!$H$8:$H$400,'Unit Detail'!$D$8:$D$400,'Building Detail'!$B156,'Unit Detail'!$Y$8:$Y$400,3)","v":0},{"$f":"SUMIFS('Unit Detail'!$H$8:$H$400,'Unit Detail'!$D$8:$D$400,'Building Detail'!$B156,'Unit Detail'!$Y$8:$Y$400,2)","v":0},{"$f":"SUMIF('Unit Detail'!$D$8:$D$400,$B156,'Unit Detail'!$H$8:$H$400)","v":0},0,"",{"$f":"COUNTIFS('Unit Detail'!$Y$8:$Y$400,\"1\",'Unit Detail'!$D$8:$D$400,'Building Detail'!$B156)","v":0},{"$f":"COUNTIFS('Unit Detail'!$Y$8:$Y$400,\"3\",'Unit Detail'!$D$8:$D$400,'Building Detail'!$B156)","v":0},{"$f":"COUNTIFS('Unit Detail'!$Y$8:$Y$400,\"2\",'Unit Detail'!$D$8:$D$400,'Building Detail'!$B156)","v":0},0,"",""]
[null,null,null,null,null,null,null,null,null,null,null,null,null,null,{"$f":"SUMIFS('Unit Detail'!$H$8:$H$400,'Unit Detail'!$D$8:$D$400,'Building Detail'!$B157,'Unit Detail'!$Y$8:$Y$400,1)","v":0},{"$f":"SUMIFS('Unit Detail'!$H$8:$H$400,'Unit Detail'!$D$8:$D$400,'Building Detail'!$B157,'Unit Detail'!$Y$8:$Y$400,3)","v":0},{"$f":"SUMIFS('Unit Detail'!$H$8:$H$400,'Unit Detail'!$D$8:$D$400,'Building Detail'!$B157,'Unit Detail'!$Y$8:$Y$400,2)","v":0},{"$f":"SUMIF('Unit Detail'!$D$8:$D$400,$B157,'Unit Detail'!$H$8:$H$400)","v":0},0,"",{"$f":"COUNTIFS('Unit Detail'!$Y$8:$Y$400,\"1\",'Unit Detail'!$D$8:$D$400,'Building Detail'!$B157)","v":0},{"$f":"COUNTIFS('Unit Detail'!$Y$8:$Y$400,\"3\",'Unit Detail'!$D$8:$D$400,'Building Detail'!$B157)","v":0},{"$f":"COUNTIFS('Unit Detail'!$Y$8:$Y$400,\"2\",'Unit Detail'!$D$8:$D$400,'Building Detail'!$B157)","v":0},0,"",""]
[null,null,null,null,null,null,null,null,null,null,null,null,null,null,{"$f":"SUMIFS('Unit Detail'!$H$8:$H$400,'Unit Detail'!$D$8:$D$400,'Building Detail'!$B158,'Unit Detail'!$Y$8:$Y$400,1)","v":0},{"$f":"SUMIFS('Unit Detail'!$H$8:$H$400,'Unit Detail'!$D$8:$D$400,'Building Detail'!$B158,'Unit Detail'!$Y$8:$Y$400,3)","v":0},{"$f":"SUMIFS('Unit Detail'!$H$8:$H$400,'Unit Detail'!$D$8:$D$400,'Building Detail'!$B158,'Unit Detail'!$Y$8:$Y$400,2)","v":0},{"$f":"SUMIF('Unit Detail'!$D$8:$D$400,$B158,'Unit Detail'!$H$8:$H$400)","v":0},0,"",{"$f":"COUNTIFS('Unit Detail'!$Y$8:$Y$400,\"1\",'Unit Detail'!$D$8:$D$400,'Building Detail'!$B158)","v":0},{"$f":"COUNTIFS('Unit Detail'!$Y$8:$Y$400,\"3\",'Unit Detail'!$D$8:$D$400,'Building Detail'!$B158)","v":0},{"$f":"COUNTIFS('Unit Detail'!$Y$8:$Y$400,\"2\",'Unit Detail'!$D$8:$D$400,'Building Detail'!$B158)","v":0},0,"",""]
[null,null,null,null,null,null,null,null,null,null,null,null,null,null,{"$f":"SUMIFS('Unit Detail'!$H$8:$H$400,'Unit Detail'!$D$8:$D$400,'Building Detail'!$B159,'Unit Detail'!$Y$8:$Y$400,1)","v":0},{"$f":"SUMIFS('Unit Detail'!$H$8:$H$400,'Unit Detail'!$D$8:$D$400,'Building Detail'!$B159,'Unit Detail'!$Y$8:$Y$400,3)","v":0},{"$f":"SUMIFS('Unit Detail'!$H$8:$H$400,'Unit Detail'!$D$8:$D$400,'Building Detail'!$B159,'Unit Detail'!$Y$8:$Y$400,2)","v":0},{"$f":"SUMIF('Unit Detail'!$D$8:$D$400,$B159,'Unit Detail'!$H$8:$H$400)","v":0},0,"",{"$f":"COUNTIFS('Unit Detail'!$Y$8:$Y$400,\"1\",'Unit Detail'!$D$8:$D$400,'Building Detail'!$B159)","v":0},{"$f":"COUNTIFS('Unit Detail'!$Y$8:$Y$400,\"3\",'Unit Detail'!$D$8:$D$400,'Building Detail'!$B159)","v":0},{"$f":"COUNTIFS('Unit Detail'!$Y$8:$Y$400,\"2\",'Unit Detail'!$D$8:$D$400,'Building Detail'!$B159)","v":0},0,"",""]
[null,null,null,null,null,null,null,null,null,null,null,null,null,null,{"$f":"SUMIFS('Unit Detail'!$H$8:$H$400,'Unit Detail'!$D$8:$D$400,'Building Detail'!$B160,'Unit Detail'!$Y$8:$Y$400,1)","v":0},{"$f":"SUMIFS('Unit Detail'!$H$8:$H$400,'Unit Detail'!$D$8:$D$400,'Building Detail'!$B160,'Unit Detail'!$Y$8:$Y$400,3)","v":0},{"$f":"SUMIFS('Unit Detail'!$H$8:$H$400,'Unit Detail'!$D$8:$D$400,'Building Detail'!$B160,'Unit Detail'!$Y$8:$Y$400,2)","v":0},{"$f":"SUMIF('Unit Detail'!$D$8:$D$400,$B160,'Unit Detail'!$H$8:$H$400)","v":0},0,"",{"$f":"COUNTIFS('Unit Detail'!$Y$8:$Y$400,\"1\",'Unit Detail'!$D$8:$D$400,'Building Detail'!$B160)","v":0},{"$f":"COUNTIFS('Unit Detail'!$Y$8:$Y$400,\"3\",'Unit Detail'!$D$8:$D$400,'Building Detail'!$B160)","v":0},{"$f":"COUNTIFS('Unit Detail'!$Y$8:$Y$400,\"2\",'Unit Detail'!$D$8:$D$400,'Building Detail'!$B160)","v":0},0,"",""]
[null,null,null,null,null,null,null,null,null,null,null,null,null,null,{"$f":"SUMIFS('Unit Detail'!$H$8:$H$400,'Unit Detail'!$D$8:$D$400,'Building Detail'!$B161,'Unit Detail'!$Y$8:$Y$400,1)","v":0},{"$f":"SUMIFS('Unit Detail'!$H$8:$H$400,'Unit Detail'!$D$8:$D$400,'Building Detail'!$B161,'Unit Detail'!$Y$8:$Y$400,3)","v":0},{"$f":"SUMIFS('Unit Detail'!$H$8:$H$400,'Unit Detail'!$D$8:$D$400,'Building Detail'!$B161,'Unit Detail'!$Y$8:$Y$400,2)","v":0},{"$f":"SUMIF('Unit Detail'!$D$8:$D$400,$B161,'Unit Detail'!$H$8:$H$400)","v":0},0,"",{"$f":"COUNTIFS('Unit Detail'!$Y$8:$Y$400,\"1\",'Unit Detail'!$D$8:$D$400,'Building Detail'!$B161)","v":0},{"$f":"COUNTIFS('Unit Detail'!$Y$8:$Y$400,\"3\",'Unit Detail'!$D$8:$D$400,'Building Detail'!$B161)","v":0},{"$f":"COUNTIFS('Unit Detail'!$Y$8:$Y$400,\"2\",'Unit Detail'!$D$8:$D$400,'Building Detail'!$B161)","v":0},0,"",""]
[null,null,null,null,null,null,null,null,null,null,null,null,null,null,{"$f":"SUMIFS('Unit Detail'!$H$8:$H$400,'Unit Detail'!$D$8:$D$400,'Building Detail'!$B162,'Unit Detail'!$Y$8:$Y$400,1)","v":0},{"$f":"SUMIFS('Unit Detail'!$H$8:$H$400,'Unit Detail'!$D$8:$D$400,'Building Detail'!$B162,'Unit Detail'!$Y$8:$Y$400,3)","v":0},{"$f":"SUMIFS('Unit Detail'!$H$8:$H$400,'Unit Detail'!$D$8:$D$400,'Building Detail'!$B162,'Unit Detail'!$Y$8:$Y$400,2)","v":0},{"$f":"SUMIF('Unit Detail'!$D$8:$D$400,$B162,'Unit Detail'!$H$8:$H$400)","v":0},{"$f":"SUM(M162,N162,R162)","v":0},"",{"$f":"COUNTIFS('Unit Detail'!$Y$8:$Y$400,\"1\",'Unit Detail'!$D$8:$D$400,'Building Detail'!$B162)","v":0},{"$f":"COUNTIFS('Unit Detail'!$Y$8:$Y$400,\"3\",'Unit Detail'!$D$8:$D$400,'Building Detail'!$B162)","v":0},{"$f":"COUNTIFS('Unit Detail'!$Y$8:$Y$400,\"2\",'Unit Detail'!$D$8:$D$400,'Building Detail'!$B162)","v":0},{"$f":"SUM(U162:W162)","v":0},"",""]
[null,null,null,null,null,null,null,null,null,null,null,null,null,null,{"$f":"SUMIFS('Unit Detail'!$H$8:$H$400,'Unit Detail'!$D$8:$D$400,'Building Detail'!$B163,'Unit Detail'!$Y$8:$Y$400,1)","v":0},{"$f":"SUMIFS('Unit Detail'!$H$8:$H$400,'Unit Detail'!$D$8:$D$400,'Building Detail'!$B163,'Unit Detail'!$Y$8:$Y$400,3)","v":0},{"$f":"SUMIFS('Unit Detail'!$H$8:$H$400,'Unit Detail'!$D$8:$D$400,'Building Detail'!$B163,'Unit Detail'!$Y$8:$Y$400,2)","v":0},{"$f":"SUMIF('Unit Detail'!$D$8:$D$400,$B163,'Unit Detail'!$H$8:$H$400)","v":0},0,"",{"$f":"COUNTIFS('Unit Detail'!$Y$8:$Y$400,\"1\",'Unit Detail'!$D$8:$D$400,'Building Detail'!$B163)","v":0},{"$f":"COUNTIFS('Unit Detail'!$Y$8:$Y$400,\"3\",'Unit Detail'!$D$8:$D$400,'Building Detail'!$B163)","v":0},{"$f":"COUNTIFS('Unit Detail'!$Y$8:$Y$400,\"2\",'Unit Detail'!$D$8:$D$400,'Building Detail'!$B163)","v":0},0,"",""]
[null,null,null,null,null,null,null,null,null,null,null,null,null,null,{"$f":"SUMIFS('Unit Detail'!$H$8:$H$400,'Unit Detail'!$D$8:$D$400,'Building Detail'!$B164,'Unit Detail'!$Y$8:$Y$400,1)","v":0},{"$f":"SUMIFS('Unit Detail'!$H$8:$H$400,'Unit Detail'!$D$8:$D$400,'Building Detail'!$B164,'Unit Detail'!$Y$8:$Y$400,3)","v":0},{"$f":"SUMIFS('Unit Detail'!$H$8:$H$400,'Unit Detail'!$D$8:$D$400,'Building Detail'!$B164,'Unit Detail'!$Y$8:$Y$400,2)","v":0},{"$f":"SUMIF('Unit Detail'!$D$8:$D$400,$B164,'Unit Detail'!$H$8:$H$400)","v":0},0,"",{"$f":"COUNTIFS('Unit Detail'!$Y$8:$Y$400,\"1\",'Unit Detail'!$D$8:$D$400,'Building Detail'!$B164)","v":0},{"$f":"COUNTIFS('Unit Detail'!$Y$8:$Y$400,\"3\",'Unit Detail'!$D$8:$D$400,'Building Detail'!$B164)","v":0},{"$f":"COUNTIFS('Unit Detail'!$Y$8:$Y$400,\"2\",'Unit Detail'!$D$8:$D$400,'Building Detail'!$B164)","v":0},0,"",""]
[null,null,null,null,null,null,null,null,null,null,null,null,null,null,{"$f":"SUMIFS('Unit Detail'!$H$8:$H$400,'Unit Detail'!$D$8:$D$400,'Building Detail'!$B165,'Unit Detail'!$Y$8:$Y$400,1)","v":0},{"$f":"SUMIFS('Unit Detail'!$H$8:$H$400,'Unit Detail'!$D$8:$D$400,'Building Detail'!$B165,'Unit Detail'!$Y$8:$Y$400,3)","v":0},{"$f":"SUMIFS('Unit Detail'!$H$8:$H$400,'Unit Detail'!$D$8:$D$400,'Building Detail'!$B165,'Unit Detail'!$Y$8:$Y$400,2)","v":0},{"$f":"SUMIF('Unit Detail'!$D$8:$D$400,$B165,'Unit Detail'!$H$8:$H$400)","v":0},0,"",{"$f":"COUNTIFS('Unit Detail'!$Y$8:$Y$400,\"1\",'Unit Detail'!$D$8:$D$400,'Building Detail'!$B165)","v":0},{"$f":"COUNTIFS('Unit Detail'!$Y$8:$Y$400,\"3\",'Unit Detail'!$D$8:$D$400,'Building Detail'!$B165)","v":0},{"$f":"COUNTIFS('Unit Detail'!$Y$8:$Y$400,\"2\",'Unit Detail'!$D$8:$D$400,'Building Detail'!$B165)","v":0},0,"",""]
[null,null,null,null,null,null,null,null,null,null,null,null,null,null,{"$f":"SUMIFS('Unit Detail'!$H$8:$H$400,'Unit Detail'!$D$8:$D$400,'Building Detail'!$B166,'Unit Detail'!$Y$8:$Y$400,1)","v":0},{"$f":"SUMIFS('Unit Detail'!$H$8:$H$400,'Unit Detail'!$D$8:$D$400,'Building Detail'!$B166,'Unit Detail'!$Y$8:$Y$400,3)","v":0},{"$f":"SUMIFS('Unit Detail'!$H$8:$H$400,'Unit Detail'!$D$8:$D$400,'Building Detail'!$B166,'Unit Detail'!$Y$8:$Y$400,2)","v":0},{"$f":"SUMIF('Unit Detail'!$D$8:$D$400,$B166,'Unit Detail'!$H$8:$H$400)","v":0},0,"",{"$f":"COUNTIFS('Unit Detail'!$Y$8:$Y$400,\"1\",'Unit Detail'!$D$8:$D$400,'Building Detail'!$B166)","v":0},{"$f":"COUNTIFS('Unit Detail'!$Y$8:$Y$400,\"3\",'Unit Detail'!$D$8:$D$400,'Building Detail'!$B166)","v":0},{"$f":"COUNTIFS('Unit Detail'!$Y$8:$Y$400,\"2\",'Unit Detail'!$D$8:$D$400,'Building Detail'!$B166)","v":0},0,"",""]
[null,null,null,null,null,null,null,null,null,null,null,null,null,null,{"$f":"SUMIFS('Unit Detail'!$H$8:$H$400,'Unit Detail'!$D$8:$D$400,'Building Detail'!$B167,'Unit Detail'!$Y$8:$Y$400,1)","v":0},{"$f":"SUMIFS('Unit Detail'!$H$8:$H$400,'Unit Detail'!$D$8:$D$400,'Building Detail'!$B167,'Unit Detail'!$Y$8:$Y$400,3)","v":0},{"$f":"SUMIFS('Unit Detail'!$H$8:$H$400,'Unit Detail'!$D$8:$D$400,'Building Detail'!$B167,'Unit Detail'!$Y$8:$Y$400,2)","v":0},{"$f":"SUMIF('Unit Detail'!$D$8:$D$400,$B167,'Unit Detail'!$H$8:$H$400)","v":0},0,"",{"$f":"COUNTIFS('Unit Detail'!$Y$8:$Y$400,\"1\",'Unit Detail'!$D$8:$D$400,'Building Detail'!$B167)","v":0},{"$f":"COUNTIFS('Unit Detail'!$Y$8:$Y$400,\"3\",'Unit Detail'!$D$8:$D$400,'Building Detail'!$B167)","v":0},{"$f":"COUNTIFS('Unit Detail'!$Y$8:$Y$400,\"2\",'Unit Detail'!$D$8:$D$400,'Building Detail'!$B167)","v":0},0,"",""]
[null,null,null,null,null,null,null,null,null,null,null,null,null,null,{"$f":"SUMIFS('Unit Detail'!$H$8:$H$400,'Unit Detail'!$D$8:$D$400,'Building Detail'!$B168,'Unit Detail'!$Y$8:$Y$400,1)","v":0},{"$f":"SUMIFS('Unit Detail'!$H$8:$H$400,'Unit Detail'!$D$8:$D$400,'Building Detail'!$B168,'Unit Detail'!$Y$8:$Y$400,3)","v":0},{"$f":"SUMIFS('Unit Detail'!$H$8:$H$400,'Unit Detail'!$D$8:$D$400,'Building Detail'!$B168,'Unit Detail'!$Y$8:$Y$400,2)","v":0},{"$f":"SUMIF('Unit Detail'!$D$8:$D$400,$B168,'Unit Detail'!$H$8:$H$400)","v":0},0,"",{"$f":"COUNTIFS('Unit Detail'!$Y$8:$Y$400,\"1\",'Unit Detail'!$D$8:$D$400,'Building Detail'!$B168)","v":0},{"$f":"COUNTIFS('Unit Detail'!$Y$8:$Y$400,\"3\",'Unit Detail'!$D$8:$D$400,'Building Detail'!$B168)","v":0},{"$f":"COUNTIFS('Unit Detail'!$Y$8:$Y$400,\"2\",'Unit Detail'!$D$8:$D$400,'Building Detail'!$B168)","v":0},0,"",""]
[null,null,null,null,null,null,null,null,null,null,null,null,null,null,{"$f":"SUMIFS('Unit Detail'!$H$8:$H$400,'Unit Detail'!$D$8:$D$400,'Building Detail'!$B169,'Unit Detail'!$Y$8:$Y$400,1)","v":0},{"$f":"SUMIFS('Unit Detail'!$H$8:$H$400,'Unit Detail'!$D$8:$D$400,'Building Detail'!$B169,'Unit Detail'!$Y$8:$Y$400,3)","v":0},{"$f":"SUMIFS('Unit Detail'!$H$8:$H$400,'Unit Detail'!$D$8:$D$400,'Building Detail'!$B169,'Unit Detail'!$Y$8:$Y$400,2)","v":0},{"$f":"SUMIF('Unit Detail'!$D$8:$D$400,$B169,'Unit Detail'!$H$8:$H$400)","v":0},0,"",{"$f":"COUNTIFS('Unit Detail'!$Y$8:$Y$400,\"1\",'Unit Detail'!$D$8:$D$400,'Building Detail'!$B169)","v":0},{"$f":"COUNTIFS('Unit Detail'!$Y$8:$Y$400,\"3\",'Unit Detail'!$D$8:$D$400,'Building Detail'!$B169)","v":0},{"$f":"COUNTIFS('Unit Detail'!$Y$8:$Y$400,\"2\",'Unit Detail'!$D$8:$D$400,'Building Detail'!$B169)","v":0},0,"",""]
[null,null,null,null,null,null,null,null,null,null,null,null,null,null,{"$f":"SUMIFS('Unit Detail'!$H$8:$H$400,'Unit Detail'!$D$8:$D$400,'Building Detail'!$B170,'Unit Detail'!$Y$8:$Y$400,1)","v":0},{"$f":"SUMIFS('Unit Detail'!$H$8:$H$400,'Unit Detail'!$D$8:$D$400,'Building Detail'!$B170,'Unit Detail'!$Y$8:$Y$400,3)","v":0},{"$f":"SUMIFS('Unit Detail'!$H$8:$H$400,'Unit Detail'!$D$8:$D$400,'Building Detail'!$B170,'Unit Detail'!$Y$8:$Y$400,2)","v":0},{"$f":"SUMIF('Unit Detail'!$D$8:$D$400,$B170,'Unit Detail'!$H$8:$H$400)","v":0},0,"",{"$f":"COUNTIFS('Unit Detail'!$Y$8:$Y$400,\"1\",'Unit Detail'!$D$8:$D$400,'Building Detail'!$B170)","v":0},{"$f":"COUNTIFS('Unit Detail'!$Y$8:$Y$400,\"3\",'Unit Detail'!$D$8:$D$400,'Building Detail'!$B170)","v":0},{"$f":"COUNTIFS('Unit Detail'!$Y$8:$Y$400,\"2\",'Unit Detail'!$D$8:$D$400,'Building Detail'!$B170)","v":0},0,"",""]
[null,null,null,null,null,null,null,null,null,null,null,null,null,null,{"$f":"SUMIFS('Unit Detail'!$H$8:$H$400,'Unit Detail'!$D$8:$D$400,'Building Detail'!$B171,'Unit Detail'!$Y$8:$Y$400,1)","v":0},{"$f":"SUMIFS('Unit Detail'!$H$8:$H$400,'Unit Detail'!$D$8:$D$400,'Building Detail'!$B171,'Unit Detail'!$Y$8:$Y$400,3)","v":0},{"$f":"SUMIFS('Unit Detail'!$H$8:$H$400,'Unit Detail'!$D$8:$D$400,'Building Detail'!$B171,'Unit Detail'!$Y$8:$Y$400,2)","v":0},{"$f":"SUMIF('Unit Detail'!$D$8:$D$400,$B171,'Unit Detail'!$H$8:$H$400)","v":0},0,"",{"$f":"COUNTIFS('Unit Detail'!$Y$8:$Y$400,\"1\",'Unit Detail'!$D$8:$D$400,'Building Detail'!$B171)","v":0},{"$f":"COUNTIFS('Unit Detail'!$Y$8:$Y$400,\"3\",'Unit Detail'!$D$8:$D$400,'Building Detail'!$B171)","v":0},{"$f":"COUNTIFS('Unit Detail'!$Y$8:$Y$400,\"2\",'Unit Detail'!$D$8:$D$400,'Building Detail'!$B171)","v":0},0,"",""]
[null,null,null,null,null,null,null,null,null,null,null,null,null,null,{"$f":"SUMIFS('Unit Detail'!$H$8:$H$400,'Unit Detail'!$D$8:$D$400,'Building Detail'!$B172,'Unit Detail'!$Y$8:$Y$400,1)","v":0},{"$f":"SUMIFS('Unit Detail'!$H$8:$H$400,'Unit Detail'!$D$8:$D$400,'Building Detail'!$B172,'Unit Detail'!$Y$8:$Y$400,3)","v":0},{"$f":"SUMIFS('Unit Detail'!$H$8:$H$400,'Unit Detail'!$D$8:$D$400,'Building Detail'!$B172,'Unit Detail'!$Y$8:$Y$400,2)","v":0},{"$f":"SUMIF('Unit Detail'!$D$8:$D$400,$B172,'Unit Detail'!$H$8:$H$400)","v":0},0,"",{"$f":"COUNTIFS('Unit Detail'!$Y$8:$Y$400,\"1\",'Unit Detail'!$D$8:$D$400,'Building Detail'!$B172)","v":0},{"$f":"COUNTIFS('Unit Detail'!$Y$8:$Y$400,\"3\",'Unit Detail'!$D$8:$D$400,'Building Detail'!$B172)","v":0},{"$f":"COUNTIFS('Unit Detail'!$Y$8:$Y$400,\"2\",'Unit Detail'!$D$8:$D$400,'Building Detail'!$B172)","v":0},0,"",""]
[null,null,null,null,null,null,null,null,null,null,null,null,null,null,{"$f":"SUMIFS('Unit Detail'!$H$8:$H$400,'Unit Detail'!$D$8:$D$400,'Building Detail'!$B173,'Unit Detail'!$Y$8:$Y$400,1)","v":0},{"$f":"SUMIFS('Unit Detail'!$H$8:$H$400,'Unit Detail'!$D$8:$D$400,'Building Detail'!$B173,'Unit Detail'!$Y$8:$Y$400,3)","v":0},{"$f":"SUMIFS('Unit Detail'!$H$8:$H$400,'Unit Detail'!$D$8:$D$400,'Building Detail'!$B173,'Unit Detail'!$Y$8:$Y$400,2)","v":0},{"$f":"SUMIF('Unit Detail'!$D$8:$D$400,$B173,'Unit Detail'!$H$8:$H$400)","v":0},0,"",{"$f":"COUNTIFS('Unit Detail'!$Y$8:$Y$400,\"1\",'Unit Detail'!$D$8:$D$400,'Building Detail'!$B173)","v":0},{"$f":"COUNTIFS('Unit Detail'!$Y$8:$Y$400,\"3\",'Unit Detail'!$D$8:$D$400,'Building Detail'!$B173)","v":0},{"$f":"COUNTIFS('Unit Detail'!$Y$8:$Y$400,\"2\",'Unit Detail'!$D$8:$D$400,'Building Detail'!$B173)","v":0},0,"",""]
[null,null,null,null,null,null,null,null,null,null,null,null,null,null,{"$f":"SUMIFS('Unit Detail'!$H$8:$H$400,'Unit Detail'!$D$8:$D$400,'Building Detail'!$B174,'Unit Detail'!$Y$8:$Y$400,1)","v":0},{"$f":"SUMIFS('Unit Detail'!$H$8:$H$400,'Unit Detail'!$D$8:$D$400,'Building Detail'!$B174,'Unit Detail'!$Y$8:$Y$400,3)","v":0},{"$f":"SUMIFS('Unit Detail'!$H$8:$H$400,'Unit Detail'!$D$8:$D$400,'Building Detail'!$B174,'Unit Detail'!$Y$8:$Y$400,2)","v":0},{"$f":"SUMIF('Unit Detail'!$D$8:$D$400,$B174,'Unit Detail'!$H$8:$H$400)","v":0},0,"",{"$f":"COUNTIFS('Unit Detail'!$Y$8:$Y$400,\"1\",'Unit Detail'!$D$8:$D$400,'Building Detail'!$B174)","v":0},{"$f":"COUNTIFS('Unit Detail'!$Y$8:$Y$400,\"3\",'Unit Detail'!$D$8:$D$400,'Building Detail'!$B174)","v":0},{"$f":"COUNTIFS('Unit Detail'!$Y$8:$Y$400,\"2\",'Unit Detail'!$D$8:$D$400,'Building Detail'!$B174)","v":0},0,"",""]
[null,null,null,null,null,null,null,null,null,null,null,null,null,null,{"$f":"SUMIFS('Unit Detail'!$H$8:$H$400,'Unit Detail'!$D$8:$D$400,'Building Detail'!$B175,'Unit Detail'!$Y$8:$Y$400,1)","v":0},{"$f":"SUMIFS('Unit Detail'!$H$8:$H$400,'Unit Detail'!$D$8:$D$400,'Building Detail'!$B175,'Unit Detail'!$Y$8:$Y$400,3)","v":0},{"$f":"SUMIFS('Unit Detail'!$H$8:$H$400,'Unit Detail'!$D$8:$D$400,'Building Detail'!$B175,'Unit Detail'!$Y$8:$Y$400,2)","v":0},{"$f":"SUMIF('Unit Detail'!$D$8:$D$400,$B175,'Unit Detail'!$H$8:$H$400)","v":0},0,"",{"$f":"COUNTIFS('Unit Detail'!$Y$8:$Y$400,\"1\",'Unit Detail'!$D$8:$D$400,'Building Detail'!$B175)","v":0},{"$f":"COUNTIFS('Unit Detail'!$Y$8:$Y$400,\"3\",'Unit Detail'!$D$8:$D$400,'Building Detail'!$B175)","v":0},{"$f":"COUNTIFS('Unit Detail'!$Y$8:$Y$400,\"2\",'Unit Detail'!$D$8:$D$400,'Building Detail'!$B175)","v":0},0,"",""]
[null,null,null,null,null,null,null,null,null,null,null,null,null,null,{"$f":"SUMIFS('Unit Detail'!$H$8:$H$400,'Unit Detail'!$D$8:$D$400,'Building Detail'!$B176,'Unit Detail'!$Y$8:$Y$400,1)","v":0},{"$f":"SUMIFS('Unit Detail'!$H$8:$H$400,'Unit Detail'!$D$8:$D$400,'Building Detail'!$B176,'Unit Detail'!$Y$8:$Y$400,3)","v":0},{"$f":"SUMIFS('Unit Detail'!$H$8:$H$400,'Unit Detail'!$D$8:$D$400,'Building Detail'!$B176,'Unit Detail'!$Y$8:$Y$400,2)","v":0},{"$f":"SUMIF('Unit Detail'!$D$8:$D$400,$B176,'Unit Detail'!$H$8:$H$400)","v":0},0,"",{"$f":"COUNTIFS('Unit Detail'!$Y$8:$Y$400,\"1\",'Unit Detail'!$D$8:$D$400,'Building Detail'!$B176)","v":0},{"$f":"COUNTIFS('Unit Detail'!$Y$8:$Y$400,\"3\",'Unit Detail'!$D$8:$D$400,'Building Detail'!$B176)","v":0},{"$f":"COUNTIFS('Unit Detail'!$Y$8:$Y$400,\"2\",'Unit Detail'!$D$8:$D$400,'Building Detail'!$B176)","v":0},0,"",""]
[null,null,null,null,null,null,null,null,null,null,null,null,null,null,{"$f":"SUMIFS('Unit Detail'!$H$8:$H$400,'Unit Detail'!$D$8:$D$400,'Building Detail'!$B177,'Unit Detail'!$Y$8:$Y$400,1)","v":0},{"$f":"SUMIFS('Unit Detail'!$H$8:$H$400,'Unit Detail'!$D$8:$D$400,'Building Detail'!$B177,'Unit Detail'!$Y$8:$Y$400,3)","v":0},{"$f":"SUMIFS('Unit Detail'!$H$8:$H$400,'Unit Detail'!$D$8:$D$400,'Building Detail'!$B177,'Unit Detail'!$Y$8:$Y$400,2)","v":0},{"$f":"SUMIF('Unit Detail'!$D$8:$D$400,$B177,'Unit Detail'!$H$8:$H$400)","v":0},0,"",{"$f":"COUNTIFS('Unit Detail'!$Y$8:$Y$400,\"1\",'Unit Detail'!$D$8:$D$400,'Building Detail'!$B177)","v":0},{"$f":"COUNTIFS('Unit Detail'!$Y$8:$Y$400,\"3\",'Unit Detail'!$D$8:$D$400,'Building Detail'!$B177)","v":0},{"$f":"COUNTIFS('Unit Detail'!$Y$8:$Y$400,\"2\",'Unit Detail'!$D$8:$D$400,'Building Detail'!$B177)","v":0},0,"",""]
[null,null,null,null,null,null,null,null,null,null,null,null,null,null,{"$f":"SUMIFS('Unit Detail'!$H$8:$H$400,'Unit Detail'!$D$8:$D$400,'Building Detail'!$B178,'Unit Detail'!$Y$8:$Y$400,1)","v":0},{"$f":"SUMIFS('Unit Detail'!$H$8:$H$400,'Unit Detail'!$D$8:$D$400,'Building Detail'!$B178,'Unit Detail'!$Y$8:$Y$400,3)","v":0},{"$f":"SUMIFS('Unit Detail'!$H$8:$H$400,'Unit Detail'!$D$8:$D$400,'Building Detail'!$B178,'Unit Detail'!$Y$8:$Y$400,2)","v":0},{"$f":"SUMIF('Unit Detail'!$D$8:$D$400,$B178,'Unit Detail'!$H$8:$H$400)","v":0},0,"",{"$f":"COUNTIFS('Unit Detail'!$Y$8:$Y$400,\"1\",'Unit Detail'!$D$8:$D$400,'Building Detail'!$B178)","v":0},{"$f":"COUNTIFS('Unit Detail'!$Y$8:$Y$400,\"3\",'Unit Detail'!$D$8:$D$400,'Building Detail'!$B178)","v":0},{"$f":"COUNTIFS('Unit Detail'!$Y$8:$Y$400,\"2\",'Unit Detail'!$D$8:$D$400,'Building Detail'!$B178)","v":0},0,"",""]
[null,null,null,null,null,null,null,null,null,null,null,null,null,null,{"$f":"SUMIFS('Unit Detail'!$H$8:$H$400,'Unit Detail'!$D$8:$D$400,'Building Detail'!$B179,'Unit Detail'!$Y$8:$Y$400,1)","v":0},{"$f":"SUMIFS('Unit Detail'!$H$8:$H$400,'Unit Detail'!$D$8:$D$400,'Building Detail'!$B179,'Unit Detail'!$Y$8:$Y$400,3)","v":0},{"$f":"SUMIFS('Unit Detail'!$H$8:$H$400,'Unit Detail'!$D$8:$D$400,'Building Detail'!$B179,'Unit Detail'!$Y$8:$Y$400,2)","v":0},{"$f":"SUMIF('Unit Detail'!$D$8:$D$400,$B179,'Unit Detail'!$H$8:$H$400)","v":0},0,"",{"$f":"COUNTIFS('Unit Detail'!$Y$8:$Y$400,\"1\",'Unit Detail'!$D$8:$D$400,'Building Detail'!$B179)","v":0},{"$f":"COUNTIFS('Unit Detail'!$Y$8:$Y$400,\"3\",'Unit Detail'!$D$8:$D$400,'Building Detail'!$B179)","v":0},{"$f":"COUNTIFS('Unit Detail'!$Y$8:$Y$400,\"2\",'Unit Detail'!$D$8:$D$400,'Building Detail'!$B179)","v":0},0,"",""]
[null,null,null,null,null,null,null,null,null,null,null,null,null,null,{"$f":"SUMIFS('Unit Detail'!$H$8:$H$400,'Unit Detail'!$D$8:$D$400,'Building Detail'!$B180,'Unit Detail'!$Y$8:$Y$400,1)","v":0},{"$f":"SUMIFS('Unit Detail'!$H$8:$H$400,'Unit Detail'!$D$8:$D$400,'Building Detail'!$B180,'Unit Detail'!$Y$8:$Y$400,3)","v":0},{"$f":"SUMIFS('Unit Detail'!$H$8:$H$400,'Unit Detail'!$D$8:$D$400,'Building Detail'!$B180,'Unit Detail'!$Y$8:$Y$400,2)","v":0},{"$f":"SUMIF('Unit Detail'!$D$8:$D$400,$B180,'Unit Detail'!$H$8:$H$400)","v":0},0,"",{"$f":"COUNTIFS('Unit Detail'!$Y$8:$Y$400,\"1\",'Unit Detail'!$D$8:$D$400,'Building Detail'!$B180)","v":0},{"$f":"COUNTIFS('Unit Detail'!$Y$8:$Y$400,\"3\",'Unit Detail'!$D$8:$D$400,'Building Detail'!$B180)","v":0},{"$f":"COUNTIFS('Unit Detail'!$Y$8:$Y$400,\"2\",'Unit Detail'!$D$8:$D$400,'Building Detail'!$B180)","v":0},0,"",""]
[null,null,null,null,null,null,null,null,null,null,null,null,null,null,{"$f":"SUMIFS('Unit Detail'!$H$8:$H$400,'Unit Detail'!$D$8:$D$400,'Building Detail'!$B181,'Unit Detail'!$Y$8:$Y$400,1)","v":0},{"$f":"SUMIFS('Unit Detail'!$H$8:$H$400,'Unit Detail'!$D$8:$D$400,'Building Detail'!$B181,'Unit Detail'!$Y$8:$Y$400,3)","v":0},{"$f":"SUMIFS('Unit Detail'!$H$8:$H$400,'Unit Detail'!$D$8:$D$400,'Building Detail'!$B181,'Unit Detail'!$Y$8:$Y$400,2)","v":0},{"$f":"SUMIF('Unit Detail'!$D$8:$D$400,$B181,'Unit Detail'!$H$8:$H$400)","v":0},0,"",{"$f":"COUNTIFS('Unit Detail'!$Y$8:$Y$400,\"1\",'Unit Detail'!$D$8:$D$400,'Building Detail'!$B181)","v":0},{"$f":"COUNTIFS('Unit Detail'!$Y$8:$Y$400,\"3\",'Unit Detail'!$D$8:$D$400,'Building Detail'!$B181)","v":0},{"$f":"COUNTIFS('Unit Detail'!$Y$8:$Y$400,\"2\",'Unit Detail'!$D$8:$D$400,'Building Detail'!$B181)","v":0},0,"",""]
[null,null,null,null,null,null,null,null,null,null,null,null,null,null,{"$f":"SUMIFS('Unit Detail'!$H$8:$H$400,'Unit Detail'!$D$8:$D$400,'Building Detail'!$B182,'Unit Detail'!$Y$8:$Y$400,1)","v":0},{"$f":"SUMIFS('Unit Detail'!$H$8:$H$400,'Unit Detail'!$D$8:$D$400,'Building Detail'!$B182,'Unit Detail'!$Y$8:$Y$400,3)","v":0},{"$f":"SUMIFS('Unit Detail'!$H$8:$H$400,'Unit Detail'!$D$8:$D$400,'Building Detail'!$B182,'Unit Detail'!$Y$8:$Y$400,2)","v":0},{"$f":"SUMIF('Unit Detail'!$D$8:$D$400,$B182,'Unit Detail'!$H$8:$H$400)","v":0},0,"",{"$f":"COUNTIFS('Unit Detail'!$Y$8:$Y$400,\"1\",'Unit Detail'!$D$8:$D$400,'Building Detail'!$B182)","v":0},{"$f":"COUNTIFS('Unit Detail'!$Y$8:$Y$400,\"3\",'Unit Detail'!$D$8:$D$400,'Building Detail'!$B182)","v":0},{"$f":"COUNTIFS('Unit Detail'!$Y$8:$Y$400,\"2\",'Unit Detail'!$D$8:$D$400,'Building Detail'!$B182)","v":0},0,"",""]
[null,null,null,null,null,null,null,null,null,null,null,null,null,null,{"$f":"SUMIFS('Unit Detail'!$H$8:$H$400,'Unit Detail'!$D$8:$D$400,'Building Detail'!$B183,'Unit Detail'!$Y$8:$Y$400,1)","v":0},{"$f":"SUMIFS('Unit Detail'!$H$8:$H$400,'Unit Detail'!$D$8:$D$400,'Building Detail'!$B183,'Unit Detail'!$Y$8:$Y$400,3)","v":0},{"$f":"SUMIFS('Unit Detail'!$H$8:$H$400,'Unit Detail'!$D$8:$D$400,'Building Detail'!$B183,'Unit Detail'!$Y$8:$Y$400,2)","v":0},{"$f":"SUMIF('Unit Detail'!$D$8:$D$400,$B183,'Unit Detail'!$H$8:$H$400)","v":0},0,"",{"$f":"COUNTIFS('Unit Detail'!$Y$8:$Y$400,\"1\",'Unit Detail'!$D$8:$D$400,'Building Detail'!$B183)","v":0},{"$f":"COUNTIFS('Unit Detail'!$Y$8:$Y$400,\"3\",'Unit Detail'!$D$8:$D$400,'Building Detail'!$B183)","v":0},{"$f":"COUNTIFS('Unit Detail'!$Y$8:$Y$400,\"2\",'Unit Detail'!$D$8:$D$400,'Building Detail'!$B183)","v":0},0,"",""]
[null,null,null,null,null,null,null,null,null,null,null,null,null,null,{"$f":"SUMIFS('Unit Detail'!$H$8:$H$400,'Unit Detail'!$D$8:$D$400,'Building Detail'!$B184,'Unit Detail'!$Y$8:$Y$400,1)","v":0},{"$f":"SUMIFS('Unit Detail'!$H$8:$H$400,'Unit Detail'!$D$8:$D$400,'Building Detail'!$B184,'Unit Detail'!$Y$8:$Y$400,3)","v":0},{"$f":"SUMIFS('Unit Detail'!$H$8:$H$400,'Unit Detail'!$D$8:$D$400,'Building Detail'!$B184,'Unit Detail'!$Y$8:$Y$400,2)","v":0},{"$f":"SUMIF('Unit Detail'!$D$8:$D$400,$B184,'Unit Detail'!$H$8:$H$400)","v":0},0,"",{"$f":"COUNTIFS('Unit Detail'!$Y$8:$Y$400,\"1\",'Unit Detail'!$D$8:$D$400,'Building Detail'!$B184)","v":0},{"$f":"COUNTIFS('Unit Detail'!$Y$8:$Y$400,\"3\",'Unit Detail'!$D$8:$D$400,'Building Detail'!$B184)","v":0},{"$f":"COUNTIFS('Unit Detail'!$Y$8:$Y$400,\"2\",'Unit Detail'!$D$8:$D$400,'Building Detail'!$B184)","v":0},0,"",""]
[null,null,null,null,null,null,null,null,null,null,null,null,null,null,{"$f":"SUMIFS('Unit Detail'!$H$8:$H$400,'Unit Detail'!$D$8:$D$400,'Building Detail'!$B185,'Unit Detail'!$Y$8:$Y$400,1)","v":0},{"$f":"SUMIFS('Unit Detail'!$H$8:$H$400,'Unit Detail'!$D$8:$D$400,'Building Detail'!$B185,'Unit Detail'!$Y$8:$Y$400,3)","v":0},{"$f":"SUMIFS('Unit Detail'!$H$8:$H$400,'Unit Detail'!$D$8:$D$400,'Building Detail'!$B185,'Unit Detail'!$Y$8:$Y$400,2)","v":0},{"$f":"SUMIF('Unit Detail'!$D$8:$D$400,$B185,'Unit Detail'!$H$8:$H$400)","v":0},0,"",{"$f":"COUNTIFS('Unit Detail'!$Y$8:$Y$400,\"1\",'Unit Detail'!$D$8:$D$400,'Building Detail'!$B185)","v":0},{"$f":"COUNTIFS('Unit Detail'!$Y$8:$Y$400,\"3\",'Unit Detail'!$D$8:$D$400,'Building Detail'!$B185)","v":0},{"$f":"COUNTIFS('Unit Detail'!$Y$8:$Y$400,\"2\",'Unit Detail'!$D$8:$D$400,'Building Detail'!$B185)","v":0},0,"",""]
[null,null,null,null,null,null,null,null,null,null,null,null,null,null,{"$f":"SUMIFS('Unit Detail'!$H$8:$H$400,'Unit Detail'!$D$8:$D$400,'Building Detail'!$B186,'Unit Detail'!$Y$8:$Y$400,1)","v":0},{"$f":"SUMIFS('Unit Detail'!$H$8:$H$400,'Unit Detail'!$D$8:$D$400,'Building Detail'!$B186,'Unit Detail'!$Y$8:$Y$400,3)","v":0},{"$f":"SUMIFS('Unit Detail'!$H$8:$H$400,'Unit Detail'!$D$8:$D$400,'Building Detail'!$B186,'Unit Detail'!$Y$8:$Y$400,2)","v":0},{"$f":"SUMIF('Unit Detail'!$D$8:$D$400,$B186,'Unit Detail'!$H$8:$H$400)","v":0},0,"",{"$f":"COUNTIFS('Unit Detail'!$Y$8:$Y$400,\"1\",'Unit Detail'!$D$8:$D$400,'Building Detail'!$B186)","v":0},{"$f":"COUNTIFS('Unit Detail'!$Y$8:$Y$400,\"3\",'Unit Detail'!$D$8:$D$400,'Building Detail'!$B186)","v":0},{"$f":"COUNTIFS('Unit Detail'!$Y$8:$Y$400,\"2\",'Unit Detail'!$D$8:$D$400,'Building Detail'!$B186)","v":0},0,"",""]
[null,null,null,null,null,null,null,null,null,null,null,null,null,null,{"$f":"SUMIFS('Unit Detail'!$H$8:$H$400,'Unit Detail'!$D$8:$D$400,'Building Detail'!$B187,'Unit Detail'!$Y$8:$Y$400,1)","v":0},{"$f":"SUMIFS('Unit Detail'!$H$8:$H$400,'Unit Detail'!$D$8:$D$400,'Building Detail'!$B187,'Unit Detail'!$Y$8:$Y$400,3)","v":0},{"$f":"SUMIFS('Unit Detail'!$H$8:$H$400,'Unit Detail'!$D$8:$D$400,'Building Detail'!$B187,'Unit Detail'!$Y$8:$Y$400,2)","v":0},{"$f":"SUMIF('Unit Detail'!$D$8:$D$400,$B187,'Unit Detail'!$H$8:$H$400)","v":0},0,"",{"$f":"COUNTIFS('Unit Detail'!$Y$8:$Y$400,\"1\",'Unit Detail'!$D$8:$D$400,'Building Detail'!$B187)","v":0},{"$f":"COUNTIFS('Unit Detail'!$Y$8:$Y$400,\"3\",'Unit Detail'!$D$8:$D$400,'Building Detail'!$B187)","v":0},{"$f":"COUNTIFS('Unit Detail'!$Y$8:$Y$400,\"2\",'Unit Detail'!$D$8:$D$400,'Building Detail'!$B187)","v":0},0,"",""]
[null,null,null,null,null,null,null,null,null,null,null,null,null,null,{"$f":"SUMIFS('Unit Detail'!$H$8:$H$400,'Unit Detail'!$D$8:$D$400,'Building Detail'!$B188,'Unit Detail'!$Y$8:$Y$400,1)","v":0},{"$f":"SUMIFS('Unit Detail'!$H$8:$H$400,'Unit Detail'!$D$8:$D$400,'Building Detail'!$B188,'Unit Detail'!$Y$8:$Y$400,3)","v":0},{"$f":"SUMIFS('Unit Detail'!$H$8:$H$400,'Unit Detail'!$D$8:$D$400,'Building Detail'!$B188,'Unit Detail'!$Y$8:$Y$400,2)","v":0},{"$f":"SUMIF('Unit Detail'!$D$8:$D$400,$B188,'Unit Detail'!$H$8:$H$400)","v":0},0,"",{"$f":"COUNTIFS('Unit Detail'!$Y$8:$Y$400,\"1\",'Unit Detail'!$D$8:$D$400,'Building Detail'!$B188)","v":0},{"$f":"COUNTIFS('Unit Detail'!$Y$8:$Y$400,\"3\",'Unit Detail'!$D$8:$D$400,'Building Detail'!$B188)","v":0},{"$f":"COUNTIFS('Unit Detail'!$Y$8:$Y$400,\"2\",'Unit Detail'!$D$8:$D$400,'Building Detail'!$B188)","v":0},0,"",""]
[null,null,null,null,null,null,null,null,null,null,null,null,null,null,{"$f":"SUMIFS('Unit Detail'!$H$8:$H$400,'Unit Detail'!$D$8:$D$400,'Building Detail'!$B189,'Unit Detail'!$Y$8:$Y$400,1)","v":0},{"$f":"SUMIFS('Unit Detail'!$H$8:$H$400,'Unit Detail'!$D$8:$D$400,'Building Detail'!$B189,'Unit Detail'!$Y$8:$Y$400,3)","v":0},{"$f":"SUMIFS('Unit Detail'!$H$8:$H$400,'Unit Detail'!$D$8:$D$400,'Building Detail'!$B189,'Unit Detail'!$Y$8:$Y$400,2)","v":0},{"$f":"SUMIF('Unit Detail'!$D$8:$D$400,$B189,'Unit Detail'!$H$8:$H$400)","v":0},0,"",{"$f":"COUNTIFS('Unit Detail'!$Y$8:$Y$400,\"1\",'Unit Detail'!$D$8:$D$400,'Building Detail'!$B189)","v":0},{"$f":"COUNTIFS('Unit Detail'!$Y$8:$Y$400,\"3\",'Unit Detail'!$D$8:$D$400,'Building Detail'!$B189)","v":0},{"$f":"COUNTIFS('Unit Detail'!$Y$8:$Y$400,\"2\",'Unit Detail'!$D$8:$D$400,'Building Detail'!$B189)","v":0},0,"",""]
[null,null,null,null,null,null,null,null,null,null,null,null,null,null,{"$f":"SUMIFS('Unit Detail'!$H$8:$H$400,'Unit Detail'!$D$8:$D$400,'Building Detail'!$B190,'Unit Detail'!$Y$8:$Y$400,1)","v":0},{"$f":"SUMIFS('Unit Detail'!$H$8:$H$400,'Unit Detail'!$D$8:$D$400,'Building Detail'!$B190,'Unit Detail'!$Y$8:$Y$400,3)","v":0},{"$f":"SUMIFS('Unit Detail'!$H$8:$H$400,'Unit Detail'!$D$8:$D$400,'Building Detail'!$B190,'Unit Detail'!$Y$8:$Y$400,2)","v":0},{"$f":"SUMIF('Unit Detail'!$D$8:$D$400,$B190,'Unit Detail'!$H$8:$H$400)","v":0},0,"",{"$f":"COUNTIFS('Unit Detail'!$Y$8:$Y$400,\"1\",'Unit Detail'!$D$8:$D$400,'Building Detail'!$B190)","v":0},{"$f":"COUNTIFS('Unit Detail'!$Y$8:$Y$400,\"3\",'Unit Detail'!$D$8:$D$400,'Building Detail'!$B190)","v":0},{"$f":"COUNTIFS('Unit Detail'!$Y$8:$Y$400,\"2\",'Unit Detail'!$D$8:$D$400,'Building Detail'!$B190)","v":0},0,"",""]
[null,null,null,null,null,null,null,null,null,null,null,null,null,null,{"$f":"SUMIFS('Unit Detail'!$H$8:$H$400,'Unit Detail'!$D$8:$D$400,'Building Detail'!$B191,'Unit Detail'!$Y$8:$Y$400,1)","v":0},{"$f":"SUMIFS('Unit Detail'!$H$8:$H$400,'Unit Detail'!$D$8:$D$400,'Building Detail'!$B191,'Unit Detail'!$Y$8:$Y$400,3)","v":0},{"$f":"SUMIFS('Unit Detail'!$H$8:$H$400,'Unit Detail'!$D$8:$D$400,'Building Detail'!$B191,'Unit Detail'!$Y$8:$Y$400,2)","v":0},{"$f":"SUMIF('Unit Detail'!$D$8:$D$400,$B191,'Unit Detail'!$H$8:$H$400)","v":0},0,"",{"$f":"COUNTIFS('Unit Detail'!$Y$8:$Y$400,\"1\",'Unit Detail'!$D$8:$D$400,'Building Detail'!$B191)","v":0},{"$f":"COUNTIFS('Unit Detail'!$Y$8:$Y$400,\"3\",'Unit Detail'!$D$8:$D$400,'Building Detail'!$B191)","v":0},{"$f":"COUNTIFS('Unit Detail'!$Y$8:$Y$400,\"2\",'Unit Detail'!$D$8:$D$400,'Building Detail'!$B191)","v":0},0,"",""]
[null,null,null,null,null,null,null,null,null,null,null,null,null,null,{"$f":"SUMIFS('Unit Detail'!$H$8:$H$400,'Unit Detail'!$D$8:$D$400,'Building Detail'!$B192,'Unit Detail'!$Y$8:$Y$400,1)","v":0},{"$f":"SUMIFS('Unit Detail'!$H$8:$H$400,'Unit Detail'!$D$8:$D$400,'Building Detail'!$B192,'Unit Detail'!$Y$8:$Y$400,3)","v":0},{"$f":"SUMIFS('Unit Detail'!$H$8:$H$400,'Unit Detail'!$D$8:$D$400,'Building Detail'!$B192,'Unit Detail'!$Y$8:$Y$400,2)","v":0},{"$f":"SUMIF('Unit Detail'!$D$8:$D$400,$B192,'Unit Detail'!$H$8:$H$400)","v":0},0,"",{"$f":"COUNTIFS('Unit Detail'!$Y$8:$Y$400,\"1\",'Unit Detail'!$D$8:$D$400,'Building Detail'!$B192)","v":0},{"$f":"COUNTIFS('Unit Detail'!$Y$8:$Y$400,\"3\",'Unit Detail'!$D$8:$D$400,'Building Detail'!$B192)","v":0},{"$f":"COUNTIFS('Unit Detail'!$Y$8:$Y$400,\"2\",'Unit Detail'!$D$8:$D$400,'Building Detail'!$B192)","v":0},0,"",""]
[null,null,null,null,null,null,null,null,null,null,null,null,null,null,{"$f":"SUMIFS('Unit Detail'!$H$8:$H$400,'Unit Detail'!$D$8:$D$400,'Building Detail'!$B193,'Unit Detail'!$Y$8:$Y$400,1)","v":0},{"$f":"SUMIFS('Unit Detail'!$H$8:$H$400,'Unit Detail'!$D$8:$D$400,'Building Detail'!$B193,'Unit Detail'!$Y$8:$Y$400,3)","v":0},{"$f":"SUMIFS('Unit Detail'!$H$8:$H$400,'Unit Detail'!$D$8:$D$400,'Building Detail'!$B193,'Unit Detail'!$Y$8:$Y$400,2)","v":0},{"$f":"SUMIF('Unit Detail'!$D$8:$D$400,$B193,'Unit Detail'!$H$8:$H$400)","v":0},0,"",{"$f":"COUNTIFS('Unit Detail'!$Y$8:$Y$400,\"1\",'Unit Detail'!$D$8:$D$400,'Building Detail'!$B193)","v":0},{"$f":"COUNTIFS('Unit Detail'!$Y$8:$Y$400,\"3\",'Unit Detail'!$D$8:$D$400,'Building Detail'!$B193)","v":0},{"$f":"COUNTIFS('Unit Detail'!$Y$8:$Y$400,\"2\",'Unit Detail'!$D$8:$D$400,'Building Detail'!$B193)","v":0},0,"",""]
[null,null,null,null,null,null,null,null,null,null,null,null,null,null,{"$f":"SUMIFS('Unit Detail'!$H$8:$H$400,'Unit Detail'!$D$8:$D$400,'Building Detail'!$B194,'Unit Detail'!$Y$8:$Y$400,1)","v":0},{"$f":"SUMIFS('Unit Detail'!$H$8:$H$400,'Unit Detail'!$D$8:$D$400,'Building Detail'!$B194,'Unit Detail'!$Y$8:$Y$400,3)","v":0},{"$f":"SUMIFS('Unit Detail'!$H$8:$H$400,'Unit Detail'!$D$8:$D$400,'Building Detail'!$B194,'Unit Detail'!$Y$8:$Y$400,2)","v":0},{"$f":"SUMIF('Unit Detail'!$D$8:$D$400,$B194,'Unit Detail'!$H$8:$H$400)","v":0},0,"",{"$f":"COUNTIFS('Unit Detail'!$Y$8:$Y$400,\"1\",'Unit Detail'!$D$8:$D$400,'Building Detail'!$B194)","v":0},{"$f":"COUNTIFS('Unit Detail'!$Y$8:$Y$400,\"3\",'Unit Detail'!$D$8:$D$400,'Building Detail'!$B194)","v":0},{"$f":"COUNTIFS('Unit Detail'!$Y$8:$Y$400,\"2\",'Unit Detail'!$D$8:$D$400,'Building Detail'!$B194)","v":0},0,"",""]
[null,null,null,null,null,null,null,null,null,null,null,null,null,null,{"$f":"SUMIFS('Unit Detail'!$H$8:$H$400,'Unit Detail'!$D$8:$D$400,'Building Detail'!$B195,'Unit Detail'!$Y$8:$Y$400,1)","v":0},{"$f":"SUMIFS('Unit Detail'!$H$8:$H$400,'Unit Detail'!$D$8:$D$400,'Building Detail'!$B195,'Unit Detail'!$Y$8:$Y$400,3)","v":0},{"$f":"SUMIFS('Unit Detail'!$H$8:$H$400,'Unit Detail'!$D$8:$D$400,'Building Detail'!$B195,'Unit Detail'!$Y$8:$Y$400,2)","v":0},{"$f":"SUMIF('Unit Detail'!$D$8:$D$400,$B195,'Unit Detail'!$H$8:$H$400)","v":0},{"$f":"SUM(M195,N195,R195)","v":0},"",{"$f":"COUNTIFS('Unit Detail'!$Y$8:$Y$400,\"1\",'Unit Detail'!$D$8:$D$400,'Building Detail'!$B195)","v":0},{"$f":"COUNTIFS('Unit Detail'!$Y$8:$Y$400,\"3\",'Unit Detail'!$D$8:$D$400,'Building Detail'!$B195)","v":0},{"$f":"COUNTIFS('Unit Detail'!$Y$8:$Y$400,\"2\",'Unit Detail'!$D$8:$D$400,'Building Detail'!$B195)","v":0},{"$f":"SUM(U195:W195)","v":0},"",""]
[null,null,null,null,null,null,null,null,null,null,null,null,null,null,{"$f":"SUMIFS('Unit Detail'!$H$8:$H$400,'Unit Detail'!$D$8:$D$400,'Building Detail'!$B196,'Unit Detail'!$Y$8:$Y$400,1)","v":0},{"$f":"SUMIFS('Unit Detail'!$H$8:$H$400,'Unit Detail'!$D$8:$D$400,'Building Detail'!$B196,'Unit Detail'!$Y$8:$Y$400,3)","v":0},{"$f":"SUMIFS('Unit Detail'!$H$8:$H$400,'Unit Detail'!$D$8:$D$400,'Building Detail'!$B196,'Unit Detail'!$Y$8:$Y$400,2)","v":0},{"$f":"SUMIF('Unit Detail'!$D$8:$D$400,$B196,'Unit Detail'!$H$8:$H$400)","v":0},0,"",{"$f":"COUNTIFS('Unit Detail'!$Y$8:$Y$400,\"1\",'Unit Detail'!$D$8:$D$400,'Building Detail'!$B196)","v":0},{"$f":"COUNTIFS('Unit Detail'!$Y$8:$Y$400,\"3\",'Unit Detail'!$D$8:$D$400,'Building Detail'!$B196)","v":0},{"$f":"COUNTIFS('Unit Detail'!$Y$8:$Y$400,\"2\",'Unit Detail'!$D$8:$D$400,'Building Detail'!$B196)","v":0},0,"",""]
[null,null,null,null,null,null,null,null,null,null,null,null,null,null,{"$f":"SUMIFS('Unit Detail'!$H$8:$H$400,'Unit Detail'!$D$8:$D$400,'Building Detail'!$B197,'Unit Detail'!$Y$8:$Y$400,1)","v":0},{"$f":"SUMIFS('Unit Detail'!$H$8:$H$400,'Unit Detail'!$D$8:$D$400,'Building Detail'!$B197,'Unit Detail'!$Y$8:$Y$400,3)","v":0},{"$f":"SUMIFS('Unit Detail'!$H$8:$H$400,'Unit Detail'!$D$8:$D$400,'Building Detail'!$B197,'Unit Detail'!$Y$8:$Y$400,2)","v":0},{"$f":"SUMIF('Unit Detail'!$D$8:$D$400,$B197,'Unit Detail'!$H$8:$H$400)","v":0},0,"",{"$f":"COUNTIFS('Unit Detail'!$Y$8:$Y$400,\"1\",'Unit Detail'!$D$8:$D$400,'Building Detail'!$B197)","v":0},{"$f":"COUNTIFS('Unit Detail'!$Y$8:$Y$400,\"3\",'Unit Detail'!$D$8:$D$400,'Building Detail'!$B197)","v":0},{"$f":"COUNTIFS('Unit Detail'!$Y$8:$Y$400,\"2\",'Unit Detail'!$D$8:$D$400,'Building Detail'!$B197)","v":0},0,"",""]
[null,null,null,null,null,null,null,null,null,null,null,null,null,null,{"$f":"SUMIFS('Unit Detail'!$H$8:$H$400,'Unit Detail'!$D$8:$D$400,'Building Detail'!$B198,'Unit Detail'!$Y$8:$Y$400,1)","v":0},{"$f":"SUMIFS('Unit Detail'!$H$8:$H$400,'Unit Detail'!$D$8:$D$400,'Building Detail'!$B198,'Unit Detail'!$Y$8:$Y$400,3)","v":0},{"$f":"SUMIFS('Unit Detail'!$H$8:$H$400,'Unit Detail'!$D$8:$D$400,'Building Detail'!$B198,'Unit Detail'!$Y$8:$Y$400,2)","v":0},{"$f":"SUMIF('Unit Detail'!$D$8:$D$400,$B198,'Unit Detail'!$H$8:$H$400)","v":0},0,"",{"$f":"COUNTIFS('Unit Detail'!$Y$8:$Y$400,\"1\",'Unit Detail'!$D$8:$D$400,'Building Detail'!$B198)","v":0},{"$f":"COUNTIFS('Unit Detail'!$Y$8:$Y$400,\"3\",'Unit Detail'!$D$8:$D$400,'Building Detail'!$B198)","v":0},{"$f":"COUNTIFS('Unit Detail'!$Y$8:$Y$400,\"2\",'Unit Detail'!$D$8:$D$400,'Building Detail'!$B198)","v":0},0,"",""]
[null,null,null,null,null,null,null,null,null,null,null,null,null,null,{"$f":"SUMIFS('Unit Detail'!$H$8:$H$400,'Unit Detail'!$D$8:$D$400,'Building Detail'!$B199,'Unit Detail'!$Y$8:$Y$400,1)","v":0},{"$f":"SUMIFS('Unit Detail'!$H$8:$H$400,'Unit Detail'!$D$8:$D$400,'Building Detail'!$B199,'Unit Detail'!$Y$8:$Y$400,3)","v":0},{"$f":"SUMIFS('Unit Detail'!$H$8:$H$400,'Unit Detail'!$D$8:$D$400,'Building Detail'!$B199,'Unit Detail'!$Y$8:$Y$400,2)","v":0},{"$f":"SUMIF('Unit Detail'!$D$8:$D$400,$B199,'Unit Detail'!$H$8:$H$400)","v":0},0,"",{"$f":"COUNTIFS('Unit Detail'!$Y$8:$Y$400,\"1\",'Unit Detail'!$D$8:$D$400,'Building Detail'!$B199)","v":0},{"$f":"COUNTIFS('Unit Detail'!$Y$8:$Y$400,\"3\",'Unit Detail'!$D$8:$D$400,'Building Detail'!$B199)","v":0},{"$f":"COUNTIFS('Unit Detail'!$Y$8:$Y$400,\"2\",'Unit Detail'!$D$8:$D$400,'Building Detail'!$B199)","v":0},0,"",""]
[null,null,null,null,null,null,null,null,null,null,null,null,null,null,{"$f":"SUMIFS('Unit Detail'!$H$8:$H$400,'Unit Detail'!$D$8:$D$400,'Building Detail'!$B200,'Unit Detail'!$Y$8:$Y$400,1)","v":0},{"$f":"SUMIFS('Unit Detail'!$H$8:$H$400,'Unit Detail'!$D$8:$D$400,'Building Detail'!$B200,'Unit Detail'!$Y$8:$Y$400,3)","v":0},{"$f":"SUMIFS('Unit Detail'!$H$8:$H$400,'Unit Detail'!$D$8:$D$400,'Building Detail'!$B200,'Unit Detail'!$Y$8:$Y$400,2)","v":0},{"$f":"SUMIF('Unit Detail'!$D$8:$D$400,$B200,'Unit Detail'!$H$8:$H$400)","v":0},0,"",{"$f":"COUNTIFS('Unit Detail'!$Y$8:$Y$400,\"1\",'Unit Detail'!$D$8:$D$400,'Building Detail'!$B200)","v":0},{"$f":"COUNTIFS('Unit Detail'!$Y$8:$Y$400,\"3\",'Unit Detail'!$D$8:$D$400,'Building Detail'!$B200)","v":0},{"$f":"COUNTIFS('Unit Detail'!$Y$8:$Y$400,\"2\",'Unit Detail'!$D$8:$D$400,'Building Detail'!$B200)","v":0},0,"",""]
[null,null,null,null,null,null,null,null,null,null,null,null,null,null,{"$f":"SUMIFS('Unit Detail'!$H$8:$H$400,'Unit Detail'!$D$8:$D$400,'Building Detail'!$B201,'Unit Detail'!$Y$8:$Y$400,1)","v":0},{"$f":"SUMIFS('Unit Detail'!$H$8:$H$400,'Unit Detail'!$D$8:$D$400,'Building Detail'!$B201,'Unit Detail'!$Y$8:$Y$400,3)","v":0},{"$f":"SUMIFS('Unit Detail'!$H$8:$H$400,'Unit Detail'!$D$8:$D$400,'Building Detail'!$B201,'Unit Detail'!$Y$8:$Y$400,2)","v":0},{"$f":"SUMIF('Unit Detail'!$D$8:$D$400,$B201,'Unit Detail'!$H$8:$H$400)","v":0},0,"",{"$f":"COUNTIFS('Unit Detail'!$Y$8:$Y$400,\"1\",'Unit Detail'!$D$8:$D$400,'Building Detail'!$B201)","v":0},{"$f":"COUNTIFS('Unit Detail'!$Y$8:$Y$400,\"3\",'Unit Detail'!$D$8:$D$400,'Building Detail'!$B201)","v":0},{"$f":"COUNTIFS('Unit Detail'!$Y$8:$Y$400,\"2\",'Unit Detail'!$D$8:$D$400,'Building Detail'!$B201)","v":0},0,"",""]
[null,null,null,null,null,null,null,null,null,null,null,null,null,null,{"$f":"SUMIFS('Unit Detail'!$H$8:$H$400,'Unit Detail'!$D$8:$D$400,'Building Detail'!$B202,'Unit Detail'!$Y$8:$Y$400,1)","v":0},{"$f":"SUMIFS('Unit Detail'!$H$8:$H$400,'Unit Detail'!$D$8:$D$400,'Building Detail'!$B202,'Unit Detail'!$Y$8:$Y$400,3)","v":0},{"$f":"SUMIFS('Unit Detail'!$H$8:$H$400,'Unit Detail'!$D$8:$D$400,'Building Detail'!$B202,'Unit Detail'!$Y$8:$Y$400,2)","v":0},{"$f":"SUMIF('Unit Detail'!$D$8:$D$400,$B202,'Unit Detail'!$H$8:$H$400)","v":0},0,"",{"$f":"COUNTIFS('Unit Detail'!$Y$8:$Y$400,\"1\",'Unit Detail'!$D$8:$D$400,'Building Detail'!$B202)","v":0},{"$f":"COUNTIFS('Unit Detail'!$Y$8:$Y$400,\"3\",'Unit Detail'!$D$8:$D$400,'Building Detail'!$B202)","v":0},{"$f":"COUNTIFS('Unit Detail'!$Y$8:$Y$400,\"2\",'Unit Detail'!$D$8:$D$400,'Building Detail'!$B202)","v":0},0,"",""]
[null,null,null,null,null,null,null,null,null,null,null,null,null,null,{"$f":"SUMIFS('Unit Detail'!$H$8:$H$400,'Unit Detail'!$D$8:$D$400,'Building Detail'!$B203,'Unit Detail'!$Y$8:$Y$400,1)","v":0},{"$f":"SUMIFS('Unit Detail'!$H$8:$H$400,'Unit Detail'!$D$8:$D$400,'Building Detail'!$B203,'Unit Detail'!$Y$8:$Y$400,3)","v":0},{"$f":"SUMIFS('Unit Detail'!$H$8:$H$400,'Unit Detail'!$D$8:$D$400,'Building Detail'!$B203,'Unit Detail'!$Y$8:$Y$400,2)","v":0},{"$f":"SUMIF('Unit Detail'!$D$8:$D$400,$B203,'Unit Detail'!$H$8:$H$400)","v":0},0,"",{"$f":"COUNTIFS('Unit Detail'!$Y$8:$Y$400,\"1\",'Unit Detail'!$D$8:$D$400,'Building Detail'!$B203)","v":0},{"$f":"COUNTIFS('Unit Detail'!$Y$8:$Y$400,\"3\",'Unit Detail'!$D$8:$D$400,'Building Detail'!$B203)","v":0},{"$f":"COUNTIFS('Unit Detail'!$Y$8:$Y$400,\"2\",'Unit Detail'!$D$8:$D$400,'Building Detail'!$B203)","v":0},0,"",""]
[null,null,null,null,null,null,null,null,null,null,null,null,null,null,{"$f":"SUMIFS('Unit Detail'!$H$8:$H$400,'Unit Detail'!$D$8:$D$400,'Building Detail'!$B204,'Unit Detail'!$Y$8:$Y$400,1)","v":0},{"$f":"SUMIFS('Unit Detail'!$H$8:$H$400,'Unit Detail'!$D$8:$D$400,'Building Detail'!$B204,'Unit Detail'!$Y$8:$Y$400,3)","v":0},{"$f":"SUMIFS('Unit Detail'!$H$8:$H$400,'Unit Detail'!$D$8:$D$400,'Building Detail'!$B204,'Unit Detail'!$Y$8:$Y$400,2)","v":0},{"$f":"SUMIF('Unit Detail'!$D$8:$D$400,$B204,'Unit Detail'!$H$8:$H$400)","v":0},0,"",{"$f":"COUNTIFS('Unit Detail'!$Y$8:$Y$400,\"1\",'Unit Detail'!$D$8:$D$400,'Building Detail'!$B204)","v":0},{"$f":"COUNTIFS('Unit Detail'!$Y$8:$Y$400,\"3\",'Unit Detail'!$D$8:$D$400,'Building Detail'!$B204)","v":0},{"$f":"COUNTIFS('Unit Detail'!$Y$8:$Y$400,\"2\",'Unit Detail'!$D$8:$D$400,'Building Detail'!$B204)","v":0},0,"",""]
[null,null,null,null,null,null,null,null,null,null,null,null,null,null,{"$f":"SUMIFS('Unit Detail'!$H$8:$H$400,'Unit Detail'!$D$8:$D$400,'Building Detail'!$B205,'Unit Detail'!$Y$8:$Y$400,1)","v":0},{"$f":"SUMIFS('Unit Detail'!$H$8:$H$400,'Unit Detail'!$D$8:$D$400,'Building Detail'!$B205,'Unit Detail'!$Y$8:$Y$400,3)","v":0},{"$f":"SUMIFS('Unit Detail'!$H$8:$H$400,'Unit Detail'!$D$8:$D$400,'Building Detail'!$B205,'Unit Detail'!$Y$8:$Y$400,2)","v":0},{"$f":"SUMIF('Unit Detail'!$D$8:$D$400,$B205,'Unit Detail'!$H$8:$H$400)","v":0},0,"",{"$f":"COUNTIFS('Unit Detail'!$Y$8:$Y$400,\"1\",'Unit Detail'!$D$8:$D$400,'Building Detail'!$B205)","v":0},{"$f":"COUNTIFS('Unit Detail'!$Y$8:$Y$400,\"3\",'Unit Detail'!$D$8:$D$400,'Building Detail'!$B205)","v":0},{"$f":"COUNTIFS('Unit Detail'!$Y$8:$Y$400,\"2\",'Unit Detail'!$D$8:$D$400,'Building Detail'!$B205)","v":0},0,"",""]
[null,null,null,null,null,null,null,null,null,null,null,null,null,null,{"$f":"SUMIFS('Unit Detail'!$H$8:$H$400,'Unit Detail'!$D$8:$D$400,'Building Detail'!$B206,'Unit Detail'!$Y$8:$Y$400,1)","v":0},{"$f":"SUMIFS('Unit Detail'!$H$8:$H$400,'Unit Detail'!$D$8:$D$400,'Building Detail'!$B206,'Unit Detail'!$Y$8:$Y$400,3)","v":0},{"$f":"SUMIFS('Unit Detail'!$H$8:$H$400,'Unit Detail'!$D$8:$D$400,'Building Detail'!$B206,'Unit Detail'!$Y$8:$Y$400,2)","v":0},{"$f":"SUMIF('Unit Detail'!$D$8:$D$400,$B206,'Unit Detail'!$H$8:$H$400)","v":0},0,"",{"$f":"COUNTIFS('Unit Detail'!$Y$8:$Y$400,\"1\",'Unit Detail'!$D$8:$D$400,'Building Detail'!$B206)","v":0},{"$f":"COUNTIFS('Unit Detail'!$Y$8:$Y$400,\"3\",'Unit Detail'!$D$8:$D$400,'Building Detail'!$B206)","v":0},{"$f":"COUNTIFS('Unit Detail'!$Y$8:$Y$400,\"2\",'Unit Detail'!$D$8:$D$400,'Building Detail'!$B206)","v":0},0,"",""]
[null,null,null,null,null,null,null,null,null,null,null,null,null,null,{"$f":"SUMIFS('Unit Detail'!$H$8:$H$400,'Unit Detail'!$D$8:$D$400,'Building Detail'!$B207,'Unit Detail'!$Y$8:$Y$400,1)","v":0},{"$f":"SUMIFS('Unit Detail'!$H$8:$H$400,'Unit Detail'!$D$8:$D$400,'Building Detail'!$B207,'Unit Detail'!$Y$8:$Y$400,3)","v":0},{"$f":"SUMIFS('Unit Detail'!$H$8:$H$400,'Unit Detail'!$D$8:$D$400,'Building Detail'!$B207,'Unit Detail'!$Y$8:$Y$400,2)","v":0},{"$f":"SUMIF('Unit Detail'!$D$8:$D$400,$B207,'Unit Detail'!$H$8:$H$400)","v":0},0,"",{"$f":"COUNTIFS('Unit Detail'!$Y$8:$Y$400,\"1\",'Unit Detail'!$D$8:$D$400,'Building Detail'!$B207)","v":0},{"$f":"COUNTIFS('Unit Detail'!$Y$8:$Y$400,\"3\",'Unit Detail'!$D$8:$D$400,'Building Detail'!$B207)","v":0},{"$f":"COUNTIFS('Unit Detail'!$Y$8:$Y$400,\"2\",'Unit Detail'!$D$8:$D$400,'Building Detail'!$B207)","v":0},0,"",""]
[null,null,null,null,null,null,null,null,null,null,null,null,null,null,{"$f":"SUMIFS('Unit Detail'!$H$8:$H$400,'Unit Detail'!$D$8:$D$400,'Building Detail'!$B208,'Unit Detail'!$Y$8:$Y$400,1)","v":0},{"$f":"SUMIFS('Unit Detail'!$H$8:$H$400,'Unit Detail'!$D$8:$D$400,'Building Detail'!$B208,'Unit Detail'!$Y$8:$Y$400,3)","v":0},{"$f":"SUMIFS('Unit Detail'!$H$8:$H$400,'Unit Detail'!$D$8:$D$400,'Building Detail'!$B208,'Unit Detail'!$Y$8:$Y$400,2)","v":0},{"$f":"SUMIF('Unit Detail'!$D$8:$D$400,$B208,'Unit Detail'!$H$8:$H$400)","v":0},0,"",{"$f":"COUNTIFS('Unit Detail'!$Y$8:$Y$400,\"1\",'Unit Detail'!$D$8:$D$400,'Building Detail'!$B208)","v":0},{"$f":"COUNTIFS('Unit Detail'!$Y$8:$Y$400,\"3\",'Unit Detail'!$D$8:$D$400,'Building Detail'!$B208)","v":0},{"$f":"COUNTIFS('Unit Detail'!$Y$8:$Y$400,\"2\",'Unit Detail'!$D$8:$D$400,'Building Detail'!$B208)","v":0},0,"",""]
[null,null,null,null,null,null,null,null,null,null,null,null,null,null,{"$f":"SUMIFS('Unit Detail'!$H$8:$H$400,'Unit Detail'!$D$8:$D$400,'Building Detail'!$B209,'Unit Detail'!$Y$8:$Y$400,1)","v":0},{"$f":"SUMIFS('Unit Detail'!$H$8:$H$400,'Unit Detail'!$D$8:$D$400,'Building Detail'!$B209,'Unit Detail'!$Y$8:$Y$400,3)","v":0},{"$f":"SUMIFS('Unit Detail'!$H$8:$H$400,'Unit Detail'!$D$8:$D$400,'Building Detail'!$B209,'Unit Detail'!$Y$8:$Y$400,2)","v":0},{"$f":"SUMIF('Unit Detail'!$D$8:$D$400,$B209,'Unit Detail'!$H$8:$H$400)","v":0},0,"",{"$f":"COUNTIFS('Unit Detail'!$Y$8:$Y$400,\"1\",'Unit Detail'!$D$8:$D$400,'Building Detail'!$B209)","v":0},{"$f":"COUNTIFS('Unit Detail'!$Y$8:$Y$400,\"3\",'Unit Detail'!$D$8:$D$400,'Building Detail'!$B209)","v":0},{"$f":"COUNTIFS('Unit Detail'!$Y$8:$Y$400,\"2\",'Unit Detail'!$D$8:$D$400,'Building Detail'!$B209)","v":0},0,"",""]
[null,null,null,null,null,null,null,null,null,null,null,null,null,null,{"$f":"SUMIFS('Unit Detail'!$H$8:$H$400,'Unit Detail'!$D$8:$D$400,'Building Detail'!$B210,'Unit Detail'!$Y$8:$Y$400,1)","v":0},{"$f":"SUMIFS('Unit Detail'!$H$8:$H$400,'Unit Detail'!$D$8:$D$400,'Building Detail'!$B210,'Unit Detail'!$Y$8:$Y$400,3)","v":0},{"$f":"SUMIFS('Unit Detail'!$H$8:$H$400,'Unit Detail'!$D$8:$D$400,'Building Detail'!$B210,'Unit Detail'!$Y$8:$Y$400,2)","v":0},{"$f":"SUMIF('Unit Detail'!$D$8:$D$400,$B210,'Unit Detail'!$H$8:$H$400)","v":0},0,"",{"$f":"COUNTIFS('Unit Detail'!$Y$8:$Y$400,\"1\",'Unit Detail'!$D$8:$D$400,'Building Detail'!$B210)","v":0},{"$f":"COUNTIFS('Unit Detail'!$Y$8:$Y$400,\"3\",'Unit Detail'!$D$8:$D$400,'Building Detail'!$B210)","v":0},{"$f":"COUNTIFS('Unit Detail'!$Y$8:$Y$400,\"2\",'Unit Detail'!$D$8:$D$400,'Building Detail'!$B210)","v":0},0,"",{"$f":"IF(Y210<T210,Y210,T210)","v":""}]
[null,null,null,null,null,null,null,null,null,null,null,null,null,null,{"$f":"SUMIFS('Unit Detail'!$H$8:$H$400,'Unit Detail'!$D$8:$D$400,'Building Detail'!$B211,'Unit Detail'!$Y$8:$Y$400,1)","v":0},{"$f":"SUMIFS('Unit Detail'!$H$8:$H$400,'Unit Detail'!$D$8:$D$400,'Building Detail'!$B211,'Unit Detail'!$Y$8:$Y$400,3)","v":0},{"$f":"SUMIFS('Unit Detail'!$H$8:$H$400,'Unit Detail'!$D$8:$D$400,'Building Detail'!$B211,'Unit Detail'!$Y$8:$Y$400,2)","v":0},{"$f":"SUMIF('Unit Detail'!$D$8:$D$400,$B211,'Unit Detail'!$H$8:$H$400)","v":0},0,"",{"$f":"COUNTIFS('Unit Detail'!$Y$8:$Y$400,\"1\",'Unit Detail'!$D$8:$D$400,'Building Detail'!$B211)","v":0},{"$f":"COUNTIFS('Unit Detail'!$Y$8:$Y$400,\"3\",'Unit Detail'!$D$8:$D$400,'Building Detail'!$B211)","v":0},{"$f":"COUNTIFS('Unit Detail'!$Y$8:$Y$400,\"2\",'Unit Detail'!$D$8:$D$400,'Building Detail'!$B211)","v":0},0,{"$f":"IF(B211=\"\",\"\",IF($P$15=0,1,U211/X211))","v":""},""]
[null,null,null,null,null,null,null,null,null,null,null,null,null,null,{"$f":"SUMIFS('Unit Detail'!$H$8:$H$400,'Unit Detail'!$D$8:$D$400,'Building Detail'!$B212,'Unit Detail'!$Y$8:$Y$400,1)","v":0},{"$f":"SUMIFS('Unit Detail'!$H$8:$H$400,'Unit Detail'!$D$8:$D$400,'Building Detail'!$B212,'Unit Detail'!$Y$8:$Y$400,3)","v":0},{"$f":"SUMIFS('Unit Detail'!$H$8:$H$400,'Unit Detail'!$D$8:$D$400,'Building Detail'!$B212,'Unit Detail'!$Y$8:$Y$400,2)","v":0},{"$f":"SUMIF('Unit Detail'!$D$8:$D$400,$B212,'Unit Detail'!$H$8:$H$400)","v":0},0,"",{"$f":"COUNTIFS('Unit Detail'!$Y$8:$Y$400,\"1\",'Unit Detail'!$D$8:$D$400,'Building Detail'!$B212)","v":0},{"$f":"COUNTIFS('Unit Detail'!$Y$8:$Y$400,\"3\",'Unit Detail'!$D$8:$D$400,'Building Detail'!$B212)","v":0},{"$f":"COUNTIFS('Unit Detail'!$Y$8:$Y$400,\"2\",'Unit Detail'!$D$8:$D$400,'Building Detail'!$B212)","v":0},0,"",""]
[null,null,null,null,null,null,null,null,null,null,null,null,null,null,{"$f":"SUMIFS('Unit Detail'!$H$8:$H$400,'Unit Detail'!$D$8:$D$400,'Building Detail'!$B213,'Unit Detail'!$Y$8:$Y$400,1)","v":0},{"$f":"SUMIFS('Unit Detail'!$H$8:$H$400,'Unit Detail'!$D$8:$D$400,'Building Detail'!$B213,'Unit Detail'!$Y$8:$Y$400,3)","v":0},{"$f":"SUMIFS('Unit Detail'!$H$8:$H$400,'Unit Detail'!$D$8:$D$400,'Building Detail'!$B213,'Unit Detail'!$Y$8:$Y$400,2)","v":0},{"$f":"SUMIF('Unit Detail'!$D$8:$D$400,$B213,'Unit Detail'!$H$8:$H$400)","v":0},0,{"$f":"IF(B213=\"\",\"\",IF($P$15=0,1,O213/R213))","v":""},{"$f":"COUNTIFS('Unit Detail'!$Y$8:$Y$400,\"1\",'Unit Detail'!$D$8:$D$400,'Building Detail'!$B213)","v":0},{"$f":"COUNTIFS('Unit Detail'!$Y$8:$Y$400,\"3\",'Unit Detail'!$D$8:$D$400,'Building Detail'!$B213)","v":0},{"$f":"COUNTIFS('Unit Detail'!$Y$8:$Y$400,\"2\",'Unit Detail'!$D$8:$D$400,'Building Detail'!$B213)","v":0},0,"",""]
[null,null,null,null,null,null,null,null,null,null,null,null,null,null,{"$f":"SUMIFS('Unit Detail'!$H$8:$H$400,'Unit Detail'!$D$8:$D$400,'Building Detail'!$B214,'Unit Detail'!$Y$8:$Y$400,1)","v":0},{"$f":"SUMIFS('Unit Detail'!$H$8:$H$400,'Unit Detail'!$D$8:$D$400,'Building Detail'!$B214,'Unit Detail'!$Y$8:$Y$400,3)","v":0},{"$f":"SUMIFS('Unit Detail'!$H$8:$H$400,'Unit Detail'!$D$8:$D$400,'Building Detail'!$B214,'Unit Detail'!$Y$8:$Y$400,2)","v":0},{"$f":"SUMIF('Unit Detail'!$D$8:$D$400,$B214,'Unit Detail'!$H$8:$H$400)","v":0},0,"",{"$f":"COUNTIFS('Unit Detail'!$Y$8:$Y$400,\"1\",'Unit Detail'!$D$8:$D$400,'Building Detail'!$B214)","v":0},{"$f":"COUNTIFS('Unit Detail'!$Y$8:$Y$400,\"3\",'Unit Detail'!$D$8:$D$400,'Building Detail'!$B214)","v":0},{"$f":"COUNTIFS('Unit Detail'!$Y$8:$Y$400,\"2\",'Unit Detail'!$D$8:$D$400,'Building Detail'!$B214)","v":0},0,"",""]
[null,null,null,null,null,null,null,null,null,null,null,null,null,null,{"$f":"SUMIFS('Unit Detail'!$H$8:$H$400,'Unit Detail'!$D$8:$D$400,'Building Detail'!$B215,'Unit Detail'!$Y$8:$Y$400,1)","v":0},{"$f":"SUMIFS('Unit Detail'!$H$8:$H$400,'Unit Detail'!$D$8:$D$400,'Building Detail'!$B215,'Unit Detail'!$Y$8:$Y$400,3)","v":0},{"$f":"SUMIFS('Unit Detail'!$H$8:$H$400,'Unit Detail'!$D$8:$D$400,'Building Detail'!$B215,'Unit Detail'!$Y$8:$Y$400,2)","v":0},{"$f":"SUMIF('Unit Detail'!$D$8:$D$400,$B215,'Unit Detail'!$H$8:$H$400)","v":0},0,"",{"$f":"COUNTIFS('Unit Detail'!$Y$8:$Y$400,\"1\",'Unit Detail'!$D$8:$D$400,'Building Detail'!$B215)","v":0},{"$f":"COUNTIFS('Unit Detail'!$Y$8:$Y$400,\"3\",'Unit Detail'!$D$8:$D$400,'Building Detail'!$B215)","v":0},{"$f":"COUNTIFS('Unit Detail'!$Y$8:$Y$400,\"2\",'Unit Detail'!$D$8:$D$400,'Building Detail'!$B215)","v":0},0,"",""]
[null,null,null,null,null,null,null,null,null,null,null,null,null,null,{"$f":"SUMIFS('Unit Detail'!$H$8:$H$400,'Unit Detail'!$D$8:$D$400,'Building Detail'!$B216,'Unit Detail'!$Y$8:$Y$400,1)","v":0},{"$f":"SUMIFS('Unit Detail'!$H$8:$H$400,'Unit Detail'!$D$8:$D$400,'Building Detail'!$B216,'Unit Detail'!$Y$8:$Y$400,3)","v":0},{"$f":"SUMIFS('Unit Detail'!$H$8:$H$400,'Unit Detail'!$D$8:$D$400,'Building Detail'!$B216,'Unit Detail'!$Y$8:$Y$400,2)","v":0},{"$f":"SUMIF('Unit Detail'!$D$8:$D$400,$B216,'Unit Detail'!$H$8:$H$400)","v":0},0,"",{"$f":"COUNTIFS('Unit Detail'!$Y$8:$Y$400,\"1\",'Unit Detail'!$D$8:$D$400,'Building Detail'!$B216)","v":0},{"$f":"COUNTIFS('Unit Detail'!$Y$8:$Y$400,\"3\",'Unit Detail'!$D$8:$D$400,'Building Detail'!$B216)","v":0},{"$f":"COUNTIFS('Unit Detail'!$Y$8:$Y$400,\"2\",'Unit Detail'!$D$8:$D$400,'Building Detail'!$B216)","v":0},0,"",""]
[null,null,null,null,null,null,null,null,null,null,null,null,null,null,{"$f":"SUMIFS('Unit Detail'!$H$8:$H$400,'Unit Detail'!$D$8:$D$400,'Building Detail'!$B217,'Unit Detail'!$Y$8:$Y$400,1)","v":0},{"$f":"SUMIFS('Unit Detail'!$H$8:$H$400,'Unit Detail'!$D$8:$D$400,'Building Detail'!$B217,'Unit Detail'!$Y$8:$Y$400,3)","v":0},{"$f":"SUMIFS('Unit Detail'!$H$8:$H$400,'Unit Detail'!$D$8:$D$400,'Building Detail'!$B217,'Unit Detail'!$Y$8:$Y$400,2)","v":0},{"$f":"SUMIF('Unit Detail'!$D$8:$D$400,$B217,'Unit Detail'!$H$8:$H$400)","v":0},0,"",{"$f":"COUNTIFS('Unit Detail'!$Y$8:$Y$400,\"1\",'Unit Detail'!$D$8:$D$400,'Building Detail'!$B217)","v":0},{"$f":"COUNTIFS('Unit Detail'!$Y$8:$Y$400,\"3\",'Unit Detail'!$D$8:$D$400,'Building Detail'!$B217)","v":0},{"$f":"COUNTIFS('Unit Detail'!$Y$8:$Y$400,\"2\",'Unit Detail'!$D$8:$D$400,'Building Detail'!$B217)","v":0},0,"",""]
[null,null,null,null,null,null,null,null,null,null,null,null,null,null,{"$f":"SUMIFS('Unit Detail'!$H$8:$H$400,'Unit Detail'!$D$8:$D$400,'Building Detail'!$B218,'Unit Detail'!$Y$8:$Y$400,1)","v":0},{"$f":"SUMIFS('Unit Detail'!$H$8:$H$400,'Unit Detail'!$D$8:$D$400,'Building Detail'!$B218,'Unit Detail'!$Y$8:$Y$400,3)","v":0},{"$f":"SUMIFS('Unit Detail'!$H$8:$H$400,'Unit Detail'!$D$8:$D$400,'Building Detail'!$B218,'Unit Detail'!$Y$8:$Y$400,2)","v":0},{"$f":"SUMIF('Unit Detail'!$D$8:$D$400,$B218,'Unit Detail'!$H$8:$H$400)","v":0},0,"",{"$f":"COUNTIFS('Unit Detail'!$Y$8:$Y$400,\"1\",'Unit Detail'!$D$8:$D$400,'Building Detail'!$B218)","v":0},{"$f":"COUNTIFS('Unit Detail'!$Y$8:$Y$400,\"3\",'Unit Detail'!$D$8:$D$400,'Building Detail'!$B218)","v":0},{"$f":"COUNTIFS('Unit Detail'!$Y$8:$Y$400,\"2\",'Unit Detail'!$D$8:$D$400,'Building Detail'!$B218)","v":0},0,"",""]
[null,null,null,null,null,null,null,null,null,null,null,null,null,null,{"$f":"SUMIFS('Unit Detail'!$H$8:$H$400,'Unit Detail'!$D$8:$D$400,'Building Detail'!$B219,'Unit Detail'!$Y$8:$Y$400,1)","v":0},{"$f":"SUMIFS('Unit Detail'!$H$8:$H$400,'Unit Detail'!$D$8:$D$400,'Building Detail'!$B219,'Unit Detail'!$Y$8:$Y$400,3)","v":0},{"$f":"SUMIFS('Unit Detail'!$H$8:$H$400,'Unit Detail'!$D$8:$D$400,'Building Detail'!$B219,'Unit Detail'!$Y$8:$Y$400,2)","v":0},{"$f":"SUMIF('Unit Detail'!$D$8:$D$400,$B219,'Unit Detail'!$H$8:$H$400)","v":0},0,"",{"$f":"COUNTIFS('Unit Detail'!$Y$8:$Y$400,\"1\",'Unit Detail'!$D$8:$D$400,'Building Detail'!$B219)","v":0},{"$f":"COUNTIFS('Unit Detail'!$Y$8:$Y$400,\"3\",'Unit Detail'!$D$8:$D$400,'Building Detail'!$B219)","v":0},{"$f":"COUNTIFS('Unit Detail'!$Y$8:$Y$400,\"2\",'Unit Detail'!$D$8:$D$400,'Building Detail'!$B219)","v":0},0,"",""]
[null,null,null,null,null,null,null,null,null,null,null,null,null,null,{"$f":"SUMIFS('Unit Detail'!$H$8:$H$400,'Unit Detail'!$D$8:$D$400,'Building Detail'!$B220,'Unit Detail'!$Y$8:$Y$400,1)","v":0},{"$f":"SUMIFS('Unit Detail'!$H$8:$H$400,'Unit Detail'!$D$8:$D$400,'Building Detail'!$B220,'Unit Detail'!$Y$8:$Y$400,3)","v":0},{"$f":"SUMIFS('Unit Detail'!$H$8:$H$400,'Unit Detail'!$D$8:$D$400,'Building Detail'!$B220,'Unit Detail'!$Y$8:$Y$400,2)","v":0},{"$f":"SUMIF('Unit Detail'!$D$8:$D$400,$B220,'Unit Detail'!$H$8:$H$400)","v":0},0,"",{"$f":"COUNTIFS('Unit Detail'!$Y$8:$Y$400,\"1\",'Unit Detail'!$D$8:$D$400,'Building Detail'!$B220)","v":0},{"$f":"COUNTIFS('Unit Detail'!$Y$8:$Y$400,\"3\",'Unit Detail'!$D$8:$D$400,'Building Detail'!$B220)","v":0},{"$f":"COUNTIFS('Unit Detail'!$Y$8:$Y$400,\"2\",'Unit Detail'!$D$8:$D$400,'Building Detail'!$B220)","v":0},0,"",""]
[null,null,null,null,null,null,null,null,null,null,null,null,null,null,{"$f":"SUMIFS('Unit Detail'!$H$8:$H$400,'Unit Detail'!$D$8:$D$400,'Building Detail'!$B221,'Unit Detail'!$Y$8:$Y$400,1)","v":0},{"$f":"SUMIFS('Unit Detail'!$H$8:$H$400,'Unit Detail'!$D$8:$D$400,'Building Detail'!$B221,'Unit Detail'!$Y$8:$Y$400,3)","v":0},{"$f":"SUMIFS('Unit Detail'!$H$8:$H$400,'Unit Detail'!$D$8:$D$400,'Building Detail'!$B221,'Unit Detail'!$Y$8:$Y$400,2)","v":0},{"$f":"SUMIF('Unit Detail'!$D$8:$D$400,$B221,'Unit Detail'!$H$8:$H$400)","v":0},0,"",{"$f":"COUNTIFS('Unit Detail'!$Y$8:$Y$400,\"1\",'Unit Detail'!$D$8:$D$400,'Building Detail'!$B221)","v":0},{"$f":"COUNTIFS('Unit Detail'!$Y$8:$Y$400,\"3\",'Unit Detail'!$D$8:$D$400,'Building Detail'!$B221)","v":0},{"$f":"COUNTIFS('Unit Detail'!$Y$8:$Y$400,\"2\",'Unit Detail'!$D$8:$D$400,'Building Detail'!$B221)","v":0},0,"",""]
[null,null,null,null,null,null,null,null,null,null,null,null,null,null,{"$f":"SUMIFS('Unit Detail'!$H$8:$H$400,'Unit Detail'!$D$8:$D$400,'Building Detail'!$B222,'Unit Detail'!$Y$8:$Y$400,1)","v":0},{"$f":"SUMIFS('Unit Detail'!$H$8:$H$400,'Unit Detail'!$D$8:$D$400,'Building Detail'!$B222,'Unit Detail'!$Y$8:$Y$400,3)","v":0},{"$f":"SUMIFS('Unit Detail'!$H$8:$H$400,'Unit Detail'!$D$8:$D$400,'Building Detail'!$B222,'Unit Detail'!$Y$8:$Y$400,2)","v":0},{"$f":"SUMIF('Unit Detail'!$D$8:$D$400,$B222,'Unit Detail'!$H$8:$H$400)","v":0},0,"",{"$f":"COUNTIFS('Unit Detail'!$Y$8:$Y$400,\"1\",'Unit Detail'!$D$8:$D$400,'Building Detail'!$B222)","v":0},{"$f":"COUNTIFS('Unit Detail'!$Y$8:$Y$400,\"3\",'Unit Detail'!$D$8:$D$400,'Building Detail'!$B222)","v":0},{"$f":"COUNTIFS('Unit Detail'!$Y$8:$Y$400,\"2\",'Unit Detail'!$D$8:$D$400,'Building Detail'!$B222)","v":0},0,"",""]
[null,null,null,null,null,null,null,null,null,null,null,null,null,null,{"$f":"SUMIFS('Unit Detail'!$H$8:$H$400,'Unit Detail'!$D$8:$D$400,'Building Detail'!$B223,'Unit Detail'!$Y$8:$Y$400,1)","v":0},{"$f":"SUMIFS('Unit Detail'!$H$8:$H$400,'Unit Detail'!$D$8:$D$400,'Building Detail'!$B223,'Unit Detail'!$Y$8:$Y$400,3)","v":0},{"$f":"SUMIFS('Unit Detail'!$H$8:$H$400,'Unit Detail'!$D$8:$D$400,'Building Detail'!$B223,'Unit Detail'!$Y$8:$Y$400,2)","v":0},{"$f":"SUMIF('Unit Detail'!$D$8:$D$400,$B223,'Unit Detail'!$H$8:$H$400)","v":0},0,"",{"$f":"COUNTIFS('Unit Detail'!$Y$8:$Y$400,\"1\",'Unit Detail'!$D$8:$D$400,'Building Detail'!$B223)","v":0},{"$f":"COUNTIFS('Unit Detail'!$Y$8:$Y$400,\"3\",'Unit Detail'!$D$8:$D$400,'Building Detail'!$B223)","v":0},{"$f":"COUNTIFS('Unit Detail'!$Y$8:$Y$400,\"2\",'Unit Detail'!$D$8:$D$400,'Building Detail'!$B223)","v":0},0,"",""]
[null,null,null,null,null,null,null,null,null,null,null,null,null,null,{"$f":"SUMIFS('Unit Detail'!$H$8:$H$400,'Unit Detail'!$D$8:$D$400,'Building Detail'!$B224,'Unit Detail'!$Y$8:$Y$400,1)","v":0},{"$f":"SUMIFS('Unit Detail'!$H$8:$H$400,'Unit Detail'!$D$8:$D$400,'Building Detail'!$B224,'Unit Detail'!$Y$8:$Y$400,3)","v":0},{"$f":"SUMIFS('Unit Detail'!$H$8:$H$400,'Unit Detail'!$D$8:$D$400,'Building Detail'!$B224,'Unit Detail'!$Y$8:$Y$400,2)","v":0},{"$f":"SUMIF('Unit Detail'!$D$8:$D$400,$B224,'Unit Detail'!$H$8:$H$400)","v":0},0,"",{"$f":"COUNTIFS('Unit Detail'!$Y$8:$Y$400,\"1\",'Unit Detail'!$D$8:$D$400,'Building Detail'!$B224)","v":0},{"$f":"COUNTIFS('Unit Detail'!$Y$8:$Y$400,\"3\",'Unit Detail'!$D$8:$D$400,'Building Detail'!$B224)","v":0},{"$f":"COUNTIFS('Unit Detail'!$Y$8:$Y$400,\"2\",'Unit Detail'!$D$8:$D$400,'Building Detail'!$B224)","v":0},0,"",""]
[null,null,null,null,null,null,null,null,null,null,null,null,null,null,{"$f":"SUMIFS('Unit Detail'!$H$8:$H$400,'Unit Detail'!$D$8:$D$400,'Building Detail'!$B225,'Unit Detail'!$Y$8:$Y$400,1)","v":0},{"$f":"SUMIFS('Unit Detail'!$H$8:$H$400,'Unit Detail'!$D$8:$D$400,'Building Detail'!$B225,'Unit Detail'!$Y$8:$Y$400,3)","v":0},{"$f":"SUMIFS('Unit Detail'!$H$8:$H$400,'Unit Detail'!$D$8:$D$400,'Building Detail'!$B225,'Unit Detail'!$Y$8:$Y$400,2)","v":0},{"$f":"SUMIF('Unit Detail'!$D$8:$D$400,$B225,'Unit Detail'!$H$8:$H$400)","v":0},0,"",{"$f":"COUNTIFS('Unit Detail'!$Y$8:$Y$400,\"1\",'Unit Detail'!$D$8:$D$400,'Building Detail'!$B225)","v":0},{"$f":"COUNTIFS('Unit Detail'!$Y$8:$Y$400,\"3\",'Unit Detail'!$D$8:$D$400,'Building Detail'!$B225)","v":0},{"$f":"COUNTIFS('Unit Detail'!$Y$8:$Y$400,\"2\",'Unit Detail'!$D$8:$D$400,'Building Detail'!$B225)","v":0},0,"",""]
[null,null,null,null,null,null,null,null,null,null,null,null,null,null,{"$f":"SUMIFS('Unit Detail'!$H$8:$H$400,'Unit Detail'!$D$8:$D$400,'Building Detail'!$B226,'Unit Detail'!$Y$8:$Y$400,1)","v":0},{"$f":"SUMIFS('Unit Detail'!$H$8:$H$400,'Unit Detail'!$D$8:$D$400,'Building Detail'!$B226,'Unit Detail'!$Y$8:$Y$400,3)","v":0},{"$f":"SUMIFS('Unit Detail'!$H$8:$H$400,'Unit Detail'!$D$8:$D$400,'Building Detail'!$B226,'Unit Detail'!$Y$8:$Y$400,2)","v":0},{"$f":"SUMIF('Unit Detail'!$D$8:$D$400,$B226,'Unit Detail'!$H$8:$H$400)","v":0},0,"",{"$f":"COUNTIFS('Unit Detail'!$Y$8:$Y$400,\"1\",'Unit Detail'!$D$8:$D$400,'Building Detail'!$B226)","v":0},{"$f":"COUNTIFS('Unit Detail'!$Y$8:$Y$400,\"3\",'Unit Detail'!$D$8:$D$400,'Building Detail'!$B226)","v":0},{"$f":"COUNTIFS('Unit Detail'!$Y$8:$Y$400,\"2\",'Unit Detail'!$D$8:$D$400,'Building Detail'!$B226)","v":0},0,"",""]
[null,null,null,null,null,null,null,null,null,null,null,null,null,null,{"$f":"SUMIFS('Unit Detail'!$H$8:$H$400,'Unit Detail'!$D$8:$D$400,'Building Detail'!$B227,'Unit Detail'!$Y$8:$Y$400,1)","v":0},{"$f":"SUMIFS('Unit Detail'!$H$8:$H$400,'Unit Detail'!$D$8:$D$400,'Building Detail'!$B227,'Unit Detail'!$Y$8:$Y$400,3)","v":0},{"$f":"SUMIFS('Unit Detail'!$H$8:$H$400,'Unit Detail'!$D$8:$D$400,'Building Detail'!$B227,'Unit Detail'!$Y$8:$Y$400,2)","v":0},{"$f":"SUMIF('Unit Detail'!$D$8:$D$400,$B227,'Unit Detail'!$H$8:$H$400)","v":0},0,"",{"$f":"COUNTIFS('Unit Detail'!$Y$8:$Y$400,\"1\",'Unit Detail'!$D$8:$D$400,'Building Detail'!$B227)","v":0},{"$f":"COUNTIFS('Unit Detail'!$Y$8:$Y$400,\"3\",'Unit Detail'!$D$8:$D$400,'Building Detail'!$B227)","v":0},{"$f":"COUNTIFS('Unit Detail'!$Y$8:$Y$400,\"2\",'Unit Detail'!$D$8:$D$400,'Building Detail'!$B227)","v":0},0,"",""]
[null,null,null,null,null,null,null,null,null,null,null,null,null,null,{"$f":"SUMIFS('Unit Detail'!$H$8:$H$400,'Unit Detail'!$D$8:$D$400,'Building Detail'!$B228,'Unit Detail'!$Y$8:$Y$400,1)","v":0},{"$f":"SUMIFS('Unit Detail'!$H$8:$H$400,'Unit Detail'!$D$8:$D$400,'Building Detail'!$B228,'Unit Detail'!$Y$8:$Y$400,3)","v":0},{"$f":"SUMIFS('Unit Detail'!$H$8:$H$400,'Unit Detail'!$D$8:$D$400,'Building Detail'!$B228,'Unit Detail'!$Y$8:$Y$400,2)","v":0},{"$f":"SUMIF('Unit Detail'!$D$8:$D$400,$B228,'Unit Detail'!$H$8:$H$400)","v":0},0,"",{"$f":"COUNTIFS('Unit Detail'!$Y$8:$Y$400,\"1\",'Unit Detail'!$D$8:$D$400,'Building Detail'!$B228)","v":0},{"$f":"COUNTIFS('Unit Detail'!$Y$8:$Y$400,\"3\",'Unit Detail'!$D$8:$D$400,'Building Detail'!$B228)","v":0},{"$f":"COUNTIFS('Unit Detail'!$Y$8:$Y$400,\"2\",'Unit Detail'!$D$8:$D$400,'Building Detail'!$B228)","v":0},0,"",""]
[null,null,null,null,null,null,null,null,null,null,null,null,null,null,{"$f":"SUMIFS('Unit Detail'!$H$8:$H$400,'Unit Detail'!$D$8:$D$400,'Building Detail'!$B229,'Unit Detail'!$Y$8:$Y$400,1)","v":0},{"$f":"SUMIFS('Unit Detail'!$H$8:$H$400,'Unit Detail'!$D$8:$D$400,'Building Detail'!$B229,'Unit Detail'!$Y$8:$Y$400,3)","v":0},{"$f":"SUMIFS('Unit Detail'!$H$8:$H$400,'Unit Detail'!$D$8:$D$400,'Building Detail'!$B229,'Unit Detail'!$Y$8:$Y$400,2)","v":0},{"$f":"SUMIF('Unit Detail'!$D$8:$D$400,$B229,'Unit Detail'!$H$8:$H$400)","v":0},0,"",{"$f":"COUNTIFS('Unit Detail'!$Y$8:$Y$400,\"1\",'Unit Detail'!$D$8:$D$400,'Building Detail'!$B229)","v":0},{"$f":"COUNTIFS('Unit Detail'!$Y$8:$Y$400,\"3\",'Unit Detail'!$D$8:$D$400,'Building Detail'!$B229)","v":0},{"$f":"COUNTIFS('Unit Detail'!$Y$8:$Y$400,\"2\",'Unit Detail'!$D$8:$D$400,'Building Detail'!$B229)","v":0},0,"",""]
[null,null,null,null,null,null,null,null,null,null,null,null,null,null,{"$f":"SUMIFS('Unit Detail'!$H$8:$H$400,'Unit Detail'!$D$8:$D$400,'Building Detail'!$B230,'Unit Detail'!$Y$8:$Y$400,1)","v":0},{"$f":"SUMIFS('Unit Detail'!$H$8:$H$400,'Unit Detail'!$D$8:$D$400,'Building Detail'!$B230,'Unit Detail'!$Y$8:$Y$400,3)","v":0},{"$f":"SUMIFS('Unit Detail'!$H$8:$H$400,'Unit Detail'!$D$8:$D$400,'Building Detail'!$B230,'Unit Detail'!$Y$8:$Y$400,2)","v":0},{"$f":"SUMIF('Unit Detail'!$D$8:$D$400,$B230,'Unit Detail'!$H$8:$H$400)","v":0},0,"",{"$f":"COUNTIFS('Unit Detail'!$Y$8:$Y$400,\"1\",'Unit Detail'!$D$8:$D$400,'Building Detail'!$B230)","v":0},{"$f":"COUNTIFS('Unit Detail'!$Y$8:$Y$400,\"3\",'Unit Detail'!$D$8:$D$400,'Building Detail'!$B230)","v":0},{"$f":"COUNTIFS('Unit Detail'!$Y$8:$Y$400,\"2\",'Unit Detail'!$D$8:$D$400,'Building Detail'!$B230)","v":0},0,"",""]
[null,null,null,null,null,null,null,null,null,null,null,null,null,null,{"$f":"SUMIFS('Unit Detail'!$H$8:$H$400,'Unit Detail'!$D$8:$D$400,'Building Detail'!$B231,'Unit Detail'!$Y$8:$Y$400,1)","v":0},{"$f":"SUMIFS('Unit Detail'!$H$8:$H$400,'Unit Detail'!$D$8:$D$400,'Building Detail'!$B231,'Unit Detail'!$Y$8:$Y$400,3)","v":0},{"$f":"SUMIFS('Unit Detail'!$H$8:$H$400,'Unit Detail'!$D$8:$D$400,'Building Detail'!$B231,'Unit Detail'!$Y$8:$Y$400,2)","v":0},{"$f":"SUMIF('Unit Detail'!$D$8:$D$400,$B231,'Unit Detail'!$H$8:$H$400)","v":0},0,"",{"$f":"COUNTIFS('Unit Detail'!$Y$8:$Y$400,\"1\",'Unit Detail'!$D$8:$D$400,'Building Detail'!$B231)","v":0},{"$f":"COUNTIFS('Unit Detail'!$Y$8:$Y$400,\"3\",'Unit Detail'!$D$8:$D$400,'Building Detail'!$B231)","v":0},{"$f":"COUNTIFS('Unit Detail'!$Y$8:$Y$400,\"2\",'Unit Detail'!$D$8:$D$400,'Building Detail'!$B231)","v":0},0,"",""]
[null,null,null,null,null,null,null,null,null,null,null,null,null,null,{"$f":"SUMIFS('Unit Detail'!$H$8:$H$400,'Unit Detail'!$D$8:$D$400,'Building Detail'!$B232,'Unit Detail'!$Y$8:$Y$400,1)","v":0},{"$f":"SUMIFS('Unit Detail'!$H$8:$H$400,'Unit Detail'!$D$8:$D$400,'Building Detail'!$B232,'Unit Detail'!$Y$8:$Y$400,3)","v":0},{"$f":"SUMIFS('Unit Detail'!$H$8:$H$400,'Unit Detail'!$D$8:$D$400,'Building Detail'!$B232,'Unit Detail'!$Y$8:$Y$400,2)","v":0},{"$f":"SUMIF('Unit Detail'!$D$8:$D$400,$B232,'Unit Detail'!$H$8:$H$400)","v":0},0,"",{"$f":"COUNTIFS('Unit Detail'!$Y$8:$Y$400,\"1\",'Unit Detail'!$D$8:$D$400,'Building Detail'!$B232)","v":0},{"$f":"COUNTIFS('Unit Detail'!$Y$8:$Y$400,\"3\",'Unit Detail'!$D$8:$D$400,'Building Detail'!$B232)","v":0},{"$f":"COUNTIFS('Unit Detail'!$Y$8:$Y$400,\"2\",'Unit Detail'!$D$8:$D$400,'Building Detail'!$B232)","v":0},0,"",""]
[null,null,null,null,null,null,null,null,null,null,null,null,null,null,{"$f":"SUMIFS('Unit Detail'!$H$8:$H$400,'Unit Detail'!$D$8:$D$400,'Building Detail'!$B233,'Unit Detail'!$Y$8:$Y$400,1)","v":0},{"$f":"SUMIFS('Unit Detail'!$H$8:$H$400,'Unit Detail'!$D$8:$D$400,'Building Detail'!$B233,'Unit Detail'!$Y$8:$Y$400,3)","v":0},{"$f":"SUMIFS('Unit Detail'!$H$8:$H$400,'Unit Detail'!$D$8:$D$400,'Building Detail'!$B233,'Unit Detail'!$Y$8:$Y$400,2)","v":0},{"$f":"SUMIF('Unit Detail'!$D$8:$D$400,$B233,'Unit Detail'!$H$8:$H$400)","v":0},0,"",{"$f":"COUNTIFS('Unit Detail'!$Y$8:$Y$400,\"1\",'Unit Detail'!$D$8:$D$400,'Building Detail'!$B233)","v":0},{"$f":"COUNTIFS('Unit Detail'!$Y$8:$Y$400,\"3\",'Unit Detail'!$D$8:$D$400,'Building Detail'!$B233)","v":0},{"$f":"COUNTIFS('Unit Detail'!$Y$8:$Y$400,\"2\",'Unit Detail'!$D$8:$D$400,'Building Detail'!$B233)","v":0},0,"",""]
[null,null,null,null,null,null,null,null,null,null,null,null,null,null,{"$f":"SUMIFS('Unit Detail'!$H$8:$H$400,'Unit Detail'!$D$8:$D$400,'Building Detail'!$B234,'Unit Detail'!$Y$8:$Y$400,1)","v":0},{"$f":"SUMIFS('Unit Detail'!$H$8:$H$400,'Unit Detail'!$D$8:$D$400,'Building Detail'!$B234,'Unit Detail'!$Y$8:$Y$400,3)","v":0},{"$f":"SUMIFS('Unit Detail'!$H$8:$H$400,'Unit Detail'!$D$8:$D$400,'Building Detail'!$B234,'Unit Detail'!$Y$8:$Y$400,2)","v":0},{"$f":"SUMIF('Unit Detail'!$D$8:$D$400,$B234,'Unit Detail'!$H$8:$H$400)","v":0},0,"",{"$f":"COUNTIFS('Unit Detail'!$Y$8:$Y$400,\"1\",'Unit Detail'!$D$8:$D$400,'Building Detail'!$B234)","v":0},{"$f":"COUNTIFS('Unit Detail'!$Y$8:$Y$400,\"3\",'Unit Detail'!$D$8:$D$400,'Building Detail'!$B234)","v":0},{"$f":"COUNTIFS('Unit Detail'!$Y$8:$Y$400,\"2\",'Unit Detail'!$D$8:$D$400,'Building Detail'!$B234)","v":0},0,"",""]
[null,null,null,null,null,null,null,null,null,null,null,null,null,null,{"$f":"SUMIFS('Unit Detail'!$H$8:$H$400,'Unit Detail'!$D$8:$D$400,'Building Detail'!$B235,'Unit Detail'!$Y$8:$Y$400,1)","v":0},{"$f":"SUMIFS('Unit Detail'!$H$8:$H$400,'Unit Detail'!$D$8:$D$400,'Building Detail'!$B235,'Unit Detail'!$Y$8:$Y$400,3)","v":0},{"$f":"SUMIFS('Unit Detail'!$H$8:$H$400,'Unit Detail'!$D$8:$D$400,'Building Detail'!$B235,'Unit Detail'!$Y$8:$Y$400,2)","v":0},{"$f":"SUMIF('Unit Detail'!$D$8:$D$400,$B235,'Unit Detail'!$H$8:$H$400)","v":0},0,"",{"$f":"COUNTIFS('Unit Detail'!$Y$8:$Y$400,\"1\",'Unit Detail'!$D$8:$D$400,'Building Detail'!$B235)","v":0},{"$f":"COUNTIFS('Unit Detail'!$Y$8:$Y$400,\"3\",'Unit Detail'!$D$8:$D$400,'Building Detail'!$B235)","v":0},{"$f":"COUNTIFS('Unit Detail'!$Y$8:$Y$400,\"2\",'Unit Detail'!$D$8:$D$400,'Building Detail'!$B235)","v":0},0,"",""]
[null,null,null,null,null,null,null,null,null,null,null,null,null,null,{"$f":"SUMIFS('Unit Detail'!$H$8:$H$400,'Unit Detail'!$D$8:$D$400,'Building Detail'!$B236,'Unit Detail'!$Y$8:$Y$400,1)","v":0},{"$f":"SUMIFS('Unit Detail'!$H$8:$H$400,'Unit Detail'!$D$8:$D$400,'Building Detail'!$B236,'Unit Detail'!$Y$8:$Y$400,3)","v":0},{"$f":"SUMIFS('Unit Detail'!$H$8:$H$400,'Unit Detail'!$D$8:$D$400,'Building Detail'!$B236,'Unit Detail'!$Y$8:$Y$400,2)","v":0},{"$f":"SUMIF('Unit Detail'!$D$8:$D$400,$B236,'Unit Detail'!$H$8:$H$400)","v":0},0,"",{"$f":"COUNTIFS('Unit Detail'!$Y$8:$Y$400,\"1\",'Unit Detail'!$D$8:$D$400,'Building Detail'!$B236)","v":0},{"$f":"COUNTIFS('Unit Detail'!$Y$8:$Y$400,\"3\",'Unit Detail'!$D$8:$D$400,'Building Detail'!$B236)","v":0},{"$f":"COUNTIFS('Unit Detail'!$Y$8:$Y$400,\"2\",'Unit Detail'!$D$8:$D$400,'Building Detail'!$B236)","v":0},0,"",""]
[null,null,null,null,null,null,null,null,null,null,null,null,null,null,{"$f":"SUMIFS('Unit Detail'!$H$8:$H$400,'Unit Detail'!$D$8:$D$400,'Building Detail'!$B237,'Unit Detail'!$Y$8:$Y$400,1)","v":0},{"$f":"SUMIFS('Unit Detail'!$H$8:$H$400,'Unit Detail'!$D$8:$D$400,'Building Detail'!$B237,'Unit Detail'!$Y$8:$Y$400,3)","v":0},{"$f":"SUMIFS('Unit Detail'!$H$8:$H$400,'Unit Detail'!$D$8:$D$400,'Building Detail'!$B237,'Unit Detail'!$Y$8:$Y$400,2)","v":0},{"$f":"SUMIF('Unit Detail'!$D$8:$D$400,$B237,'Unit Detail'!$H$8:$H$400)","v":0},0,"",{"$f":"COUNTIFS('Unit Detail'!$Y$8:$Y$400,\"1\",'Unit Detail'!$D$8:$D$400,'Building Detail'!$B237)","v":0},{"$f":"COUNTIFS('Unit Detail'!$Y$8:$Y$400,\"3\",'Unit Detail'!$D$8:$D$400,'Building Detail'!$B237)","v":0},{"$f":"COUNTIFS('Unit Detail'!$Y$8:$Y$400,\"2\",'Unit Detail'!$D$8:$D$400,'Building Detail'!$B237)","v":0},0,"",""]
[null,null,null,null,null,null,null,null,null,null,null,null,null,null,{"$f":"SUMIFS('Unit Detail'!$H$8:$H$400,'Unit Detail'!$D$8:$D$400,'Building Detail'!$B238,'Unit Detail'!$Y$8:$Y$400,1)","v":0},{"$f":"SUMIFS('Unit Detail'!$H$8:$H$400,'Unit Detail'!$D$8:$D$400,'Building Detail'!$B238,'Unit Detail'!$Y$8:$Y$400,3)","v":0},{"$f":"SUMIFS('Unit Detail'!$H$8:$H$400,'Unit Detail'!$D$8:$D$400,'Building Detail'!$B238,'Unit Detail'!$Y$8:$Y$400,2)","v":0},{"$f":"SUMIF('Unit Detail'!$D$8:$D$400,$B238,'Unit Detail'!$H$8:$H$400)","v":0},0,"",{"$f":"COUNTIFS('Unit Detail'!$Y$8:$Y$400,\"1\",'Unit Detail'!$D$8:$D$400,'Building Detail'!$B238)","v":0},{"$f":"COUNTIFS('Unit Detail'!$Y$8:$Y$400,\"3\",'Unit Detail'!$D$8:$D$400,'Building Detail'!$B238)","v":0},{"$f":"COUNTIFS('Unit Detail'!$Y$8:$Y$400,\"2\",'Unit Detail'!$D$8:$D$400,'Building Detail'!$B238)","v":0},0,"",""]
[null,null,null,null,null,null,null,null,null,null,null,null,null,null,{"$f":"SUMIFS('Unit Detail'!$H$8:$H$400,'Unit Detail'!$D$8:$D$400,'Building Detail'!$B239,'Unit Detail'!$Y$8:$Y$400,1)","v":0},{"$f":"SUMIFS('Unit Detail'!$H$8:$H$400,'Unit Detail'!$D$8:$D$400,'Building Detail'!$B239,'Unit Detail'!$Y$8:$Y$400,3)","v":0},{"$f":"SUMIFS('Unit Detail'!$H$8:$H$400,'Unit Detail'!$D$8:$D$400,'Building Detail'!$B239,'Unit Detail'!$Y$8:$Y$400,2)","v":0},{"$f":"SUMIF('Unit Detail'!$D$8:$D$400,$B239,'Unit Detail'!$H$8:$H$400)","v":0},0,"",{"$f":"COUNTIFS('Unit Detail'!$Y$8:$Y$400,\"1\",'Unit Detail'!$D$8:$D$400,'Building Detail'!$B239)","v":0},{"$f":"COUNTIFS('Unit Detail'!$Y$8:$Y$400,\"3\",'Unit Detail'!$D$8:$D$400,'Building Detail'!$B239)","v":0},{"$f":"COUNTIFS('Unit Detail'!$Y$8:$Y$400,\"2\",'Unit Detail'!$D$8:$D$400,'Building Detail'!$B239)","v":0},0,"",""]
[null,null,null,null,null,null,null,null,null,null,null,null,null,null,{"$f":"SUMIFS('Unit Detail'!$H$8:$H$400,'Unit Detail'!$D$8:$D$400,'Building Detail'!$B240,'Unit Detail'!$Y$8:$Y$400,1)","v":0},{"$f":"SUMIFS('Unit Detail'!$H$8:$H$400,'Unit Detail'!$D$8:$D$400,'Building Detail'!$B240,'Unit Detail'!$Y$8:$Y$400,3)","v":0},{"$f":"SUMIFS('Unit Detail'!$H$8:$H$400,'Unit Detail'!$D$8:$D$400,'Building Detail'!$B240,'Unit Detail'!$Y$8:$Y$400,2)","v":0},{"$f":"SUMIF('Unit Detail'!$D$8:$D$400,$B240,'Unit Detail'!$H$8:$H$400)","v":0},0,"",{"$f":"COUNTIFS('Unit Detail'!$Y$8:$Y$400,\"1\",'Unit Detail'!$D$8:$D$400,'Building Detail'!$B240)","v":0},{"$f":"COUNTIFS('Unit Detail'!$Y$8:$Y$400,\"3\",'Unit Detail'!$D$8:$D$400,'Building Detail'!$B240)","v":0},{"$f":"COUNTIFS('Unit Detail'!$Y$8:$Y$400,\"2\",'Unit Detail'!$D$8:$D$400,'Building Detail'!$B240)","v":0},0,"",""]
[null,null,null,null,null,null,null,null,null,null,null,null,null,null,{"$f":"SUMIFS('Unit Detail'!$H$8:$H$400,'Unit Detail'!$D$8:$D$400,'Building Detail'!$B241,'Unit Detail'!$Y$8:$Y$400,1)","v":0},{"$f":"SUMIFS('Unit Detail'!$H$8:$H$400,'Unit Detail'!$D$8:$D$400,'Building Detail'!$B241,'Unit Detail'!$Y$8:$Y$400,3)","v":0},{"$f":"SUMIFS('Unit Detail'!$H$8:$H$400,'Unit Detail'!$D$8:$D$400,'Building Detail'!$B241,'Unit Detail'!$Y$8:$Y$400,2)","v":0},{"$f":"SUMIF('Unit Detail'!$D$8:$D$400,$B241,'Unit Detail'!$H$8:$H$400)","v":0},0,"",{"$f":"COUNTIFS('Unit Detail'!$Y$8:$Y$400,\"1\",'Unit Detail'!$D$8:$D$400,'Building Detail'!$B241)","v":0},{"$f":"COUNTIFS('Unit Detail'!$Y$8:$Y$400,\"3\",'Unit Detail'!$D$8:$D$400,'Building Detail'!$B241)","v":0},{"$f":"COUNTIFS('Unit Detail'!$Y$8:$Y$400,\"2\",'Unit Detail'!$D$8:$D$400,'Building Detail'!$B241)","v":0},0,"",""]
[null,null,null,null,null,null,null,null,null,null,null,null,null,null,{"$f":"SUMIFS('Unit Detail'!$H$8:$H$400,'Unit Detail'!$D$8:$D$400,'Building Detail'!$B242,'Unit Detail'!$Y$8:$Y$400,1)","v":0},{"$f":"SUMIFS('Unit Detail'!$H$8:$H$400,'Unit Detail'!$D$8:$D$400,'Building Detail'!$B242,'Unit Detail'!$Y$8:$Y$400,3)","v":0},{"$f":"SUMIFS('Unit Detail'!$H$8:$H$400,'Unit Detail'!$D$8:$D$400,'Building Detail'!$B242,'Unit Detail'!$Y$8:$Y$400,2)","v":0},{"$f":"SUMIF('Unit Detail'!$D$8:$D$400,$B242,'Unit Detail'!$H$8:$H$400)","v":0},0,"",{"$f":"COUNTIFS('Unit Detail'!$Y$8:$Y$400,\"1\",'Unit Detail'!$D$8:$D$400,'Building Detail'!$B242)","v":0},{"$f":"COUNTIFS('Unit Detail'!$Y$8:$Y$400,\"3\",'Unit Detail'!$D$8:$D$400,'Building Detail'!$B242)","v":0},{"$f":"COUNTIFS('Unit Detail'!$Y$8:$Y$400,\"2\",'Unit Detail'!$D$8:$D$400,'Building Detail'!$B242)","v":0},0,"",""]
[null,null,null,null,null,null,null,null,null,null,null,null,null,null,{"$f":"SUMIFS('Unit Detail'!$H$8:$H$400,'Unit Detail'!$D$8:$D$400,'Building Detail'!$B243,'Unit Detail'!$Y$8:$Y$400,1)","v":0},{"$f":"SUMIFS('Unit Detail'!$H$8:$H$400,'Unit Detail'!$D$8:$D$400,'Building Detail'!$B243,'Unit Detail'!$Y$8:$Y$400,3)","v":0},{"$f":"SUMIFS('Unit Detail'!$H$8:$H$400,'Unit Detail'!$D$8:$D$400,'Building Detail'!$B243,'Unit Detail'!$Y$8:$Y$400,2)","v":0},{"$f":"SUMIF('Unit Detail'!$D$8:$D$400,$B243,'Unit Detail'!$H$8:$H$400)","v":0},0,"",{"$f":"COUNTIFS('Unit Detail'!$Y$8:$Y$400,\"1\",'Unit Detail'!$D$8:$D$400,'Building Detail'!$B243)","v":0},{"$f":"COUNTIFS('Unit Detail'!$Y$8:$Y$400,\"3\",'Unit Detail'!$D$8:$D$400,'Building Detail'!$B243)","v":0},{"$f":"COUNTIFS('Unit Detail'!$Y$8:$Y$400,\"2\",'Unit Detail'!$D$8:$D$400,'Building Detail'!$B243)","v":0},0,"",""]
[null,null,null,null,null,null,null,null,null,null,null,null,null,null,{"$f":"SUMIFS('Unit Detail'!$H$8:$H$400,'Unit Detail'!$D$8:$D$400,'Building Detail'!$B244,'Unit Detail'!$Y$8:$Y$400,1)","v":0},{"$f":"SUMIFS('Unit Detail'!$H$8:$H$400,'Unit Detail'!$D$8:$D$400,'Building Detail'!$B244,'Unit Detail'!$Y$8:$Y$400,3)","v":0},{"$f":"SUMIFS('Unit Detail'!$H$8:$H$400,'Unit Detail'!$D$8:$D$400,'Building Detail'!$B244,'Unit Detail'!$Y$8:$Y$400,2)","v":0},{"$f":"SUMIF('Unit Detail'!$D$8:$D$400,$B244,'Unit Detail'!$H$8:$H$400)","v":0},0,"",{"$f":"COUNTIFS('Unit Detail'!$Y$8:$Y$400,\"1\",'Unit Detail'!$D$8:$D$400,'Building Detail'!$B244)","v":0},{"$f":"COUNTIFS('Unit Detail'!$Y$8:$Y$400,\"3\",'Unit Detail'!$D$8:$D$400,'Building Detail'!$B244)","v":0},{"$f":"COUNTIFS('Unit Detail'!$Y$8:$Y$400,\"2\",'Unit Detail'!$D$8:$D$400,'Building Detail'!$B244)","v":0},0,"",""]
[null,null,null,null,null,null,null,null,null,null,null,null,null,null,{"$f":"SUMIFS('Unit Detail'!$H$8:$H$400,'Unit Detail'!$D$8:$D$400,'Building Detail'!$B245,'Unit Detail'!$Y$8:$Y$400,1)","v":0},{"$f":"SUMIFS('Unit Detail'!$H$8:$H$400,'Unit Detail'!$D$8:$D$400,'Building Detail'!$B245,'Unit Detail'!$Y$8:$Y$400,3)","v":0},{"$f":"SUMIFS('Unit Detail'!$H$8:$H$400,'Unit Detail'!$D$8:$D$400,'Building Detail'!$B245,'Unit Detail'!$Y$8:$Y$400,2)","v":0},{"$f":"SUMIF('Unit Detail'!$D$8:$D$400,$B245,'Unit Detail'!$H$8:$H$400)","v":0},0,"",{"$f":"COUNTIFS('Unit Detail'!$Y$8:$Y$400,\"1\",'Unit Detail'!$D$8:$D$400,'Building Detail'!$B245)","v":0},{"$f":"COUNTIFS('Unit Detail'!$Y$8:$Y$400,\"3\",'Unit Detail'!$D$8:$D$400,'Building Detail'!$B245)","v":0},{"$f":"COUNTIFS('Unit Detail'!$Y$8:$Y$400,\"2\",'Unit Detail'!$D$8:$D$400,'Building Detail'!$B245)","v":0},0,"",""]
[null,null,null,null,null,null,null,null,null,null,null,null,null,null,{"$f":"SUMIFS('Unit Detail'!$H$8:$H$400,'Unit Detail'!$D$8:$D$400,'Building Detail'!$B246,'Unit Detail'!$Y$8:$Y$400,1)","v":0},{"$f":"SUMIFS('Unit Detail'!$H$8:$H$400,'Unit Detail'!$D$8:$D$400,'Building Detail'!$B246,'Unit Detail'!$Y$8:$Y$400,3)","v":0},{"$f":"SUMIFS('Unit Detail'!$H$8:$H$400,'Unit Detail'!$D$8:$D$400,'Building Detail'!$B246,'Unit Detail'!$Y$8:$Y$400,2)","v":0},{"$f":"SUMIF('Unit Detail'!$D$8:$D$400,$B246,'Unit Detail'!$H$8:$H$400)","v":0},0,"",{"$f":"COUNTIFS('Unit Detail'!$Y$8:$Y$400,\"1\",'Unit Detail'!$D$8:$D$400,'Building Detail'!$B246)","v":0},{"$f":"COUNTIFS('Unit Detail'!$Y$8:$Y$400,\"3\",'Unit Detail'!$D$8:$D$400,'Building Detail'!$B246)","v":0},{"$f":"COUNTIFS('Unit Detail'!$Y$8:$Y$400,\"2\",'Unit Detail'!$D$8:$D$400,'Building Detail'!$B246)","v":0},0,"",""]
[null,null,null,null,null,null,null,null,null,null,null,null,null,null,{"$f":"SUMIFS('Unit Detail'!$H$8:$H$400,'Unit Detail'!$D$8:$D$400,'Building Detail'!$B247,'Unit Detail'!$Y$8:$Y$400,1)","v":0},{"$f":"SUMIFS('Unit Detail'!$H$8:$H$400,'Unit Detail'!$D$8:$D$400,'Building Detail'!$B247,'Unit Detail'!$Y$8:$Y$400,3)","v":0},{"$f":"SUMIFS('Unit Detail'!$H$8:$H$400,'Unit Detail'!$D$8:$D$400,'Building Detail'!$B247,'Unit Detail'!$Y$8:$Y$400,2)","v":0},{"$f":"SUMIF('Unit Detail'!$D$8:$D$400,$B247,'Unit Detail'!$H$8:$H$400)","v":0},0,"",{"$f":"COUNTIFS('Unit Detail'!$Y$8:$Y$400,\"1\",'Unit Detail'!$D$8:$D$400,'Building Detail'!$B247)","v":0},{"$f":"COUNTIFS('Unit Detail'!$Y$8:$Y$400,\"3\",'Unit Detail'!$D$8:$D$400,'Building Detail'!$B247)","v":0},{"$f":"COUNTIFS('Unit Detail'!$Y$8:$Y$400,\"2\",'Unit Detail'!$D$8:$D$400,'Building Detail'!$B247)","v":0},0,"",""]
[null,null,null,null,null,null,null,null,null,null,null,null,null,null,{"$f":"SUMIFS('Unit Detail'!$H$8:$H$400,'Unit Detail'!$D$8:$D$400,'Building Detail'!$B248,'Unit Detail'!$Y$8:$Y$400,1)","v":0},{"$f":"SUMIFS('Unit Detail'!$H$8:$H$400,'Unit Detail'!$D$8:$D$400,'Building Detail'!$B248,'Unit Detail'!$Y$8:$Y$400,3)","v":0},{"$f":"SUMIFS('Unit Detail'!$H$8:$H$400,'Unit Detail'!$D$8:$D$400,'Building Detail'!$B248,'Unit Detail'!$Y$8:$Y$400,2)","v":0},{"$f":"SUMIF('Unit Detail'!$D$8:$D$400,$B248,'Unit Detail'!$H$8:$H$400)","v":0},0,"",{"$f":"COUNTIFS('Unit Detail'!$Y$8:$Y$400,\"1\",'Unit Detail'!$D$8:$D$400,'Building Detail'!$B248)","v":0},{"$f":"COUNTIFS('Unit Detail'!$Y$8:$Y$400,\"3\",'Unit Detail'!$D$8:$D$400,'Building Detail'!$B248)","v":0},{"$f":"COUNTIFS('Unit Detail'!$Y$8:$Y$400,\"2\",'Unit Detail'!$D$8:$D$400,'Building Detail'!$B248)","v":0},0,"",""]
[null,null,null,null,null,null,null,null,null,null,null,null,null,null,{"$f":"SUMIFS('Unit Detail'!$H$8:$H$400,'Unit Detail'!$D$8:$D$400,'Building Detail'!$B249,'Unit Detail'!$Y$8:$Y$400,1)","v":0},{"$f":"SUMIFS('Unit Detail'!$H$8:$H$400,'Unit Detail'!$D$8:$D$400,'Building Detail'!$B249,'Unit Detail'!$Y$8:$Y$400,3)","v":0},{"$f":"SUMIFS('Unit Detail'!$H$8:$H$400,'Unit Detail'!$D$8:$D$400,'Building Detail'!$B249,'Unit Detail'!$Y$8:$Y$400,2)","v":0},{"$f":"SUMIF('Unit Detail'!$D$8:$D$400,$B249,'Unit Detail'!$H$8:$H$400)","v":0},0,"",{"$f":"COUNTIFS('Unit Detail'!$Y$8:$Y$400,\"1\",'Unit Detail'!$D$8:$D$400,'Building Detail'!$B249)","v":0},{"$f":"COUNTIFS('Unit Detail'!$Y$8:$Y$400,\"3\",'Unit Detail'!$D$8:$D$400,'Building Detail'!$B249)","v":0},{"$f":"COUNTIFS('Unit Detail'!$Y$8:$Y$400,\"2\",'Unit Detail'!$D$8:$D$400,'Building Detail'!$B249)","v":0},0,"",""]
[null,null,null,null,null,null,null,null,null,null,null,null,null,null,{"$f":"SUMIFS('Unit Detail'!$H$8:$H$400,'Unit Detail'!$D$8:$D$400,'Building Detail'!$B250,'Unit Detail'!$Y$8:$Y$400,1)","v":0},{"$f":"SUMIFS('Unit Detail'!$H$8:$H$400,'Unit Detail'!$D$8:$D$400,'Building Detail'!$B250,'Unit Detail'!$Y$8:$Y$400,3)","v":0},{"$f":"SUMIFS('Unit Detail'!$H$8:$H$400,'Unit Detail'!$D$8:$D$400,'Building Detail'!$B250,'Unit Detail'!$Y$8:$Y$400,2)","v":0},{"$f":"SUMIF('Unit Detail'!$D$8:$D$400,$B250,'Unit Detail'!$H$8:$H$400)","v":0},0,"",{"$f":"COUNTIFS('Unit Detail'!$Y$8:$Y$400,\"1\",'Unit Detail'!$D$8:$D$400,'Building Detail'!$B250)","v":0},{"$f":"COUNTIFS('Unit Detail'!$Y$8:$Y$400,\"3\",'Unit Detail'!$D$8:$D$400,'Building Detail'!$B250)","v":0},{"$f":"COUNTIFS('Unit Detail'!$Y$8:$Y$400,\"2\",'Unit Detail'!$D$8:$D$400,'Building Detail'!$B250)","v":0},0,"",""]
[null,null,null,null,null,null,null,null,null,null,null,null,null,null,{"$f":"SUMIFS('Unit Detail'!$H$8:$H$400,'Unit Detail'!$D$8:$D$400,'Building Detail'!$B251,'Unit Detail'!$Y$8:$Y$400,1)","v":0},{"$f":"SUMIFS('Unit Detail'!$H$8:$H$400,'Unit Detail'!$D$8:$D$400,'Building Detail'!$B251,'Unit Detail'!$Y$8:$Y$400,3)","v":0},{"$f":"SUMIFS('Unit Detail'!$H$8:$H$400,'Unit Detail'!$D$8:$D$400,'Building Detail'!$B251,'Unit Detail'!$Y$8:$Y$400,2)","v":0},{"$f":"SUMIF('Unit Detail'!$D$8:$D$400,$B251,'Unit Detail'!$H$8:$H$400)","v":0},0,"",{"$f":"COUNTIFS('Unit Detail'!$Y$8:$Y$400,\"1\",'Unit Detail'!$D$8:$D$400,'Building Detail'!$B251)","v":0},{"$f":"COUNTIFS('Unit Detail'!$Y$8:$Y$400,\"3\",'Unit Detail'!$D$8:$D$400,'Building Detail'!$B251)","v":0},{"$f":"COUNTIFS('Unit Detail'!$Y$8:$Y$400,\"2\",'Unit Detail'!$D$8:$D$400,'Building Detail'!$B251)","v":0},0,"",""]
[null,null,null,null,null,null,null,null,null,null,null,null,null,null,{"$f":"SUMIFS('Unit Detail'!$H$8:$H$400,'Unit Detail'!$D$8:$D$400,'Building Detail'!$B252,'Unit Detail'!$Y$8:$Y$400,1)","v":0},{"$f":"SUMIFS('Unit Detail'!$H$8:$H$400,'Unit Detail'!$D$8:$D$400,'Building Detail'!$B252,'Unit Detail'!$Y$8:$Y$400,3)","v":0},{"$f":"SUMIFS('Unit Detail'!$H$8:$H$400,'Unit Detail'!$D$8:$D$400,'Building Detail'!$B252,'Unit Detail'!$Y$8:$Y$400,2)","v":0},{"$f":"SUMIF('Unit Detail'!$D$8:$D$400,$B252,'Unit Detail'!$H$8:$H$400)","v":0},0,"",{"$f":"COUNTIFS('Unit Detail'!$Y$8:$Y$400,\"1\",'Unit Detail'!$D$8:$D$400,'Building Detail'!$B252)","v":0},{"$f":"COUNTIFS('Unit Detail'!$Y$8:$Y$400,\"3\",'Unit Detail'!$D$8:$D$400,'Building Detail'!$B252)","v":0},{"$f":"COUNTIFS('Unit Detail'!$Y$8:$Y$400,\"2\",'Unit Detail'!$D$8:$D$400,'Building Detail'!$B252)","v":0},0,"",""]
[null,null,null,null,null,null,null,null,null,null,null,null,null,null,{"$f":"SUMIFS('Unit Detail'!$H$8:$H$400,'Unit Detail'!$D$8:$D$400,'Building Detail'!$B253,'Unit Detail'!$Y$8:$Y$400,1)","v":0},{"$f":"SUMIFS('Unit Detail'!$H$8:$H$400,'Unit Detail'!$D$8:$D$400,'Building Detail'!$B253,'Unit Detail'!$Y$8:$Y$400,3)","v":0},{"$f":"SUMIFS('Unit Detail'!$H$8:$H$400,'Unit Detail'!$D$8:$D$400,'Building Detail'!$B253,'Unit Detail'!$Y$8:$Y$400,2)","v":0},{"$f":"SUMIF('Unit Detail'!$D$8:$D$400,$B253,'Unit Detail'!$H$8:$H$400)","v":0},0,"",{"$f":"COUNTIFS('Unit Detail'!$Y$8:$Y$400,\"1\",'Unit Detail'!$D$8:$D$400,'Building Detail'!$B253)","v":0},{"$f":"COUNTIFS('Unit Detail'!$Y$8:$Y$400,\"3\",'Unit Detail'!$D$8:$D$400,'Building Detail'!$B253)","v":0},{"$f":"COUNTIFS('Unit Detail'!$Y$8:$Y$400,\"2\",'Unit Detail'!$D$8:$D$400,'Building Detail'!$B253)","v":0},0,"",""]
[null,null,null,null,null,null,null,null,null,null,null,null,null,null,{"$f":"SUMIFS('Unit Detail'!$H$8:$H$400,'Unit Detail'!$D$8:$D$400,'Building Detail'!$B254,'Unit Detail'!$Y$8:$Y$400,1)","v":0},{"$f":"SUMIFS('Unit Detail'!$H$8:$H$400,'Unit Detail'!$D$8:$D$400,'Building Detail'!$B254,'Unit Detail'!$Y$8:$Y$400,3)","v":0},{"$f":"SUMIFS('Unit Detail'!$H$8:$H$400,'Unit Detail'!$D$8:$D$400,'Building Detail'!$B254,'Unit Detail'!$Y$8:$Y$400,2)","v":0},{"$f":"SUMIF('Unit Detail'!$D$8:$D$400,$B254,'Unit Detail'!$H$8:$H$400)","v":0},0,"",{"$f":"COUNTIFS('Unit Detail'!$Y$8:$Y$400,\"1\",'Unit Detail'!$D$8:$D$400,'Building Detail'!$B254)","v":0},{"$f":"COUNTIFS('Unit Detail'!$Y$8:$Y$400,\"3\",'Unit Detail'!$D$8:$D$400,'Building Detail'!$B254)","v":0},{"$f":"COUNTIFS('Unit Detail'!$Y$8:$Y$400,\"2\",'Unit Detail'!$D$8:$D$400,'Building Detail'!$B254)","v":0},0,"",""]
[null,null,null,null,null,null,null,null,null,null,null,null,null,null,{"$f":"SUMIFS('Unit Detail'!$H$8:$H$400,'Unit Detail'!$D$8:$D$400,'Building Detail'!$B255,'Unit Detail'!$Y$8:$Y$400,1)","v":0},{"$f":"SUMIFS('Unit Detail'!$H$8:$H$400,'Unit Detail'!$D$8:$D$400,'Building Detail'!$B255,'Unit Detail'!$Y$8:$Y$400,3)","v":0},{"$f":"SUMIFS('Unit Detail'!$H$8:$H$400,'Unit Detail'!$D$8:$D$400,'Building Detail'!$B255,'Unit Detail'!$Y$8:$Y$400,2)","v":0},{"$f":"SUMIF('Unit Detail'!$D$8:$D$400,$B255,'Unit Detail'!$H$8:$H$400)","v":0},0,"",{"$f":"COUNTIFS('Unit Detail'!$Y$8:$Y$400,\"1\",'Unit Detail'!$D$8:$D$400,'Building Detail'!$B255)","v":0},{"$f":"COUNTIFS('Unit Detail'!$Y$8:$Y$400,\"3\",'Unit Detail'!$D$8:$D$400,'Building Detail'!$B255)","v":0},{"$f":"COUNTIFS('Unit Detail'!$Y$8:$Y$400,\"2\",'Unit Detail'!$D$8:$D$400,'Building Detail'!$B255)","v":0},0,"",""]
[null,null,null,null,null,null,null,null,null,null,null,null,null,null,{"$f":"SUMIFS('Unit Detail'!$H$8:$H$400,'Unit Detail'!$D$8:$D$400,'Building Detail'!$B256,'Unit Detail'!$Y$8:$Y$400,1)","v":0},{"$f":"SUMIFS('Unit Detail'!$H$8:$H$400,'Unit Detail'!$D$8:$D$400,'Building Detail'!$B256,'Unit Detail'!$Y$8:$Y$400,3)","v":0},{"$f":"SUMIFS('Unit Detail'!$H$8:$H$400,'Unit Detail'!$D$8:$D$400,'Building Detail'!$B256,'Unit Detail'!$Y$8:$Y$400,2)","v":0},{"$f":"SUMIF('Unit Detail'!$D$8:$D$400,$B256,'Unit Detail'!$H$8:$H$400)","v":0},0,"",{"$f":"COUNTIFS('Unit Detail'!$Y$8:$Y$400,\"1\",'Unit Detail'!$D$8:$D$400,'Building Detail'!$B256)","v":0},{"$f":"COUNTIFS('Unit Detail'!$Y$8:$Y$400,\"3\",'Unit Detail'!$D$8:$D$400,'Building Detail'!$B256)","v":0},{"$f":"COUNTIFS('Unit Detail'!$Y$8:$Y$400,\"2\",'Unit Detail'!$D$8:$D$400,'Building Detail'!$B256)","v":0},0,"",""]
[null,null,null,null,null,null,null,null,null,null,null,null,null,null,{"$f":"SUMIFS('Unit Detail'!$H$8:$H$400,'Unit Detail'!$D$8:$D$400,'Building Detail'!$B257,'Unit Detail'!$Y$8:$Y$400,1)","v":0},{"$f":"SUMIFS('Unit Detail'!$H$8:$H$400,'Unit Detail'!$D$8:$D$400,'Building Detail'!$B257,'Unit Detail'!$Y$8:$Y$400,3)","v":0},{"$f":"SUMIFS('Unit Detail'!$H$8:$H$400,'Unit Detail'!$D$8:$D$400,'Building Detail'!$B257,'Unit Detail'!$Y$8:$Y$400,2)","v":0},{"$f":"SUMIF('Unit Detail'!$D$8:$D$400,$B257,'Unit Detail'!$H$8:$H$400)","v":0},0,"",{"$f":"COUNTIFS('Unit Detail'!$Y$8:$Y$400,\"1\",'Unit Detail'!$D$8:$D$400,'Building Detail'!$B257)","v":0},{"$f":"COUNTIFS('Unit Detail'!$Y$8:$Y$400,\"3\",'Unit Detail'!$D$8:$D$400,'Building Detail'!$B257)","v":0},{"$f":"COUNTIFS('Unit Detail'!$Y$8:$Y$400,\"2\",'Unit Detail'!$D$8:$D$400,'Building Detail'!$B257)","v":0},0,"",""]
[null,null,null,null,null,null,null,null,null,null,null,null,null,null,{"$f":"SUMIFS('Unit Detail'!$H$8:$H$400,'Unit Detail'!$D$8:$D$400,'Building Detail'!$B258,'Unit Detail'!$Y$8:$Y$400,1)","v":0},{"$f":"SUMIFS('Unit Detail'!$H$8:$H$400,'Unit Detail'!$D$8:$D$400,'Building Detail'!$B258,'Unit Detail'!$Y$8:$Y$400,3)","v":0},{"$f":"SUMIFS('Unit Detail'!$H$8:$H$400,'Unit Detail'!$D$8:$D$400,'Building Detail'!$B258,'Unit Detail'!$Y$8:$Y$400,2)","v":0},{"$f":"SUMIF('Unit Detail'!$D$8:$D$400,$B258,'Unit Detail'!$H$8:$H$400)","v":0},0,"",{"$f":"COUNTIFS('Unit Detail'!$Y$8:$Y$400,\"1\",'Unit Detail'!$D$8:$D$400,'Building Detail'!$B258)","v":0},{"$f":"COUNTIFS('Unit Detail'!$Y$8:$Y$400,\"3\",'Unit Detail'!$D$8:$D$400,'Building Detail'!$B258)","v":0},{"$f":"COUNTIFS('Unit Detail'!$Y$8:$Y$400,\"2\",'Unit Detail'!$D$8:$D$400,'Building Detail'!$B258)","v":0},0,"",""]
[null,null,null,null,null,null,null,null,null,null,null,null,null,null,{"$f":"SUMIFS('Unit Detail'!$H$8:$H$400,'Unit Detail'!$D$8:$D$400,'Building Detail'!$B259,'Unit Detail'!$Y$8:$Y$400,1)","v":0},{"$f":"SUMIFS('Unit Detail'!$H$8:$H$400,'Unit Detail'!$D$8:$D$400,'Building Detail'!$B259,'Unit Detail'!$Y$8:$Y$400,3)","v":0},{"$f":"SUMIFS('Unit Detail'!$H$8:$H$400,'Unit Detail'!$D$8:$D$400,'Building Detail'!$B259,'Unit Detail'!$Y$8:$Y$400,2)","v":0},{"$f":"SUMIF('Unit Detail'!$D$8:$D$400,$B259,'Unit Detail'!$H$8:$H$400)","v":0},{"$f":"SUM(M259,N259,R259)","v":0},"",{"$f":"COUNTIFS('Unit Detail'!$Y$8:$Y$400,\"1\",'Unit Detail'!$D$8:$D$400,'Building Detail'!$B259)","v":0},{"$f":"COUNTIFS('Unit Detail'!$Y$8:$Y$400,\"3\",'Unit Detail'!$D$8:$D$400,'Building Detail'!$B259)","v":0},{"$f":"COUNTIFS('Unit Detail'!$Y$8:$Y$400,\"2\",'Unit Detail'!$D$8:$D$400,'Building Detail'!$B259)","v":0},{"$f":"SUM(U259:W259)","v":0},"",""]
[null,null,null,null,null,null,null,null,null,null,null,null,null,null,{"$f":"SUMIFS('Unit Detail'!$H$8:$H$400,'Unit Detail'!$D$8:$D$400,'Building Detail'!$B260,'Unit Detail'!$Y$8:$Y$400,1)","v":0},{"$f":"SUMIFS('Unit Detail'!$H$8:$H$400,'Unit Detail'!$D$8:$D$400,'Building Detail'!$B260,'Unit Detail'!$Y$8:$Y$400,3)","v":0},{"$f":"SUMIFS('Unit Detail'!$H$8:$H$400,'Unit Detail'!$D$8:$D$400,'Building Detail'!$B260,'Unit Detail'!$Y$8:$Y$400,2)","v":0},{"$f":"SUMIF('Unit Detail'!$D$8:$D$400,$B260,'Unit Detail'!$H$8:$H$400)","v":0},0,"",{"$f":"COUNTIFS('Unit Detail'!$Y$8:$Y$400,\"1\",'Unit Detail'!$D$8:$D$400,'Building Detail'!$B260)","v":0},{"$f":"COUNTIFS('Unit Detail'!$Y$8:$Y$400,\"3\",'Unit Detail'!$D$8:$D$400,'Building Detail'!$B260)","v":0},{"$f":"COUNTIFS('Unit Detail'!$Y$8:$Y$400,\"2\",'Unit Detail'!$D$8:$D$400,'Building Detail'!$B260)","v":0},0,"",""]
[null,null,null,null,null,null,null,null,null,null,null,null,null,null,{"$f":"SUMIFS('Unit Detail'!$H$8:$H$400,'Unit Detail'!$D$8:$D$400,'Building Detail'!$B261,'Unit Detail'!$Y$8:$Y$400,1)","v":0},{"$f":"SUMIFS('Unit Detail'!$H$8:$H$400,'Unit Detail'!$D$8:$D$400,'Building Detail'!$B261,'Unit Detail'!$Y$8:$Y$400,3)","v":0},{"$f":"SUMIFS('Unit Detail'!$H$8:$H$400,'Unit Detail'!$D$8:$D$400,'Building Detail'!$B261,'Unit Detail'!$Y$8:$Y$400,2)","v":0},{"$f":"SUMIF('Unit Detail'!$D$8:$D$400,$B261,'Unit Detail'!$H$8:$H$400)","v":0},0,"",{"$f":"COUNTIFS('Unit Detail'!$Y$8:$Y$400,\"1\",'Unit Detail'!$D$8:$D$400,'Building Detail'!$B261)","v":0},{"$f":"COUNTIFS('Unit Detail'!$Y$8:$Y$400,\"3\",'Unit Detail'!$D$8:$D$400,'Building Detail'!$B261)","v":0},{"$f":"COUNTIFS('Unit Detail'!$Y$8:$Y$400,\"2\",'Unit Detail'!$D$8:$D$400,'Building Detail'!$B261)","v":0},0,"",""]
[null,null,null,null,null,null,null,null,null,null,null,null,null,null,{"$f":"SUMIFS('Unit Detail'!$H$8:$H$400,'Unit Detail'!$D$8:$D$400,'Building Detail'!$B262,'Unit Detail'!$Y$8:$Y$400,1)","v":0},{"$f":"SUMIFS('Unit Detail'!$H$8:$H$400,'Unit Detail'!$D$8:$D$400,'Building Detail'!$B262,'Unit Detail'!$Y$8:$Y$400,3)","v":0},{"$f":"SUMIFS('Unit Detail'!$H$8:$H$400,'Unit Detail'!$D$8:$D$400,'Building Detail'!$B262,'Unit Detail'!$Y$8:$Y$400,2)","v":0},{"$f":"SUMIF('Unit Detail'!$D$8:$D$400,$B262,'Unit Detail'!$H$8:$H$400)","v":0},0,"",{"$f":"COUNTIFS('Unit Detail'!$Y$8:$Y$400,\"1\",'Unit Detail'!$D$8:$D$400,'Building Detail'!$B262)","v":0},{"$f":"COUNTIFS('Unit Detail'!$Y$8:$Y$400,\"3\",'Unit Detail'!$D$8:$D$400,'Building Detail'!$B262)","v":0},{"$f":"COUNTIFS('Unit Detail'!$Y$8:$Y$400,\"2\",'Unit Detail'!$D$8:$D$400,'Building Detail'!$B262)","v":0},0,"",""]
[null,null,null,null,null,null,null,null,null,null,null,null,null,null,{"$f":"SUMIFS('Unit Detail'!$H$8:$H$400,'Unit Detail'!$D$8:$D$400,'Building Detail'!$B263,'Unit Detail'!$Y$8:$Y$400,1)","v":0},{"$f":"SUMIFS('Unit Detail'!$H$8:$H$400,'Unit Detail'!$D$8:$D$400,'Building Detail'!$B263,'Unit Detail'!$Y$8:$Y$400,3)","v":0},{"$f":"SUMIFS('Unit Detail'!$H$8:$H$400,'Unit Detail'!$D$8:$D$400,'Building Detail'!$B263,'Unit Detail'!$Y$8:$Y$400,2)","v":0},{"$f":"SUMIF('Unit Detail'!$D$8:$D$400,$B263,'Unit Detail'!$H$8:$H$400)","v":0},0,"",{"$f":"COUNTIFS('Unit Detail'!$Y$8:$Y$400,\"1\",'Unit Detail'!$D$8:$D$400,'Building Detail'!$B263)","v":0},{"$f":"COUNTIFS('Unit Detail'!$Y$8:$Y$400,\"3\",'Unit Detail'!$D$8:$D$400,'Building Detail'!$B263)","v":0},{"$f":"COUNTIFS('Unit Detail'!$Y$8:$Y$400,\"2\",'Unit Detail'!$D$8:$D$400,'Building Detail'!$B263)","v":0},0,"",""]
[null,null,null,null,null,null,null,null,null,null,null,null,null,null,{"$f":"SUMIFS('Unit Detail'!$H$8:$H$400,'Unit Detail'!$D$8:$D$400,'Building Detail'!$B264,'Unit Detail'!$Y$8:$Y$400,1)","v":0},{"$f":"SUMIFS('Unit Detail'!$H$8:$H$400,'Unit Detail'!$D$8:$D$400,'Building Detail'!$B264,'Unit Detail'!$Y$8:$Y$400,3)","v":0},{"$f":"SUMIFS('Unit Detail'!$H$8:$H$400,'Unit Detail'!$D$8:$D$400,'Building Detail'!$B264,'Unit Detail'!$Y$8:$Y$400,2)","v":0},{"$f":"SUMIF('Unit Detail'!$D$8:$D$400,$B264,'Unit Detail'!$H$8:$H$400)","v":0},0,"",{"$f":"COUNTIFS('Unit Detail'!$Y$8:$Y$400,\"1\",'Unit Detail'!$D$8:$D$400,'Building Detail'!$B264)","v":0},{"$f":"COUNTIFS('Unit Detail'!$Y$8:$Y$400,\"3\",'Unit Detail'!$D$8:$D$400,'Building Detail'!$B264)","v":0},{"$f":"COUNTIFS('Unit Detail'!$Y$8:$Y$400,\"2\",'Unit Detail'!$D$8:$D$400,'Building Detail'!$B264)","v":0},0,"",""]
[null,null,null,null,null,null,null,null,null,null,null,null,null,null,{"$f":"SUMIFS('Unit Detail'!$H$8:$H$400,'Unit Detail'!$D$8:$D$400,'Building Detail'!$B265,'Unit Detail'!$Y$8:$Y$400,1)","v":0},{"$f":"SUMIFS('Unit Detail'!$H$8:$H$400,'Unit Detail'!$D$8:$D$400,'Building Detail'!$B265,'Unit Detail'!$Y$8:$Y$400,3)","v":0},{"$f":"SUMIFS('Unit Detail'!$H$8:$H$400,'Unit Detail'!$D$8:$D$400,'Building Detail'!$B265,'Unit Detail'!$Y$8:$Y$400,2)","v":0},{"$f":"SUMIF('Unit Detail'!$D$8:$D$400,$B265,'Unit Detail'!$H$8:$H$400)","v":0},0,"",{"$f":"COUNTIFS('Unit Detail'!$Y$8:$Y$400,\"1\",'Unit Detail'!$D$8:$D$400,'Building Detail'!$B265)","v":0},{"$f":"COUNTIFS('Unit Detail'!$Y$8:$Y$400,\"3\",'Unit Detail'!$D$8:$D$400,'Building Detail'!$B265)","v":0},{"$f":"COUNTIFS('Unit Detail'!$Y$8:$Y$400,\"2\",'Unit Detail'!$D$8:$D$400,'Building Detail'!$B265)","v":0},0,"",""]
[null,null,null,null,null,null,null,null,null,null,null,null,null,null,{"$f":"SUMIFS('Unit Detail'!$H$8:$H$400,'Unit Detail'!$D$8:$D$400,'Building Detail'!$B266,'Unit Detail'!$Y$8:$Y$400,1)","v":0},{"$f":"SUMIFS('Unit Detail'!$H$8:$H$400,'Unit Detail'!$D$8:$D$400,'Building Detail'!$B266,'Unit Detail'!$Y$8:$Y$400,3)","v":0},{"$f":"SUMIFS('Unit Detail'!$H$8:$H$400,'Unit Detail'!$D$8:$D$400,'Building Detail'!$B266,'Unit Detail'!$Y$8:$Y$400,2)","v":0},{"$f":"SUMIF('Unit Detail'!$D$8:$D$400,$B266,'Unit Detail'!$H$8:$H$400)","v":0},0,"",{"$f":"COUNTIFS('Unit Detail'!$Y$8:$Y$400,\"1\",'Unit Detail'!$D$8:$D$400,'Building Detail'!$B266)","v":0},{"$f":"COUNTIFS('Unit Detail'!$Y$8:$Y$400,\"3\",'Unit Detail'!$D$8:$D$400,'Building Detail'!$B266)","v":0},{"$f":"COUNTIFS('Unit Detail'!$Y$8:$Y$400,\"2\",'Unit Detail'!$D$8:$D$400,'Building Detail'!$B266)","v":0},0,"",""]
[null,null,null,null,null,null,null,null,null,null,null,null,null,null,{"$f":"SUMIFS('Unit Detail'!$H$8:$H$400,'Unit Detail'!$D$8:$D$400,'Building Detail'!$B267,'Unit Detail'!$Y$8:$Y$400,1)","v":0},{"$f":"SUMIFS('Unit Detail'!$H$8:$H$400,'Unit Detail'!$D$8:$D$400,'Building Detail'!$B267,'Unit Detail'!$Y$8:$Y$400,3)","v":0},{"$f":"SUMIFS('Unit Detail'!$H$8:$H$400,'Unit Detail'!$D$8:$D$400,'Building Detail'!$B267,'Unit Detail'!$Y$8:$Y$400,2)","v":0},{"$f":"SUMIF('Unit Detail'!$D$8:$D$400,$B267,'Unit Detail'!$H$8:$H$400)","v":0},0,"",{"$f":"COUNTIFS('Unit Detail'!$Y$8:$Y$400,\"1\",'Unit Detail'!$D$8:$D$400,'Building Detail'!$B267)","v":0},{"$f":"COUNTIFS('Unit Detail'!$Y$8:$Y$400,\"3\",'Unit Detail'!$D$8:$D$400,'Building Detail'!$B267)","v":0},{"$f":"COUNTIFS('Unit Detail'!$Y$8:$Y$400,\"2\",'Unit Detail'!$D$8:$D$400,'Building Detail'!$B267)","v":0},0,"",""]
[null,null,null,null,null,null,null,null,null,null,null,null,null,null,{"$f":"SUMIFS('Unit Detail'!$H$8:$H$400,'Unit Detail'!$D$8:$D$400,'Building Detail'!$B268,'Unit Detail'!$Y$8:$Y$400,1)","v":0},{"$f":"SUMIFS('Unit Detail'!$H$8:$H$400,'Unit Detail'!$D$8:$D$400,'Building Detail'!$B268,'Unit Detail'!$Y$8:$Y$400,3)","v":0},{"$f":"SUMIFS('Unit Detail'!$H$8:$H$400,'Unit Detail'!$D$8:$D$400,'Building Detail'!$B268,'Unit Detail'!$Y$8:$Y$400,2)","v":0},{"$f":"SUMIF('Unit Detail'!$D$8:$D$400,$B268,'Unit Detail'!$H$8:$H$400)","v":0},0,"",{"$f":"COUNTIFS('Unit Detail'!$Y$8:$Y$400,\"1\",'Unit Detail'!$D$8:$D$400,'Building Detail'!$B268)","v":0},{"$f":"COUNTIFS('Unit Detail'!$Y$8:$Y$400,\"3\",'Unit Detail'!$D$8:$D$400,'Building Detail'!$B268)","v":0},{"$f":"COUNTIFS('Unit Detail'!$Y$8:$Y$400,\"2\",'Unit Detail'!$D$8:$D$400,'Building Detail'!$B268)","v":0},0,"",""]
[null,null,null,null,null,null,null,null,null,null,null,null,null,null,{"$f":"SUMIFS('Unit Detail'!$H$8:$H$400,'Unit Detail'!$D$8:$D$400,'Building Detail'!$B269,'Unit Detail'!$Y$8:$Y$400,1)","v":0},{"$f":"SUMIFS('Unit Detail'!$H$8:$H$400,'Unit Detail'!$D$8:$D$400,'Building Detail'!$B269,'Unit Detail'!$Y$8:$Y$400,3)","v":0},{"$f":"SUMIFS('Unit Detail'!$H$8:$H$400,'Unit Detail'!$D$8:$D$400,'Building Detail'!$B269,'Unit Detail'!$Y$8:$Y$400,2)","v":0},{"$f":"SUMIF('Unit Detail'!$D$8:$D$400,$B269,'Unit Detail'!$H$8:$H$400)","v":0},0,"",{"$f":"COUNTIFS('Unit Detail'!$Y$8:$Y$400,\"1\",'Unit Detail'!$D$8:$D$400,'Building Detail'!$B269)","v":0},{"$f":"COUNTIFS('Unit Detail'!$Y$8:$Y$400,\"3\",'Unit Detail'!$D$8:$D$400,'Building Detail'!$B269)","v":0},{"$f":"COUNTIFS('Unit Detail'!$Y$8:$Y$400,\"2\",'Unit Detail'!$D$8:$D$400,'Building Detail'!$B269)","v":0},0,"",""]
[null,null,null,null,null,null,null,null,null,null,null,null,null,null,{"$f":"SUMIFS('Unit Detail'!$H$8:$H$400,'Unit Detail'!$D$8:$D$400,'Building Detail'!$B270,'Unit Detail'!$Y$8:$Y$400,1)","v":0},{"$f":"SUMIFS('Unit Detail'!$H$8:$H$400,'Unit Detail'!$D$8:$D$400,'Building Detail'!$B270,'Unit Detail'!$Y$8:$Y$400,3)","v":0},{"$f":"SUMIFS('Unit Detail'!$H$8:$H$400,'Unit Detail'!$D$8:$D$400,'Building Detail'!$B270,'Unit Detail'!$Y$8:$Y$400,2)","v":0},{"$f":"SUMIF('Unit Detail'!$D$8:$D$400,$B270,'Unit Detail'!$H$8:$H$400)","v":0},0,"",{"$f":"COUNTIFS('Unit Detail'!$Y$8:$Y$400,\"1\",'Unit Detail'!$D$8:$D$400,'Building Detail'!$B270)","v":0},{"$f":"COUNTIFS('Unit Detail'!$Y$8:$Y$400,\"3\",'Unit Detail'!$D$8:$D$400,'Building Detail'!$B270)","v":0},{"$f":"COUNTIFS('Unit Detail'!$Y$8:$Y$400,\"2\",'Unit Detail'!$D$8:$D$400,'Building Detail'!$B270)","v":0},0,"",""]
[null,null,null,null,null,null,null,null,null,null,null,null,null,null,{"$f":"SUMIFS('Unit Detail'!$H$8:$H$400,'Unit Detail'!$D$8:$D$400,'Building Detail'!$B271,'Unit Detail'!$Y$8:$Y$400,1)","v":0},{"$f":"SUMIFS('Unit Detail'!$H$8:$H$400,'Unit Detail'!$D$8:$D$400,'Building Detail'!$B271,'Unit Detail'!$Y$8:$Y$400,3)","v":0},{"$f":"SUMIFS('Unit Detail'!$H$8:$H$400,'Unit Detail'!$D$8:$D$400,'Building Detail'!$B271,'Unit Detail'!$Y$8:$Y$400,2)","v":0},{"$f":"SUMIF('Unit Detail'!$D$8:$D$400,$B271,'Unit Detail'!$H$8:$H$400)","v":0},0,"",{"$f":"COUNTIFS('Unit Detail'!$Y$8:$Y$400,\"1\",'Unit Detail'!$D$8:$D$400,'Building Detail'!$B271)","v":0},{"$f":"COUNTIFS('Unit Detail'!$Y$8:$Y$400,\"3\",'Unit Detail'!$D$8:$D$400,'Building Detail'!$B271)","v":0},{"$f":"COUNTIFS('Unit Detail'!$Y$8:$Y$400,\"2\",'Unit Detail'!$D$8:$D$400,'Building Detail'!$B271)","v":0},0,"",""]
[null,null,null,null,null,null,null,null,null,null,null,null,null,null,{"$f":"SUMIFS('Unit Detail'!$H$8:$H$400,'Unit Detail'!$D$8:$D$400,'Building Detail'!$B272,'Unit Detail'!$Y$8:$Y$400,1)","v":0},{"$f":"SUMIFS('Unit Detail'!$H$8:$H$400,'Unit Detail'!$D$8:$D$400,'Building Detail'!$B272,'Unit Detail'!$Y$8:$Y$400,3)","v":0},{"$f":"SUMIFS('Unit Detail'!$H$8:$H$400,'Unit Detail'!$D$8:$D$400,'Building Detail'!$B272,'Unit Detail'!$Y$8:$Y$400,2)","v":0},{"$f":"SUMIF('Unit Detail'!$D$8:$D$400,$B272,'Unit Detail'!$H$8:$H$400)","v":0},0,"",{"$f":"COUNTIFS('Unit Detail'!$Y$8:$Y$400,\"1\",'Unit Detail'!$D$8:$D$400,'Building Detail'!$B272)","v":0},{"$f":"COUNTIFS('Unit Detail'!$Y$8:$Y$400,\"3\",'Unit Detail'!$D$8:$D$400,'Building Detail'!$B272)","v":0},{"$f":"COUNTIFS('Unit Detail'!$Y$8:$Y$400,\"2\",'Unit Detail'!$D$8:$D$400,'Building Detail'!$B272)","v":0},0,"",""]
[null,null,null,null,null,null,null,null,null,null,null,null,null,null,{"$f":"SUMIFS('Unit Detail'!$H$8:$H$400,'Unit Detail'!$D$8:$D$400,'Building Detail'!$B273,'Unit Detail'!$Y$8:$Y$400,1)","v":0},{"$f":"SUMIFS('Unit Detail'!$H$8:$H$400,'Unit Detail'!$D$8:$D$400,'Building Detail'!$B273,'Unit Detail'!$Y$8:$Y$400,3)","v":0},{"$f":"SUMIFS('Unit Detail'!$H$8:$H$400,'Unit Detail'!$D$8:$D$400,'Building Detail'!$B273,'Unit Detail'!$Y$8:$Y$400,2)","v":0},{"$f":"SUMIF('Unit Detail'!$D$8:$D$400,$B273,'Unit Detail'!$H$8:$H$400)","v":0},0,"",{"$f":"COUNTIFS('Unit Detail'!$Y$8:$Y$400,\"1\",'Unit Detail'!$D$8:$D$400,'Building Detail'!$B273)","v":0},{"$f":"COUNTIFS('Unit Detail'!$Y$8:$Y$400,\"3\",'Unit Detail'!$D$8:$D$400,'Building Detail'!$B273)","v":0},{"$f":"COUNTIFS('Unit Detail'!$Y$8:$Y$400,\"2\",'Unit Detail'!$D$8:$D$400,'Building Detail'!$B273)","v":0},0,"",""]
[null,null,null,null,null,null,null,null,null,null,null,null,null,null,{"$f":"SUMIFS('Unit Detail'!$H$8:$H$400,'Unit Detail'!$D$8:$D$400,'Building Detail'!$B274,'Unit Detail'!$Y$8:$Y$400,1)","v":0},{"$f":"SUMIFS('Unit Detail'!$H$8:$H$400,'Unit Detail'!$D$8:$D$400,'Building Detail'!$B274,'Unit Detail'!$Y$8:$Y$400,3)","v":0},{"$f":"SUMIFS('Unit Detail'!$H$8:$H$400,'Unit Detail'!$D$8:$D$400,'Building Detail'!$B274,'Unit Detail'!$Y$8:$Y$400,2)","v":0},{"$f":"SUMIF('Unit Detail'!$D$8:$D$400,$B274,'Unit Detail'!$H$8:$H$400)","v":0},0,"",{"$f":"COUNTIFS('Unit Detail'!$Y$8:$Y$400,\"1\",'Unit Detail'!$D$8:$D$400,'Building Detail'!$B274)","v":0},{"$f":"COUNTIFS('Unit Detail'!$Y$8:$Y$400,\"3\",'Unit Detail'!$D$8:$D$400,'Building Detail'!$B274)","v":0},{"$f":"COUNTIFS('Unit Detail'!$Y$8:$Y$400,\"2\",'Unit Detail'!$D$8:$D$400,'Building Detail'!$B274)","v":0},0,"",{"$f":"IF(Y274<T274,Y274,T274)","v":""}]
[null,null,null,null,null,null,null,null,null,null,null,null,null,null,{"$f":"SUMIFS('Unit Detail'!$H$8:$H$400,'Unit Detail'!$D$8:$D$400,'Building Detail'!$B275,'Unit Detail'!$Y$8:$Y$400,1)","v":0},{"$f":"SUMIFS('Unit Detail'!$H$8:$H$400,'Unit Detail'!$D$8:$D$400,'Building Detail'!$B275,'Unit Detail'!$Y$8:$Y$400,3)","v":0},{"$f":"SUMIFS('Unit Detail'!$H$8:$H$400,'Unit Detail'!$D$8:$D$400,'Building Detail'!$B275,'Unit Detail'!$Y$8:$Y$400,2)","v":0},{"$f":"SUMIF('Unit Detail'!$D$8:$D$400,$B275,'Unit Detail'!$H$8:$H$400)","v":0},0,"",{"$f":"COUNTIFS('Unit Detail'!$Y$8:$Y$400,\"1\",'Unit Detail'!$D$8:$D$400,'Building Detail'!$B275)","v":0},{"$f":"COUNTIFS('Unit Detail'!$Y$8:$Y$400,\"3\",'Unit Detail'!$D$8:$D$400,'Building Detail'!$B275)","v":0},{"$f":"COUNTIFS('Unit Detail'!$Y$8:$Y$400,\"2\",'Unit Detail'!$D$8:$D$400,'Building Detail'!$B275)","v":0},0,{"$f":"IF(B275=\"\",\"\",IF($P$15=0,1,U275/X275))","v":""},""]
[null,null,null,null,null,null,null,null,null,null,null,null,null,null,{"$f":"SUMIFS('Unit Detail'!$H$8:$H$400,'Unit Detail'!$D$8:$D$400,'Building Detail'!$B276,'Unit Detail'!$Y$8:$Y$400,1)","v":0},{"$f":"SUMIFS('Unit Detail'!$H$8:$H$400,'Unit Detail'!$D$8:$D$400,'Building Detail'!$B276,'Unit Detail'!$Y$8:$Y$400,3)","v":0},{"$f":"SUMIFS('Unit Detail'!$H$8:$H$400,'Unit Detail'!$D$8:$D$400,'Building Detail'!$B276,'Unit Detail'!$Y$8:$Y$400,2)","v":0},{"$f":"SUMIF('Unit Detail'!$D$8:$D$400,$B276,'Unit Detail'!$H$8:$H$400)","v":0},0,"",{"$f":"COUNTIFS('Unit Detail'!$Y$8:$Y$400,\"1\",'Unit Detail'!$D$8:$D$400,'Building Detail'!$B276)","v":0},{"$f":"COUNTIFS('Unit Detail'!$Y$8:$Y$400,\"3\",'Unit Detail'!$D$8:$D$400,'Building Detail'!$B276)","v":0},{"$f":"COUNTIFS('Unit Detail'!$Y$8:$Y$400,\"2\",'Unit Detail'!$D$8:$D$400,'Building Detail'!$B276)","v":0},0,"",""]
[null,null,null,null,null,null,null,null,null,null,null,null,null,null,{"$f":"SUMIFS('Unit Detail'!$H$8:$H$400,'Unit Detail'!$D$8:$D$400,'Building Detail'!$B277,'Unit Detail'!$Y$8:$Y$400,1)","v":0},{"$f":"SUMIFS('Unit Detail'!$H$8:$H$400,'Unit Detail'!$D$8:$D$400,'Building Detail'!$B277,'Unit Detail'!$Y$8:$Y$400,3)","v":0},{"$f":"SUMIFS('Unit Detail'!$H$8:$H$400,'Unit Detail'!$D$8:$D$400,'Building Detail'!$B277,'Unit Detail'!$Y$8:$Y$400,2)","v":0},{"$f":"SUMIF('Unit Detail'!$D$8:$D$400,$B277,'Unit Detail'!$H$8:$H$400)","v":0},0,{"$f":"IF(B277=\"\",\"\",IF($P$15=0,1,O277/R277))","v":""},{"$f":"COUNTIFS('Unit Detail'!$Y$8:$Y$400,\"1\",'Unit Detail'!$D$8:$D$400,'Building Detail'!$B277)","v":0},{"$f":"COUNTIFS('Unit Detail'!$Y$8:$Y$400,\"3\",'Unit Detail'!$D$8:$D$400,'Building Detail'!$B277)","v":0},{"$f":"COUNTIFS('Unit Detail'!$Y$8:$Y$400,\"2\",'Unit Detail'!$D$8:$D$400,'Building Detail'!$B277)","v":0},0,"",""]
[null,null,null,null,null,null,null,null,null,null,null,null,null,null,{"$f":"SUMIFS('Unit Detail'!$H$8:$H$400,'Unit Detail'!$D$8:$D$400,'Building Detail'!$B278,'Unit Detail'!$Y$8:$Y$400,1)","v":0},{"$f":"SUMIFS('Unit Detail'!$H$8:$H$400,'Unit Detail'!$D$8:$D$400,'Building Detail'!$B278,'Unit Detail'!$Y$8:$Y$400,3)","v":0},{"$f":"SUMIFS('Unit Detail'!$H$8:$H$400,'Unit Detail'!$D$8:$D$400,'Building Detail'!$B278,'Unit Detail'!$Y$8:$Y$400,2)","v":0},{"$f":"SUMIF('Unit Detail'!$D$8:$D$400,$B278,'Unit Detail'!$H$8:$H$400)","v":0},0,"",{"$f":"COUNTIFS('Unit Detail'!$Y$8:$Y$400,\"1\",'Unit Detail'!$D$8:$D$400,'Building Detail'!$B278)","v":0},{"$f":"COUNTIFS('Unit Detail'!$Y$8:$Y$400,\"3\",'Unit Detail'!$D$8:$D$400,'Building Detail'!$B278)","v":0},{"$f":"COUNTIFS('Unit Detail'!$Y$8:$Y$400,\"2\",'Unit Detail'!$D$8:$D$400,'Building Detail'!$B278)","v":0},0,"",""]
[null,null,null,null,null,null,null,null,null,null,null,null,null,null,{"$f":"SUMIFS('Unit Detail'!$H$8:$H$400,'Unit Detail'!$D$8:$D$400,'Building Detail'!$B279,'Unit Detail'!$Y$8:$Y$400,1)","v":0},{"$f":"SUMIFS('Unit Detail'!$H$8:$H$400,'Unit Detail'!$D$8:$D$400,'Building Detail'!$B279,'Unit Detail'!$Y$8:$Y$400,3)","v":0},{"$f":"SUMIFS('Unit Detail'!$H$8:$H$400,'Unit Detail'!$D$8:$D$400,'Building Detail'!$B279,'Unit Detail'!$Y$8:$Y$400,2)","v":0},{"$f":"SUMIF('Unit Detail'!$D$8:$D$400,$B279,'Unit Detail'!$H$8:$H$400)","v":0},0,"",{"$f":"COUNTIFS('Unit Detail'!$Y$8:$Y$400,\"1\",'Unit Detail'!$D$8:$D$400,'Building Detail'!$B279)","v":0},{"$f":"COUNTIFS('Unit Detail'!$Y$8:$Y$400,\"3\",'Unit Detail'!$D$8:$D$400,'Building Detail'!$B279)","v":0},{"$f":"COUNTIFS('Unit Detail'!$Y$8:$Y$400,\"2\",'Unit Detail'!$D$8:$D$400,'Building Detail'!$B279)","v":0},0,"",""]
[null,null,null,null,null,null,null,null,null,null,null,null,null,null,{"$f":"SUMIFS('Unit Detail'!$H$8:$H$400,'Unit Detail'!$D$8:$D$400,'Building Detail'!$B280,'Unit Detail'!$Y$8:$Y$400,1)","v":0},{"$f":"SUMIFS('Unit Detail'!$H$8:$H$400,'Unit Detail'!$D$8:$D$400,'Building Detail'!$B280,'Unit Detail'!$Y$8:$Y$400,3)","v":0},{"$f":"SUMIFS('Unit Detail'!$H$8:$H$400,'Unit Detail'!$D$8:$D$400,'Building Detail'!$B280,'Unit Detail'!$Y$8:$Y$400,2)","v":0},{"$f":"SUMIF('Unit Detail'!$D$8:$D$400,$B280,'Unit Detail'!$H$8:$H$400)","v":0},0,"",{"$f":"COUNTIFS('Unit Detail'!$Y$8:$Y$400,\"1\",'Unit Detail'!$D$8:$D$400,'Building Detail'!$B280)","v":0},{"$f":"COUNTIFS('Unit Detail'!$Y$8:$Y$400,\"3\",'Unit Detail'!$D$8:$D$400,'Building Detail'!$B280)","v":0},{"$f":"COUNTIFS('Unit Detail'!$Y$8:$Y$400,\"2\",'Unit Detail'!$D$8:$D$400,'Building Detail'!$B280)","v":0},0,"",""]
[null,null,null,null,null,null,null,null,null,null,null,null,null,null,{"$f":"SUMIFS('Unit Detail'!$H$8:$H$400,'Unit Detail'!$D$8:$D$400,'Building Detail'!$B281,'Unit Detail'!$Y$8:$Y$400,1)","v":0},{"$f":"SUMIFS('Unit Detail'!$H$8:$H$400,'Unit Detail'!$D$8:$D$400,'Building Detail'!$B281,'Unit Detail'!$Y$8:$Y$400,3)","v":0},{"$f":"SUMIFS('Unit Detail'!$H$8:$H$400,'Unit Detail'!$D$8:$D$400,'Building Detail'!$B281,'Unit Detail'!$Y$8:$Y$400,2)","v":0},{"$f":"SUMIF('Unit Detail'!$D$8:$D$400,$B281,'Unit Detail'!$H$8:$H$400)","v":0},0,"",{"$f":"COUNTIFS('Unit Detail'!$Y$8:$Y$400,\"1\",'Unit Detail'!$D$8:$D$400,'Building Detail'!$B281)","v":0},{"$f":"COUNTIFS('Unit Detail'!$Y$8:$Y$400,\"3\",'Unit Detail'!$D$8:$D$400,'Building Detail'!$B281)","v":0},{"$f":"COUNTIFS('Unit Detail'!$Y$8:$Y$400,\"2\",'Unit Detail'!$D$8:$D$400,'Building Detail'!$B281)","v":0},0,"",""]
[null,null,null,null,null,null,null,null,null,null,null,null,null,null,{"$f":"SUMIFS('Unit Detail'!$H$8:$H$400,'Unit Detail'!$D$8:$D$400,'Building Detail'!$B282,'Unit Detail'!$Y$8:$Y$400,1)","v":0},{"$f":"SUMIFS('Unit Detail'!$H$8:$H$400,'Unit Detail'!$D$8:$D$400,'Building Detail'!$B282,'Unit Detail'!$Y$8:$Y$400,3)","v":0},{"$f":"SUMIFS('Unit Detail'!$H$8:$H$400,'Unit Detail'!$D$8:$D$400,'Building Detail'!$B282,'Unit Detail'!$Y$8:$Y$400,2)","v":0},{"$f":"SUMIF('Unit Detail'!$D$8:$D$400,$B282,'Unit Detail'!$H$8:$H$400)","v":0},0,"",{"$f":"COUNTIFS('Unit Detail'!$Y$8:$Y$400,\"1\",'Unit Detail'!$D$8:$D$400,'Building Detail'!$B282)","v":0},{"$f":"COUNTIFS('Unit Detail'!$Y$8:$Y$400,\"3\",'Unit Detail'!$D$8:$D$400,'Building Detail'!$B282)","v":0},{"$f":"COUNTIFS('Unit Detail'!$Y$8:$Y$400,\"2\",'Unit Detail'!$D$8:$D$400,'Building Detail'!$B282)","v":0},0,"",""]
[null,null,null,null,null,null,null,null,null,null,null,null,null,null,{"$f":"SUMIFS('Unit Detail'!$H$8:$H$400,'Unit Detail'!$D$8:$D$400,'Building Detail'!$B283,'Unit Detail'!$Y$8:$Y$400,1)","v":0},{"$f":"SUMIFS('Unit Detail'!$H$8:$H$400,'Unit Detail'!$D$8:$D$400,'Building Detail'!$B283,'Unit Detail'!$Y$8:$Y$400,3)","v":0},{"$f":"SUMIFS('Unit Detail'!$H$8:$H$400,'Unit Detail'!$D$8:$D$400,'Building Detail'!$B283,'Unit Detail'!$Y$8:$Y$400,2)","v":0},{"$f":"SUMIF('Unit Detail'!$D$8:$D$400,$B283,'Unit Detail'!$H$8:$H$400)","v":0},0,"",{"$f":"COUNTIFS('Unit Detail'!$Y$8:$Y$400,\"1\",'Unit Detail'!$D$8:$D$400,'Building Detail'!$B283)","v":0},{"$f":"COUNTIFS('Unit Detail'!$Y$8:$Y$400,\"3\",'Unit Detail'!$D$8:$D$400,'Building Detail'!$B283)","v":0},{"$f":"COUNTIFS('Unit Detail'!$Y$8:$Y$400,\"2\",'Unit Detail'!$D$8:$D$400,'Building Detail'!$B283)","v":0},0,"",""]
[null,null,null,null,null,null,null,null,null,null,null,null,null,null,{"$f":"SUMIFS('Unit Detail'!$H$8:$H$400,'Unit Detail'!$D$8:$D$400,'Building Detail'!$B284,'Unit Detail'!$Y$8:$Y$400,1)","v":0},{"$f":"SUMIFS('Unit Detail'!$H$8:$H$400,'Unit Detail'!$D$8:$D$400,'Building Detail'!$B284,'Unit Detail'!$Y$8:$Y$400,3)","v":0},{"$f":"SUMIFS('Unit Detail'!$H$8:$H$400,'Unit Detail'!$D$8:$D$400,'Building Detail'!$B284,'Unit Detail'!$Y$8:$Y$400,2)","v":0},{"$f":"SUMIF('Unit Detail'!$D$8:$D$400,$B284,'Unit Detail'!$H$8:$H$400)","v":0},0,"",{"$f":"COUNTIFS('Unit Detail'!$Y$8:$Y$400,\"1\",'Unit Detail'!$D$8:$D$400,'Building Detail'!$B284)","v":0},{"$f":"COUNTIFS('Unit Detail'!$Y$8:$Y$400,\"3\",'Unit Detail'!$D$8:$D$400,'Building Detail'!$B284)","v":0},{"$f":"COUNTIFS('Unit Detail'!$Y$8:$Y$400,\"2\",'Unit Detail'!$D$8:$D$400,'Building Detail'!$B284)","v":0},0,"",""]
[null,null,null,null,null,null,null,null,null,null,null,null,null,null,{"$f":"SUMIFS('Unit Detail'!$H$8:$H$400,'Unit Detail'!$D$8:$D$400,'Building Detail'!$B285,'Unit Detail'!$Y$8:$Y$400,1)","v":0},{"$f":"SUMIFS('Unit Detail'!$H$8:$H$400,'Unit Detail'!$D$8:$D$400,'Building Detail'!$B285,'Unit Detail'!$Y$8:$Y$400,3)","v":0},{"$f":"SUMIFS('Unit Detail'!$H$8:$H$400,'Unit Detail'!$D$8:$D$400,'Building Detail'!$B285,'Unit Detail'!$Y$8:$Y$400,2)","v":0},{"$f":"SUMIF('Unit Detail'!$D$8:$D$400,$B285,'Unit Detail'!$H$8:$H$400)","v":0},0,"",{"$f":"COUNTIFS('Unit Detail'!$Y$8:$Y$400,\"1\",'Unit Detail'!$D$8:$D$400,'Building Detail'!$B285)","v":0},{"$f":"COUNTIFS('Unit Detail'!$Y$8:$Y$400,\"3\",'Unit Detail'!$D$8:$D$400,'Building Detail'!$B285)","v":0},{"$f":"COUNTIFS('Unit Detail'!$Y$8:$Y$400,\"2\",'Unit Detail'!$D$8:$D$400,'Building Detail'!$B285)","v":0},0,"",""]
[null,null,null,null,null,null,null,null,null,null,null,null,null,null,{"$f":"SUMIFS('Unit Detail'!$H$8:$H$400,'Unit Detail'!$D$8:$D$400,'Building Detail'!$B286,'Unit Detail'!$Y$8:$Y$400,1)","v":0},{"$f":"SUMIFS('Unit Detail'!$H$8:$H$400,'Unit Detail'!$D$8:$D$400,'Building Detail'!$B286,'Unit Detail'!$Y$8:$Y$400,3)","v":0},{"$f":"SUMIFS('Unit Detail'!$H$8:$H$400,'Unit Detail'!$D$8:$D$400,'Building Detail'!$B286,'Unit Detail'!$Y$8:$Y$400,2)","v":0},{"$f":"SUMIF('Unit Detail'!$D$8:$D$400,$B286,'Unit Detail'!$H$8:$H$400)","v":0},0,"",{"$f":"COUNTIFS('Unit Detail'!$Y$8:$Y$400,\"1\",'Unit Detail'!$D$8:$D$400,'Building Detail'!$B286)","v":0},{"$f":"COUNTIFS('Unit Detail'!$Y$8:$Y$400,\"3\",'Unit Detail'!$D$8:$D$400,'Building Detail'!$B286)","v":0},{"$f":"COUNTIFS('Unit Detail'!$Y$8:$Y$400,\"2\",'Unit Detail'!$D$8:$D$400,'Building Detail'!$B286)","v":0},0,"",""]
[null,null,null,null,null,null,null,null,null,null,null,null,null,null,{"$f":"SUMIFS('Unit Detail'!$H$8:$H$400,'Unit Detail'!$D$8:$D$400,'Building Detail'!$B287,'Unit Detail'!$Y$8:$Y$400,1)","v":0},{"$f":"SUMIFS('Unit Detail'!$H$8:$H$400,'Unit Detail'!$D$8:$D$400,'Building Detail'!$B287,'Unit Detail'!$Y$8:$Y$400,3)","v":0},{"$f":"SUMIFS('Unit Detail'!$H$8:$H$400,'Unit Detail'!$D$8:$D$400,'Building Detail'!$B287,'Unit Detail'!$Y$8:$Y$400,2)","v":0},{"$f":"SUMIF('Unit Detail'!$D$8:$D$400,$B287,'Unit Detail'!$H$8:$H$400)","v":0},0,"",{"$f":"COUNTIFS('Unit Detail'!$Y$8:$Y$400,\"1\",'Unit Detail'!$D$8:$D$400,'Building Detail'!$B287)","v":0},{"$f":"COUNTIFS('Unit Detail'!$Y$8:$Y$400,\"3\",'Unit Detail'!$D$8:$D$400,'Building Detail'!$B287)","v":0},{"$f":"COUNTIFS('Unit Detail'!$Y$8:$Y$400,\"2\",'Unit Detail'!$D$8:$D$400,'Building Detail'!$B287)","v":0},0,"",""]
[null,null,null,null,null,null,null,null,null,null,null,null,null,null,{"$f":"SUMIFS('Unit Detail'!$H$8:$H$400,'Unit Detail'!$D$8:$D$400,'Building Detail'!$B288,'Unit Detail'!$Y$8:$Y$400,1)","v":0},{"$f":"SUMIFS('Unit Detail'!$H$8:$H$400,'Unit Detail'!$D$8:$D$400,'Building Detail'!$B288,'Unit Detail'!$Y$8:$Y$400,3)","v":0},{"$f":"SUMIFS('Unit Detail'!$H$8:$H$400,'Unit Detail'!$D$8:$D$400,'Building Detail'!$B288,'Unit Detail'!$Y$8:$Y$400,2)","v":0},{"$f":"SUMIF('Unit Detail'!$D$8:$D$400,$B288,'Unit Detail'!$H$8:$H$400)","v":0},0,"",{"$f":"COUNTIFS('Unit Detail'!$Y$8:$Y$400,\"1\",'Unit Detail'!$D$8:$D$400,'Building Detail'!$B288)","v":0},{"$f":"COUNTIFS('Unit Detail'!$Y$8:$Y$400,\"3\",'Unit Detail'!$D$8:$D$400,'Building Detail'!$B288)","v":0},{"$f":"COUNTIFS('Unit Detail'!$Y$8:$Y$400,\"2\",'Unit Detail'!$D$8:$D$400,'Building Detail'!$B288)","v":0},0,"",""]
[null,null,null,null,null,null,null,null,null,null,null,null,null,null,{"$f":"SUMIFS('Unit Detail'!$H$8:$H$400,'Unit Detail'!$D$8:$D$400,'Building Detail'!$B289,'Unit Detail'!$Y$8:$Y$400,1)","v":0},{"$f":"SUMIFS('Unit Detail'!$H$8:$H$400,'Unit Detail'!$D$8:$D$400,'Building Detail'!$B289,'Unit Detail'!$Y$8:$Y$400,3)","v":0},{"$f":"SUMIFS('Unit Detail'!$H$8:$H$400,'Unit Detail'!$D$8:$D$400,'Building Detail'!$B289,'Unit Detail'!$Y$8:$Y$400,2)","v":0},{"$f":"SUMIF('Unit Detail'!$D$8:$D$400,$B289,'Unit Detail'!$H$8:$H$400)","v":0},0,"",{"$f":"COUNTIFS('Unit Detail'!$Y$8:$Y$400,\"1\",'Unit Detail'!$D$8:$D$400,'Building Detail'!$B289)","v":0},{"$f":"COUNTIFS('Unit Detail'!$Y$8:$Y$400,\"3\",'Unit Detail'!$D$8:$D$400,'Building Detail'!$B289)","v":0},{"$f":"COUNTIFS('Unit Detail'!$Y$8:$Y$400,\"2\",'Unit Detail'!$D$8:$D$400,'Building Detail'!$B289)","v":0},0,"",""]
[null,null,null,null,null,null,null,null,null,null,null,null,null,null,{"$f":"SUMIFS('Unit Detail'!$H$8:$H$400,'Unit Detail'!$D$8:$D$400,'Building Detail'!$B290,'Unit Detail'!$Y$8:$Y$400,1)","v":0},{"$f":"SUMIFS('Unit Detail'!$H$8:$H$400,'Unit Detail'!$D$8:$D$400,'Building Detail'!$B290,'Unit Detail'!$Y$8:$Y$400,3)","v":0},{"$f":"SUMIFS('Unit Detail'!$H$8:$H$400,'Unit Detail'!$D$8:$D$400,'Building Detail'!$B290,'Unit Detail'!$Y$8:$Y$400,2)","v":0},{"$f":"SUMIF('Unit Detail'!$D$8:$D$400,$B290,'Unit Detail'!$H$8:$H$400)","v":0},0,"",{"$f":"COUNTIFS('Unit Detail'!$Y$8:$Y$400,\"1\",'Unit Detail'!$D$8:$D$400,'Building Detail'!$B290)","v":0},{"$f":"COUNTIFS('Unit Detail'!$Y$8:$Y$400,\"3\",'Unit Detail'!$D$8:$D$400,'Building Detail'!$B290)","v":0},{"$f":"COUNTIFS('Unit Detail'!$Y$8:$Y$400,\"2\",'Unit Detail'!$D$8:$D$400,'Building Detail'!$B290)","v":0},0,"",""]
[null,null,null,null,null,null,null,null,null,null,null,null,null,null,{"$f":"SUMIFS('Unit Detail'!$H$8:$H$400,'Unit Detail'!$D$8:$D$400,'Building Detail'!$B291,'Unit Detail'!$Y$8:$Y$400,1)","v":0},{"$f":"SUMIFS('Unit Detail'!$H$8:$H$400,'Unit Detail'!$D$8:$D$400,'Building Detail'!$B291,'Unit Detail'!$Y$8:$Y$400,3)","v":0},{"$f":"SUMIFS('Unit Detail'!$H$8:$H$400,'Unit Detail'!$D$8:$D$400,'Building Detail'!$B291,'Unit Detail'!$Y$8:$Y$400,2)","v":0},{"$f":"SUMIF('Unit Detail'!$D$8:$D$400,$B291,'Unit Detail'!$H$8:$H$400)","v":0},0,"",{"$f":"COUNTIFS('Unit Detail'!$Y$8:$Y$400,\"1\",'Unit Detail'!$D$8:$D$400,'Building Detail'!$B291)","v":0},{"$f":"COUNTIFS('Unit Detail'!$Y$8:$Y$400,\"3\",'Unit Detail'!$D$8:$D$400,'Building Detail'!$B291)","v":0},{"$f":"COUNTIFS('Unit Detail'!$Y$8:$Y$400,\"2\",'Unit Detail'!$D$8:$D$400,'Building Detail'!$B291)","v":0},0,"",""]
[null,null,null,null,null,null,null,null,null,null,null,null,null,null,{"$f":"SUMIFS('Unit Detail'!$H$8:$H$400,'Unit Detail'!$D$8:$D$400,'Building Detail'!$B292,'Unit Detail'!$Y$8:$Y$400,1)","v":0},{"$f":"SUMIFS('Unit Detail'!$H$8:$H$400,'Unit Detail'!$D$8:$D$400,'Building Detail'!$B292,'Unit Detail'!$Y$8:$Y$400,3)","v":0},{"$f":"SUMIFS('Unit Detail'!$H$8:$H$400,'Unit Detail'!$D$8:$D$400,'Building Detail'!$B292,'Unit Detail'!$Y$8:$Y$400,2)","v":0},{"$f":"SUMIF('Unit Detail'!$D$8:$D$400,$B292,'Unit Detail'!$H$8:$H$400)","v":0},0,"",{"$f":"COUNTIFS('Unit Detail'!$Y$8:$Y$400,\"1\",'Unit Detail'!$D$8:$D$400,'Building Detail'!$B292)","v":0},{"$f":"COUNTIFS('Unit Detail'!$Y$8:$Y$400,\"3\",'Unit Detail'!$D$8:$D$400,'Building Detail'!$B292)","v":0},{"$f":"COUNTIFS('Unit Detail'!$Y$8:$Y$400,\"2\",'Unit Detail'!$D$8:$D$400,'Building Detail'!$B292)","v":0},0,"",""]
[null,null,null,null,null,null,null,null,null,null,null,null,null,null,{"$f":"SUMIFS('Unit Detail'!$H$8:$H$400,'Unit Detail'!$D$8:$D$400,'Building Detail'!$B293,'Unit Detail'!$Y$8:$Y$400,1)","v":0},{"$f":"SUMIFS('Unit Detail'!$H$8:$H$400,'Unit Detail'!$D$8:$D$400,'Building Detail'!$B293,'Unit Detail'!$Y$8:$Y$400,3)","v":0},{"$f":"SUMIFS('Unit Detail'!$H$8:$H$400,'Unit Detail'!$D$8:$D$400,'Building Detail'!$B293,'Unit Detail'!$Y$8:$Y$400,2)","v":0},{"$f":"SUMIF('Unit Detail'!$D$8:$D$400,$B293,'Unit Detail'!$H$8:$H$400)","v":0},0,"",{"$f":"COUNTIFS('Unit Detail'!$Y$8:$Y$400,\"1\",'Unit Detail'!$D$8:$D$400,'Building Detail'!$B293)","v":0},{"$f":"COUNTIFS('Unit Detail'!$Y$8:$Y$400,\"3\",'Unit Detail'!$D$8:$D$400,'Building Detail'!$B293)","v":0},{"$f":"COUNTIFS('Unit Detail'!$Y$8:$Y$400,\"2\",'Unit Detail'!$D$8:$D$400,'Building Detail'!$B293)","v":0},0,"",""]
[null,null,null,null,null,null,null,null,null,null,null,null,null,null,{"$f":"SUMIFS('Unit Detail'!$H$8:$H$400,'Unit Detail'!$D$8:$D$400,'Building Detail'!$B294,'Unit Detail'!$Y$8:$Y$400,1)","v":0},{"$f":"SUMIFS('Unit Detail'!$H$8:$H$400,'Unit Detail'!$D$8:$D$400,'Building Detail'!$B294,'Unit Detail'!$Y$8:$Y$400,3)","v":0},{"$f":"SUMIFS('Unit Detail'!$H$8:$H$400,'Unit Detail'!$D$8:$D$400,'Building Detail'!$B294,'Unit Detail'!$Y$8:$Y$400,2)","v":0},{"$f":"SUMIF('Unit Detail'!$D$8:$D$400,$B294,'Unit Detail'!$H$8:$H$400)","v":0},0,"",{"$f":"COUNTIFS('Unit Detail'!$Y$8:$Y$400,\"1\",'Unit Detail'!$D$8:$D$400,'Building Detail'!$B294)","v":0},{"$f":"COUNTIFS('Unit Detail'!$Y$8:$Y$400,\"3\",'Unit Detail'!$D$8:$D$400,'Building Detail'!$B294)","v":0},{"$f":"COUNTIFS('Unit Detail'!$Y$8:$Y$400,\"2\",'Unit Detail'!$D$8:$D$400,'Building Detail'!$B294)","v":0},0,"",""]
[null,null,null,null,null,null,null,null,null,null,null,null,null,null,{"$f":"SUMIFS('Unit Detail'!$H$8:$H$400,'Unit Detail'!$D$8:$D$400,'Building Detail'!$B295,'Unit Detail'!$Y$8:$Y$400,1)","v":0},{"$f":"SUMIFS('Unit Detail'!$H$8:$H$400,'Unit Detail'!$D$8:$D$400,'Building Detail'!$B295,'Unit Detail'!$Y$8:$Y$400,3)","v":0},{"$f":"SUMIFS('Unit Detail'!$H$8:$H$400,'Unit Detail'!$D$8:$D$400,'Building Detail'!$B295,'Unit Detail'!$Y$8:$Y$400,2)","v":0},{"$f":"SUMIF('Unit Detail'!$D$8:$D$400,$B295,'Unit Detail'!$H$8:$H$400)","v":0},0,"",{"$f":"COUNTIFS('Unit Detail'!$Y$8:$Y$400,\"1\",'Unit Detail'!$D$8:$D$400,'Building Detail'!$B295)","v":0},{"$f":"COUNTIFS('Unit Detail'!$Y$8:$Y$400,\"3\",'Unit Detail'!$D$8:$D$400,'Building Detail'!$B295)","v":0},{"$f":"COUNTIFS('Unit Detail'!$Y$8:$Y$400,\"2\",'Unit Detail'!$D$8:$D$400,'Building Detail'!$B295)","v":0},0,"",""]
[null,null,null,null,null,null,null,null,null,null,null,null,null,null,{"$f":"SUMIFS('Unit Detail'!$H$8:$H$400,'Unit Detail'!$D$8:$D$400,'Building Detail'!$B296,'Unit Detail'!$Y$8:$Y$400,1)","v":0},{"$f":"SUMIFS('Unit Detail'!$H$8:$H$400,'Unit Detail'!$D$8:$D$400,'Building Detail'!$B296,'Unit Detail'!$Y$8:$Y$400,3)","v":0},{"$f":"SUMIFS('Unit Detail'!$H$8:$H$400,'Unit Detail'!$D$8:$D$400,'Building Detail'!$B296,'Unit Detail'!$Y$8:$Y$400,2)","v":0},{"$f":"SUMIF('Unit Detail'!$D$8:$D$400,$B296,'Unit Detail'!$H$8:$H$400)","v":0},0,"",{"$f":"COUNTIFS('Unit Detail'!$Y$8:$Y$400,\"1\",'Unit Detail'!$D$8:$D$400,'Building Detail'!$B296)","v":0},{"$f":"COUNTIFS('Unit Detail'!$Y$8:$Y$400,\"3\",'Unit Detail'!$D$8:$D$400,'Building Detail'!$B296)","v":0},{"$f":"COUNTIFS('Unit Detail'!$Y$8:$Y$400,\"2\",'Unit Detail'!$D$8:$D$400,'Building Detail'!$B296)","v":0},0,"",""]
[null,null,null,null,null,null,null,null,null,null,null,null,null,null,{"$f":"SUMIFS('Unit Detail'!$H$8:$H$400,'Unit Detail'!$D$8:$D$400,'Building Detail'!$B297,'Unit Detail'!$Y$8:$Y$400,1)","v":0},{"$f":"SUMIFS('Unit Detail'!$H$8:$H$400,'Unit Detail'!$D$8:$D$400,'Building Detail'!$B297,'Unit Detail'!$Y$8:$Y$400,3)","v":0},{"$f":"SUMIFS('Unit Detail'!$H$8:$H$400,'Unit Detail'!$D$8:$D$400,'Building Detail'!$B297,'Unit Detail'!$Y$8:$Y$400,2)","v":0},{"$f":"SUMIF('Unit Detail'!$D$8:$D$400,$B297,'Unit Detail'!$H$8:$H$400)","v":0},0,"",{"$f":"COUNTIFS('Unit Detail'!$Y$8:$Y$400,\"1\",'Unit Detail'!$D$8:$D$400,'Building Detail'!$B297)","v":0},{"$f":"COUNTIFS('Unit Detail'!$Y$8:$Y$400,\"3\",'Unit Detail'!$D$8:$D$400,'Building Detail'!$B297)","v":0},{"$f":"COUNTIFS('Unit Detail'!$Y$8:$Y$400,\"2\",'Unit Detail'!$D$8:$D$400,'Building Detail'!$B297)","v":0},0,"",""]
[null,null,null,null,null,null,null,null,null,null,null,null,null,null,{"$f":"SUMIFS('Unit Detail'!$H$8:$H$400,'Unit Detail'!$D$8:$D$400,'Building Detail'!$B298,'Unit Detail'!$Y$8:$Y$400,1)","v":0},{"$f":"SUMIFS('Unit Detail'!$H$8:$H$400,'Unit Detail'!$D$8:$D$400,'Building Detail'!$B298,'Unit Detail'!$Y$8:$Y$400,3)","v":0},{"$f":"SUMIFS('Unit Detail'!$H$8:$H$400,'Unit Detail'!$D$8:$D$400,'Building Detail'!$B298,'Unit Detail'!$Y$8:$Y$400,2)","v":0},{"$f":"SUMIF('Unit Detail'!$D$8:$D$400,$B298,'Unit Detail'!$H$8:$H$400)","v":0},0,"",{"$f":"COUNTIFS('Unit Detail'!$Y$8:$Y$400,\"1\",'Unit Detail'!$D$8:$D$400,'Building Detail'!$B298)","v":0},{"$f":"COUNTIFS('Unit Detail'!$Y$8:$Y$400,\"3\",'Unit Detail'!$D$8:$D$400,'Building Detail'!$B298)","v":0},{"$f":"COUNTIFS('Unit Detail'!$Y$8:$Y$400,\"2\",'Unit Detail'!$D$8:$D$400,'Building Detail'!$B298)","v":0},0,"",""]
[null,null,null,null,null,null,null,null,null,null,null,null,null,null,{"$f":"SUMIFS('Unit Detail'!$H$8:$H$400,'Unit Detail'!$D$8:$D$400,'Building Detail'!$B299,'Unit Detail'!$Y$8:$Y$400,1)","v":0},{"$f":"SUMIFS('Unit Detail'!$H$8:$H$400,'Unit Detail'!$D$8:$D$400,'Building Detail'!$B299,'Unit Detail'!$Y$8:$Y$400,3)","v":0},{"$f":"SUMIFS('Unit Detail'!$H$8:$H$400,'Unit Detail'!$D$8:$D$400,'Building Detail'!$B299,'Unit Detail'!$Y$8:$Y$400,2)","v":0},{"$f":"SUMIF('Unit Detail'!$D$8:$D$400,$B299,'Unit Detail'!$H$8:$H$400)","v":0},0,"",{"$f":"COUNTIFS('Unit Detail'!$Y$8:$Y$400,\"1\",'Unit Detail'!$D$8:$D$400,'Building Detail'!$B299)","v":0},{"$f":"COUNTIFS('Unit Detail'!$Y$8:$Y$400,\"3\",'Unit Detail'!$D$8:$D$400,'Building Detail'!$B299)","v":0},{"$f":"COUNTIFS('Unit Detail'!$Y$8:$Y$400,\"2\",'Unit Detail'!$D$8:$D$400,'Building Detail'!$B299)","v":0},0,"",""]
[null,null,null,null,null,null,null,null,null,null,null,null,null,null,{"$f":"SUMIFS('Unit Detail'!$H$8:$H$400,'Unit Detail'!$D$8:$D$400,'Building Detail'!$B300,'Unit Detail'!$Y$8:$Y$400,1)","v":0},{"$f":"SUMIFS('Unit Detail'!$H$8:$H$400,'Unit Detail'!$D$8:$D$400,'Building Detail'!$B300,'Unit Detail'!$Y$8:$Y$400,3)","v":0},{"$f":"SUMIFS('Unit Detail'!$H$8:$H$400,'Unit Detail'!$D$8:$D$400,'Building Detail'!$B300,'Unit Detail'!$Y$8:$Y$400,2)","v":0},{"$f":"SUMIF('Unit Detail'!$D$8:$D$400,$B300,'Unit Detail'!$H$8:$H$400)","v":0},0,"",{"$f":"COUNTIFS('Unit Detail'!$Y$8:$Y$400,\"1\",'Unit Detail'!$D$8:$D$400,'Building Detail'!$B300)","v":0},{"$f":"COUNTIFS('Unit Detail'!$Y$8:$Y$400,\"3\",'Unit Detail'!$D$8:$D$400,'Building Detail'!$B300)","v":0},{"$f":"COUNTIFS('Unit Detail'!$Y$8:$Y$400,\"2\",'Unit Detail'!$D$8:$D$400,'Building Detail'!$B300)","v":0},0,"",""]
[null,null,null,null,null,null,null,null,null,null,null,null,null,null,{"$f":"SUMIFS('Unit Detail'!$H$8:$H$400,'Unit Detail'!$D$8:$D$400,'Building Detail'!$B301,'Unit Detail'!$Y$8:$Y$400,1)","v":0},{"$f":"SUMIFS('Unit Detail'!$H$8:$H$400,'Unit Detail'!$D$8:$D$400,'Building Detail'!$B301,'Unit Detail'!$Y$8:$Y$400,3)","v":0},{"$f":"SUMIFS('Unit Detail'!$H$8:$H$400,'Unit Detail'!$D$8:$D$400,'Building Detail'!$B301,'Unit Detail'!$Y$8:$Y$400,2)","v":0},{"$f":"SUMIF('Unit Detail'!$D$8:$D$400,$B301,'Unit Detail'!$H$8:$H$400)","v":0},0,"",{"$f":"COUNTIFS('Unit Detail'!$Y$8:$Y$400,\"1\",'Unit Detail'!$D$8:$D$400,'Building Detail'!$B301)","v":0},{"$f":"COUNTIFS('Unit Detail'!$Y$8:$Y$400,\"3\",'Unit Detail'!$D$8:$D$400,'Building Detail'!$B301)","v":0},{"$f":"COUNTIFS('Unit Detail'!$Y$8:$Y$400,\"2\",'Unit Detail'!$D$8:$D$400,'Building Detail'!$B301)","v":0},0,"",""]
[null,null,null,null,null,null,null,null,null,null,null,null,null,null,{"$f":"SUMIFS('Unit Detail'!$H$8:$H$400,'Unit Detail'!$D$8:$D$400,'Building Detail'!$B302,'Unit Detail'!$Y$8:$Y$400,1)","v":0},{"$f":"SUMIFS('Unit Detail'!$H$8:$H$400,'Unit Detail'!$D$8:$D$400,'Building Detail'!$B302,'Unit Detail'!$Y$8:$Y$400,3)","v":0},{"$f":"SUMIFS('Unit Detail'!$H$8:$H$400,'Unit Detail'!$D$8:$D$400,'Building Detail'!$B302,'Unit Detail'!$Y$8:$Y$400,2)","v":0},{"$f":"SUMIF('Unit Detail'!$D$8:$D$400,$B302,'Unit Detail'!$H$8:$H$400)","v":0},0,"",{"$f":"COUNTIFS('Unit Detail'!$Y$8:$Y$400,\"1\",'Unit Detail'!$D$8:$D$400,'Building Detail'!$B302)","v":0},{"$f":"COUNTIFS('Unit Detail'!$Y$8:$Y$400,\"3\",'Unit Detail'!$D$8:$D$400,'Building Detail'!$B302)","v":0},{"$f":"COUNTIFS('Unit Detail'!$Y$8:$Y$400,\"2\",'Unit Detail'!$D$8:$D$400,'Building Detail'!$B302)","v":0},0,"",""]
[null,null,null,null,null,null,null,null,null,null,null,null,null,null,{"$f":"SUMIFS('Unit Detail'!$H$8:$H$400,'Unit Detail'!$D$8:$D$400,'Building Detail'!$B303,'Unit Detail'!$Y$8:$Y$400,1)","v":0},{"$f":"SUMIFS('Unit Detail'!$H$8:$H$400,'Unit Detail'!$D$8:$D$400,'Building Detail'!$B303,'Unit Detail'!$Y$8:$Y$400,3)","v":0},{"$f":"SUMIFS('Unit Detail'!$H$8:$H$400,'Unit Detail'!$D$8:$D$400,'Building Detail'!$B303,'Unit Detail'!$Y$8:$Y$400,2)","v":0},{"$f":"SUMIF('Unit Detail'!$D$8:$D$400,$B303,'Unit Detail'!$H$8:$H$400)","v":0},0,"",{"$f":"COUNTIFS('Unit Detail'!$Y$8:$Y$400,\"1\",'Unit Detail'!$D$8:$D$400,'Building Detail'!$B303)","v":0},{"$f":"COUNTIFS('Unit Detail'!$Y$8:$Y$400,\"3\",'Unit Detail'!$D$8:$D$400,'Building Detail'!$B303)","v":0},{"$f":"COUNTIFS('Unit Detail'!$Y$8:$Y$400,\"2\",'Unit Detail'!$D$8:$D$400,'Building Detail'!$B303)","v":0},0,"",""]
[null,null,null,null,null,null,null,null,null,null,null,null,null,null,{"$f":"SUMIFS('Unit Detail'!$H$8:$H$400,'Unit Detail'!$D$8:$D$400,'Building Detail'!$B304,'Unit Detail'!$Y$8:$Y$400,1)","v":0},{"$f":"SUMIFS('Unit Detail'!$H$8:$H$400,'Unit Detail'!$D$8:$D$400,'Building Detail'!$B304,'Unit Detail'!$Y$8:$Y$400,3)","v":0},{"$f":"SUMIFS('Unit Detail'!$H$8:$H$400,'Unit Detail'!$D$8:$D$400,'Building Detail'!$B304,'Unit Detail'!$Y$8:$Y$400,2)","v":0},{"$f":"SUMIF('Unit Detail'!$D$8:$D$400,$B304,'Unit Detail'!$H$8:$H$400)","v":0},0,"",{"$f":"COUNTIFS('Unit Detail'!$Y$8:$Y$400,\"1\",'Unit Detail'!$D$8:$D$400,'Building Detail'!$B304)","v":0},{"$f":"COUNTIFS('Unit Detail'!$Y$8:$Y$400,\"3\",'Unit Detail'!$D$8:$D$400,'Building Detail'!$B304)","v":0},{"$f":"COUNTIFS('Unit Detail'!$Y$8:$Y$400,\"2\",'Unit Detail'!$D$8:$D$400,'Building Detail'!$B304)","v":0},0,"",""]
[null,null,null,null,null,null,null,null,null,null,null,null,null,null,{"$f":"SUMIFS('Unit Detail'!$H$8:$H$400,'Unit Detail'!$D$8:$D$400,'Building Detail'!$B305,'Unit Detail'!$Y$8:$Y$400,1)","v":0},{"$f":"SUMIFS('Unit Detail'!$H$8:$H$400,'Unit Detail'!$D$8:$D$400,'Building Detail'!$B305,'Unit Detail'!$Y$8:$Y$400,3)","v":0},{"$f":"SUMIFS('Unit Detail'!$H$8:$H$400,'Unit Detail'!$D$8:$D$400,'Building Detail'!$B305,'Unit Detail'!$Y$8:$Y$400,2)","v":0},{"$f":"SUMIF('Unit Detail'!$D$8:$D$400,$B305,'Unit Detail'!$H$8:$H$400)","v":0},0,"",{"$f":"COUNTIFS('Unit Detail'!$Y$8:$Y$400,\"1\",'Unit Detail'!$D$8:$D$400,'Building Detail'!$B305)","v":0},{"$f":"COUNTIFS('Unit Detail'!$Y$8:$Y$400,\"3\",'Unit Detail'!$D$8:$D$400,'Building Detail'!$B305)","v":0},{"$f":"COUNTIFS('Unit Detail'!$Y$8:$Y$400,\"2\",'Unit Detail'!$D$8:$D$400,'Building Detail'!$B305)","v":0},0,"",""]
[null,null,null,null,null,null,null,null,null,null,null,null,null,null,{"$f":"SUMIFS('Unit Detail'!$H$8:$H$400,'Unit Detail'!$D$8:$D$400,'Building Detail'!$B306,'Unit Detail'!$Y$8:$Y$400,1)","v":0},{"$f":"SUMIFS('Unit Detail'!$H$8:$H$400,'Unit Detail'!$D$8:$D$400,'Building Detail'!$B306,'Unit Detail'!$Y$8:$Y$400,3)","v":0},{"$f":"SUMIFS('Unit Detail'!$H$8:$H$400,'Unit Detail'!$D$8:$D$400,'Building Detail'!$B306,'Unit Detail'!$Y$8:$Y$400,2)","v":0},{"$f":"SUMIF('Unit Detail'!$D$8:$D$400,$B306,'Unit Detail'!$H$8:$H$400)","v":0},0,"",{"$f":"COUNTIFS('Unit Detail'!$Y$8:$Y$400,\"1\",'Unit Detail'!$D$8:$D$400,'Building Detail'!$B306)","v":0},{"$f":"COUNTIFS('Unit Detail'!$Y$8:$Y$400,\"3\",'Unit Detail'!$D$8:$D$400,'Building Detail'!$B306)","v":0},{"$f":"COUNTIFS('Unit Detail'!$Y$8:$Y$400,\"2\",'Unit Detail'!$D$8:$D$400,'Building Detail'!$B306)","v":0},0,"",""]
[null,null,null,null,null,null,null,null,null,null,null,null,null,null,{"$f":"SUMIFS('Unit Detail'!$H$8:$H$400,'Unit Detail'!$D$8:$D$400,'Building Detail'!$B307,'Unit Detail'!$Y$8:$Y$400,1)","v":0},{"$f":"SUMIFS('Unit Detail'!$H$8:$H$400,'Unit Detail'!$D$8:$D$400,'Building Detail'!$B307,'Unit Detail'!$Y$8:$Y$400,3)","v":0},{"$f":"SUMIFS('Unit Detail'!$H$8:$H$400,'Unit Detail'!$D$8:$D$400,'Building Detail'!$B307,'Unit Detail'!$Y$8:$Y$400,2)","v":0},{"$f":"SUMIF('Unit Detail'!$D$8:$D$400,$B307,'Unit Detail'!$H$8:$H$400)","v":0},0,"",{"$f":"COUNTIFS('Unit Detail'!$Y$8:$Y$400,\"1\",'Unit Detail'!$D$8:$D$400,'Building Detail'!$B307)","v":0},{"$f":"COUNTIFS('Unit Detail'!$Y$8:$Y$400,\"3\",'Unit Detail'!$D$8:$D$400,'Building Detail'!$B307)","v":0},{"$f":"COUNTIFS('Unit Detail'!$Y$8:$Y$400,\"2\",'Unit Detail'!$D$8:$D$400,'Building Detail'!$B307)","v":0},0,"",""]
[null,null,null,null,null,null,null,null,null,null,null,null,null,null,{"$f":"SUMIFS('Unit Detail'!$H$8:$H$400,'Unit Detail'!$D$8:$D$400,'Building Detail'!$B308,'Unit Detail'!$Y$8:$Y$400,1)","v":0},{"$f":"SUMIFS('Unit Detail'!$H$8:$H$400,'Unit Detail'!$D$8:$D$400,'Building Detail'!$B308,'Unit Detail'!$Y$8:$Y$400,3)","v":0},{"$f":"SUMIFS('Unit Detail'!$H$8:$H$400,'Unit Detail'!$D$8:$D$400,'Building Detail'!$B308,'Unit Detail'!$Y$8:$Y$400,2)","v":0},{"$f":"SUMIF('Unit Detail'!$D$8:$D$400,$B308,'Unit Detail'!$H$8:$H$400)","v":0},0,"",{"$f":"COUNTIFS('Unit Detail'!$Y$8:$Y$400,\"1\",'Unit Detail'!$D$8:$D$400,'Building Detail'!$B308)","v":0},{"$f":"COUNTIFS('Unit Detail'!$Y$8:$Y$400,\"3\",'Unit Detail'!$D$8:$D$400,'Building Detail'!$B308)","v":0},{"$f":"COUNTIFS('Unit Detail'!$Y$8:$Y$400,\"2\",'Unit Detail'!$D$8:$D$400,'Building Detail'!$B308)","v":0},0,"",""]
[null,null,null,null,null,null,null,null,null,null,null,null,null,null,{"$f":"SUMIFS('Unit Detail'!$H$8:$H$400,'Unit Detail'!$D$8:$D$400,'Building Detail'!$B309,'Unit Detail'!$Y$8:$Y$400,1)","v":0},{"$f":"SUMIFS('Unit Detail'!$H$8:$H$400,'Unit Detail'!$D$8:$D$400,'Building Detail'!$B309,'Unit Detail'!$Y$8:$Y$400,3)","v":0},{"$f":"SUMIFS('Unit Detail'!$H$8:$H$400,'Unit Detail'!$D$8:$D$400,'Building Detail'!$B309,'Unit Detail'!$Y$8:$Y$400,2)","v":0},{"$f":"SUMIF('Unit Detail'!$D$8:$D$400,$B309,'Unit Detail'!$H$8:$H$400)","v":0},0,"",{"$f":"COUNTIFS('Unit Detail'!$Y$8:$Y$400,\"1\",'Unit Detail'!$D$8:$D$400,'Building Detail'!$B309)","v":0},{"$f":"COUNTIFS('Unit Detail'!$Y$8:$Y$400,\"3\",'Unit Detail'!$D$8:$D$400,'Building Detail'!$B309)","v":0},{"$f":"COUNTIFS('Unit Detail'!$Y$8:$Y$400,\"2\",'Unit Detail'!$D$8:$D$400,'Building Detail'!$B309)","v":0},0,"",""]
[null,null,null,null,null,null,null,null,null,null,null,null,null,null,{"$f":"SUMIFS('Unit Detail'!$H$8:$H$400,'Unit Detail'!$D$8:$D$400,'Building Detail'!$B310,'Unit Detail'!$Y$8:$Y$400,1)","v":0},{"$f":"SUMIFS('Unit Detail'!$H$8:$H$400,'Unit Detail'!$D$8:$D$400,'Building Detail'!$B310,'Unit Detail'!$Y$8:$Y$400,3)","v":0},{"$f":"SUMIFS('Unit Detail'!$H$8:$H$400,'Unit Detail'!$D$8:$D$400,'Building Detail'!$B310,'Unit Detail'!$Y$8:$Y$400,2)","v":0},{"$f":"SUMIF('Unit Detail'!$D$8:$D$400,$B310,'Unit Detail'!$H$8:$H$400)","v":0},0,"",{"$f":"COUNTIFS('Unit Detail'!$Y$8:$Y$400,\"1\",'Unit Detail'!$D$8:$D$400,'Building Detail'!$B310)","v":0},{"$f":"COUNTIFS('Unit Detail'!$Y$8:$Y$400,\"3\",'Unit Detail'!$D$8:$D$400,'Building Detail'!$B310)","v":0},{"$f":"COUNTIFS('Unit Detail'!$Y$8:$Y$400,\"2\",'Unit Detail'!$D$8:$D$400,'Building Detail'!$B310)","v":0},0,"",""]
[null,null,null,null,null,null,null,null,null,null,null,null,null,null,{"$f":"SUMIFS('Unit Detail'!$H$8:$H$400,'Unit Detail'!$D$8:$D$400,'Building Detail'!$B311,'Unit Detail'!$Y$8:$Y$400,1)","v":0},{"$f":"SUMIFS('Unit Detail'!$H$8:$H$400,'Unit Detail'!$D$8:$D$400,'Building Detail'!$B311,'Unit Detail'!$Y$8:$Y$400,3)","v":0},{"$f":"SUMIFS('Unit Detail'!$H$8:$H$400,'Unit Detail'!$D$8:$D$400,'Building Detail'!$B311,'Unit Detail'!$Y$8:$Y$400,2)","v":0},{"$f":"SUMIF('Unit Detail'!$D$8:$D$400,$B311,'Unit Detail'!$H$8:$H$400)","v":0},0,"",{"$f":"COUNTIFS('Unit Detail'!$Y$8:$Y$400,\"1\",'Unit Detail'!$D$8:$D$400,'Building Detail'!$B311)","v":0},{"$f":"COUNTIFS('Unit Detail'!$Y$8:$Y$400,\"3\",'Unit Detail'!$D$8:$D$400,'Building Detail'!$B311)","v":0},{"$f":"COUNTIFS('Unit Detail'!$Y$8:$Y$400,\"2\",'Unit Detail'!$D$8:$D$400,'Building Detail'!$B311)","v":0},0,"",""]
[null,null,null,null,null,null,null,null,null,null,null,null,null,null,{"$f":"SUMIFS('Unit Detail'!$H$8:$H$400,'Unit Detail'!$D$8:$D$400,'Building Detail'!$B312,'Unit Detail'!$Y$8:$Y$400,1)","v":0},{"$f":"SUMIFS('Unit Detail'!$H$8:$H$400,'Unit Detail'!$D$8:$D$400,'Building Detail'!$B312,'Unit Detail'!$Y$8:$Y$400,3)","v":0},{"$f":"SUMIFS('Unit Detail'!$H$8:$H$400,'Unit Detail'!$D$8:$D$400,'Building Detail'!$B312,'Unit Detail'!$Y$8:$Y$400,2)","v":0},{"$f":"SUMIF('Unit Detail'!$D$8:$D$400,$B312,'Unit Detail'!$H$8:$H$400)","v":0},0,"",{"$f":"COUNTIFS('Unit Detail'!$Y$8:$Y$400,\"1\",'Unit Detail'!$D$8:$D$400,'Building Detail'!$B312)","v":0},{"$f":"COUNTIFS('Unit Detail'!$Y$8:$Y$400,\"3\",'Unit Detail'!$D$8:$D$400,'Building Detail'!$B312)","v":0},{"$f":"COUNTIFS('Unit Detail'!$Y$8:$Y$400,\"2\",'Unit Detail'!$D$8:$D$400,'Building Detail'!$B312)","v":0},0,"",""]
[null,null,null,null,null,null,null,null,null,null,null,null,null,null,{"$f":"SUMIFS('Unit Detail'!$H$8:$H$400,'Unit Detail'!$D$8:$D$400,'Building Detail'!$B313,'Unit Detail'!$Y$8:$Y$400,1)","v":0},{"$f":"SUMIFS('Unit Detail'!$H$8:$H$400,'Unit Detail'!$D$8:$D$400,'Building Detail'!$B313,'Unit Detail'!$Y$8:$Y$400,3)","v":0},{"$f":"SUMIFS('Unit Detail'!$H$8:$H$400,'Unit Detail'!$D$8:$D$400,'Building Detail'!$B313,'Unit Detail'!$Y$8:$Y$400,2)","v":0},{"$f":"SUMIF('Unit Detail'!$D$8:$D$400,$B313,'Unit Detail'!$H$8:$H$400)","v":0},0,"",{"$f":"COUNTIFS('Unit Detail'!$Y$8:$Y$400,\"1\",'Unit Detail'!$D$8:$D$400,'Building Detail'!$B313)","v":0},{"$f":"COUNTIFS('Unit Detail'!$Y$8:$Y$400,\"3\",'Unit Detail'!$D$8:$D$400,'Building Detail'!$B313)","v":0},{"$f":"COUNTIFS('Unit Detail'!$Y$8:$Y$400,\"2\",'Unit Detail'!$D$8:$D$400,'Building Detail'!$B313)","v":0},0,"",""]
[null,null,null,null,null,null,null,null,null,null,null,null,null,null,{"$f":"SUMIFS('Unit Detail'!$H$8:$H$400,'Unit Detail'!$D$8:$D$400,'Building Detail'!$B314,'Unit Detail'!$Y$8:$Y$400,1)","v":0},{"$f":"SUMIFS('Unit Detail'!$H$8:$H$400,'Unit Detail'!$D$8:$D$400,'Building Detail'!$B314,'Unit Detail'!$Y$8:$Y$400,3)","v":0},{"$f":"SUMIFS('Unit Detail'!$H$8:$H$400,'Unit Detail'!$D$8:$D$400,'Building Detail'!$B314,'Unit Detail'!$Y$8:$Y$400,2)","v":0},{"$f":"SUMIF('Unit Detail'!$D$8:$D$400,$B314,'Unit Detail'!$H$8:$H$400)","v":0},0,"",{"$f":"COUNTIFS('Unit Detail'!$Y$8:$Y$400,\"1\",'Unit Detail'!$D$8:$D$400,'Building Detail'!$B314)","v":0},{"$f":"COUNTIFS('Unit Detail'!$Y$8:$Y$400,\"3\",'Unit Detail'!$D$8:$D$400,'Building Detail'!$B314)","v":0},{"$f":"COUNTIFS('Unit Detail'!$Y$8:$Y$400,\"2\",'Unit Detail'!$D$8:$D$400,'Building Detail'!$B314)","v":0},0,"",""]
[null,null,null,null,null,null,null,null,null,null,null,null,null,null,{"$f":"SUMIFS('Unit Detail'!$H$8:$H$400,'Unit Detail'!$D$8:$D$400,'Building Detail'!$B315,'Unit Detail'!$Y$8:$Y$400,1)","v":0},{"$f":"SUMIFS('Unit Detail'!$H$8:$H$400,'Unit Detail'!$D$8:$D$400,'Building Detail'!$B315,'Unit Detail'!$Y$8:$Y$400,3)","v":0},{"$f":"SUMIFS('Unit Detail'!$H$8:$H$400,'Unit Detail'!$D$8:$D$400,'Building Detail'!$B315,'Unit Detail'!$Y$8:$Y$400,2)","v":0},{"$f":"SUMIF('Unit Detail'!$D$8:$D$400,$B315,'Unit Detail'!$H$8:$H$400)","v":0},0,"",{"$f":"COUNTIFS('Unit Detail'!$Y$8:$Y$400,\"1\",'Unit Detail'!$D$8:$D$400,'Building Detail'!$B315)","v":0},{"$f":"COUNTIFS('Unit Detail'!$Y$8:$Y$400,\"3\",'Unit Detail'!$D$8:$D$400,'Building Detail'!$B315)","v":0},{"$f":"COUNTIFS('Unit Detail'!$Y$8:$Y$400,\"2\",'Unit Detail'!$D$8:$D$400,'Building Detail'!$B315)","v":0},0,"",""]
[null,null,null,null,null,null,null,null,null,null,null,null,null,null,{"$f":"SUMIFS('Unit Detail'!$H$8:$H$400,'Unit Detail'!$D$8:$D$400,'Building Detail'!$B316,'Unit Detail'!$Y$8:$Y$400,1)","v":0},{"$f":"SUMIFS('Unit Detail'!$H$8:$H$400,'Unit Detail'!$D$8:$D$400,'Building Detail'!$B316,'Unit Detail'!$Y$8:$Y$400,3)","v":0},{"$f":"SUMIFS('Unit Detail'!$H$8:$H$400,'Unit Detail'!$D$8:$D$400,'Building Detail'!$B316,'Unit Detail'!$Y$8:$Y$400,2)","v":0},{"$f":"SUMIF('Unit Detail'!$D$8:$D$400,$B316,'Unit Detail'!$H$8:$H$400)","v":0},0,"",{"$f":"COUNTIFS('Unit Detail'!$Y$8:$Y$400,\"1\",'Unit Detail'!$D$8:$D$400,'Building Detail'!$B316)","v":0},{"$f":"COUNTIFS('Unit Detail'!$Y$8:$Y$400,\"3\",'Unit Detail'!$D$8:$D$400,'Building Detail'!$B316)","v":0},{"$f":"COUNTIFS('Unit Detail'!$Y$8:$Y$400,\"2\",'Unit Detail'!$D$8:$D$400,'Building Detail'!$B316)","v":0},0,"",""]
[null,null,null,null,null,null,null,null,null,null,null,null,null,null,{"$f":"SUMIFS('Unit Detail'!$H$8:$H$400,'Unit Detail'!$D$8:$D$400,'Building Detail'!$B317,'Unit Detail'!$Y$8:$Y$400,1)","v":0},{"$f":"SUMIFS('Unit Detail'!$H$8:$H$400,'Unit Detail'!$D$8:$D$400,'Building Detail'!$B317,'Unit Detail'!$Y$8:$Y$400,3)","v":0},{"$f":"SUMIFS('Unit Detail'!$H$8:$H$400,'Unit Detail'!$D$8:$D$400,'Building Detail'!$B317,'Unit Detail'!$Y$8:$Y$400,2)","v":0},{"$f":"SUMIF('Unit Detail'!$D$8:$D$400,$B317,'Unit Detail'!$H$8:$H$400)","v":0},0,"",{"$f":"COUNTIFS('Unit Detail'!$Y$8:$Y$400,\"1\",'Unit Detail'!$D$8:$D$400,'Building Detail'!$B317)","v":0},{"$f":"COUNTIFS('Unit Detail'!$Y$8:$Y$400,\"3\",'Unit Detail'!$D$8:$D$400,'Building Detail'!$B317)","v":0},{"$f":"COUNTIFS('Unit Detail'!$Y$8:$Y$400,\"2\",'Unit Detail'!$D$8:$D$400,'Building Detail'!$B317)","v":0},0,"",""]
[null,null,null,null,null,null,null,null,null,null,null,null,null,null,{"$f":"SUMIFS('Unit Detail'!$H$8:$H$400,'Unit Detail'!$D$8:$D$400,'Building Detail'!$B318,'Unit Detail'!$Y$8:$Y$400,1)","v":0},{"$f":"SUMIFS('Unit Detail'!$H$8:$H$400,'Unit Detail'!$D$8:$D$400,'Building Detail'!$B318,'Unit Detail'!$Y$8:$Y$400,3)","v":0},{"$f":"SUMIFS('Unit Detail'!$H$8:$H$400,'Unit Detail'!$D$8:$D$400,'Building Detail'!$B318,'Unit Detail'!$Y$8:$Y$400,2)","v":0},{"$f":"SUMIF('Unit Detail'!$D$8:$D$400,$B318,'Unit Detail'!$H$8:$H$400)","v":0},0,"",{"$f":"COUNTIFS('Unit Detail'!$Y$8:$Y$400,\"1\",'Unit Detail'!$D$8:$D$400,'Building Detail'!$B318)","v":0},{"$f":"COUNTIFS('Unit Detail'!$Y$8:$Y$400,\"3\",'Unit Detail'!$D$8:$D$400,'Building Detail'!$B318)","v":0},{"$f":"COUNTIFS('Unit Detail'!$Y$8:$Y$400,\"2\",'Unit Detail'!$D$8:$D$400,'Building Detail'!$B318)","v":0},0,"",""]
[null,null,null,null,null,null,null,null,null,null,null,null,null,null,{"$f":"SUMIFS('Unit Detail'!$H$8:$H$400,'Unit Detail'!$D$8:$D$400,'Building Detail'!$B319,'Unit Detail'!$Y$8:$Y$400,1)","v":0},{"$f":"SUMIFS('Unit Detail'!$H$8:$H$400,'Unit Detail'!$D$8:$D$400,'Building Detail'!$B319,'Unit Detail'!$Y$8:$Y$400,3)","v":0},{"$f":"SUMIFS('Unit Detail'!$H$8:$H$400,'Unit Detail'!$D$8:$D$400,'Building Detail'!$B319,'Unit Detail'!$Y$8:$Y$400,2)","v":0},{"$f":"SUMIF('Unit Detail'!$D$8:$D$400,$B319,'Unit Detail'!$H$8:$H$400)","v":0},0,"",{"$f":"COUNTIFS('Unit Detail'!$Y$8:$Y$400,\"1\",'Unit Detail'!$D$8:$D$400,'Building Detail'!$B319)","v":0},{"$f":"COUNTIFS('Unit Detail'!$Y$8:$Y$400,\"3\",'Unit Detail'!$D$8:$D$400,'Building Detail'!$B319)","v":0},{"$f":"COUNTIFS('Unit Detail'!$Y$8:$Y$400,\"2\",'Unit Detail'!$D$8:$D$400,'Building Detail'!$B319)","v":0},0,"",""]
[null,null,null,null,null,null,null,null,null,null,null,null,null,null,{"$f":"SUMIFS('Unit Detail'!$H$8:$H$400,'Unit Detail'!$D$8:$D$400,'Building Detail'!$B320,'Unit Detail'!$Y$8:$Y$400,1)","v":0},{"$f":"SUMIFS('Unit Detail'!$H$8:$H$400,'Unit Detail'!$D$8:$D$400,'Building Detail'!$B320,'Unit Detail'!$Y$8:$Y$400,3)","v":0},{"$f":"SUMIFS('Unit Detail'!$H$8:$H$400,'Unit Detail'!$D$8:$D$400,'Building Detail'!$B320,'Unit Detail'!$Y$8:$Y$400,2)","v":0},{"$f":"SUMIF('Unit Detail'!$D$8:$D$400,$B320,'Unit Detail'!$H$8:$H$400)","v":0},0,"",{"$f":"COUNTIFS('Unit Detail'!$Y$8:$Y$400,\"1\",'Unit Detail'!$D$8:$D$400,'Building Detail'!$B320)","v":0},{"$f":"COUNTIFS('Unit Detail'!$Y$8:$Y$400,\"3\",'Unit Detail'!$D$8:$D$400,'Building Detail'!$B320)","v":0},{"$f":"COUNTIFS('Unit Detail'!$Y$8:$Y$400,\"2\",'Unit Detail'!$D$8:$D$400,'Building Detail'!$B320)","v":0},0,"",""]
[null,null,null,null,null,null,null,null,null,null,null,null,null,null,{"$f":"SUMIFS('Unit Detail'!$H$8:$H$400,'Unit Detail'!$D$8:$D$400,'Building Detail'!$B321,'Unit Detail'!$Y$8:$Y$400,1)","v":0},{"$f":"SUMIFS('Unit Detail'!$H$8:$H$400,'Unit Detail'!$D$8:$D$400,'Building Detail'!$B321,'Unit Detail'!$Y$8:$Y$400,3)","v":0},{"$f":"SUMIFS('Unit Detail'!$H$8:$H$400,'Unit Detail'!$D$8:$D$400,'Building Detail'!$B321,'Unit Detail'!$Y$8:$Y$400,2)","v":0},{"$f":"SUMIF('Unit Detail'!$D$8:$D$400,$B321,'Unit Detail'!$H$8:$H$400)","v":0},0,"",{"$f":"COUNTIFS('Unit Detail'!$Y$8:$Y$400,\"1\",'Unit Detail'!$D$8:$D$400,'Building Detail'!$B321)","v":0},{"$f":"COUNTIFS('Unit Detail'!$Y$8:$Y$400,\"3\",'Unit Detail'!$D$8:$D$400,'Building Detail'!$B321)","v":0},{"$f":"COUNTIFS('Unit Detail'!$Y$8:$Y$400,\"2\",'Unit Detail'!$D$8:$D$400,'Building Detail'!$B321)","v":0},0,"",""]
[null,null,null,null,null,null,null,null,null,null,null,null,null,null,{"$f":"SUMIFS('Unit Detail'!$H$8:$H$400,'Unit Detail'!$D$8:$D$400,'Building Detail'!$B322,'Unit Detail'!$Y$8:$Y$400,1)","v":0},{"$f":"SUMIFS('Unit Detail'!$H$8:$H$400,'Unit Detail'!$D$8:$D$400,'Building Detail'!$B322,'Unit Detail'!$Y$8:$Y$400,3)","v":0},{"$f":"SUMIFS('Unit Detail'!$H$8:$H$400,'Unit Detail'!$D$8:$D$400,'Building Detail'!$B322,'Unit Detail'!$Y$8:$Y$400,2)","v":0},{"$f":"SUMIF('Unit Detail'!$D$8:$D$400,$B322,'Unit Detail'!$H$8:$H$400)","v":0},0,"",{"$f":"COUNTIFS('Unit Detail'!$Y$8:$Y$400,\"1\",'Unit Detail'!$D$8:$D$400,'Building Detail'!$B322)","v":0},{"$f":"COUNTIFS('Unit Detail'!$Y$8:$Y$400,\"3\",'Unit Detail'!$D$8:$D$400,'Building Detail'!$B322)","v":0},{"$f":"COUNTIFS('Unit Detail'!$Y$8:$Y$400,\"2\",'Unit Detail'!$D$8:$D$400,'Building Detail'!$B322)","v":0},0,"",""]
[null,null,null,null,null,null,null,null,null,null,null,null,null,null,{"$f":"SUMIFS('Unit Detail'!$H$8:$H$400,'Unit Detail'!$D$8:$D$400,'Building Detail'!$B323,'Unit Detail'!$Y$8:$Y$400,1)","v":0},{"$f":"SUMIFS('Unit Detail'!$H$8:$H$400,'Unit Detail'!$D$8:$D$400,'Building Detail'!$B323,'Unit Detail'!$Y$8:$Y$400,3)","v":0},{"$f":"SUMIFS('Unit Detail'!$H$8:$H$400,'Unit Detail'!$D$8:$D$400,'Building Detail'!$B323,'Unit Detail'!$Y$8:$Y$400,2)","v":0},{"$f":"SUMIF('Unit Detail'!$D$8:$D$400,$B323,'Unit Detail'!$H$8:$H$400)","v":0},{"$f":"SUM(M323,N323,R323)","v":0},"",{"$f":"COUNTIFS('Unit Detail'!$Y$8:$Y$400,\"1\",'Unit Detail'!$D$8:$D$400,'Building Detail'!$B323)","v":0},{"$f":"COUNTIFS('Unit Detail'!$Y$8:$Y$400,\"3\",'Unit Detail'!$D$8:$D$400,'Building Detail'!$B323)","v":0},{"$f":"COUNTIFS('Unit Detail'!$Y$8:$Y$400,\"2\",'Unit Detail'!$D$8:$D$400,'Building Detail'!$B323)","v":0},{"$f":"SUM(U323:W323)","v":0},"",""]
[null,null,null,null,null,null,null,null,null,null,null,null,null,null,{"$f":"SUMIFS('Unit Detail'!$H$8:$H$400,'Unit Detail'!$D$8:$D$400,'Building Detail'!$B324,'Unit Detail'!$Y$8:$Y$400,1)","v":0},{"$f":"SUMIFS('Unit Detail'!$H$8:$H$400,'Unit Detail'!$D$8:$D$400,'Building Detail'!$B324,'Unit Detail'!$Y$8:$Y$400,3)","v":0},{"$f":"SUMIFS('Unit Detail'!$H$8:$H$400,'Unit Detail'!$D$8:$D$400,'Building Detail'!$B324,'Unit Detail'!$Y$8:$Y$400,2)","v":0},{"$f":"SUMIF('Unit Detail'!$D$8:$D$400,$B324,'Unit Detail'!$H$8:$H$400)","v":0},0,"",{"$f":"COUNTIFS('Unit Detail'!$Y$8:$Y$400,\"1\",'Unit Detail'!$D$8:$D$400,'Building Detail'!$B324)","v":0},{"$f":"COUNTIFS('Unit Detail'!$Y$8:$Y$400,\"3\",'Unit Detail'!$D$8:$D$400,'Building Detail'!$B324)","v":0},{"$f":"COUNTIFS('Unit Detail'!$Y$8:$Y$400,\"2\",'Unit Detail'!$D$8:$D$400,'Building Detail'!$B324)","v":0},0,"",""]
[null,null,null,null,null,null,null,null,null,null,null,null,null,null,{"$f":"SUMIFS('Unit Detail'!$H$8:$H$400,'Unit Detail'!$D$8:$D$400,'Building Detail'!$B325,'Unit Detail'!$Y$8:$Y$400,1)","v":0},{"$f":"SUMIFS('Unit Detail'!$H$8:$H$400,'Unit Detail'!$D$8:$D$400,'Building Detail'!$B325,'Unit Detail'!$Y$8:$Y$400,3)","v":0},{"$f":"SUMIFS('Unit Detail'!$H$8:$H$400,'Unit Detail'!$D$8:$D$400,'Building Detail'!$B325,'Unit Detail'!$Y$8:$Y$400,2)","v":0},{"$f":"SUMIF('Unit Detail'!$D$8:$D$400,$B325,'Unit Detail'!$H$8:$H$400)","v":0},0,"",{"$f":"COUNTIFS('Unit Detail'!$Y$8:$Y$400,\"1\",'Unit Detail'!$D$8:$D$400,'Building Detail'!$B325)","v":0},{"$f":"COUNTIFS('Unit Detail'!$Y$8:$Y$400,\"3\",'Unit Detail'!$D$8:$D$400,'Building Detail'!$B325)","v":0},{"$f":"COUNTIFS('Unit Detail'!$Y$8:$Y$400,\"2\",'Unit Detail'!$D$8:$D$400,'Building Detail'!$B325)","v":0},0,"",""]
[null,null,null,null,null,null,null,null,null,null,null,null,null,null,{"$f":"SUMIFS('Unit Detail'!$H$8:$H$400,'Unit Detail'!$D$8:$D$400,'Building Detail'!$B326,'Unit Detail'!$Y$8:$Y$400,1)","v":0},{"$f":"SUMIFS('Unit Detail'!$H$8:$H$400,'Unit Detail'!$D$8:$D$400,'Building Detail'!$B326,'Unit Detail'!$Y$8:$Y$400,3)","v":0},{"$f":"SUMIFS('Unit Detail'!$H$8:$H$400,'Unit Detail'!$D$8:$D$400,'Building Detail'!$B326,'Unit Detail'!$Y$8:$Y$400,2)","v":0},{"$f":"SUMIF('Unit Detail'!$D$8:$D$400,$B326,'Unit Detail'!$H$8:$H$400)","v":0},0,"",{"$f":"COUNTIFS('Unit Detail'!$Y$8:$Y$400,\"1\",'Unit Detail'!$D$8:$D$400,'Building Detail'!$B326)","v":0},{"$f":"COUNTIFS('Unit Detail'!$Y$8:$Y$400,\"3\",'Unit Detail'!$D$8:$D$400,'Building Detail'!$B326)","v":0},{"$f":"COUNTIFS('Unit Detail'!$Y$8:$Y$400,\"2\",'Unit Detail'!$D$8:$D$400,'Building Detail'!$B326)","v":0},0,"",""]
[null,null,null,null,null,null,null,null,null,null,null,null,null,null,{"$f":"SUMIFS('Unit Detail'!$H$8:$H$400,'Unit Detail'!$D$8:$D$400,'Building Detail'!$B327,'Unit Detail'!$Y$8:$Y$400,1)","v":0},{"$f":"SUMIFS('Unit Detail'!$H$8:$H$400,'Unit Detail'!$D$8:$D$400,'Building Detail'!$B327,'Unit Detail'!$Y$8:$Y$400,3)","v":0},{"$f":"SUMIFS('Unit Detail'!$H$8:$H$400,'Unit Detail'!$D$8:$D$400,'Building Detail'!$B327,'Unit Detail'!$Y$8:$Y$400,2)","v":0},{"$f":"SUMIF('Unit Detail'!$D$8:$D$400,$B327,'Unit Detail'!$H$8:$H$400)","v":0},0,"",{"$f":"COUNTIFS('Unit Detail'!$Y$8:$Y$400,\"1\",'Unit Detail'!$D$8:$D$400,'Building Detail'!$B327)","v":0},{"$f":"COUNTIFS('Unit Detail'!$Y$8:$Y$400,\"3\",'Unit Detail'!$D$8:$D$400,'Building Detail'!$B327)","v":0},{"$f":"COUNTIFS('Unit Detail'!$Y$8:$Y$400,\"2\",'Unit Detail'!$D$8:$D$400,'Building Detail'!$B327)","v":0},0,"",""]
[null,null,null,null,null,null,null,null,null,null,null,null,null,null,{"$f":"SUMIFS('Unit Detail'!$H$8:$H$400,'Unit Detail'!$D$8:$D$400,'Building Detail'!$B328,'Unit Detail'!$Y$8:$Y$400,1)","v":0},{"$f":"SUMIFS('Unit Detail'!$H$8:$H$400,'Unit Detail'!$D$8:$D$400,'Building Detail'!$B328,'Unit Detail'!$Y$8:$Y$400,3)","v":0},{"$f":"SUMIFS('Unit Detail'!$H$8:$H$400,'Unit Detail'!$D$8:$D$400,'Building Detail'!$B328,'Unit Detail'!$Y$8:$Y$400,2)","v":0},{"$f":"SUMIF('Unit Detail'!$D$8:$D$400,$B328,'Unit Detail'!$H$8:$H$400)","v":0},0,"",{"$f":"COUNTIFS('Unit Detail'!$Y$8:$Y$400,\"1\",'Unit Detail'!$D$8:$D$400,'Building Detail'!$B328)","v":0},{"$f":"COUNTIFS('Unit Detail'!$Y$8:$Y$400,\"3\",'Unit Detail'!$D$8:$D$400,'Building Detail'!$B328)","v":0},{"$f":"COUNTIFS('Unit Detail'!$Y$8:$Y$400,\"2\",'Unit Detail'!$D$8:$D$400,'Building Detail'!$B328)","v":0},0,"",""]
[null,null,null,null,null,null,null,null,null,null,null,null,null,null,{"$f":"SUMIFS('Unit Detail'!$H$8:$H$400,'Unit Detail'!$D$8:$D$400,'Building Detail'!$B329,'Unit Detail'!$Y$8:$Y$400,1)","v":0},{"$f":"SUMIFS('Unit Detail'!$H$8:$H$400,'Unit Detail'!$D$8:$D$400,'Building Detail'!$B329,'Unit Detail'!$Y$8:$Y$400,3)","v":0},{"$f":"SUMIFS('Unit Detail'!$H$8:$H$400,'Unit Detail'!$D$8:$D$400,'Building Detail'!$B329,'Unit Detail'!$Y$8:$Y$400,2)","v":0},{"$f":"SUMIF('Unit Detail'!$D$8:$D$400,$B329,'Unit Detail'!$H$8:$H$400)","v":0},0,"",{"$f":"COUNTIFS('Unit Detail'!$Y$8:$Y$400,\"1\",'Unit Detail'!$D$8:$D$400,'Building Detail'!$B329)","v":0},{"$f":"COUNTIFS('Unit Detail'!$Y$8:$Y$400,\"3\",'Unit Detail'!$D$8:$D$400,'Building Detail'!$B329)","v":0},{"$f":"COUNTIFS('Unit Detail'!$Y$8:$Y$400,\"2\",'Unit Detail'!$D$8:$D$400,'Building Detail'!$B329)","v":0},0,"",""]
[null,null,null,null,null,null,null,null,null,null,null,null,null,null,{"$f":"SUMIFS('Unit Detail'!$H$8:$H$400,'Unit Detail'!$D$8:$D$400,'Building Detail'!$B330,'Unit Detail'!$Y$8:$Y$400,1)","v":0},{"$f":"SUMIFS('Unit Detail'!$H$8:$H$400,'Unit Detail'!$D$8:$D$400,'Building Detail'!$B330,'Unit Detail'!$Y$8:$Y$400,3)","v":0},{"$f":"SUMIFS('Unit Detail'!$H$8:$H$400,'Unit Detail'!$D$8:$D$400,'Building Detail'!$B330,'Unit Detail'!$Y$8:$Y$400,2)","v":0},{"$f":"SUMIF('Unit Detail'!$D$8:$D$400,$B330,'Unit Detail'!$H$8:$H$400)","v":0},0,"",{"$f":"COUNTIFS('Unit Detail'!$Y$8:$Y$400,\"1\",'Unit Detail'!$D$8:$D$400,'Building Detail'!$B330)","v":0},{"$f":"COUNTIFS('Unit Detail'!$Y$8:$Y$400,\"3\",'Unit Detail'!$D$8:$D$400,'Building Detail'!$B330)","v":0},{"$f":"COUNTIFS('Unit Detail'!$Y$8:$Y$400,\"2\",'Unit Detail'!$D$8:$D$400,'Building Detail'!$B330)","v":0},0,"",""]
[null,null,null,null,null,null,null,null,null,null,null,null,null,null,{"$f":"SUMIFS('Unit Detail'!$H$8:$H$400,'Unit Detail'!$D$8:$D$400,'Building Detail'!$B331,'Unit Detail'!$Y$8:$Y$400,1)","v":0},{"$f":"SUMIFS('Unit Detail'!$H$8:$H$400,'Unit Detail'!$D$8:$D$400,'Building Detail'!$B331,'Unit Detail'!$Y$8:$Y$400,3)","v":0},{"$f":"SUMIFS('Unit Detail'!$H$8:$H$400,'Unit Detail'!$D$8:$D$400,'Building Detail'!$B331,'Unit Detail'!$Y$8:$Y$400,2)","v":0},{"$f":"SUMIF('Unit Detail'!$D$8:$D$400,$B331,'Unit Detail'!$H$8:$H$400)","v":0},0,"",{"$f":"COUNTIFS('Unit Detail'!$Y$8:$Y$400,\"1\",'Unit Detail'!$D$8:$D$400,'Building Detail'!$B331)","v":0},{"$f":"COUNTIFS('Unit Detail'!$Y$8:$Y$400,\"3\",'Unit Detail'!$D$8:$D$400,'Building Detail'!$B331)","v":0},{"$f":"COUNTIFS('Unit Detail'!$Y$8:$Y$400,\"2\",'Unit Detail'!$D$8:$D$400,'Building Detail'!$B331)","v":0},0,"",""]
[null,null,null,null,null,null,null,null,null,null,null,null,null,null,{"$f":"SUMIFS('Unit Detail'!$H$8:$H$400,'Unit Detail'!$D$8:$D$400,'Building Detail'!$B332,'Unit Detail'!$Y$8:$Y$400,1)","v":0},{"$f":"SUMIFS('Unit Detail'!$H$8:$H$400,'Unit Detail'!$D$8:$D$400,'Building Detail'!$B332,'Unit Detail'!$Y$8:$Y$400,3)","v":0},{"$f":"SUMIFS('Unit Detail'!$H$8:$H$400,'Unit Detail'!$D$8:$D$400,'Building Detail'!$B332,'Unit Detail'!$Y$8:$Y$400,2)","v":0},{"$f":"SUMIF('Unit Detail'!$D$8:$D$400,$B332,'Unit Detail'!$H$8:$H$400)","v":0},0,"",{"$f":"COUNTIFS('Unit Detail'!$Y$8:$Y$400,\"1\",'Unit Detail'!$D$8:$D$400,'Building Detail'!$B332)","v":0},{"$f":"COUNTIFS('Unit Detail'!$Y$8:$Y$400,\"3\",'Unit Detail'!$D$8:$D$400,'Building Detail'!$B332)","v":0},{"$f":"COUNTIFS('Unit Detail'!$Y$8:$Y$400,\"2\",'Unit Detail'!$D$8:$D$400,'Building Detail'!$B332)","v":0},0,"",""]
[null,null,null,null,null,null,null,null,null,null,null,null,null,null,{"$f":"SUMIFS('Unit Detail'!$H$8:$H$400,'Unit Detail'!$D$8:$D$400,'Building Detail'!$B333,'Unit Detail'!$Y$8:$Y$400,1)","v":0},{"$f":"SUMIFS('Unit Detail'!$H$8:$H$400,'Unit Detail'!$D$8:$D$400,'Building Detail'!$B333,'Unit Detail'!$Y$8:$Y$400,3)","v":0},{"$f":"SUMIFS('Unit Detail'!$H$8:$H$400,'Unit Detail'!$D$8:$D$400,'Building Detail'!$B333,'Unit Detail'!$Y$8:$Y$400,2)","v":0},{"$f":"SUMIF('Unit Detail'!$D$8:$D$400,$B333,'Unit Detail'!$H$8:$H$400)","v":0},0,"",{"$f":"COUNTIFS('Unit Detail'!$Y$8:$Y$400,\"1\",'Unit Detail'!$D$8:$D$400,'Building Detail'!$B333)","v":0},{"$f":"COUNTIFS('Unit Detail'!$Y$8:$Y$400,\"3\",'Unit Detail'!$D$8:$D$400,'Building Detail'!$B333)","v":0},{"$f":"COUNTIFS('Unit Detail'!$Y$8:$Y$400,\"2\",'Unit Detail'!$D$8:$D$400,'Building Detail'!$B333)","v":0},0,"",""]
[null,null,null,null,null,null,null,null,null,null,null,null,null,null,{"$f":"SUMIFS('Unit Detail'!$H$8:$H$400,'Unit Detail'!$D$8:$D$400,'Building Detail'!$B334,'Unit Detail'!$Y$8:$Y$400,1)","v":0},{"$f":"SUMIFS('Unit Detail'!$H$8:$H$400,'Unit Detail'!$D$8:$D$400,'Building Detail'!$B334,'Unit Detail'!$Y$8:$Y$400,3)","v":0},{"$f":"SUMIFS('Unit Detail'!$H$8:$H$400,'Unit Detail'!$D$8:$D$400,'Building Detail'!$B334,'Unit Detail'!$Y$8:$Y$400,2)","v":0},{"$f":"SUMIF('Unit Detail'!$D$8:$D$400,$B334,'Unit Detail'!$H$8:$H$400)","v":0},0,"",{"$f":"COUNTIFS('Unit Detail'!$Y$8:$Y$400,\"1\",'Unit Detail'!$D$8:$D$400,'Building Detail'!$B334)","v":0},{"$f":"COUNTIFS('Unit Detail'!$Y$8:$Y$400,\"3\",'Unit Detail'!$D$8:$D$400,'Building Detail'!$B334)","v":0},{"$f":"COUNTIFS('Unit Detail'!$Y$8:$Y$400,\"2\",'Unit Detail'!$D$8:$D$400,'Building Detail'!$B334)","v":0},0,"",""]
[null,null,null,null,null,null,null,null,null,null,null,null,null,null,{"$f":"SUMIFS('Unit Detail'!$H$8:$H$400,'Unit Detail'!$D$8:$D$400,'Building Detail'!$B335,'Unit Detail'!$Y$8:$Y$400,1)","v":0},{"$f":"SUMIFS('Unit Detail'!$H$8:$H$400,'Unit Detail'!$D$8:$D$400,'Building Detail'!$B335,'Unit Detail'!$Y$8:$Y$400,3)","v":0},{"$f":"SUMIFS('Unit Detail'!$H$8:$H$400,'Unit Detail'!$D$8:$D$400,'Building Detail'!$B335,'Unit Detail'!$Y$8:$Y$400,2)","v":0},{"$f":"SUMIF('Unit Detail'!$D$8:$D$400,$B335,'Unit Detail'!$H$8:$H$400)","v":0},0,"",{"$f":"COUNTIFS('Unit Detail'!$Y$8:$Y$400,\"1\",'Unit Detail'!$D$8:$D$400,'Building Detail'!$B335)","v":0},{"$f":"COUNTIFS('Unit Detail'!$Y$8:$Y$400,\"3\",'Unit Detail'!$D$8:$D$400,'Building Detail'!$B335)","v":0},{"$f":"COUNTIFS('Unit Detail'!$Y$8:$Y$400,\"2\",'Unit Detail'!$D$8:$D$400,'Building Detail'!$B335)","v":0},0,"",""]
[null,null,null,null,null,null,null,null,null,null,null,null,null,null,{"$f":"SUMIFS('Unit Detail'!$H$8:$H$400,'Unit Detail'!$D$8:$D$400,'Building Detail'!$B336,'Unit Detail'!$Y$8:$Y$400,1)","v":0},{"$f":"SUMIFS('Unit Detail'!$H$8:$H$400,'Unit Detail'!$D$8:$D$400,'Building Detail'!$B336,'Unit Detail'!$Y$8:$Y$400,3)","v":0},{"$f":"SUMIFS('Unit Detail'!$H$8:$H$400,'Unit Detail'!$D$8:$D$400,'Building Detail'!$B336,'Unit Detail'!$Y$8:$Y$400,2)","v":0},{"$f":"SUMIF('Unit Detail'!$D$8:$D$400,$B336,'Unit Detail'!$H$8:$H$400)","v":0},0,"",{"$f":"COUNTIFS('Unit Detail'!$Y$8:$Y$400,\"1\",'Unit Detail'!$D$8:$D$400,'Building Detail'!$B336)","v":0},{"$f":"COUNTIFS('Unit Detail'!$Y$8:$Y$400,\"3\",'Unit Detail'!$D$8:$D$400,'Building Detail'!$B336)","v":0},{"$f":"COUNTIFS('Unit Detail'!$Y$8:$Y$400,\"2\",'Unit Detail'!$D$8:$D$400,'Building Detail'!$B336)","v":0},0,"",""]
[null,null,null,null,null,null,null,null,null,null,null,null,null,null,{"$f":"SUMIFS('Unit Detail'!$H$8:$H$400,'Unit Detail'!$D$8:$D$400,'Building Detail'!$B337,'Unit Detail'!$Y$8:$Y$400,1)","v":0},{"$f":"SUMIFS('Unit Detail'!$H$8:$H$400,'Unit Detail'!$D$8:$D$400,'Building Detail'!$B337,'Unit Detail'!$Y$8:$Y$400,3)","v":0},{"$f":"SUMIFS('Unit Detail'!$H$8:$H$400,'Unit Detail'!$D$8:$D$400,'Building Detail'!$B337,'Unit Detail'!$Y$8:$Y$400,2)","v":0},{"$f":"SUMIF('Unit Detail'!$D$8:$D$400,$B337,'Unit Detail'!$H$8:$H$400)","v":0},0,"",{"$f":"COUNTIFS('Unit Detail'!$Y$8:$Y$400,\"1\",'Unit Detail'!$D$8:$D$400,'Building Detail'!$B337)","v":0},{"$f":"COUNTIFS('Unit Detail'!$Y$8:$Y$400,\"3\",'Unit Detail'!$D$8:$D$400,'Building Detail'!$B337)","v":0},{"$f":"COUNTIFS('Unit Detail'!$Y$8:$Y$400,\"2\",'Unit Detail'!$D$8:$D$400,'Building Detail'!$B337)","v":0},0,"",""]
[null,null,null,null,null,null,null,null,null,null,null,null,null,null,{"$f":"SUMIFS('Unit Detail'!$H$8:$H$400,'Unit Detail'!$D$8:$D$400,'Building Detail'!$B338,'Unit Detail'!$Y$8:$Y$400,1)","v":0},{"$f":"SUMIFS('Unit Detail'!$H$8:$H$400,'Unit Detail'!$D$8:$D$400,'Building Detail'!$B338,'Unit Detail'!$Y$8:$Y$400,3)","v":0},{"$f":"SUMIFS('Unit Detail'!$H$8:$H$400,'Unit Detail'!$D$8:$D$400,'Building Detail'!$B338,'Unit Detail'!$Y$8:$Y$400,2)","v":0},{"$f":"SUMIF('Unit Detail'!$D$8:$D$400,$B338,'Unit Detail'!$H$8:$H$400)","v":0},0,"",{"$f":"COUNTIFS('Unit Detail'!$Y$8:$Y$400,\"1\",'Unit Detail'!$D$8:$D$400,'Building Detail'!$B338)","v":0},{"$f":"COUNTIFS('Unit Detail'!$Y$8:$Y$400,\"3\",'Unit Detail'!$D$8:$D$400,'Building Detail'!$B338)","v":0},{"$f":"COUNTIFS('Unit Detail'!$Y$8:$Y$400,\"2\",'Unit Detail'!$D$8:$D$400,'Building Detail'!$B338)","v":0},0,"",{"$f":"IF(Y338<T338,Y338,T338)","v":""}]
[null,null,null,null,null,null,null,null,null,null,null,null,null,null,{"$f":"SUMIFS('Unit Detail'!$H$8:$H$400,'Unit Detail'!$D$8:$D$400,'Building Detail'!$B339,'Unit Detail'!$Y$8:$Y$400,1)","v":0},{"$f":"SUMIFS('Unit Detail'!$H$8:$H$400,'Unit Detail'!$D$8:$D$400,'Building Detail'!$B339,'Unit Detail'!$Y$8:$Y$400,3)","v":0},{"$f":"SUMIFS('Unit Detail'!$H$8:$H$400,'Unit Detail'!$D$8:$D$400,'Building Detail'!$B339,'Unit Detail'!$Y$8:$Y$400,2)","v":0},{"$f":"SUMIF('Unit Detail'!$D$8:$D$400,$B339,'Unit Detail'!$H$8:$H$400)","v":0},0,"",{"$f":"COUNTIFS('Unit Detail'!$Y$8:$Y$400,\"1\",'Unit Detail'!$D$8:$D$400,'Building Detail'!$B339)","v":0},{"$f":"COUNTIFS('Unit Detail'!$Y$8:$Y$400,\"3\",'Unit Detail'!$D$8:$D$400,'Building Detail'!$B339)","v":0},{"$f":"COUNTIFS('Unit Detail'!$Y$8:$Y$400,\"2\",'Unit Detail'!$D$8:$D$400,'Building Detail'!$B339)","v":0},0,{"$f":"IF(B339=\"\",\"\",IF($P$15=0,1,U339/X339))","v":""},""]
[null,null,null,null,null,null,null,null,null,null,null,null,null,null,{"$f":"SUMIFS('Unit Detail'!$H$8:$H$400,'Unit Detail'!$D$8:$D$400,'Building Detail'!$B340,'Unit Detail'!$Y$8:$Y$400,1)","v":0},{"$f":"SUMIFS('Unit Detail'!$H$8:$H$400,'Unit Detail'!$D$8:$D$400,'Building Detail'!$B340,'Unit Detail'!$Y$8:$Y$400,3)","v":0},{"$f":"SUMIFS('Unit Detail'!$H$8:$H$400,'Unit Detail'!$D$8:$D$400,'Building Detail'!$B340,'Unit Detail'!$Y$8:$Y$400,2)","v":0},{"$f":"SUMIF('Unit Detail'!$D$8:$D$400,$B340,'Unit Detail'!$H$8:$H$400)","v":0},0,"",{"$f":"COUNTIFS('Unit Detail'!$Y$8:$Y$400,\"1\",'Unit Detail'!$D$8:$D$400,'Building Detail'!$B340)","v":0},{"$f":"COUNTIFS('Unit Detail'!$Y$8:$Y$400,\"3\",'Unit Detail'!$D$8:$D$400,'Building Detail'!$B340)","v":0},{"$f":"COUNTIFS('Unit Detail'!$Y$8:$Y$400,\"2\",'Unit Detail'!$D$8:$D$400,'Building Detail'!$B340)","v":0},0,"",""]
[null,null,null,null,null,null,null,null,null,null,null,null,null,null,{"$f":"SUMIFS('Unit Detail'!$H$8:$H$400,'Unit Detail'!$D$8:$D$400,'Building Detail'!$B341,'Unit Detail'!$Y$8:$Y$400,1)","v":0},{"$f":"SUMIFS('Unit Detail'!$H$8:$H$400,'Unit Detail'!$D$8:$D$400,'Building Detail'!$B341,'Unit Detail'!$Y$8:$Y$400,3)","v":0},{"$f":"SUMIFS('Unit Detail'!$H$8:$H$400,'Unit Detail'!$D$8:$D$400,'Building Detail'!$B341,'Unit Detail'!$Y$8:$Y$400,2)","v":0},{"$f":"SUMIF('Unit Detail'!$D$8:$D$400,$B341,'Unit Detail'!$H$8:$H$400)","v":0},0,{"$f":"IF(B341=\"\",\"\",IF($P$15=0,1,O341/R341))","v":""},{"$f":"COUNTIFS('Unit Detail'!$Y$8:$Y$400,\"1\",'Unit Detail'!$D$8:$D$400,'Building Detail'!$B341)","v":0},{"$f":"COUNTIFS('Unit Detail'!$Y$8:$Y$400,\"3\",'Unit Detail'!$D$8:$D$400,'Building Detail'!$B341)","v":0},{"$f":"COUNTIFS('Unit Detail'!$Y$8:$Y$400,\"2\",'Unit Detail'!$D$8:$D$400,'Building Detail'!$B341)","v":0},0,"",""]
[null,null,null,null,null,null,null,null,null,null,null,null,null,null,{"$f":"SUMIFS('Unit Detail'!$H$8:$H$400,'Unit Detail'!$D$8:$D$400,'Building Detail'!$B342,'Unit Detail'!$Y$8:$Y$400,1)","v":0},{"$f":"SUMIFS('Unit Detail'!$H$8:$H$400,'Unit Detail'!$D$8:$D$400,'Building Detail'!$B342,'Unit Detail'!$Y$8:$Y$400,3)","v":0},{"$f":"SUMIFS('Unit Detail'!$H$8:$H$400,'Unit Detail'!$D$8:$D$400,'Building Detail'!$B342,'Unit Detail'!$Y$8:$Y$400,2)","v":0},{"$f":"SUMIF('Unit Detail'!$D$8:$D$400,$B342,'Unit Detail'!$H$8:$H$400)","v":0},0,"",{"$f":"COUNTIFS('Unit Detail'!$Y$8:$Y$400,\"1\",'Unit Detail'!$D$8:$D$400,'Building Detail'!$B342)","v":0},{"$f":"COUNTIFS('Unit Detail'!$Y$8:$Y$400,\"3\",'Unit Detail'!$D$8:$D$400,'Building Detail'!$B342)","v":0},{"$f":"COUNTIFS('Unit Detail'!$Y$8:$Y$400,\"2\",'Unit Detail'!$D$8:$D$400,'Building Detail'!$B342)","v":0},0,"",""]
[null,null,null,null,null,null,null,null,null,null,null,null,null,null,{"$f":"SUMIFS('Unit Detail'!$H$8:$H$400,'Unit Detail'!$D$8:$D$400,'Building Detail'!$B343,'Unit Detail'!$Y$8:$Y$400,1)","v":0},{"$f":"SUMIFS('Unit Detail'!$H$8:$H$400,'Unit Detail'!$D$8:$D$400,'Building Detail'!$B343,'Unit Detail'!$Y$8:$Y$400,3)","v":0},{"$f":"SUMIFS('Unit Detail'!$H$8:$H$400,'Unit Detail'!$D$8:$D$400,'Building Detail'!$B343,'Unit Detail'!$Y$8:$Y$400,2)","v":0},{"$f":"SUMIF('Unit Detail'!$D$8:$D$400,$B343,'Unit Detail'!$H$8:$H$400)","v":0},0,"",{"$f":"COUNTIFS('Unit Detail'!$Y$8:$Y$400,\"1\",'Unit Detail'!$D$8:$D$400,'Building Detail'!$B343)","v":0},{"$f":"COUNTIFS('Unit Detail'!$Y$8:$Y$400,\"3\",'Unit Detail'!$D$8:$D$400,'Building Detail'!$B343)","v":0},{"$f":"COUNTIFS('Unit Detail'!$Y$8:$Y$400,\"2\",'Unit Detail'!$D$8:$D$400,'Building Detail'!$B343)","v":0},0,"",""]
[null,null,null,null,null,null,null,null,null,null,null,null,null,null,{"$f":"SUMIFS('Unit Detail'!$H$8:$H$400,'Unit Detail'!$D$8:$D$400,'Building Detail'!$B344,'Unit Detail'!$Y$8:$Y$400,1)","v":0},{"$f":"SUMIFS('Unit Detail'!$H$8:$H$400,'Unit Detail'!$D$8:$D$400,'Building Detail'!$B344,'Unit Detail'!$Y$8:$Y$400,3)","v":0},{"$f":"SUMIFS('Unit Detail'!$H$8:$H$400,'Unit Detail'!$D$8:$D$400,'Building Detail'!$B344,'Unit Detail'!$Y$8:$Y$400,2)","v":0},{"$f":"SUMIF('Unit Detail'!$D$8:$D$400,$B344,'Unit Detail'!$H$8:$H$400)","v":0},0,"",{"$f":"COUNTIFS('Unit Detail'!$Y$8:$Y$400,\"1\",'Unit Detail'!$D$8:$D$400,'Building Detail'!$B344)","v":0},{"$f":"COUNTIFS('Unit Detail'!$Y$8:$Y$400,\"3\",'Unit Detail'!$D$8:$D$400,'Building Detail'!$B344)","v":0},{"$f":"COUNTIFS('Unit Detail'!$Y$8:$Y$400,\"2\",'Unit Detail'!$D$8:$D$400,'Building Detail'!$B344)","v":0},0,"",""]
[null,null,null,null,null,null,null,null,null,null,null,null,null,null,{"$f":"SUMIFS('Unit Detail'!$H$8:$H$400,'Unit Detail'!$D$8:$D$400,'Building Detail'!$B345,'Unit Detail'!$Y$8:$Y$400,1)","v":0},{"$f":"SUMIFS('Unit Detail'!$H$8:$H$400,'Unit Detail'!$D$8:$D$400,'Building Detail'!$B345,'Unit Detail'!$Y$8:$Y$400,3)","v":0},{"$f":"SUMIFS('Unit Detail'!$H$8:$H$400,'Unit Detail'!$D$8:$D$400,'Building Detail'!$B345,'Unit Detail'!$Y$8:$Y$400,2)","v":0},{"$f":"SUMIF('Unit Detail'!$D$8:$D$400,$B345,'Unit Detail'!$H$8:$H$400)","v":0},0,"",{"$f":"COUNTIFS('Unit Detail'!$Y$8:$Y$400,\"1\",'Unit Detail'!$D$8:$D$400,'Building Detail'!$B345)","v":0},{"$f":"COUNTIFS('Unit Detail'!$Y$8:$Y$400,\"3\",'Unit Detail'!$D$8:$D$400,'Building Detail'!$B345)","v":0},{"$f":"COUNTIFS('Unit Detail'!$Y$8:$Y$400,\"2\",'Unit Detail'!$D$8:$D$400,'Building Detail'!$B345)","v":0},0,"",""]
[null,null,null,null,null,null,null,null,null,null,null,null,null,null,{"$f":"SUMIFS('Unit Detail'!$H$8:$H$400,'Unit Detail'!$D$8:$D$400,'Building Detail'!$B346,'Unit Detail'!$Y$8:$Y$400,1)","v":0},{"$f":"SUMIFS('Unit Detail'!$H$8:$H$400,'Unit Detail'!$D$8:$D$400,'Building Detail'!$B346,'Unit Detail'!$Y$8:$Y$400,3)","v":0},{"$f":"SUMIFS('Unit Detail'!$H$8:$H$400,'Unit Detail'!$D$8:$D$400,'Building Detail'!$B346,'Unit Detail'!$Y$8:$Y$400,2)","v":0},{"$f":"SUMIF('Unit Detail'!$D$8:$D$400,$B346,'Unit Detail'!$H$8:$H$400)","v":0},0,"",{"$f":"COUNTIFS('Unit Detail'!$Y$8:$Y$400,\"1\",'Unit Detail'!$D$8:$D$400,'Building Detail'!$B346)","v":0},{"$f":"COUNTIFS('Unit Detail'!$Y$8:$Y$400,\"3\",'Unit Detail'!$D$8:$D$400,'Building Detail'!$B346)","v":0},{"$f":"COUNTIFS('Unit Detail'!$Y$8:$Y$400,\"2\",'Unit Detail'!$D$8:$D$400,'Building Detail'!$B346)","v":0},0,"",""]
[null,null,null,null,null,null,null,null,null,null,null,null,null,null,{"$f":"SUMIFS('Unit Detail'!$H$8:$H$400,'Unit Detail'!$D$8:$D$400,'Building Detail'!$B347,'Unit Detail'!$Y$8:$Y$400,1)","v":0},{"$f":"SUMIFS('Unit Detail'!$H$8:$H$400,'Unit Detail'!$D$8:$D$400,'Building Detail'!$B347,'Unit Detail'!$Y$8:$Y$400,3)","v":0},{"$f":"SUMIFS('Unit Detail'!$H$8:$H$400,'Unit Detail'!$D$8:$D$400,'Building Detail'!$B347,'Unit Detail'!$Y$8:$Y$400,2)","v":0},{"$f":"SUMIF('Unit Detail'!$D$8:$D$400,$B347,'Unit Detail'!$H$8:$H$400)","v":0},0,"",{"$f":"COUNTIFS('Unit Detail'!$Y$8:$Y$400,\"1\",'Unit Detail'!$D$8:$D$400,'Building Detail'!$B347)","v":0},{"$f":"COUNTIFS('Unit Detail'!$Y$8:$Y$400,\"3\",'Unit Detail'!$D$8:$D$400,'Building Detail'!$B347)","v":0},{"$f":"COUNTIFS('Unit Detail'!$Y$8:$Y$400,\"2\",'Unit Detail'!$D$8:$D$400,'Building Detail'!$B347)","v":0},0,"",""]
[null,null,null,null,null,null,null,null,null,null,null,null,null,null,{"$f":"SUMIFS('Unit Detail'!$H$8:$H$400,'Unit Detail'!$D$8:$D$400,'Building Detail'!$B348,'Unit Detail'!$Y$8:$Y$400,1)","v":0},{"$f":"SUMIFS('Unit Detail'!$H$8:$H$400,'Unit Detail'!$D$8:$D$400,'Building Detail'!$B348,'Unit Detail'!$Y$8:$Y$400,3)","v":0},{"$f":"SUMIFS('Unit Detail'!$H$8:$H$400,'Unit Detail'!$D$8:$D$400,'Building Detail'!$B348,'Unit Detail'!$Y$8:$Y$400,2)","v":0},{"$f":"SUMIF('Unit Detail'!$D$8:$D$400,$B348,'Unit Detail'!$H$8:$H$400)","v":0},0,"",{"$f":"COUNTIFS('Unit Detail'!$Y$8:$Y$400,\"1\",'Unit Detail'!$D$8:$D$400,'Building Detail'!$B348)","v":0},{"$f":"COUNTIFS('Unit Detail'!$Y$8:$Y$400,\"3\",'Unit Detail'!$D$8:$D$400,'Building Detail'!$B348)","v":0},{"$f":"COUNTIFS('Unit Detail'!$Y$8:$Y$400,\"2\",'Unit Detail'!$D$8:$D$400,'Building Detail'!$B348)","v":0},0,"",""]
[null,null,null,null,null,null,null,null,null,null,null,null,null,null,{"$f":"SUMIFS('Unit Detail'!$H$8:$H$400,'Unit Detail'!$D$8:$D$400,'Building Detail'!$B349,'Unit Detail'!$Y$8:$Y$400,1)","v":0},{"$f":"SUMIFS('Unit Detail'!$H$8:$H$400,'Unit Detail'!$D$8:$D$400,'Building Detail'!$B349,'Unit Detail'!$Y$8:$Y$400,3)","v":0},{"$f":"SUMIFS('Unit Detail'!$H$8:$H$400,'Unit Detail'!$D$8:$D$400,'Building Detail'!$B349,'Unit Detail'!$Y$8:$Y$400,2)","v":0},{"$f":"SUMIF('Unit Detail'!$D$8:$D$400,$B349,'Unit Detail'!$H$8:$H$400)","v":0},0,"",{"$f":"COUNTIFS('Unit Detail'!$Y$8:$Y$400,\"1\",'Unit Detail'!$D$8:$D$400,'Building Detail'!$B349)","v":0},{"$f":"COUNTIFS('Unit Detail'!$Y$8:$Y$400,\"3\",'Unit Detail'!$D$8:$D$400,'Building Detail'!$B349)","v":0},{"$f":"COUNTIFS('Unit Detail'!$Y$8:$Y$400,\"2\",'Unit Detail'!$D$8:$D$400,'Building Detail'!$B349)","v":0},0,"",""]
[null,null,null,null,null,null,null,null,null,null,null,null,null,null,{"$f":"SUMIFS('Unit Detail'!$H$8:$H$400,'Unit Detail'!$D$8:$D$400,'Building Detail'!$B350,'Unit Detail'!$Y$8:$Y$400,1)","v":0},{"$f":"SUMIFS('Unit Detail'!$H$8:$H$400,'Unit Detail'!$D$8:$D$400,'Building Detail'!$B350,'Unit Detail'!$Y$8:$Y$400,3)","v":0},{"$f":"SUMIFS('Unit Detail'!$H$8:$H$400,'Unit Detail'!$D$8:$D$400,'Building Detail'!$B350,'Unit Detail'!$Y$8:$Y$400,2)","v":0},{"$f":"SUMIF('Unit Detail'!$D$8:$D$400,$B350,'Unit Detail'!$H$8:$H$400)","v":0},0,"",{"$f":"COUNTIFS('Unit Detail'!$Y$8:$Y$400,\"1\",'Unit Detail'!$D$8:$D$400,'Building Detail'!$B350)","v":0},{"$f":"COUNTIFS('Unit Detail'!$Y$8:$Y$400,\"3\",'Unit Detail'!$D$8:$D$400,'Building Detail'!$B350)","v":0},{"$f":"COUNTIFS('Unit Detail'!$Y$8:$Y$400,\"2\",'Unit Detail'!$D$8:$D$400,'Building Detail'!$B350)","v":0},0,"",""]
[null,null,null,null,null,null,null,null,null,null,null,null,null,null,{"$f":"SUMIFS('Unit Detail'!$H$8:$H$400,'Unit Detail'!$D$8:$D$400,'Building Detail'!$B351,'Unit Detail'!$Y$8:$Y$400,1)","v":0},{"$f":"SUMIFS('Unit Detail'!$H$8:$H$400,'Unit Detail'!$D$8:$D$400,'Building Detail'!$B351,'Unit Detail'!$Y$8:$Y$400,3)","v":0},{"$f":"SUMIFS('Unit Detail'!$H$8:$H$400,'Unit Detail'!$D$8:$D$400,'Building Detail'!$B351,'Unit Detail'!$Y$8:$Y$400,2)","v":0},{"$f":"SUMIF('Unit Detail'!$D$8:$D$400,$B351,'Unit Detail'!$H$8:$H$400)","v":0},0,"",{"$f":"COUNTIFS('Unit Detail'!$Y$8:$Y$400,\"1\",'Unit Detail'!$D$8:$D$400,'Building Detail'!$B351)","v":0},{"$f":"COUNTIFS('Unit Detail'!$Y$8:$Y$400,\"3\",'Unit Detail'!$D$8:$D$400,'Building Detail'!$B351)","v":0},{"$f":"COUNTIFS('Unit Detail'!$Y$8:$Y$400,\"2\",'Unit Detail'!$D$8:$D$400,'Building Detail'!$B351)","v":0},0,"",""]
[null,null,null,null,null,null,null,null,null,null,null,null,null,null,{"$f":"SUMIFS('Unit Detail'!$H$8:$H$400,'Unit Detail'!$D$8:$D$400,'Building Detail'!$B352,'Unit Detail'!$Y$8:$Y$400,1)","v":0},{"$f":"SUMIFS('Unit Detail'!$H$8:$H$400,'Unit Detail'!$D$8:$D$400,'Building Detail'!$B352,'Unit Detail'!$Y$8:$Y$400,3)","v":0},{"$f":"SUMIFS('Unit Detail'!$H$8:$H$400,'Unit Detail'!$D$8:$D$400,'Building Detail'!$B352,'Unit Detail'!$Y$8:$Y$400,2)","v":0},{"$f":"SUMIF('Unit Detail'!$D$8:$D$400,$B352,'Unit Detail'!$H$8:$H$400)","v":0},0,"",{"$f":"COUNTIFS('Unit Detail'!$Y$8:$Y$400,\"1\",'Unit Detail'!$D$8:$D$400,'Building Detail'!$B352)","v":0},{"$f":"COUNTIFS('Unit Detail'!$Y$8:$Y$400,\"3\",'Unit Detail'!$D$8:$D$400,'Building Detail'!$B352)","v":0},{"$f":"COUNTIFS('Unit Detail'!$Y$8:$Y$400,\"2\",'Unit Detail'!$D$8:$D$400,'Building Detail'!$B352)","v":0},0,"",""]
[null,null,null,null,null,null,null,null,null,null,null,null,null,null,{"$f":"SUMIFS('Unit Detail'!$H$8:$H$400,'Unit Detail'!$D$8:$D$400,'Building Detail'!$B353,'Unit Detail'!$Y$8:$Y$400,1)","v":0},{"$f":"SUMIFS('Unit Detail'!$H$8:$H$400,'Unit Detail'!$D$8:$D$400,'Building Detail'!$B353,'Unit Detail'!$Y$8:$Y$400,3)","v":0},{"$f":"SUMIFS('Unit Detail'!$H$8:$H$400,'Unit Detail'!$D$8:$D$400,'Building Detail'!$B353,'Unit Detail'!$Y$8:$Y$400,2)","v":0},{"$f":"SUMIF('Unit Detail'!$D$8:$D$400,$B353,'Unit Detail'!$H$8:$H$400)","v":0},0,"",{"$f":"COUNTIFS('Unit Detail'!$Y$8:$Y$400,\"1\",'Unit Detail'!$D$8:$D$400,'Building Detail'!$B353)","v":0},{"$f":"COUNTIFS('Unit Detail'!$Y$8:$Y$400,\"3\",'Unit Detail'!$D$8:$D$400,'Building Detail'!$B353)","v":0},{"$f":"COUNTIFS('Unit Detail'!$Y$8:$Y$400,\"2\",'Unit Detail'!$D$8:$D$400,'Building Detail'!$B353)","v":0},0,"",""]
[null,null,null,null,null,null,null,null,null,null,null,null,null,null,{"$f":"SUMIFS('Unit Detail'!$H$8:$H$400,'Unit Detail'!$D$8:$D$400,'Building Detail'!$B354,'Unit Detail'!$Y$8:$Y$400,1)","v":0},{"$f":"SUMIFS('Unit Detail'!$H$8:$H$400,'Unit Detail'!$D$8:$D$400,'Building Detail'!$B354,'Unit Detail'!$Y$8:$Y$400,3)","v":0},{"$f":"SUMIFS('Unit Detail'!$H$8:$H$400,'Unit Detail'!$D$8:$D$400,'Building Detail'!$B354,'Unit Detail'!$Y$8:$Y$400,2)","v":0},{"$f":"SUMIF('Unit Detail'!$D$8:$D$400,$B354,'Unit Detail'!$H$8:$H$400)","v":0},0,"",{"$f":"COUNTIFS('Unit Detail'!$Y$8:$Y$400,\"1\",'Unit Detail'!$D$8:$D$400,'Building Detail'!$B354)","v":0},{"$f":"COUNTIFS('Unit Detail'!$Y$8:$Y$400,\"3\",'Unit Detail'!$D$8:$D$400,'Building Detail'!$B354)","v":0},{"$f":"COUNTIFS('Unit Detail'!$Y$8:$Y$400,\"2\",'Unit Detail'!$D$8:$D$400,'Building Detail'!$B354)","v":0},0,"",""]
[null,null,null,null,null,null,null,null,null,null,null,null,null,null,{"$f":"SUMIFS('Unit Detail'!$H$8:$H$400,'Unit Detail'!$D$8:$D$400,'Building Detail'!$B355,'Unit Detail'!$Y$8:$Y$400,1)","v":0},{"$f":"SUMIFS('Unit Detail'!$H$8:$H$400,'Unit Detail'!$D$8:$D$400,'Building Detail'!$B355,'Unit Detail'!$Y$8:$Y$400,3)","v":0},{"$f":"SUMIFS('Unit Detail'!$H$8:$H$400,'Unit Detail'!$D$8:$D$400,'Building Detail'!$B355,'Unit Detail'!$Y$8:$Y$400,2)","v":0},{"$f":"SUMIF('Unit Detail'!$D$8:$D$400,$B355,'Unit Detail'!$H$8:$H$400)","v":0},0,"",{"$f":"COUNTIFS('Unit Detail'!$Y$8:$Y$400,\"1\",'Unit Detail'!$D$8:$D$400,'Building Detail'!$B355)","v":0},{"$f":"COUNTIFS('Unit Detail'!$Y$8:$Y$400,\"3\",'Unit Detail'!$D$8:$D$400,'Building Detail'!$B355)","v":0},{"$f":"COUNTIFS('Unit Detail'!$Y$8:$Y$400,\"2\",'Unit Detail'!$D$8:$D$400,'Building Detail'!$B355)","v":0},0,"",""]
[null,null,null,null,null,null,null,null,null,null,null,null,null,null,{"$f":"SUMIFS('Unit Detail'!$H$8:$H$400,'Unit Detail'!$D$8:$D$400,'Building Detail'!$B356,'Unit Detail'!$Y$8:$Y$400,1)","v":0},{"$f":"SUMIFS('Unit Detail'!$H$8:$H$400,'Unit Detail'!$D$8:$D$400,'Building Detail'!$B356,'Unit Detail'!$Y$8:$Y$400,3)","v":0},{"$f":"SUMIFS('Unit Detail'!$H$8:$H$400,'Unit Detail'!$D$8:$D$400,'Building Detail'!$B356,'Unit Detail'!$Y$8:$Y$400,2)","v":0},{"$f":"SUMIF('Unit Detail'!$D$8:$D$400,$B356,'Unit Detail'!$H$8:$H$400)","v":0},0,"",{"$f":"COUNTIFS('Unit Detail'!$Y$8:$Y$400,\"1\",'Unit Detail'!$D$8:$D$400,'Building Detail'!$B356)","v":0},{"$f":"COUNTIFS('Unit Detail'!$Y$8:$Y$400,\"3\",'Unit Detail'!$D$8:$D$400,'Building Detail'!$B356)","v":0},{"$f":"COUNTIFS('Unit Detail'!$Y$8:$Y$400,\"2\",'Unit Detail'!$D$8:$D$400,'Building Detail'!$B356)","v":0},0,"",""]
[null,null,null,null,null,null,null,null,null,null,null,null,null,null,{"$f":"SUMIFS('Unit Detail'!$H$8:$H$400,'Unit Detail'!$D$8:$D$400,'Building Detail'!$B357,'Unit Detail'!$Y$8:$Y$400,1)","v":0},{"$f":"SUMIFS('Unit Detail'!$H$8:$H$400,'Unit Detail'!$D$8:$D$400,'Building Detail'!$B357,'Unit Detail'!$Y$8:$Y$400,3)","v":0},{"$f":"SUMIFS('Unit Detail'!$H$8:$H$400,'Unit Detail'!$D$8:$D$400,'Building Detail'!$B357,'Unit Detail'!$Y$8:$Y$400,2)","v":0},{"$f":"SUMIF('Unit Detail'!$D$8:$D$400,$B357,'Unit Detail'!$H$8:$H$400)","v":0},0,"",{"$f":"COUNTIFS('Unit Detail'!$Y$8:$Y$400,\"1\",'Unit Detail'!$D$8:$D$400,'Building Detail'!$B357)","v":0},{"$f":"COUNTIFS('Unit Detail'!$Y$8:$Y$400,\"3\",'Unit Detail'!$D$8:$D$400,'Building Detail'!$B357)","v":0},{"$f":"COUNTIFS('Unit Detail'!$Y$8:$Y$400,\"2\",'Unit Detail'!$D$8:$D$400,'Building Detail'!$B357)","v":0},0,"",""]
[null,null,null,null,null,null,null,null,null,null,null,null,null,null,{"$f":"SUMIFS('Unit Detail'!$H$8:$H$400,'Unit Detail'!$D$8:$D$400,'Building Detail'!$B358,'Unit Detail'!$Y$8:$Y$400,1)","v":0},{"$f":"SUMIFS('Unit Detail'!$H$8:$H$400,'Unit Detail'!$D$8:$D$400,'Building Detail'!$B358,'Unit Detail'!$Y$8:$Y$400,3)","v":0},{"$f":"SUMIFS('Unit Detail'!$H$8:$H$400,'Unit Detail'!$D$8:$D$400,'Building Detail'!$B358,'Unit Detail'!$Y$8:$Y$400,2)","v":0},{"$f":"SUMIF('Unit Detail'!$D$8:$D$400,$B358,'Unit Detail'!$H$8:$H$400)","v":0},0,"",{"$f":"COUNTIFS('Unit Detail'!$Y$8:$Y$400,\"1\",'Unit Detail'!$D$8:$D$400,'Building Detail'!$B358)","v":0},{"$f":"COUNTIFS('Unit Detail'!$Y$8:$Y$400,\"3\",'Unit Detail'!$D$8:$D$400,'Building Detail'!$B358)","v":0},{"$f":"COUNTIFS('Unit Detail'!$Y$8:$Y$400,\"2\",'Unit Detail'!$D$8:$D$400,'Building Detail'!$B358)","v":0},0,"",""]
[null,null,null,null,null,null,null,null,null,null,null,null,null,null,{"$f":"SUMIFS('Unit Detail'!$H$8:$H$400,'Unit Detail'!$D$8:$D$400,'Building Detail'!$B359,'Unit Detail'!$Y$8:$Y$400,1)","v":0},{"$f":"SUMIFS('Unit Detail'!$H$8:$H$400,'Unit Detail'!$D$8:$D$400,'Building Detail'!$B359,'Unit Detail'!$Y$8:$Y$400,3)","v":0},{"$f":"SUMIFS('Unit Detail'!$H$8:$H$400,'Unit Detail'!$D$8:$D$400,'Building Detail'!$B359,'Unit Detail'!$Y$8:$Y$400,2)","v":0},{"$f":"SUMIF('Unit Detail'!$D$8:$D$400,$B359,'Unit Detail'!$H$8:$H$400)","v":0},0,"",{"$f":"COUNTIFS('Unit Detail'!$Y$8:$Y$400,\"1\",'Unit Detail'!$D$8:$D$400,'Building Detail'!$B359)","v":0},{"$f":"COUNTIFS('Unit Detail'!$Y$8:$Y$400,\"3\",'Unit Detail'!$D$8:$D$400,'Building Detail'!$B359)","v":0},{"$f":"COUNTIFS('Unit Detail'!$Y$8:$Y$400,\"2\",'Unit Detail'!$D$8:$D$400,'Building Detail'!$B359)","v":0},0,"",""]
[null,null,null,null,null,null,null,null,null,null,null,null,null,null,{"$f":"SUMIFS('Unit Detail'!$H$8:$H$400,'Unit Detail'!$D$8:$D$400,'Building Detail'!$B360,'Unit Detail'!$Y$8:$Y$400,1)","v":0},{"$f":"SUMIFS('Unit Detail'!$H$8:$H$400,'Unit Detail'!$D$8:$D$400,'Building Detail'!$B360,'Unit Detail'!$Y$8:$Y$400,3)","v":0},{"$f":"SUMIFS('Unit Detail'!$H$8:$H$400,'Unit Detail'!$D$8:$D$400,'Building Detail'!$B360,'Unit Detail'!$Y$8:$Y$400,2)","v":0},{"$f":"SUMIF('Unit Detail'!$D$8:$D$400,$B360,'Unit Detail'!$H$8:$H$400)","v":0},0,"",{"$f":"COUNTIFS('Unit Detail'!$Y$8:$Y$400,\"1\",'Unit Detail'!$D$8:$D$400,'Building Detail'!$B360)","v":0},{"$f":"COUNTIFS('Unit Detail'!$Y$8:$Y$400,\"3\",'Unit Detail'!$D$8:$D$400,'Building Detail'!$B360)","v":0},{"$f":"COUNTIFS('Unit Detail'!$Y$8:$Y$400,\"2\",'Unit Detail'!$D$8:$D$400,'Building Detail'!$B360)","v":0},0,"",""]
[null,null,null,null,null,null,null,null,null,null,null,null,null,null,{"$f":"SUMIFS('Unit Detail'!$H$8:$H$400,'Unit Detail'!$D$8:$D$400,'Building Detail'!$B361,'Unit Detail'!$Y$8:$Y$400,1)","v":0},{"$f":"SUMIFS('Unit Detail'!$H$8:$H$400,'Unit Detail'!$D$8:$D$400,'Building Detail'!$B361,'Unit Detail'!$Y$8:$Y$400,3)","v":0},{"$f":"SUMIFS('Unit Detail'!$H$8:$H$400,'Unit Detail'!$D$8:$D$400,'Building Detail'!$B361,'Unit Detail'!$Y$8:$Y$400,2)","v":0},{"$f":"SUMIF('Unit Detail'!$D$8:$D$400,$B361,'Unit Detail'!$H$8:$H$400)","v":0},0,"",{"$f":"COUNTIFS('Unit Detail'!$Y$8:$Y$400,\"1\",'Unit Detail'!$D$8:$D$400,'Building Detail'!$B361)","v":0},{"$f":"COUNTIFS('Unit Detail'!$Y$8:$Y$400,\"3\",'Unit Detail'!$D$8:$D$400,'Building Detail'!$B361)","v":0},{"$f":"COUNTIFS('Unit Detail'!$Y$8:$Y$400,\"2\",'Unit Detail'!$D$8:$D$400,'Building Detail'!$B361)","v":0},0,"",""]
[null,null,null,null,null,null,null,null,null,null,null,null,null,null,{"$f":"SUMIFS('Unit Detail'!$H$8:$H$400,'Unit Detail'!$D$8:$D$400,'Building Detail'!$B362,'Unit Detail'!$Y$8:$Y$400,1)","v":0},{"$f":"SUMIFS('Unit Detail'!$H$8:$H$400,'Unit Detail'!$D$8:$D$400,'Building Detail'!$B362,'Unit Detail'!$Y$8:$Y$400,3)","v":0},{"$f":"SUMIFS('Unit Detail'!$H$8:$H$400,'Unit Detail'!$D$8:$D$400,'Building Detail'!$B362,'Unit Detail'!$Y$8:$Y$400,2)","v":0},{"$f":"SUMIF('Unit Detail'!$D$8:$D$400,$B362,'Unit Detail'!$H$8:$H$400)","v":0},0,"",{"$f":"COUNTIFS('Unit Detail'!$Y$8:$Y$400,\"1\",'Unit Detail'!$D$8:$D$400,'Building Detail'!$B362)","v":0},{"$f":"COUNTIFS('Unit Detail'!$Y$8:$Y$400,\"3\",'Unit Detail'!$D$8:$D$400,'Building Detail'!$B362)","v":0},{"$f":"COUNTIFS('Unit Detail'!$Y$8:$Y$400,\"2\",'Unit Detail'!$D$8:$D$400,'Building Detail'!$B362)","v":0},0,"",""]
[null,null,null,null,null,null,null,null,null,null,null,null,null,null,{"$f":"SUMIFS('Unit Detail'!$H$8:$H$400,'Unit Detail'!$D$8:$D$400,'Building Detail'!$B363,'Unit Detail'!$Y$8:$Y$400,1)","v":0},{"$f":"SUMIFS('Unit Detail'!$H$8:$H$400,'Unit Detail'!$D$8:$D$400,'Building Detail'!$B363,'Unit Detail'!$Y$8:$Y$400,3)","v":0},{"$f":"SUMIFS('Unit Detail'!$H$8:$H$400,'Unit Detail'!$D$8:$D$400,'Building Detail'!$B363,'Unit Detail'!$Y$8:$Y$400,2)","v":0},{"$f":"SUMIF('Unit Detail'!$D$8:$D$400,$B363,'Unit Detail'!$H$8:$H$400)","v":0},0,"",{"$f":"COUNTIFS('Unit Detail'!$Y$8:$Y$400,\"1\",'Unit Detail'!$D$8:$D$400,'Building Detail'!$B363)","v":0},{"$f":"COUNTIFS('Unit Detail'!$Y$8:$Y$400,\"3\",'Unit Detail'!$D$8:$D$400,'Building Detail'!$B363)","v":0},{"$f":"COUNTIFS('Unit Detail'!$Y$8:$Y$400,\"2\",'Unit Detail'!$D$8:$D$400,'Building Detail'!$B363)","v":0},0,"",""]
[null,null,null,null,null,null,null,null,null,null,null,null,null,null,{"$f":"SUMIFS('Unit Detail'!$H$8:$H$400,'Unit Detail'!$D$8:$D$400,'Building Detail'!$B364,'Unit Detail'!$Y$8:$Y$400,1)","v":0},{"$f":"SUMIFS('Unit Detail'!$H$8:$H$400,'Unit Detail'!$D$8:$D$400,'Building Detail'!$B364,'Unit Detail'!$Y$8:$Y$400,3)","v":0},{"$f":"SUMIFS('Unit Detail'!$H$8:$H$400,'Unit Detail'!$D$8:$D$400,'Building Detail'!$B364,'Unit Detail'!$Y$8:$Y$400,2)","v":0},{"$f":"SUMIF('Unit Detail'!$D$8:$D$400,$B364,'Unit Detail'!$H$8:$H$400)","v":0},0,"",{"$f":"COUNTIFS('Unit Detail'!$Y$8:$Y$400,\"1\",'Unit Detail'!$D$8:$D$400,'Building Detail'!$B364)","v":0},{"$f":"COUNTIFS('Unit Detail'!$Y$8:$Y$400,\"3\",'Unit Detail'!$D$8:$D$400,'Building Detail'!$B364)","v":0},{"$f":"COUNTIFS('Unit Detail'!$Y$8:$Y$400,\"2\",'Unit Detail'!$D$8:$D$400,'Building Detail'!$B364)","v":0},0,"",""]
[null,null,null,null,null,null,null,null,null,null,null,null,null,null,{"$f":"SUMIFS('Unit Detail'!$H$8:$H$400,'Unit Detail'!$D$8:$D$400,'Building Detail'!$B365,'Unit Detail'!$Y$8:$Y$400,1)","v":0},{"$f":"SUMIFS('Unit Detail'!$H$8:$H$400,'Unit Detail'!$D$8:$D$400,'Building Detail'!$B365,'Unit Detail'!$Y$8:$Y$400,3)","v":0},{"$f":"SUMIFS('Unit Detail'!$H$8:$H$400,'Unit Detail'!$D$8:$D$400,'Building Detail'!$B365,'Unit Detail'!$Y$8:$Y$400,2)","v":0},{"$f":"SUMIF('Unit Detail'!$D$8:$D$400,$B365,'Unit Detail'!$H$8:$H$400)","v":0},0,"",{"$f":"COUNTIFS('Unit Detail'!$Y$8:$Y$400,\"1\",'Unit Detail'!$D$8:$D$400,'Building Detail'!$B365)","v":0},{"$f":"COUNTIFS('Unit Detail'!$Y$8:$Y$400,\"3\",'Unit Detail'!$D$8:$D$400,'Building Detail'!$B365)","v":0},{"$f":"COUNTIFS('Unit Detail'!$Y$8:$Y$400,\"2\",'Unit Detail'!$D$8:$D$400,'Building Detail'!$B365)","v":0},0,"",""]
[null,null,null,null,null,null,null,null,null,null,null,null,null,null,{"$f":"SUMIFS('Unit Detail'!$H$8:$H$400,'Unit Detail'!$D$8:$D$400,'Building Detail'!$B366,'Unit Detail'!$Y$8:$Y$400,1)","v":0},{"$f":"SUMIFS('Unit Detail'!$H$8:$H$400,'Unit Detail'!$D$8:$D$400,'Building Detail'!$B366,'Unit Detail'!$Y$8:$Y$400,3)","v":0},{"$f":"SUMIFS('Unit Detail'!$H$8:$H$400,'Unit Detail'!$D$8:$D$400,'Building Detail'!$B366,'Unit Detail'!$Y$8:$Y$400,2)","v":0},{"$f":"SUMIF('Unit Detail'!$D$8:$D$400,$B366,'Unit Detail'!$H$8:$H$400)","v":0},0,"",{"$f":"COUNTIFS('Unit Detail'!$Y$8:$Y$400,\"1\",'Unit Detail'!$D$8:$D$400,'Building Detail'!$B366)","v":0},{"$f":"COUNTIFS('Unit Detail'!$Y$8:$Y$400,\"3\",'Unit Detail'!$D$8:$D$400,'Building Detail'!$B366)","v":0},{"$f":"COUNTIFS('Unit Detail'!$Y$8:$Y$400,\"2\",'Unit Detail'!$D$8:$D$400,'Building Detail'!$B366)","v":0},0,"",""]
[null,null,null,null,null,null,null,null,null,null,null,null,null,null,{"$f":"SUMIFS('Unit Detail'!$H$8:$H$400,'Unit Detail'!$D$8:$D$400,'Building Detail'!$B367,'Unit Detail'!$Y$8:$Y$400,1)","v":0},{"$f":"SUMIFS('Unit Detail'!$H$8:$H$400,'Unit Detail'!$D$8:$D$400,'Building Detail'!$B367,'Unit Detail'!$Y$8:$Y$400,3)","v":0},{"$f":"SUMIFS('Unit Detail'!$H$8:$H$400,'Unit Detail'!$D$8:$D$400,'Building Detail'!$B367,'Unit Detail'!$Y$8:$Y$400,2)","v":0},{"$f":"SUMIF('Unit Detail'!$D$8:$D$400,$B367,'Unit Detail'!$H$8:$H$400)","v":0},0,"",{"$f":"COUNTIFS('Unit Detail'!$Y$8:$Y$400,\"1\",'Unit Detail'!$D$8:$D$400,'Building Detail'!$B367)","v":0},{"$f":"COUNTIFS('Unit Detail'!$Y$8:$Y$400,\"3\",'Unit Detail'!$D$8:$D$400,'Building Detail'!$B367)","v":0},{"$f":"COUNTIFS('Unit Detail'!$Y$8:$Y$400,\"2\",'Unit Detail'!$D$8:$D$400,'Building Detail'!$B367)","v":0},0,"",""]
[null,null,null,null,null,null,null,null,null,null,null,null,null,null,{"$f":"SUMIFS('Unit Detail'!$H$8:$H$400,'Unit Detail'!$D$8:$D$400,'Building Detail'!$B368,'Unit Detail'!$Y$8:$Y$400,1)","v":0},{"$f":"SUMIFS('Unit Detail'!$H$8:$H$400,'Unit Detail'!$D$8:$D$400,'Building Detail'!$B368,'Unit Detail'!$Y$8:$Y$400,3)","v":0},{"$f":"SUMIFS('Unit Detail'!$H$8:$H$400,'Unit Detail'!$D$8:$D$400,'Building Detail'!$B368,'Unit Detail'!$Y$8:$Y$400,2)","v":0},{"$f":"SUMIF('Unit Detail'!$D$8:$D$400,$B368,'Unit Detail'!$H$8:$H$400)","v":0},0,"",{"$f":"COUNTIFS('Unit Detail'!$Y$8:$Y$400,\"1\",'Unit Detail'!$D$8:$D$400,'Building Detail'!$B368)","v":0},{"$f":"COUNTIFS('Unit Detail'!$Y$8:$Y$400,\"3\",'Unit Detail'!$D$8:$D$400,'Building Detail'!$B368)","v":0},{"$f":"COUNTIFS('Unit Detail'!$Y$8:$Y$400,\"2\",'Unit Detail'!$D$8:$D$400,'Building Detail'!$B368)","v":0},0,"",""]
[null,null,null,null,null,null,null,null,null,null,null,null,null,null,{"$f":"SUMIFS('Unit Detail'!$H$8:$H$400,'Unit Detail'!$D$8:$D$400,'Building Detail'!$B369,'Unit Detail'!$Y$8:$Y$400,1)","v":0},{"$f":"SUMIFS('Unit Detail'!$H$8:$H$400,'Unit Detail'!$D$8:$D$400,'Building Detail'!$B369,'Unit Detail'!$Y$8:$Y$400,3)","v":0},{"$f":"SUMIFS('Unit Detail'!$H$8:$H$400,'Unit Detail'!$D$8:$D$400,'Building Detail'!$B369,'Unit Detail'!$Y$8:$Y$400,2)","v":0},{"$f":"SUMIF('Unit Detail'!$D$8:$D$400,$B369,'Unit Detail'!$H$8:$H$400)","v":0},0,"",{"$f":"COUNTIFS('Unit Detail'!$Y$8:$Y$400,\"1\",'Unit Detail'!$D$8:$D$400,'Building Detail'!$B369)","v":0},{"$f":"COUNTIFS('Unit Detail'!$Y$8:$Y$400,\"3\",'Unit Detail'!$D$8:$D$400,'Building Detail'!$B369)","v":0},{"$f":"COUNTIFS('Unit Detail'!$Y$8:$Y$400,\"2\",'Unit Detail'!$D$8:$D$400,'Building Detail'!$B369)","v":0},0,"",""]
[null,null,null,null,null,null,null,null,null,null,null,null,null,null,{"$f":"SUMIFS('Unit Detail'!$H$8:$H$400,'Unit Detail'!$D$8:$D$400,'Building Detail'!$B370,'Unit Detail'!$Y$8:$Y$400,1)","v":0},{"$f":"SUMIFS('Unit Detail'!$H$8:$H$400,'Unit Detail'!$D$8:$D$400,'Building Detail'!$B370,'Unit Detail'!$Y$8:$Y$400,3)","v":0},{"$f":"SUMIFS('Unit Detail'!$H$8:$H$400,'Unit Detail'!$D$8:$D$400,'Building Detail'!$B370,'Unit Detail'!$Y$8:$Y$400,2)","v":0},{"$f":"SUMIF('Unit Detail'!$D$8:$D$400,$B370,'Unit Detail'!$H$8:$H$400)","v":0},0,"",{"$f":"COUNTIFS('Unit Detail'!$Y$8:$Y$400,\"1\",'Unit Detail'!$D$8:$D$400,'Building Detail'!$B370)","v":0},{"$f":"COUNTIFS('Unit Detail'!$Y$8:$Y$400,\"3\",'Unit Detail'!$D$8:$D$400,'Building Detail'!$B370)","v":0},{"$f":"COUNTIFS('Unit Detail'!$Y$8:$Y$400,\"2\",'Unit Detail'!$D$8:$D$400,'Building Detail'!$B370)","v":0},0,"",""]
[null,null,null,null,null,null,null,null,null,null,null,null,null,null,{"$f":"SUMIFS('Unit Detail'!$H$8:$H$400,'Unit Detail'!$D$8:$D$400,'Building Detail'!$B371,'Unit Detail'!$Y$8:$Y$400,1)","v":0},{"$f":"SUMIFS('Unit Detail'!$H$8:$H$400,'Unit Detail'!$D$8:$D$400,'Building Detail'!$B371,'Unit Detail'!$Y$8:$Y$400,3)","v":0},{"$f":"SUMIFS('Unit Detail'!$H$8:$H$400,'Unit Detail'!$D$8:$D$400,'Building Detail'!$B371,'Unit Detail'!$Y$8:$Y$400,2)","v":0},{"$f":"SUMIF('Unit Detail'!$D$8:$D$400,$B371,'Unit Detail'!$H$8:$H$400)","v":0},0,"",{"$f":"COUNTIFS('Unit Detail'!$Y$8:$Y$400,\"1\",'Unit Detail'!$D$8:$D$400,'Building Detail'!$B371)","v":0},{"$f":"COUNTIFS('Unit Detail'!$Y$8:$Y$400,\"3\",'Unit Detail'!$D$8:$D$400,'Building Detail'!$B371)","v":0},{"$f":"COUNTIFS('Unit Detail'!$Y$8:$Y$400,\"2\",'Unit Detail'!$D$8:$D$400,'Building Detail'!$B371)","v":0},0,"",""]
[null,null,null,null,null,null,null,null,null,null,null,null,null,null,{"$f":"SUMIFS('Unit Detail'!$H$8:$H$400,'Unit Detail'!$D$8:$D$400,'Building Detail'!$B372,'Unit Detail'!$Y$8:$Y$400,1)","v":0},{"$f":"SUMIFS('Unit Detail'!$H$8:$H$400,'Unit Detail'!$D$8:$D$400,'Building Detail'!$B372,'Unit Detail'!$Y$8:$Y$400,3)","v":0},{"$f":"SUMIFS('Unit Detail'!$H$8:$H$400,'Unit Detail'!$D$8:$D$400,'Building Detail'!$B372,'Unit Detail'!$Y$8:$Y$400,2)","v":0},{"$f":"SUMIF('Unit Detail'!$D$8:$D$400,$B372,'Unit Detail'!$H$8:$H$400)","v":0},0,"",{"$f":"COUNTIFS('Unit Detail'!$Y$8:$Y$400,\"1\",'Unit Detail'!$D$8:$D$400,'Building Detail'!$B372)","v":0},{"$f":"COUNTIFS('Unit Detail'!$Y$8:$Y$400,\"3\",'Unit Detail'!$D$8:$D$400,'Building Detail'!$B372)","v":0},{"$f":"COUNTIFS('Unit Detail'!$Y$8:$Y$400,\"2\",'Unit Detail'!$D$8:$D$400,'Building Detail'!$B372)","v":0},0,"",""]
[null,null,null,null,null,null,null,null,null,null,null,null,null,null,{"$f":"SUMIFS('Unit Detail'!$H$8:$H$400,'Unit Detail'!$D$8:$D$400,'Building Detail'!$B373,'Unit Detail'!$Y$8:$Y$400,1)","v":0},{"$f":"SUMIFS('Unit Detail'!$H$8:$H$400,'Unit Detail'!$D$8:$D$400,'Building Detail'!$B373,'Unit Detail'!$Y$8:$Y$400,3)","v":0},{"$f":"SUMIFS('Unit Detail'!$H$8:$H$400,'Unit Detail'!$D$8:$D$400,'Building Detail'!$B373,'Unit Detail'!$Y$8:$Y$400,2)","v":0},{"$f":"SUMIF('Unit Detail'!$D$8:$D$400,$B373,'Unit Detail'!$H$8:$H$400)","v":0},0,"",{"$f":"COUNTIFS('Unit Detail'!$Y$8:$Y$400,\"1\",'Unit Detail'!$D$8:$D$400,'Building Detail'!$B373)","v":0},{"$f":"COUNTIFS('Unit Detail'!$Y$8:$Y$400,\"3\",'Unit Detail'!$D$8:$D$400,'Building Detail'!$B373)","v":0},{"$f":"COUNTIFS('Unit Detail'!$Y$8:$Y$400,\"2\",'Unit Detail'!$D$8:$D$400,'Building Detail'!$B373)","v":0},0,"",""]
[null,null,null,null,null,null,null,null,null,null,null,null,null,null,{"$f":"SUMIFS('Unit Detail'!$H$8:$H$400,'Unit Detail'!$D$8:$D$400,'Building Detail'!$B374,'Unit Detail'!$Y$8:$Y$400,1)","v":0},{"$f":"SUMIFS('Unit Detail'!$H$8:$H$400,'Unit Detail'!$D$8:$D$400,'Building Detail'!$B374,'Unit Detail'!$Y$8:$Y$400,3)","v":0},{"$f":"SUMIFS('Unit Detail'!$H$8:$H$400,'Unit Detail'!$D$8:$D$400,'Building Detail'!$B374,'Unit Detail'!$Y$8:$Y$400,2)","v":0},{"$f":"SUMIF('Unit Detail'!$D$8:$D$400,$B374,'Unit Detail'!$H$8:$H$400)","v":0},0,"",{"$f":"COUNTIFS('Unit Detail'!$Y$8:$Y$400,\"1\",'Unit Detail'!$D$8:$D$400,'Building Detail'!$B374)","v":0},{"$f":"COUNTIFS('Unit Detail'!$Y$8:$Y$400,\"3\",'Unit Detail'!$D$8:$D$400,'Building Detail'!$B374)","v":0},{"$f":"COUNTIFS('Unit Detail'!$Y$8:$Y$400,\"2\",'Unit Detail'!$D$8:$D$400,'Building Detail'!$B374)","v":0},0,"",""]
[null,null,null,null,null,null,null,null,null,null,null,null,null,null,{"$f":"SUMIFS('Unit Detail'!$H$8:$H$400,'Unit Detail'!$D$8:$D$400,'Building Detail'!$B375,'Unit Detail'!$Y$8:$Y$400,1)","v":0},{"$f":"SUMIFS('Unit Detail'!$H$8:$H$400,'Unit Detail'!$D$8:$D$400,'Building Detail'!$B375,'Unit Detail'!$Y$8:$Y$400,3)","v":0},{"$f":"SUMIFS('Unit Detail'!$H$8:$H$400,'Unit Detail'!$D$8:$D$400,'Building Detail'!$B375,'Unit Detail'!$Y$8:$Y$400,2)","v":0},{"$f":"SUMIF('Unit Detail'!$D$8:$D$400,$B375,'Unit Detail'!$H$8:$H$400)","v":0},0,"",{"$f":"COUNTIFS('Unit Detail'!$Y$8:$Y$400,\"1\",'Unit Detail'!$D$8:$D$400,'Building Detail'!$B375)","v":0},{"$f":"COUNTIFS('Unit Detail'!$Y$8:$Y$400,\"3\",'Unit Detail'!$D$8:$D$400,'Building Detail'!$B375)","v":0},{"$f":"COUNTIFS('Unit Detail'!$Y$8:$Y$400,\"2\",'Unit Detail'!$D$8:$D$400,'Building Detail'!$B375)","v":0},0,"",""]
[null,null,null,null,null,null,null,null,null,null,null,null,null,null,{"$f":"SUMIFS('Unit Detail'!$H$8:$H$400,'Unit Detail'!$D$8:$D$400,'Building Detail'!$B376,'Unit Detail'!$Y$8:$Y$400,1)","v":0},{"$f":"SUMIFS('Unit Detail'!$H$8:$H$400,'Unit Detail'!$D$8:$D$400,'Building Detail'!$B376,'Unit Detail'!$Y$8:$Y$400,3)","v":0},{"$f":"SUMIFS('Unit Detail'!$H$8:$H$400,'Unit Detail'!$D$8:$D$400,'Building Detail'!$B376,'Unit Detail'!$Y$8:$Y$400,2)","v":0},{"$f":"SUMIF('Unit Detail'!$D$8:$D$400,$B376,'Unit Detail'!$H$8:$H$400)","v":0},0,"",{"$f":"COUNTIFS('Unit Detail'!$Y$8:$Y$400,\"1\",'Unit Detail'!$D$8:$D$400,'Building Detail'!$B376)","v":0},{"$f":"COUNTIFS('Unit Detail'!$Y$8:$Y$400,\"3\",'Unit Detail'!$D$8:$D$400,'Building Detail'!$B376)","v":0},{"$f":"COUNTIFS('Unit Detail'!$Y$8:$Y$400,\"2\",'Unit Detail'!$D$8:$D$400,'Building Detail'!$B376)","v":0},0,"",""]
[null,null,null,null,null,null,null,null,null,null,null,null,null,null,{"$f":"SUMIFS('Unit Detail'!$H$8:$H$400,'Unit Detail'!$D$8:$D$400,'Building Detail'!$B377,'Unit Detail'!$Y$8:$Y$400,1)","v":0},{"$f":"SUMIFS('Unit Detail'!$H$8:$H$400,'Unit Detail'!$D$8:$D$400,'Building Detail'!$B377,'Unit Detail'!$Y$8:$Y$400,3)","v":0},{"$f":"SUMIFS('Unit Detail'!$H$8:$H$400,'Unit Detail'!$D$8:$D$400,'Building Detail'!$B377,'Unit Detail'!$Y$8:$Y$400,2)","v":0},{"$f":"SUMIF('Unit Detail'!$D$8:$D$400,$B377,'Unit Detail'!$H$8:$H$400)","v":0},0,"",{"$f":"COUNTIFS('Unit Detail'!$Y$8:$Y$400,\"1\",'Unit Detail'!$D$8:$D$400,'Building Detail'!$B377)","v":0},{"$f":"COUNTIFS('Unit Detail'!$Y$8:$Y$400,\"3\",'Unit Detail'!$D$8:$D$400,'Building Detail'!$B377)","v":0},{"$f":"COUNTIFS('Unit Detail'!$Y$8:$Y$400,\"2\",'Unit Detail'!$D$8:$D$400,'Building Detail'!$B377)","v":0},0,"",""]
[null,null,null,null,null,null,null,null,null,null,null,null,null,null,{"$f":"SUMIFS('Unit Detail'!$H$8:$H$400,'Unit Detail'!$D$8:$D$400,'Building Detail'!$B378,'Unit Detail'!$Y$8:$Y$400,1)","v":0},{"$f":"SUMIFS('Unit Detail'!$H$8:$H$400,'Unit Detail'!$D$8:$D$400,'Building Detail'!$B378,'Unit Detail'!$Y$8:$Y$400,3)","v":0},{"$f":"SUMIFS('Unit Detail'!$H$8:$H$400,'Unit Detail'!$D$8:$D$400,'Building Detail'!$B378,'Unit Detail'!$Y$8:$Y$400,2)","v":0},{"$f":"SUMIF('Unit Detail'!$D$8:$D$400,$B378,'Unit Detail'!$H$8:$H$400)","v":0},0,"",{"$f":"COUNTIFS('Unit Detail'!$Y$8:$Y$400,\"1\",'Unit Detail'!$D$8:$D$400,'Building Detail'!$B378)","v":0},{"$f":"COUNTIFS('Unit Detail'!$Y$8:$Y$400,\"3\",'Unit Detail'!$D$8:$D$400,'Building Detail'!$B378)","v":0},{"$f":"COUNTIFS('Unit Detail'!$Y$8:$Y$400,\"2\",'Unit Detail'!$D$8:$D$400,'Building Detail'!$B378)","v":0},0,"",""]
[null,null,null,null,null,null,null,null,null,null,null,null,null,null,{"$f":"SUMIFS('Unit Detail'!$H$8:$H$400,'Unit Detail'!$D$8:$D$400,'Building Detail'!$B379,'Unit Detail'!$Y$8:$Y$400,1)","v":0},{"$f":"SUMIFS('Unit Detail'!$H$8:$H$400,'Unit Detail'!$D$8:$D$400,'Building Detail'!$B379,'Unit Detail'!$Y$8:$Y$400,3)","v":0},{"$f":"SUMIFS('Unit Detail'!$H$8:$H$400,'Unit Detail'!$D$8:$D$400,'Building Detail'!$B379,'Unit Detail'!$Y$8:$Y$400,2)","v":0},{"$f":"SUMIF('Unit Detail'!$D$8:$D$400,$B379,'Unit Detail'!$H$8:$H$400)","v":0},0,"",{"$f":"COUNTIFS('Unit Detail'!$Y$8:$Y$400,\"1\",'Unit Detail'!$D$8:$D$400,'Building Detail'!$B379)","v":0},{"$f":"COUNTIFS('Unit Detail'!$Y$8:$Y$400,\"3\",'Unit Detail'!$D$8:$D$400,'Building Detail'!$B379)","v":0},{"$f":"COUNTIFS('Unit Detail'!$Y$8:$Y$400,\"2\",'Unit Detail'!$D$8:$D$400,'Building Detail'!$B379)","v":0},0,"",""]
[null,null,null,null,null,null,null,null,null,null,null,null,null,null,{"$f":"SUMIFS('Unit Detail'!$H$8:$H$400,'Unit Detail'!$D$8:$D$400,'Building Detail'!$B380,'Unit Detail'!$Y$8:$Y$400,1)","v":0},{"$f":"SUMIFS('Unit Detail'!$H$8:$H$400,'Unit Detail'!$D$8:$D$400,'Building Detail'!$B380,'Unit Detail'!$Y$8:$Y$400,3)","v":0},{"$f":"SUMIFS('Unit Detail'!$H$8:$H$400,'Unit Detail'!$D$8:$D$400,'Building Detail'!$B380,'Unit Detail'!$Y$8:$Y$400,2)","v":0},{"$f":"SUMIF('Unit Detail'!$D$8:$D$400,$B380,'Unit Detail'!$H$8:$H$400)","v":0},0,"",{"$f":"COUNTIFS('Unit Detail'!$Y$8:$Y$400,\"1\",'Unit Detail'!$D$8:$D$400,'Building Detail'!$B380)","v":0},{"$f":"COUNTIFS('Unit Detail'!$Y$8:$Y$400,\"3\",'Unit Detail'!$D$8:$D$400,'Building Detail'!$B380)","v":0},{"$f":"COUNTIFS('Unit Detail'!$Y$8:$Y$400,\"2\",'Unit Detail'!$D$8:$D$400,'Building Detail'!$B380)","v":0},0,"",""]
[null,null,null,null,null,null,null,null,null,null,null,null,null,null,{"$f":"SUMIFS('Unit Detail'!$H$8:$H$400,'Unit Detail'!$D$8:$D$400,'Building Detail'!$B381,'Unit Detail'!$Y$8:$Y$400,1)","v":0},{"$f":"SUMIFS('Unit Detail'!$H$8:$H$400,'Unit Detail'!$D$8:$D$400,'Building Detail'!$B381,'Unit Detail'!$Y$8:$Y$400,3)","v":0},{"$f":"SUMIFS('Unit Detail'!$H$8:$H$400,'Unit Detail'!$D$8:$D$400,'Building Detail'!$B381,'Unit Detail'!$Y$8:$Y$400,2)","v":0},{"$f":"SUMIF('Unit Detail'!$D$8:$D$400,$B381,'Unit Detail'!$H$8:$H$400)","v":0},0,"",{"$f":"COUNTIFS('Unit Detail'!$Y$8:$Y$400,\"1\",'Unit Detail'!$D$8:$D$400,'Building Detail'!$B381)","v":0},{"$f":"COUNTIFS('Unit Detail'!$Y$8:$Y$400,\"3\",'Unit Detail'!$D$8:$D$400,'Building Detail'!$B381)","v":0},{"$f":"COUNTIFS('Unit Detail'!$Y$8:$Y$400,\"2\",'Unit Detail'!$D$8:$D$400,'Building Detail'!$B381)","v":0},0,"",""]
[null,null,null,null,null,null,null,null,null,null,null,null,null,null,{"$f":"SUMIFS('Unit Detail'!$H$8:$H$400,'Unit Detail'!$D$8:$D$400,'Building Detail'!$B382,'Unit Detail'!$Y$8:$Y$400,1)","v":0},{"$f":"SUMIFS('Unit Detail'!$H$8:$H$400,'Unit Detail'!$D$8:$D$400,'Building Detail'!$B382,'Unit Detail'!$Y$8:$Y$400,3)","v":0},{"$f":"SUMIFS('Unit Detail'!$H$8:$H$400,'Unit Detail'!$D$8:$D$400,'Building Detail'!$B382,'Unit Detail'!$Y$8:$Y$400,2)","v":0},{"$f":"SUMIF('Unit Detail'!$D$8:$D$400,$B382,'Unit Detail'!$H$8:$H$400)","v":0},0,"",{"$f":"COUNTIFS('Unit Detail'!$Y$8:$Y$400,\"1\",'Unit Detail'!$D$8:$D$400,'Building Detail'!$B382)","v":0},{"$f":"COUNTIFS('Unit Detail'!$Y$8:$Y$400,\"3\",'Unit Detail'!$D$8:$D$400,'Building Detail'!$B382)","v":0},{"$f":"COUNTIFS('Unit Detail'!$Y$8:$Y$400,\"2\",'Unit Detail'!$D$8:$D$400,'Building Detail'!$B382)","v":0},0,"",""]
[null,null,null,null,null,null,null,null,null,null,null,null,null,null,{"$f":"SUMIFS('Unit Detail'!$H$8:$H$400,'Unit Detail'!$D$8:$D$400,'Building Detail'!$B383,'Unit Detail'!$Y$8:$Y$400,1)","v":0},{"$f":"SUMIFS('Unit Detail'!$H$8:$H$400,'Unit Detail'!$D$8:$D$400,'Building Detail'!$B383,'Unit Detail'!$Y$8:$Y$400,3)","v":0},{"$f":"SUMIFS('Unit Detail'!$H$8:$H$400,'Unit Detail'!$D$8:$D$400,'Building Detail'!$B383,'Unit Detail'!$Y$8:$Y$400,2)","v":0},{"$f":"SUMIF('Unit Detail'!$D$8:$D$400,$B383,'Unit Detail'!$H$8:$H$400)","v":0},0,"",{"$f":"COUNTIFS('Unit Detail'!$Y$8:$Y$400,\"1\",'Unit Detail'!$D$8:$D$400,'Building Detail'!$B383)","v":0},{"$f":"COUNTIFS('Unit Detail'!$Y$8:$Y$400,\"3\",'Unit Detail'!$D$8:$D$400,'Building Detail'!$B383)","v":0},{"$f":"COUNTIFS('Unit Detail'!$Y$8:$Y$400,\"2\",'Unit Detail'!$D$8:$D$400,'Building Detail'!$B383)","v":0},0,"",""]
[null,null,null,null,null,null,null,null,null,null,null,null,null,null,{"$f":"SUMIFS('Unit Detail'!$H$8:$H$400,'Unit Detail'!$D$8:$D$400,'Building Detail'!$B384,'Unit Detail'!$Y$8:$Y$400,1)","v":0},{"$f":"SUMIFS('Unit Detail'!$H$8:$H$400,'Unit Detail'!$D$8:$D$400,'Building Detail'!$B384,'Unit Detail'!$Y$8:$Y$400,3)","v":0},{"$f":"SUMIFS('Unit Detail'!$H$8:$H$400,'Unit Detail'!$D$8:$D$400,'Building Detail'!$B384,'Unit Detail'!$Y$8:$Y$400,2)","v":0},{"$f":"SUMIF('Unit Detail'!$D$8:$D$400,$B384,'Unit Detail'!$H$8:$H$400)","v":0},0,"",{"$f":"COUNTIFS('Unit Detail'!$Y$8:$Y$400,\"1\",'Unit Detail'!$D$8:$D$400,'Building Detail'!$B384)","v":0},{"$f":"COUNTIFS('Unit Detail'!$Y$8:$Y$400,\"3\",'Unit Detail'!$D$8:$D$400,'Building Detail'!$B384)","v":0},{"$f":"COUNTIFS('Unit Detail'!$Y$8:$Y$400,\"2\",'Unit Detail'!$D$8:$D$400,'Building Detail'!$B384)","v":0},0,"",""]
[null,null,null,null,null,null,null,null,null,null,null,null,null,null,{"$f":"SUMIFS('Unit Detail'!$H$8:$H$400,'Unit Detail'!$D$8:$D$400,'Building Detail'!$B385,'Unit Detail'!$Y$8:$Y$400,1)","v":0},{"$f":"SUMIFS('Unit Detail'!$H$8:$H$400,'Unit Detail'!$D$8:$D$400,'Building Detail'!$B385,'Unit Detail'!$Y$8:$Y$400,3)","v":0},{"$f":"SUMIFS('Unit Detail'!$H$8:$H$400,'Unit Detail'!$D$8:$D$400,'Building Detail'!$B385,'Unit Detail'!$Y$8:$Y$400,2)","v":0},{"$f":"SUMIF('Unit Detail'!$D$8:$D$400,$B385,'Unit Detail'!$H$8:$H$400)","v":0},0,"",{"$f":"COUNTIFS('Unit Detail'!$Y$8:$Y$400,\"1\",'Unit Detail'!$D$8:$D$400,'Building Detail'!$B385)","v":0},{"$f":"COUNTIFS('Unit Detail'!$Y$8:$Y$400,\"3\",'Unit Detail'!$D$8:$D$400,'Building Detail'!$B385)","v":0},{"$f":"COUNTIFS('Unit Detail'!$Y$8:$Y$400,\"2\",'Unit Detail'!$D$8:$D$400,'Building Detail'!$B385)","v":0},0,"",""]
[null,null,null,null,null,null,null,null,null,null,null,null,null,null,{"$f":"SUMIFS('Unit Detail'!$H$8:$H$400,'Unit Detail'!$D$8:$D$400,'Building Detail'!$B386,'Unit Detail'!$Y$8:$Y$400,1)","v":0},{"$f":"SUMIFS('Unit Detail'!$H$8:$H$400,'Unit Detail'!$D$8:$D$400,'Building Detail'!$B386,'Unit Detail'!$Y$8:$Y$400,3)","v":0},{"$f":"SUMIFS('Unit Detail'!$H$8:$H$400,'Unit Detail'!$D$8:$D$400,'Building Detail'!$B386,'Unit Detail'!$Y$8:$Y$400,2)","v":0},{"$f":"SUMIF('Unit Detail'!$D$8:$D$400,$B386,'Unit Detail'!$H$8:$H$400)","v":0},0,"",{"$f":"COUNTIFS('Unit Detail'!$Y$8:$Y$400,\"1\",'Unit Detail'!$D$8:$D$400,'Building Detail'!$B386)","v":0},{"$f":"COUNTIFS('Unit Detail'!$Y$8:$Y$400,\"3\",'Unit Detail'!$D$8:$D$400,'Building Detail'!$B386)","v":0},{"$f":"COUNTIFS('Unit Detail'!$Y$8:$Y$400,\"2\",'Unit Detail'!$D$8:$D$400,'Building Detail'!$B386)","v":0},0,"",""]
[null,null,null,null,null,null,null,null,null,null,null,null,null,null,{"$f":"SUMIFS('Unit Detail'!$H$8:$H$400,'Unit Detail'!$D$8:$D$400,'Building Detail'!$B387,'Unit Detail'!$Y$8:$Y$400,1)","v":0},{"$f":"SUMIFS('Unit Detail'!$H$8:$H$400,'Unit Detail'!$D$8:$D$400,'Building Detail'!$B387,'Unit Detail'!$Y$8:$Y$400,3)","v":0},{"$f":"SUMIFS('Unit Detail'!$H$8:$H$400,'Unit Detail'!$D$8:$D$400,'Building Detail'!$B387,'Unit Detail'!$Y$8:$Y$400,2)","v":0},{"$f":"SUMIF('Unit Detail'!$D$8:$D$400,$B387,'Unit Detail'!$H$8:$H$400)","v":0},{"$f":"SUM(M387,N387,R387)","v":0},"",{"$f":"COUNTIFS('Unit Detail'!$Y$8:$Y$400,\"1\",'Unit Detail'!$D$8:$D$400,'Building Detail'!$B387)","v":0},{"$f":"COUNTIFS('Unit Detail'!$Y$8:$Y$400,\"3\",'Unit Detail'!$D$8:$D$400,'Building Detail'!$B387)","v":0},{"$f":"COUNTIFS('Unit Detail'!$Y$8:$Y$400,\"2\",'Unit Detail'!$D$8:$D$400,'Building Detail'!$B387)","v":0},{"$f":"SUM(U387:W387)","v":0},"",""]
[null,null,null,null,null,null,null,null,null,null,null,null,null,null,{"$f":"SUMIFS('Unit Detail'!$H$8:$H$400,'Unit Detail'!$D$8:$D$400,'Building Detail'!$B388,'Unit Detail'!$Y$8:$Y$400,1)","v":0},{"$f":"SUMIFS('Unit Detail'!$H$8:$H$400,'Unit Detail'!$D$8:$D$400,'Building Detail'!$B388,'Unit Detail'!$Y$8:$Y$400,3)","v":0},{"$f":"SUMIFS('Unit Detail'!$H$8:$H$400,'Unit Detail'!$D$8:$D$400,'Building Detail'!$B388,'Unit Detail'!$Y$8:$Y$400,2)","v":0},{"$f":"SUMIF('Unit Detail'!$D$8:$D$400,$B388,'Unit Detail'!$H$8:$H$400)","v":0},0,"",{"$f":"COUNTIFS('Unit Detail'!$Y$8:$Y$400,\"1\",'Unit Detail'!$D$8:$D$400,'Building Detail'!$B388)","v":0},{"$f":"COUNTIFS('Unit Detail'!$Y$8:$Y$400,\"3\",'Unit Detail'!$D$8:$D$400,'Building Detail'!$B388)","v":0},{"$f":"COUNTIFS('Unit Detail'!$Y$8:$Y$400,\"2\",'Unit Detail'!$D$8:$D$400,'Building Detail'!$B388)","v":0},0,"",""]
[null,null,null,null,null,null,null,null,null,null,null,null,null,null,{"$f":"SUMIFS('Unit Detail'!$H$8:$H$400,'Unit Detail'!$D$8:$D$400,'Building Detail'!$B389,'Unit Detail'!$Y$8:$Y$400,1)","v":0},{"$f":"SUMIFS('Unit Detail'!$H$8:$H$400,'Unit Detail'!$D$8:$D$400,'Building Detail'!$B389,'Unit Detail'!$Y$8:$Y$400,3)","v":0},{"$f":"SUMIFS('Unit Detail'!$H$8:$H$400,'Unit Detail'!$D$8:$D$400,'Building Detail'!$B389,'Unit Detail'!$Y$8:$Y$400,2)","v":0},{"$f":"SUMIF('Unit Detail'!$D$8:$D$400,$B389,'Unit Detail'!$H$8:$H$400)","v":0},0,"",{"$f":"COUNTIFS('Unit Detail'!$Y$8:$Y$400,\"1\",'Unit Detail'!$D$8:$D$400,'Building Detail'!$B389)","v":0},{"$f":"COUNTIFS('Unit Detail'!$Y$8:$Y$400,\"3\",'Unit Detail'!$D$8:$D$400,'Building Detail'!$B389)","v":0},{"$f":"COUNTIFS('Unit Detail'!$Y$8:$Y$400,\"2\",'Unit Detail'!$D$8:$D$400,'Building Detail'!$B389)","v":0},0,"",""]
[null,null,null,null,null,null,null,null,null,null,null,null,null,null,{"$f":"SUMIFS('Unit Detail'!$H$8:$H$400,'Unit Detail'!$D$8:$D$400,'Building Detail'!$B390,'Unit Detail'!$Y$8:$Y$400,1)","v":0},{"$f":"SUMIFS('Unit Detail'!$H$8:$H$400,'Unit Detail'!$D$8:$D$400,'Building Detail'!$B390,'Unit Detail'!$Y$8:$Y$400,3)","v":0},{"$f":"SUMIFS('Unit Detail'!$H$8:$H$400,'Unit Detail'!$D$8:$D$400,'Building Detail'!$B390,'Unit Detail'!$Y$8:$Y$400,2)","v":0},{"$f":"SUMIF('Unit Detail'!$D$8:$D$400,$B390,'Unit Detail'!$H$8:$H$400)","v":0},0,"",{"$f":"COUNTIFS('Unit Detail'!$Y$8:$Y$400,\"1\",'Unit Detail'!$D$8:$D$400,'Building Detail'!$B390)","v":0},{"$f":"COUNTIFS('Unit Detail'!$Y$8:$Y$400,\"3\",'Unit Detail'!$D$8:$D$400,'Building Detail'!$B390)","v":0},{"$f":"COUNTIFS('Unit Detail'!$Y$8:$Y$400,\"2\",'Unit Detail'!$D$8:$D$400,'Building Detail'!$B390)","v":0},0,"",""]
[null,null,null,null,null,null,null,null,null,null,null,null,null,null,{"$f":"SUMIFS('Unit Detail'!$H$8:$H$400,'Unit Detail'!$D$8:$D$400,'Building Detail'!$B391,'Unit Detail'!$Y$8:$Y$400,1)","v":0},{"$f":"SUMIFS('Unit Detail'!$H$8:$H$400,'Unit Detail'!$D$8:$D$400,'Building Detail'!$B391,'Unit Detail'!$Y$8:$Y$400,3)","v":0},{"$f":"SUMIFS('Unit Detail'!$H$8:$H$400,'Unit Detail'!$D$8:$D$400,'Building Detail'!$B391,'Unit Detail'!$Y$8:$Y$400,2)","v":0},{"$f":"SUMIF('Unit Detail'!$D$8:$D$400,$B391,'Unit Detail'!$H$8:$H$400)","v":0},0,"",{"$f":"COUNTIFS('Unit Detail'!$Y$8:$Y$400,\"1\",'Unit Detail'!$D$8:$D$400,'Building Detail'!$B391)","v":0},{"$f":"COUNTIFS('Unit Detail'!$Y$8:$Y$400,\"3\",'Unit Detail'!$D$8:$D$400,'Building Detail'!$B391)","v":0},{"$f":"COUNTIFS('Unit Detail'!$Y$8:$Y$400,\"2\",'Unit Detail'!$D$8:$D$400,'Building Detail'!$B391)","v":0},0,"",""]
[null,null,null,null,null,null,null,null,null,null,null,null,null,null,{"$f":"SUMIFS('Unit Detail'!$H$8:$H$400,'Unit Detail'!$D$8:$D$400,'Building Detail'!$B392,'Unit Detail'!$Y$8:$Y$400,1)","v":0},{"$f":"SUMIFS('Unit Detail'!$H$8:$H$400,'Unit Detail'!$D$8:$D$400,'Building Detail'!$B392,'Unit Detail'!$Y$8:$Y$400,3)","v":0},{"$f":"SUMIFS('Unit Detail'!$H$8:$H$400,'Unit Detail'!$D$8:$D$400,'Building Detail'!$B392,'Unit Detail'!$Y$8:$Y$400,2)","v":0},{"$f":"SUMIF('Unit Detail'!$D$8:$D$400,$B392,'Unit Detail'!$H$8:$H$400)","v":0},0,"",{"$f":"COUNTIFS('Unit Detail'!$Y$8:$Y$400,\"1\",'Unit Detail'!$D$8:$D$400,'Building Detail'!$B392)","v":0},{"$f":"COUNTIFS('Unit Detail'!$Y$8:$Y$400,\"3\",'Unit Detail'!$D$8:$D$400,'Building Detail'!$B392)","v":0},{"$f":"COUNTIFS('Unit Detail'!$Y$8:$Y$400,\"2\",'Unit Detail'!$D$8:$D$400,'Building Detail'!$B392)","v":0},0,"",""]
[null,null,null,null,null,null,null,null,null,null,null,null,null,null,{"$f":"SUMIFS('Unit Detail'!$H$8:$H$400,'Unit Detail'!$D$8:$D$400,'Building Detail'!$B393,'Unit Detail'!$Y$8:$Y$400,1)","v":0},{"$f":"SUMIFS('Unit Detail'!$H$8:$H$400,'Unit Detail'!$D$8:$D$400,'Building Detail'!$B393,'Unit Detail'!$Y$8:$Y$400,3)","v":0},{"$f":"SUMIFS('Unit Detail'!$H$8:$H$400,'Unit Detail'!$D$8:$D$400,'Building Detail'!$B393,'Unit Detail'!$Y$8:$Y$400,2)","v":0},{"$f":"SUMIF('Unit Detail'!$D$8:$D$400,$B393,'Unit Detail'!$H$8:$H$400)","v":0},0,"",{"$f":"COUNTIFS('Unit Detail'!$Y$8:$Y$400,\"1\",'Unit Detail'!$D$8:$D$400,'Building Detail'!$B393)","v":0},{"$f":"COUNTIFS('Unit Detail'!$Y$8:$Y$400,\"3\",'Unit Detail'!$D$8:$D$400,'Building Detail'!$B393)","v":0},{"$f":"COUNTIFS('Unit Detail'!$Y$8:$Y$400,\"2\",'Unit Detail'!$D$8:$D$400,'Building Detail'!$B393)","v":0},0,"",""]
[null,null,null,null,null,null,null,null,null,null,null,null,null,null,{"$f":"SUMIFS('Unit Detail'!$H$8:$H$400,'Unit Detail'!$D$8:$D$400,'Building Detail'!$B394,'Unit Detail'!$Y$8:$Y$400,1)","v":0},{"$f":"SUMIFS('Unit Detail'!$H$8:$H$400,'Unit Detail'!$D$8:$D$400,'Building Detail'!$B394,'Unit Detail'!$Y$8:$Y$400,3)","v":0},{"$f":"SUMIFS('Unit Detail'!$H$8:$H$400,'Unit Detail'!$D$8:$D$400,'Building Detail'!$B394,'Unit Detail'!$Y$8:$Y$400,2)","v":0},{"$f":"SUMIF('Unit Detail'!$D$8:$D$400,$B394,'Unit Detail'!$H$8:$H$400)","v":0},0,"",{"$f":"COUNTIFS('Unit Detail'!$Y$8:$Y$400,\"1\",'Unit Detail'!$D$8:$D$400,'Building Detail'!$B394)","v":0},{"$f":"COUNTIFS('Unit Detail'!$Y$8:$Y$400,\"3\",'Unit Detail'!$D$8:$D$400,'Building Detail'!$B394)","v":0},{"$f":"COUNTIFS('Unit Detail'!$Y$8:$Y$400,\"2\",'Unit Detail'!$D$8:$D$400,'Building Detail'!$B394)","v":0},0,"",""]
[null,null,null,null,null,null,null,null,null,null,null,null,null,null,{"$f":"SUMIFS('Unit Detail'!$H$8:$H$400,'Unit Detail'!$D$8:$D$400,'Building Detail'!$B395,'Unit Detail'!$Y$8:$Y$400,1)","v":0},{"$f":"SUMIFS('Unit Detail'!$H$8:$H$400,'Unit Detail'!$D$8:$D$400,'Building Detail'!$B395,'Unit Detail'!$Y$8:$Y$400,3)","v":0},{"$f":"SUMIFS('Unit Detail'!$H$8:$H$400,'Unit Detail'!$D$8:$D$400,'Building Detail'!$B395,'Unit Detail'!$Y$8:$Y$400,2)","v":0},{"$f":"SUMIF('Unit Detail'!$D$8:$D$400,$B395,'Unit Detail'!$H$8:$H$400)","v":0},0,"",{"$f":"COUNTIFS('Unit Detail'!$Y$8:$Y$400,\"1\",'Unit Detail'!$D$8:$D$400,'Building Detail'!$B395)","v":0},{"$f":"COUNTIFS('Unit Detail'!$Y$8:$Y$400,\"3\",'Unit Detail'!$D$8:$D$400,'Building Detail'!$B395)","v":0},{"$f":"COUNTIFS('Unit Detail'!$Y$8:$Y$400,\"2\",'Unit Detail'!$D$8:$D$400,'Building Detail'!$B395)","v":0},0,"",""]
[null,null,null,null,null,null,null,null,null,null,null,null,null,null,{"$f":"SUMIFS('Unit Detail'!$H$8:$H$400,'Unit Detail'!$D$8:$D$400,'Building Detail'!$B396,'Unit Detail'!$Y$8:$Y$400,1)","v":0},{"$f":"SUMIFS('Unit Detail'!$H$8:$H$400,'Unit Detail'!$D$8:$D$400,'Building Detail'!$B396,'Unit Detail'!$Y$8:$Y$400,3)","v":0},{"$f":"SUMIFS('Unit Detail'!$H$8:$H$400,'Unit Detail'!$D$8:$D$400,'Building Detail'!$B396,'Unit Detail'!$Y$8:$Y$400,2)","v":0},{"$f":"SUMIF('Unit Detail'!$D$8:$D$400,$B396,'Unit Detail'!$H$8:$H$400)","v":0},0,"",{"$f":"COUNTIFS('Unit Detail'!$Y$8:$Y$400,\"1\",'Unit Detail'!$D$8:$D$400,'Building Detail'!$B396)","v":0},{"$f":"COUNTIFS('Unit Detail'!$Y$8:$Y$400,\"3\",'Unit Detail'!$D$8:$D$400,'Building Detail'!$B396)","v":0},{"$f":"COUNTIFS('Unit Detail'!$Y$8:$Y$400,\"2\",'Unit Detail'!$D$8:$D$400,'Building Detail'!$B396)","v":0},0,"",""]
[null,null,null,null,null,null,null,null,null,null,null,null,null,null,{"$f":"SUMIFS('Unit Detail'!$H$8:$H$400,'Unit Detail'!$D$8:$D$400,'Building Detail'!$B397,'Unit Detail'!$Y$8:$Y$400,1)","v":0},{"$f":"SUMIFS('Unit Detail'!$H$8:$H$400,'Unit Detail'!$D$8:$D$400,'Building Detail'!$B397,'Unit Detail'!$Y$8:$Y$400,3)","v":0},{"$f":"SUMIFS('Unit Detail'!$H$8:$H$400,'Unit Detail'!$D$8:$D$400,'Building Detail'!$B397,'Unit Detail'!$Y$8:$Y$400,2)","v":0},{"$f":"SUMIF('Unit Detail'!$D$8:$D$400,$B397,'Unit Detail'!$H$8:$H$400)","v":0},0,"",{"$f":"COUNTIFS('Unit Detail'!$Y$8:$Y$400,\"1\",'Unit Detail'!$D$8:$D$400,'Building Detail'!$B397)","v":0},{"$f":"COUNTIFS('Unit Detail'!$Y$8:$Y$400,\"3\",'Unit Detail'!$D$8:$D$400,'Building Detail'!$B397)","v":0},{"$f":"COUNTIFS('Unit Detail'!$Y$8:$Y$400,\"2\",'Unit Detail'!$D$8:$D$400,'Building Detail'!$B397)","v":0},0,"",""]
[null,null,null,null,null,null,null,null,null,null,null,null,null,null,{"$f":"SUMIFS('Unit Detail'!$H$8:$H$400,'Unit Detail'!$D$8:$D$400,'Building Detail'!$B398,'Unit Detail'!$Y$8:$Y$400,1)","v":0},{"$f":"SUMIFS('Unit Detail'!$H$8:$H$400,'Unit Detail'!$D$8:$D$400,'Building Detail'!$B398,'Unit Detail'!$Y$8:$Y$400,3)","v":0},{"$f":"SUMIFS('Unit Detail'!$H$8:$H$400,'Unit Detail'!$D$8:$D$400,'Building Detail'!$B398,'Unit Detail'!$Y$8:$Y$400,2)","v":0},{"$f":"SUMIF('Unit Detail'!$D$8:$D$400,$B398,'Unit Detail'!$H$8:$H$400)","v":0},0,"",{"$f":"COUNTIFS('Unit Detail'!$Y$8:$Y$400,\"1\",'Unit Detail'!$D$8:$D$400,'Building Detail'!$B398)","v":0},{"$f":"COUNTIFS('Unit Detail'!$Y$8:$Y$400,\"3\",'Unit Detail'!$D$8:$D$400,'Building Detail'!$B398)","v":0},{"$f":"COUNTIFS('Unit Detail'!$Y$8:$Y$400,\"2\",'Unit Detail'!$D$8:$D$400,'Building Detail'!$B398)","v":0},0,"",""]
[null,null,null,null,null,null,null,null,null,null,null,null,null,null,{"$f":"SUMIFS('Unit Detail'!$H$8:$H$400,'Unit Detail'!$D$8:$D$400,'Building Detail'!$B399,'Unit Detail'!$Y$8:$Y$400,1)","v":0},{"$f":"SUMIFS('Unit Detail'!$H$8:$H$400,'Unit Detail'!$D$8:$D$400,'Building Detail'!$B399,'Unit Detail'!$Y$8:$Y$400,3)","v":0},{"$f":"SUMIFS('Unit Detail'!$H$8:$H$400,'Unit Detail'!$D$8:$D$400,'Building Detail'!$B399,'Unit Detail'!$Y$8:$Y$400,2)","v":0},{"$f":"SUMIF('Unit Detail'!$D$8:$D$400,$B399,'Unit Detail'!$H$8:$H$400)","v":0},0,"",{"$f":"COUNTIFS('Unit Detail'!$Y$8:$Y$400,\"1\",'Unit Detail'!$D$8:$D$400,'Building Detail'!$B399)","v":0},{"$f":"COUNTIFS('Unit Detail'!$Y$8:$Y$400,\"3\",'Unit Detail'!$D$8:$D$400,'Building Detail'!$B399)","v":0},{"$f":"COUNTIFS('Unit Detail'!$Y$8:$Y$400,\"2\",'Unit Detail'!$D$8:$D$400,'Building Detail'!$B399)","v":0},0,"",""]
[null,null,null,null,null,null,null,null,null,null,null,null,null,null,{"$f":"SUMIFS('Unit Detail'!$H$8:$H$400,'Unit Detail'!$D$8:$D$400,'Building Detail'!$B400,'Unit Detail'!$Y$8:$Y$400,1)","v":0},{"$f":"SUMIFS('Unit Detail'!$H$8:$H$400,'Unit Detail'!$D$8:$D$400,'Building Detail'!$B400,'Unit Detail'!$Y$8:$Y$400,3)","v":0},{"$f":"SUMIFS('Unit Detail'!$H$8:$H$400,'Unit Detail'!$D$8:$D$400,'Building Detail'!$B400,'Unit Detail'!$Y$8:$Y$400,2)","v":0},{"$f":"SUMIF('Unit Detail'!$D$8:$D$400,$B400,'Unit Detail'!$H$8:$H$400)","v":0},0,"",{"$f":"COUNTIFS('Unit Detail'!$Y$8:$Y$400,\"1\",'Unit Detail'!$D$8:$D$400,'Building Detail'!$B400)","v":0},{"$f":"COUNTIFS('Unit Detail'!$Y$8:$Y$400,\"3\",'Unit Detail'!$D$8:$D$400,'Building Detail'!$B400)","v":0},{"$f":"COUNTIFS('Unit Detail'!$Y$8:$Y$400,\"2\",'Unit Detail'!$D$8:$D$400,'Building Detail'!$B400)","v":0},0,"",""]
[null,null,null,null,null,null,null,null,null,null,null,null,null,null,{"$f":"SUMIFS('Unit Detail'!$H$8:$H$400,'Unit Detail'!$D$8:$D$400,'Building Detail'!$B401,'Unit Detail'!$Y$8:$Y$400,1)","v":0},{"$f":"SUMIFS('Unit Detail'!$H$8:$H$400,'Unit Detail'!$D$8:$D$400,'Building Detail'!$B401,'Unit Detail'!$Y$8:$Y$400,3)","v":0},{"$f":"SUMIFS('Unit Detail'!$H$8:$H$400,'Unit Detail'!$D$8:$D$400,'Building Detail'!$B401,'Unit Detail'!$Y$8:$Y$400,2)","v":0},{"$f":"SUMIF('Unit Detail'!$D$8:$D$400,$B401,'Unit Detail'!$H$8:$H$400)","v":0},0,"",{"$f":"COUNTIFS('Unit Detail'!$Y$8:$Y$400,\"1\",'Unit Detail'!$D$8:$D$400,'Building Detail'!$B401)","v":0},{"$f":"COUNTIFS('Unit Detail'!$Y$8:$Y$400,\"3\",'Unit Detail'!$D$8:$D$400,'Building Detail'!$B401)","v":0},{"$f":"COUNTIFS('Unit Detail'!$Y$8:$Y$400,\"2\",'Unit Detail'!$D$8:$D$400,'Building Detail'!$B401)","v":0},0,"",""]
[null,null,null,null,null,null,null,null,null,null,null,null,null,null,{"$f":"SUMIFS('Unit Detail'!$H$8:$H$400,'Unit Detail'!$D$8:$D$400,'Building Detail'!$B402,'Unit Detail'!$Y$8:$Y$400,1)","v":0},{"$f":"SUMIFS('Unit Detail'!$H$8:$H$400,'Unit Detail'!$D$8:$D$400,'Building Detail'!$B402,'Unit Detail'!$Y$8:$Y$400,3)","v":0},{"$f":"SUMIFS('Unit Detail'!$H$8:$H$400,'Unit Detail'!$D$8:$D$400,'Building Detail'!$B402,'Unit Detail'!$Y$8:$Y$400,2)","v":0},{"$f":"SUMIF('Unit Detail'!$D$8:$D$400,$B402,'Unit Detail'!$H$8:$H$400)","v":0},0,"",{"$f":"COUNTIFS('Unit Detail'!$Y$8:$Y$400,\"1\",'Unit Detail'!$D$8:$D$400,'Building Detail'!$B402)","v":0},{"$f":"COUNTIFS('Unit Detail'!$Y$8:$Y$400,\"3\",'Unit Detail'!$D$8:$D$400,'Building Detail'!$B402)","v":0},{"$f":"COUNTIFS('Unit Detail'!$Y$8:$Y$400,\"2\",'Unit Detail'!$D$8:$D$400,'Building Detail'!$B402)","v":0},0,"",{"$f":"IF(Y402<T402,Y402,T402)","v":""}]
[null,null,null,null,null,null,null,null,null,null,null,null,null,null,{"$f":"SUMIFS('Unit Detail'!$H$8:$H$400,'Unit Detail'!$D$8:$D$400,'Building Detail'!$B403,'Unit Detail'!$Y$8:$Y$400,1)","v":0},{"$f":"SUMIFS('Unit Detail'!$H$8:$H$400,'Unit Detail'!$D$8:$D$400,'Building Detail'!$B403,'Unit Detail'!$Y$8:$Y$400,3)","v":0},{"$f":"SUMIFS('Unit Detail'!$H$8:$H$400,'Unit Detail'!$D$8:$D$400,'Building Detail'!$B403,'Unit Detail'!$Y$8:$Y$400,2)","v":0},{"$f":"SUMIF('Unit Detail'!$D$8:$D$400,$B403,'Unit Detail'!$H$8:$H$400)","v":0},0,"",{"$f":"COUNTIFS('Unit Detail'!$Y$8:$Y$400,\"1\",'Unit Detail'!$D$8:$D$400,'Building Detail'!$B403)","v":0},{"$f":"COUNTIFS('Unit Detail'!$Y$8:$Y$400,\"3\",'Unit Detail'!$D$8:$D$400,'Building Detail'!$B403)","v":0},{"$f":"COUNTIFS('Unit Detail'!$Y$8:$Y$400,\"2\",'Unit Detail'!$D$8:$D$400,'Building Detail'!$B403)","v":0},0,{"$f":"IF(B403=\"\",\"\",IF($P$15=0,1,U403/X403))","v":""},""]
[null,null,null,null,null,null,null,null,null,null,null,null,null,null,{"$f":"SUMIFS('Unit Detail'!$H$8:$H$400,'Unit Detail'!$D$8:$D$400,'Building Detail'!$B404,'Unit Detail'!$Y$8:$Y$400,1)","v":0},{"$f":"SUMIFS('Unit Detail'!$H$8:$H$400,'Unit Detail'!$D$8:$D$400,'Building Detail'!$B404,'Unit Detail'!$Y$8:$Y$400,3)","v":0},{"$f":"SUMIFS('Unit Detail'!$H$8:$H$400,'Unit Detail'!$D$8:$D$400,'Building Detail'!$B404,'Unit Detail'!$Y$8:$Y$400,2)","v":0},{"$f":"SUMIF('Unit Detail'!$D$8:$D$400,$B404,'Unit Detail'!$H$8:$H$400)","v":0},0,"",{"$f":"COUNTIFS('Unit Detail'!$Y$8:$Y$400,\"1\",'Unit Detail'!$D$8:$D$400,'Building Detail'!$B404)","v":0},{"$f":"COUNTIFS('Unit Detail'!$Y$8:$Y$400,\"3\",'Unit Detail'!$D$8:$D$400,'Building Detail'!$B404)","v":0},{"$f":"COUNTIFS('Unit Detail'!$Y$8:$Y$400,\"2\",'Unit Detail'!$D$8:$D$400,'Building Detail'!$B404)","v":0},0,"",""]
[null,null,null,null,null,null,null,null,null,null,null,null,null,null,{"$f":"SUMIFS('Unit Detail'!$H$8:$H$400,'Unit Detail'!$D$8:$D$400,'Building Detail'!$B405,'Unit Detail'!$Y$8:$Y$400,1)","v":0},{"$f":"SUMIFS('Unit Detail'!$H$8:$H$400,'Unit Detail'!$D$8:$D$400,'Building Detail'!$B405,'Unit Detail'!$Y$8:$Y$400,3)","v":0},{"$f":"SUMIFS('Unit Detail'!$H$8:$H$400,'Unit Detail'!$D$8:$D$400,'Building Detail'!$B405,'Unit Detail'!$Y$8:$Y$400,2)","v":0},{"$f":"SUMIF('Unit Detail'!$D$8:$D$400,$B405,'Unit Detail'!$H$8:$H$400)","v":0},0,{"$f":"IF(B405=\"\",\"\",IF($P$15=0,1,O405/R405))","v":""},{"$f":"COUNTIFS('Unit Detail'!$Y$8:$Y$400,\"1\",'Unit Detail'!$D$8:$D$400,'Building Detail'!$B405)","v":0},{"$f":"COUNTIFS('Unit Detail'!$Y$8:$Y$400,\"3\",'Unit Detail'!$D$8:$D$400,'Building Detail'!$B405)","v":0},{"$f":"COUNTIFS('Unit Detail'!$Y$8:$Y$400,\"2\",'Unit Detail'!$D$8:$D$400,'Building Detail'!$B405)","v":0},0,"",""]
[null,null,null,null,null,null,null,null,null,null,null,null,null,null,{"$f":"SUMIFS('Unit Detail'!$H$8:$H$400,'Unit Detail'!$D$8:$D$400,'Building Detail'!$B406,'Unit Detail'!$Y$8:$Y$400,1)","v":0},{"$f":"SUMIFS('Unit Detail'!$H$8:$H$400,'Unit Detail'!$D$8:$D$400,'Building Detail'!$B406,'Unit Detail'!$Y$8:$Y$400,3)","v":0},{"$f":"SUMIFS('Unit Detail'!$H$8:$H$400,'Unit Detail'!$D$8:$D$400,'Building Detail'!$B406,'Unit Detail'!$Y$8:$Y$400,2)","v":0},{"$f":"SUMIF('Unit Detail'!$D$8:$D$400,$B406,'Unit Detail'!$H$8:$H$400)","v":0},0,"",{"$f":"COUNTIFS('Unit Detail'!$Y$8:$Y$400,\"1\",'Unit Detail'!$D$8:$D$400,'Building Detail'!$B406)","v":0},{"$f":"COUNTIFS('Unit Detail'!$Y$8:$Y$400,\"3\",'Unit Detail'!$D$8:$D$400,'Building Detail'!$B406)","v":0},{"$f":"COUNTIFS('Unit Detail'!$Y$8:$Y$400,\"2\",'Unit Detail'!$D$8:$D$400,'Building Detail'!$B406)","v":0},0,"",""]
[null,null,null,null,null,null,null,null,null,null,null,null,null,null,{"$f":"SUMIFS('Unit Detail'!$H$8:$H$400,'Unit Detail'!$D$8:$D$400,'Building Detail'!$B407,'Unit Detail'!$Y$8:$Y$400,1)","v":0},{"$f":"SUMIFS('Unit Detail'!$H$8:$H$400,'Unit Detail'!$D$8:$D$400,'Building Detail'!$B407,'Unit Detail'!$Y$8:$Y$400,3)","v":0},{"$f":"SUMIFS('Unit Detail'!$H$8:$H$400,'Unit Detail'!$D$8:$D$400,'Building Detail'!$B407,'Unit Detail'!$Y$8:$Y$400,2)","v":0},{"$f":"SUMIF('Unit Detail'!$D$8:$D$400,$B407,'Unit Detail'!$H$8:$H$400)","v":0},0,"",{"$f":"COUNTIFS('Unit Detail'!$Y$8:$Y$400,\"1\",'Unit Detail'!$D$8:$D$400,'Building Detail'!$B407)","v":0},{"$f":"COUNTIFS('Unit Detail'!$Y$8:$Y$400,\"3\",'Unit Detail'!$D$8:$D$400,'Building Detail'!$B407)","v":0},{"$f":"COUNTIFS('Unit Detail'!$Y$8:$Y$400,\"2\",'Unit Detail'!$D$8:$D$400,'Building Detail'!$B407)","v":0},0,"",""]
[null,null,null,null,null,null,null,null,null,null,null,null,null,null,{"$f":"SUMIFS('Unit Detail'!$H$8:$H$400,'Unit Detail'!$D$8:$D$400,'Building Detail'!$B408,'Unit Detail'!$Y$8:$Y$400,1)","v":0},{"$f":"SUMIFS('Unit Detail'!$H$8:$H$400,'Unit Detail'!$D$8:$D$400,'Building Detail'!$B408,'Unit Detail'!$Y$8:$Y$400,3)","v":0},{"$f":"SUMIFS('Unit Detail'!$H$8:$H$400,'Unit Detail'!$D$8:$D$400,'Building Detail'!$B408,'Unit Detail'!$Y$8:$Y$400,2)","v":0},{"$f":"SUMIF('Unit Detail'!$D$8:$D$400,$B408,'Unit Detail'!$H$8:$H$400)","v":0},0,"",{"$f":"COUNTIFS('Unit Detail'!$Y$8:$Y$400,\"1\",'Unit Detail'!$D$8:$D$400,'Building Detail'!$B408)","v":0},{"$f":"COUNTIFS('Unit Detail'!$Y$8:$Y$400,\"3\",'Unit Detail'!$D$8:$D$400,'Building Detail'!$B408)","v":0},{"$f":"COUNTIFS('Unit Detail'!$Y$8:$Y$400,\"2\",'Unit Detail'!$D$8:$D$400,'Building Detail'!$B408)","v":0},0,"",""]
[null,null,null,null,null,null,null,null,null,null,null,null,null,null,{"$f":"SUMIFS('Unit Detail'!$H$8:$H$400,'Unit Detail'!$D$8:$D$400,'Building Detail'!$B409,'Unit Detail'!$Y$8:$Y$400,1)","v":0},{"$f":"SUMIFS('Unit Detail'!$H$8:$H$400,'Unit Detail'!$D$8:$D$400,'Building Detail'!$B409,'Unit Detail'!$Y$8:$Y$400,3)","v":0},{"$f":"SUMIFS('Unit Detail'!$H$8:$H$400,'Unit Detail'!$D$8:$D$400,'Building Detail'!$B409,'Unit Detail'!$Y$8:$Y$400,2)","v":0},{"$f":"SUMIF('Unit Detail'!$D$8:$D$400,$B409,'Unit Detail'!$H$8:$H$400)","v":0},0,"",{"$f":"COUNTIFS('Unit Detail'!$Y$8:$Y$400,\"1\",'Unit Detail'!$D$8:$D$400,'Building Detail'!$B409)","v":0},{"$f":"COUNTIFS('Unit Detail'!$Y$8:$Y$400,\"3\",'Unit Detail'!$D$8:$D$400,'Building Detail'!$B409)","v":0},{"$f":"COUNTIFS('Unit Detail'!$Y$8:$Y$400,\"2\",'Unit Detail'!$D$8:$D$400,'Building Detail'!$B409)","v":0},0,"",""]
[null,null,null,null,null,null,null,null,null,null,null,null,null,null,{"$f":"SUMIFS('Unit Detail'!$H$8:$H$400,'Unit Detail'!$D$8:$D$400,'Building Detail'!$B410,'Unit Detail'!$Y$8:$Y$400,1)","v":0},{"$f":"SUMIFS('Unit Detail'!$H$8:$H$400,'Unit Detail'!$D$8:$D$400,'Building Detail'!$B410,'Unit Detail'!$Y$8:$Y$400,3)","v":0},{"$f":"SUMIFS('Unit Detail'!$H$8:$H$400,'Unit Detail'!$D$8:$D$400,'Building Detail'!$B410,'Unit Detail'!$Y$8:$Y$400,2)","v":0},{"$f":"SUMIF('Unit Detail'!$D$8:$D$400,$B410,'Unit Detail'!$H$8:$H$400)","v":0},0,"",{"$f":"COUNTIFS('Unit Detail'!$Y$8:$Y$400,\"1\",'Unit Detail'!$D$8:$D$400,'Building Detail'!$B410)","v":0},{"$f":"COUNTIFS('Unit Detail'!$Y$8:$Y$400,\"3\",'Unit Detail'!$D$8:$D$400,'Building Detail'!$B410)","v":0},{"$f":"COUNTIFS('Unit Detail'!$Y$8:$Y$400,\"2\",'Unit Detail'!$D$8:$D$400,'Building Detail'!$B410)","v":0},0,"",""]
[null,null,null,null,null,null,null,null,null,null,null,null,null,null,{"$f":"SUMIFS('Unit Detail'!$H$8:$H$400,'Unit Detail'!$D$8:$D$400,'Building Detail'!$B411,'Unit Detail'!$Y$8:$Y$400,1)","v":0},{"$f":"SUMIFS('Unit Detail'!$H$8:$H$400,'Unit Detail'!$D$8:$D$400,'Building Detail'!$B411,'Unit Detail'!$Y$8:$Y$400,3)","v":0},{"$f":"SUMIFS('Unit Detail'!$H$8:$H$400,'Unit Detail'!$D$8:$D$400,'Building Detail'!$B411,'Unit Detail'!$Y$8:$Y$400,2)","v":0},{"$f":"SUMIF('Unit Detail'!$D$8:$D$400,$B411,'Unit Detail'!$H$8:$H$400)","v":0},0,"",{"$f":"COUNTIFS('Unit Detail'!$Y$8:$Y$400,\"1\",'Unit Detail'!$D$8:$D$400,'Building Detail'!$B411)","v":0},{"$f":"COUNTIFS('Unit Detail'!$Y$8:$Y$400,\"3\",'Unit Detail'!$D$8:$D$400,'Building Detail'!$B411)","v":0},{"$f":"COUNTIFS('Unit Detail'!$Y$8:$Y$400,\"2\",'Unit Detail'!$D$8:$D$400,'Building Detail'!$B411)","v":0},0,"",""]
[null,null,null,null,null,null,null,null,null,null,null,null,null,null,{"$f":"SUMIFS('Unit Detail'!$H$8:$H$400,'Unit Detail'!$D$8:$D$400,'Building Detail'!$B412,'Unit Detail'!$Y$8:$Y$400,1)","v":0},{"$f":"SUMIFS('Unit Detail'!$H$8:$H$400,'Unit Detail'!$D$8:$D$400,'Building Detail'!$B412,'Unit Detail'!$Y$8:$Y$400,3)","v":0},{"$f":"SUMIFS('Unit Detail'!$H$8:$H$400,'Unit Detail'!$D$8:$D$400,'Building Detail'!$B412,'Unit Detail'!$Y$8:$Y$400,2)","v":0},{"$f":"SUMIF('Unit Detail'!$D$8:$D$400,$B412,'Unit Detail'!$H$8:$H$400)","v":0},0,"",{"$f":"COUNTIFS('Unit Detail'!$Y$8:$Y$400,\"1\",'Unit Detail'!$D$8:$D$400,'Building Detail'!$B412)","v":0},{"$f":"COUNTIFS('Unit Detail'!$Y$8:$Y$400,\"3\",'Unit Detail'!$D$8:$D$400,'Building Detail'!$B412)","v":0},{"$f":"COUNTIFS('Unit Detail'!$Y$8:$Y$400,\"2\",'Unit Detail'!$D$8:$D$400,'Building Detail'!$B412)","v":0},0,"",""]
[null,null,null,null,null,null,null,null,null,null,null,null,null,null,{"$f":"SUMIFS('Unit Detail'!$H$8:$H$400,'Unit Detail'!$D$8:$D$400,'Building Detail'!$B413,'Unit Detail'!$Y$8:$Y$400,1)","v":0},{"$f":"SUMIFS('Unit Detail'!$H$8:$H$400,'Unit Detail'!$D$8:$D$400,'Building Detail'!$B413,'Unit Detail'!$Y$8:$Y$400,3)","v":0},{"$f":"SUMIFS('Unit Detail'!$H$8:$H$400,'Unit Detail'!$D$8:$D$400,'Building Detail'!$B413,'Unit Detail'!$Y$8:$Y$400,2)","v":0},{"$f":"SUMIF('Unit Detail'!$D$8:$D$400,$B413,'Unit Detail'!$H$8:$H$400)","v":0},0,"",{"$f":"COUNTIFS('Unit Detail'!$Y$8:$Y$400,\"1\",'Unit Detail'!$D$8:$D$400,'Building Detail'!$B413)","v":0},{"$f":"COUNTIFS('Unit Detail'!$Y$8:$Y$400,\"3\",'Unit Detail'!$D$8:$D$400,'Building Detail'!$B413)","v":0},{"$f":"COUNTIFS('Unit Detail'!$Y$8:$Y$400,\"2\",'Unit Detail'!$D$8:$D$400,'Building Detail'!$B413)","v":0},0,"",""]
[null,null,null,null,null,null,null,null,null,null,null,null,null,null,{"$f":"SUMIFS('Unit Detail'!$H$8:$H$400,'Unit Detail'!$D$8:$D$400,'Building Detail'!$B414,'Unit Detail'!$Y$8:$Y$400,1)","v":0},{"$f":"SUMIFS('Unit Detail'!$H$8:$H$400,'Unit Detail'!$D$8:$D$400,'Building Detail'!$B414,'Unit Detail'!$Y$8:$Y$400,3)","v":0},{"$f":"SUMIFS('Unit Detail'!$H$8:$H$400,'Unit Detail'!$D$8:$D$400,'Building Detail'!$B414,'Unit Detail'!$Y$8:$Y$400,2)","v":0},{"$f":"SUMIF('Unit Detail'!$D$8:$D$400,$B414,'Unit Detail'!$H$8:$H$400)","v":0},0,"",{"$f":"COUNTIFS('Unit Detail'!$Y$8:$Y$400,\"1\",'Unit Detail'!$D$8:$D$400,'Building Detail'!$B414)","v":0},{"$f":"COUNTIFS('Unit Detail'!$Y$8:$Y$400,\"3\",'Unit Detail'!$D$8:$D$400,'Building Detail'!$B414)","v":0},{"$f":"COUNTIFS('Unit Detail'!$Y$8:$Y$400,\"2\",'Unit Detail'!$D$8:$D$400,'Building Detail'!$B414)","v":0},0,"",""]
[null,null,null,null,null,null,null,null,null,null,null,null,null,null,{"$f":"SUMIFS('Unit Detail'!$H$8:$H$400,'Unit Detail'!$D$8:$D$400,'Building Detail'!$B415,'Unit Detail'!$Y$8:$Y$400,1)","v":0},{"$f":"SUMIFS('Unit Detail'!$H$8:$H$400,'Unit Detail'!$D$8:$D$400,'Building Detail'!$B415,'Unit Detail'!$Y$8:$Y$400,3)","v":0},{"$f":"SUMIFS('Unit Detail'!$H$8:$H$400,'Unit Detail'!$D$8:$D$400,'Building Detail'!$B415,'Unit Detail'!$Y$8:$Y$400,2)","v":0},{"$f":"SUMIF('Unit Detail'!$D$8:$D$400,$B415,'Unit Detail'!$H$8:$H$400)","v":0},0,"",{"$f":"COUNTIFS('Unit Detail'!$Y$8:$Y$400,\"1\",'Unit Detail'!$D$8:$D$400,'Building Detail'!$B415)","v":0},{"$f":"COUNTIFS('Unit Detail'!$Y$8:$Y$400,\"3\",'Unit Detail'!$D$8:$D$400,'Building Detail'!$B415)","v":0},{"$f":"COUNTIFS('Unit Detail'!$Y$8:$Y$400,\"2\",'Unit Detail'!$D$8:$D$400,'Building Detail'!$B415)","v":0},0,"",""]
[null,null,null,null,null,null,null,null,null,null,null,null,null,null,{"$f":"SUMIFS('Unit Detail'!$H$8:$H$400,'Unit Detail'!$D$8:$D$400,'Building Detail'!$B416,'Unit Detail'!$Y$8:$Y$400,1)","v":0},{"$f":"SUMIFS('Unit Detail'!$H$8:$H$400,'Unit Detail'!$D$8:$D$400,'Building Detail'!$B416,'Unit Detail'!$Y$8:$Y$400,3)","v":0},{"$f":"SUMIFS('Unit Detail'!$H$8:$H$400,'Unit Detail'!$D$8:$D$400,'Building Detail'!$B416,'Unit Detail'!$Y$8:$Y$400,2)","v":0},{"$f":"SUMIF('Unit Detail'!$D$8:$D$400,$B416,'Unit Detail'!$H$8:$H$400)","v":0},0,"",{"$f":"COUNTIFS('Unit Detail'!$Y$8:$Y$400,\"1\",'Unit Detail'!$D$8:$D$400,'Building Detail'!$B416)","v":0},{"$f":"COUNTIFS('Unit Detail'!$Y$8:$Y$400,\"3\",'Unit Detail'!$D$8:$D$400,'Building Detail'!$B416)","v":0},{"$f":"COUNTIFS('Unit Detail'!$Y$8:$Y$400,\"2\",'Unit Detail'!$D$8:$D$400,'Building Detail'!$B416)","v":0},0,"",""]
[null,null,null,null,null,null,null,null,null,null,null,null,null,null,{"$f":"SUMIFS('Unit Detail'!$H$8:$H$400,'Unit Detail'!$D$8:$D$400,'Building Detail'!$B417,'Unit Detail'!$Y$8:$Y$400,1)","v":0},{"$f":"SUMIFS('Unit Detail'!$H$8:$H$400,'Unit Detail'!$D$8:$D$400,'Building Detail'!$B417,'Unit Detail'!$Y$8:$Y$400,3)","v":0},{"$f":"SUMIFS('Unit Detail'!$H$8:$H$400,'Unit Detail'!$D$8:$D$400,'Building Detail'!$B417,'Unit Detail'!$Y$8:$Y$400,2)","v":0},{"$f":"SUMIF('Unit Detail'!$D$8:$D$400,$B417,'Unit Detail'!$H$8:$H$400)","v":0},0,"",{"$f":"COUNTIFS('Unit Detail'!$Y$8:$Y$400,\"1\",'Unit Detail'!$D$8:$D$400,'Building Detail'!$B417)","v":0},{"$f":"COUNTIFS('Unit Detail'!$Y$8:$Y$400,\"3\",'Unit Detail'!$D$8:$D$400,'Building Detail'!$B417)","v":0},{"$f":"COUNTIFS('Unit Detail'!$Y$8:$Y$400,\"2\",'Unit Detail'!$D$8:$D$400,'Building Detail'!$B417)","v":0},0,"",""]
[null,null,null,null,null,null,null,null,null,null,null,null,null,null,{"$f":"SUMIFS('Unit Detail'!$H$8:$H$400,'Unit Detail'!$D$8:$D$400,'Building Detail'!$B418,'Unit Detail'!$Y$8:$Y$400,1)","v":0},{"$f":"SUMIFS('Unit Detail'!$H$8:$H$400,'Unit Detail'!$D$8:$D$400,'Building Detail'!$B418,'Unit Detail'!$Y$8:$Y$400,3)","v":0},{"$f":"SUMIFS('Unit Detail'!$H$8:$H$400,'Unit Detail'!$D$8:$D$400,'Building Detail'!$B418,'Unit Detail'!$Y$8:$Y$400,2)","v":0},{"$f":"SUMIF('Unit Detail'!$D$8:$D$400,$B418,'Unit Detail'!$H$8:$H$400)","v":0},0,"",{"$f":"COUNTIFS('Unit Detail'!$Y$8:$Y$400,\"1\",'Unit Detail'!$D$8:$D$400,'Building Detail'!$B418)","v":0},{"$f":"COUNTIFS('Unit Detail'!$Y$8:$Y$400,\"3\",'Unit Detail'!$D$8:$D$400,'Building Detail'!$B418)","v":0},{"$f":"COUNTIFS('Unit Detail'!$Y$8:$Y$400,\"2\",'Unit Detail'!$D$8:$D$400,'Building Detail'!$B418)","v":0},0,"",""]
[null,null,null,null,null,null,null,null,null,null,null,null,null,null,{"$f":"SUMIFS('Unit Detail'!$H$8:$H$400,'Unit Detail'!$D$8:$D$400,'Building Detail'!$B419,'Unit Detail'!$Y$8:$Y$400,1)","v":0},{"$f":"SUMIFS('Unit Detail'!$H$8:$H$400,'Unit Detail'!$D$8:$D$400,'Building Detail'!$B419,'Unit Detail'!$Y$8:$Y$400,3)","v":0},{"$f":"SUMIFS('Unit Detail'!$H$8:$H$400,'Unit Detail'!$D$8:$D$400,'Building Detail'!$B419,'Unit Detail'!$Y$8:$Y$400,2)","v":0},{"$f":"SUMIF('Unit Detail'!$D$8:$D$400,$B419,'Unit Detail'!$H$8:$H$400)","v":0},0,"",{"$f":"COUNTIFS('Unit Detail'!$Y$8:$Y$400,\"1\",'Unit Detail'!$D$8:$D$400,'Building Detail'!$B419)","v":0},{"$f":"COUNTIFS('Unit Detail'!$Y$8:$Y$400,\"3\",'Unit Detail'!$D$8:$D$400,'Building Detail'!$B419)","v":0},{"$f":"COUNTIFS('Unit Detail'!$Y$8:$Y$400,\"2\",'Unit Detail'!$D$8:$D$400,'Building Detail'!$B419)","v":0},0,"",""]
[null,null,null,null,null,null,null,null,null,null,null,null,null,null,{"$f":"SUMIFS('Unit Detail'!$H$8:$H$400,'Unit Detail'!$D$8:$D$400,'Building Detail'!$B420,'Unit Detail'!$Y$8:$Y$400,1)","v":0},{"$f":"SUMIFS('Unit Detail'!$H$8:$H$400,'Unit Detail'!$D$8:$D$400,'Building Detail'!$B420,'Unit Detail'!$Y$8:$Y$400,3)","v":0},{"$f":"SUMIFS('Unit Detail'!$H$8:$H$400,'Unit Detail'!$D$8:$D$400,'Building Detail'!$B420,'Unit Detail'!$Y$8:$Y$400,2)","v":0},{"$f":"SUMIF('Unit Detail'!$D$8:$D$400,$B420,'Unit Detail'!$H$8:$H$400)","v":0},0,"",{"$f":"COUNTIFS('Unit Detail'!$Y$8:$Y$400,\"1\",'Unit Detail'!$D$8:$D$400,'Building Detail'!$B420)","v":0},{"$f":"COUNTIFS('Unit Detail'!$Y$8:$Y$400,\"3\",'Unit Detail'!$D$8:$D$400,'Building Detail'!$B420)","v":0},{"$f":"COUNTIFS('Unit Detail'!$Y$8:$Y$400,\"2\",'Unit Detail'!$D$8:$D$400,'Building Detail'!$B420)","v":0},0,"",""]
[null,null,null,null,null,null,null,null,null,null,null,null,null,null,{"$f":"SUMIFS('Unit Detail'!$H$8:$H$400,'Unit Detail'!$D$8:$D$400,'Building Detail'!$B421,'Unit Detail'!$Y$8:$Y$400,1)","v":0},{"$f":"SUMIFS('Unit Detail'!$H$8:$H$400,'Unit Detail'!$D$8:$D$400,'Building Detail'!$B421,'Unit Detail'!$Y$8:$Y$400,3)","v":0},{"$f":"SUMIFS('Unit Detail'!$H$8:$H$400,'Unit Detail'!$D$8:$D$400,'Building Detail'!$B421,'Unit Detail'!$Y$8:$Y$400,2)","v":0},{"$f":"SUMIF('Unit Detail'!$D$8:$D$400,$B421,'Unit Detail'!$H$8:$H$400)","v":0},0,"",{"$f":"COUNTIFS('Unit Detail'!$Y$8:$Y$400,\"1\",'Unit Detail'!$D$8:$D$400,'Building Detail'!$B421)","v":0},{"$f":"COUNTIFS('Unit Detail'!$Y$8:$Y$400,\"3\",'Unit Detail'!$D$8:$D$400,'Building Detail'!$B421)","v":0},{"$f":"COUNTIFS('Unit Detail'!$Y$8:$Y$400,\"2\",'Unit Detail'!$D$8:$D$400,'Building Detail'!$B421)","v":0},0,"",""]
[null,null,null,null,null,null,null,null,null,null,null,null,null,null,{"$f":"SUMIFS('Unit Detail'!$H$8:$H$400,'Unit Detail'!$D$8:$D$400,'Building Detail'!$B422,'Unit Detail'!$Y$8:$Y$400,1)","v":0},{"$f":"SUMIFS('Unit Detail'!$H$8:$H$400,'Unit Detail'!$D$8:$D$400,'Building Detail'!$B422,'Unit Detail'!$Y$8:$Y$400,3)","v":0},{"$f":"SUMIFS('Unit Detail'!$H$8:$H$400,'Unit Detail'!$D$8:$D$400,'Building Detail'!$B422,'Unit Detail'!$Y$8:$Y$400,2)","v":0},{"$f":"SUMIF('Unit Detail'!$D$8:$D$400,$B422,'Unit Detail'!$H$8:$H$400)","v":0},0,"",{"$f":"COUNTIFS('Unit Detail'!$Y$8:$Y$400,\"1\",'Unit Detail'!$D$8:$D$400,'Building Detail'!$B422)","v":0},{"$f":"COUNTIFS('Unit Detail'!$Y$8:$Y$400,\"3\",'Unit Detail'!$D$8:$D$400,'Building Detail'!$B422)","v":0},{"$f":"COUNTIFS('Unit Detail'!$Y$8:$Y$400,\"2\",'Unit Detail'!$D$8:$D$400,'Building Detail'!$B422)","v":0},0,"",""]
[null,null,null,null,null,null,null,null,null,null,null,null,null,null,{"$f":"SUMIFS('Unit Detail'!$H$8:$H$400,'Unit Detail'!$D$8:$D$400,'Building Detail'!$B423,'Unit Detail'!$Y$8:$Y$400,1)","v":0},{"$f":"SUMIFS('Unit Detail'!$H$8:$H$400,'Unit Detail'!$D$8:$D$400,'Building Detail'!$B423,'Unit Detail'!$Y$8:$Y$400,3)","v":0},{"$f":"SUMIFS('Unit Detail'!$H$8:$H$400,'Unit Detail'!$D$8:$D$400,'Building Detail'!$B423,'Unit Detail'!$Y$8:$Y$400,2)","v":0},{"$f":"SUMIF('Unit Detail'!$D$8:$D$400,$B423,'Unit Detail'!$H$8:$H$400)","v":0},0,"",{"$f":"COUNTIFS('Unit Detail'!$Y$8:$Y$400,\"1\",'Unit Detail'!$D$8:$D$400,'Building Detail'!$B423)","v":0},{"$f":"COUNTIFS('Unit Detail'!$Y$8:$Y$400,\"3\",'Unit Detail'!$D$8:$D$400,'Building Detail'!$B423)","v":0},{"$f":"COUNTIFS('Unit Detail'!$Y$8:$Y$400,\"2\",'Unit Detail'!$D$8:$D$400,'Building Detail'!$B423)","v":0},0,"",""]
[null,null,null,null,null,null,null,null,null,null,null,null,null,null,{"$f":"SUMIFS('Unit Detail'!$H$8:$H$400,'Unit Detail'!$D$8:$D$400,'Building Detail'!$B424,'Unit Detail'!$Y$8:$Y$400,1)","v":0},{"$f":"SUMIFS('Unit Detail'!$H$8:$H$400,'Unit Detail'!$D$8:$D$400,'Building Detail'!$B424,'Unit Detail'!$Y$8:$Y$400,3)","v":0},{"$f":"SUMIFS('Unit Detail'!$H$8:$H$400,'Unit Detail'!$D$8:$D$400,'Building Detail'!$B424,'Unit Detail'!$Y$8:$Y$400,2)","v":0},{"$f":"SUMIF('Unit Detail'!$D$8:$D$400,$B424,'Unit Detail'!$H$8:$H$400)","v":0},0,"",{"$f":"COUNTIFS('Unit Detail'!$Y$8:$Y$400,\"1\",'Unit Detail'!$D$8:$D$400,'Building Detail'!$B424)","v":0},{"$f":"COUNTIFS('Unit Detail'!$Y$8:$Y$400,\"3\",'Unit Detail'!$D$8:$D$400,'Building Detail'!$B424)","v":0},{"$f":"COUNTIFS('Unit Detail'!$Y$8:$Y$400,\"2\",'Unit Detail'!$D$8:$D$400,'Building Detail'!$B424)","v":0},0,"",""]
[null,null,null,null,null,null,null,null,null,null,null,null,null,null,{"$f":"SUMIFS('Unit Detail'!$H$8:$H$400,'Unit Detail'!$D$8:$D$400,'Building Detail'!$B425,'Unit Detail'!$Y$8:$Y$400,1)","v":0},{"$f":"SUMIFS('Unit Detail'!$H$8:$H$400,'Unit Detail'!$D$8:$D$400,'Building Detail'!$B425,'Unit Detail'!$Y$8:$Y$400,3)","v":0},{"$f":"SUMIFS('Unit Detail'!$H$8:$H$400,'Unit Detail'!$D$8:$D$400,'Building Detail'!$B425,'Unit Detail'!$Y$8:$Y$400,2)","v":0},{"$f":"SUMIF('Unit Detail'!$D$8:$D$400,$B425,'Unit Detail'!$H$8:$H$400)","v":0},0,"",{"$f":"COUNTIFS('Unit Detail'!$Y$8:$Y$400,\"1\",'Unit Detail'!$D$8:$D$400,'Building Detail'!$B425)","v":0},{"$f":"COUNTIFS('Unit Detail'!$Y$8:$Y$400,\"3\",'Unit Detail'!$D$8:$D$400,'Building Detail'!$B425)","v":0},{"$f":"COUNTIFS('Unit Detail'!$Y$8:$Y$400,\"2\",'Unit Detail'!$D$8:$D$400,'Building Detail'!$B425)","v":0},0,"",""]
[null,null,null,null,null,null,null,null,null,null,null,null,null,null,{"$f":"SUMIFS('Unit Detail'!$H$8:$H$400,'Unit Detail'!$D$8:$D$400,'Building Detail'!$B426,'Unit Detail'!$Y$8:$Y$400,1)","v":0},{"$f":"SUMIFS('Unit Detail'!$H$8:$H$400,'Unit Detail'!$D$8:$D$400,'Building Detail'!$B426,'Unit Detail'!$Y$8:$Y$400,3)","v":0},{"$f":"SUMIFS('Unit Detail'!$H$8:$H$400,'Unit Detail'!$D$8:$D$400,'Building Detail'!$B426,'Unit Detail'!$Y$8:$Y$400,2)","v":0},{"$f":"SUMIF('Unit Detail'!$D$8:$D$400,$B426,'Unit Detail'!$H$8:$H$400)","v":0},0,"",{"$f":"COUNTIFS('Unit Detail'!$Y$8:$Y$400,\"1\",'Unit Detail'!$D$8:$D$400,'Building Detail'!$B426)","v":0},{"$f":"COUNTIFS('Unit Detail'!$Y$8:$Y$400,\"3\",'Unit Detail'!$D$8:$D$400,'Building Detail'!$B426)","v":0},{"$f":"COUNTIFS('Unit Detail'!$Y$8:$Y$400,\"2\",'Unit Detail'!$D$8:$D$400,'Building Detail'!$B426)","v":0},0,"",""]
[null,null,null,null,null,null,null,null,null,null,null,null,null,null,{"$f":"SUMIFS('Unit Detail'!$H$8:$H$400,'Unit Detail'!$D$8:$D$400,'Building Detail'!$B427,'Unit Detail'!$Y$8:$Y$400,1)","v":0},{"$f":"SUMIFS('Unit Detail'!$H$8:$H$400,'Unit Detail'!$D$8:$D$400,'Building Detail'!$B427,'Unit Detail'!$Y$8:$Y$400,3)","v":0},{"$f":"SUMIFS('Unit Detail'!$H$8:$H$400,'Unit Detail'!$D$8:$D$400,'Building Detail'!$B427,'Unit Detail'!$Y$8:$Y$400,2)","v":0},{"$f":"SUMIF('Unit Detail'!$D$8:$D$400,$B427,'Unit Detail'!$H$8:$H$400)","v":0},0,"",{"$f":"COUNTIFS('Unit Detail'!$Y$8:$Y$400,\"1\",'Unit Detail'!$D$8:$D$400,'Building Detail'!$B427)","v":0},{"$f":"COUNTIFS('Unit Detail'!$Y$8:$Y$400,\"3\",'Unit Detail'!$D$8:$D$400,'Building Detail'!$B427)","v":0},{"$f":"COUNTIFS('Unit Detail'!$Y$8:$Y$400,\"2\",'Unit Detail'!$D$8:$D$400,'Building Detail'!$B427)","v":0},0,"",""]
[null,null,null,null,null,null,null,null,null,null,null,null,null,null,{"$f":"SUMIFS('Unit Detail'!$H$8:$H$400,'Unit Detail'!$D$8:$D$400,'Building Detail'!$B428,'Unit Detail'!$Y$8:$Y$400,1)","v":0},{"$f":"SUMIFS('Unit Detail'!$H$8:$H$400,'Unit Detail'!$D$8:$D$400,'Building Detail'!$B428,'Unit Detail'!$Y$8:$Y$400,3)","v":0},{"$f":"SUMIFS('Unit Detail'!$H$8:$H$400,'Unit Detail'!$D$8:$D$400,'Building Detail'!$B428,'Unit Detail'!$Y$8:$Y$400,2)","v":0},{"$f":"SUMIF('Unit Detail'!$D$8:$D$400,$B428,'Unit Detail'!$H$8:$H$400)","v":0},0,"",{"$f":"COUNTIFS('Unit Detail'!$Y$8:$Y$400,\"1\",'Unit Detail'!$D$8:$D$400,'Building Detail'!$B428)","v":0},{"$f":"COUNTIFS('Unit Detail'!$Y$8:$Y$400,\"3\",'Unit Detail'!$D$8:$D$400,'Building Detail'!$B428)","v":0},{"$f":"COUNTIFS('Unit Detail'!$Y$8:$Y$400,\"2\",'Unit Detail'!$D$8:$D$400,'Building Detail'!$B428)","v":0},0,"",""]
[null,null,null,null,null,null,null,null,null,null,null,null,null,null,{"$f":"SUMIFS('Unit Detail'!$H$8:$H$400,'Unit Detail'!$D$8:$D$400,'Building Detail'!$B429,'Unit Detail'!$Y$8:$Y$400,1)","v":0},{"$f":"SUMIFS('Unit Detail'!$H$8:$H$400,'Unit Detail'!$D$8:$D$400,'Building Detail'!$B429,'Unit Detail'!$Y$8:$Y$400,3)","v":0},{"$f":"SUMIFS('Unit Detail'!$H$8:$H$400,'Unit Detail'!$D$8:$D$400,'Building Detail'!$B429,'Unit Detail'!$Y$8:$Y$400,2)","v":0},{"$f":"SUMIF('Unit Detail'!$D$8:$D$400,$B429,'Unit Detail'!$H$8:$H$400)","v":0},0,"",{"$f":"COUNTIFS('Unit Detail'!$Y$8:$Y$400,\"1\",'Unit Detail'!$D$8:$D$400,'Building Detail'!$B429)","v":0},{"$f":"COUNTIFS('Unit Detail'!$Y$8:$Y$400,\"3\",'Unit Detail'!$D$8:$D$400,'Building Detail'!$B429)","v":0},{"$f":"COUNTIFS('Unit Detail'!$Y$8:$Y$400,\"2\",'Unit Detail'!$D$8:$D$400,'Building Detail'!$B429)","v":0},0,"",""]
[null,null,null,null,null,null,null,null,null,null,null,null,null,null,{"$f":"SUMIFS('Unit Detail'!$H$8:$H$400,'Unit Detail'!$D$8:$D$400,'Building Detail'!$B430,'Unit Detail'!$Y$8:$Y$400,1)","v":0},{"$f":"SUMIFS('Unit Detail'!$H$8:$H$400,'Unit Detail'!$D$8:$D$400,'Building Detail'!$B430,'Unit Detail'!$Y$8:$Y$400,3)","v":0},{"$f":"SUMIFS('Unit Detail'!$H$8:$H$400,'Unit Detail'!$D$8:$D$400,'Building Detail'!$B430,'Unit Detail'!$Y$8:$Y$400,2)","v":0},{"$f":"SUMIF('Unit Detail'!$D$8:$D$400,$B430,'Unit Detail'!$H$8:$H$400)","v":0},0,"",{"$f":"COUNTIFS('Unit Detail'!$Y$8:$Y$400,\"1\",'Unit Detail'!$D$8:$D$400,'Building Detail'!$B430)","v":0},{"$f":"COUNTIFS('Unit Detail'!$Y$8:$Y$400,\"3\",'Unit Detail'!$D$8:$D$400,'Building Detail'!$B430)","v":0},{"$f":"COUNTIFS('Unit Detail'!$Y$8:$Y$400,\"2\",'Unit Detail'!$D$8:$D$400,'Building Detail'!$B430)","v":0},0,"",""]
[null,null,null,null,null,null,null,null,null,null,null,null,null,null,{"$f":"SUMIFS('Unit Detail'!$H$8:$H$400,'Unit Detail'!$D$8:$D$400,'Building Detail'!$B431,'Unit Detail'!$Y$8:$Y$400,1)","v":0},{"$f":"SUMIFS('Unit Detail'!$H$8:$H$400,'Unit Detail'!$D$8:$D$400,'Building Detail'!$B431,'Unit Detail'!$Y$8:$Y$400,3)","v":0},{"$f":"SUMIFS('Unit Detail'!$H$8:$H$400,'Unit Detail'!$D$8:$D$400,'Building Detail'!$B431,'Unit Detail'!$Y$8:$Y$400,2)","v":0},{"$f":"SUMIF('Unit Detail'!$D$8:$D$400,$B431,'Unit Detail'!$H$8:$H$400)","v":0},0,"",{"$f":"COUNTIFS('Unit Detail'!$Y$8:$Y$400,\"1\",'Unit Detail'!$D$8:$D$400,'Building Detail'!$B431)","v":0},{"$f":"COUNTIFS('Unit Detail'!$Y$8:$Y$400,\"3\",'Unit Detail'!$D$8:$D$400,'Building Detail'!$B431)","v":0},{"$f":"COUNTIFS('Unit Detail'!$Y$8:$Y$400,\"2\",'Unit Detail'!$D$8:$D$400,'Building Detail'!$B431)","v":0},0,"",""]
[null,null,null,null,null,null,null,null,null,null,null,null,null,null,{"$f":"SUMIFS('Unit Detail'!$H$8:$H$400,'Unit Detail'!$D$8:$D$400,'Building Detail'!$B432,'Unit Detail'!$Y$8:$Y$400,1)","v":0},{"$f":"SUMIFS('Unit Detail'!$H$8:$H$400,'Unit Detail'!$D$8:$D$400,'Building Detail'!$B432,'Unit Detail'!$Y$8:$Y$400,3)","v":0},{"$f":"SUMIFS('Unit Detail'!$H$8:$H$400,'Unit Detail'!$D$8:$D$400,'Building Detail'!$B432,'Unit Detail'!$Y$8:$Y$400,2)","v":0},{"$f":"SUMIF('Unit Detail'!$D$8:$D$400,$B432,'Unit Detail'!$H$8:$H$400)","v":0},0,"",{"$f":"COUNTIFS('Unit Detail'!$Y$8:$Y$400,\"1\",'Unit Detail'!$D$8:$D$400,'Building Detail'!$B432)","v":0},{"$f":"COUNTIFS('Unit Detail'!$Y$8:$Y$400,\"3\",'Unit Detail'!$D$8:$D$400,'Building Detail'!$B432)","v":0},{"$f":"COUNTIFS('Unit Detail'!$Y$8:$Y$400,\"2\",'Unit Detail'!$D$8:$D$400,'Building Detail'!$B432)","v":0},0,"",""]
[null,null,null,null,null,null,null,null,null,null,null,null,null,null,{"$f":"SUMIFS('Unit Detail'!$H$8:$H$400,'Unit Detail'!$D$8:$D$400,'Building Detail'!$B433,'Unit Detail'!$Y$8:$Y$400,1)","v":0},{"$f":"SUMIFS('Unit Detail'!$H$8:$H$400,'Unit Detail'!$D$8:$D$400,'Building Detail'!$B433,'Unit Detail'!$Y$8:$Y$400,3)","v":0},{"$f":"SUMIFS('Unit Detail'!$H$8:$H$400,'Unit Detail'!$D$8:$D$400,'Building Detail'!$B433,'Unit Detail'!$Y$8:$Y$400,2)","v":0},{"$f":"SUMIF('Unit Detail'!$D$8:$D$400,$B433,'Unit Detail'!$H$8:$H$400)","v":0},0,"",{"$f":"COUNTIFS('Unit Detail'!$Y$8:$Y$400,\"1\",'Unit Detail'!$D$8:$D$400,'Building Detail'!$B433)","v":0},{"$f":"COUNTIFS('Unit Detail'!$Y$8:$Y$400,\"3\",'Unit Detail'!$D$8:$D$400,'Building Detail'!$B433)","v":0},{"$f":"COUNTIFS('Unit Detail'!$Y$8:$Y$400,\"2\",'Unit Detail'!$D$8:$D$400,'Building Detail'!$B433)","v":0},0,"",""]
[null,null,null,null,null,null,null,null,null,null,null,null,null,null,{"$f":"SUMIFS('Unit Detail'!$H$8:$H$400,'Unit Detail'!$D$8:$D$400,'Building Detail'!$B434,'Unit Detail'!$Y$8:$Y$400,1)","v":0},{"$f":"SUMIFS('Unit Detail'!$H$8:$H$400,'Unit Detail'!$D$8:$D$400,'Building Detail'!$B434,'Unit Detail'!$Y$8:$Y$400,3)","v":0},{"$f":"SUMIFS('Unit Detail'!$H$8:$H$400,'Unit Detail'!$D$8:$D$400,'Building Detail'!$B434,'Unit Detail'!$Y$8:$Y$400,2)","v":0},{"$f":"SUMIF('Unit Detail'!$D$8:$D$400,$B434,'Unit Detail'!$H$8:$H$400)","v":0},0,"",{"$f":"COUNTIFS('Unit Detail'!$Y$8:$Y$400,\"1\",'Unit Detail'!$D$8:$D$400,'Building Detail'!$B434)","v":0},{"$f":"COUNTIFS('Unit Detail'!$Y$8:$Y$400,\"3\",'Unit Detail'!$D$8:$D$400,'Building Detail'!$B434)","v":0},{"$f":"COUNTIFS('Unit Detail'!$Y$8:$Y$400,\"2\",'Unit Detail'!$D$8:$D$400,'Building Detail'!$B434)","v":0},0,"",""]
[null,null,null,null,null,null,null,null,null,null,null,null,null,null,{"$f":"SUMIFS('Unit Detail'!$H$8:$H$400,'Unit Detail'!$D$8:$D$400,'Building Detail'!$B435,'Unit Detail'!$Y$8:$Y$400,1)","v":0},{"$f":"SUMIFS('Unit Detail'!$H$8:$H$400,'Unit Detail'!$D$8:$D$400,'Building Detail'!$B435,'Unit Detail'!$Y$8:$Y$400,3)","v":0},{"$f":"SUMIFS('Unit Detail'!$H$8:$H$400,'Unit Detail'!$D$8:$D$400,'Building Detail'!$B435,'Unit Detail'!$Y$8:$Y$400,2)","v":0},{"$f":"SUMIF('Unit Detail'!$D$8:$D$400,$B435,'Unit Detail'!$H$8:$H$400)","v":0},0,"",{"$f":"COUNTIFS('Unit Detail'!$Y$8:$Y$400,\"1\",'Unit Detail'!$D$8:$D$400,'Building Detail'!$B435)","v":0},{"$f":"COUNTIFS('Unit Detail'!$Y$8:$Y$400,\"3\",'Unit Detail'!$D$8:$D$400,'Building Detail'!$B435)","v":0},{"$f":"COUNTIFS('Unit Detail'!$Y$8:$Y$400,\"2\",'Unit Detail'!$D$8:$D$400,'Building Detail'!$B435)","v":0},0,"",""]
[null,null,null,null,null,null,null,null,null,null,null,null,null,null,{"$f":"SUMIFS('Unit Detail'!$H$8:$H$400,'Unit Detail'!$D$8:$D$400,'Building Detail'!$B436,'Unit Detail'!$Y$8:$Y$400,1)","v":0},{"$f":"SUMIFS('Unit Detail'!$H$8:$H$400,'Unit Detail'!$D$8:$D$400,'Building Detail'!$B436,'Unit Detail'!$Y$8:$Y$400,3)","v":0},{"$f":"SUMIFS('Unit Detail'!$H$8:$H$400,'Unit Detail'!$D$8:$D$400,'Building Detail'!$B436,'Unit Detail'!$Y$8:$Y$400,2)","v":0},{"$f":"SUMIF('Unit Detail'!$D$8:$D$400,$B436,'Unit Detail'!$H$8:$H$400)","v":0},0,"",{"$f":"COUNTIFS('Unit Detail'!$Y$8:$Y$400,\"1\",'Unit Detail'!$D$8:$D$400,'Building Detail'!$B436)","v":0},{"$f":"COUNTIFS('Unit Detail'!$Y$8:$Y$400,\"3\",'Unit Detail'!$D$8:$D$400,'Building Detail'!$B436)","v":0},{"$f":"COUNTIFS('Unit Detail'!$Y$8:$Y$400,\"2\",'Unit Detail'!$D$8:$D$400,'Building Detail'!$B436)","v":0},0,"",""]
[null,null,null,null,null,null,null,null,null,null,null,null,null,null,{"$f":"SUMIFS('Unit Detail'!$H$8:$H$400,'Unit Detail'!$D$8:$D$400,'Building Detail'!$B437,'Unit Detail'!$Y$8:$Y$400,1)","v":0},{"$f":"SUMIFS('Unit Detail'!$H$8:$H$400,'Unit Detail'!$D$8:$D$400,'Building Detail'!$B437,'Unit Detail'!$Y$8:$Y$400,3)","v":0},{"$f":"SUMIFS('Unit Detail'!$H$8:$H$400,'Unit Detail'!$D$8:$D$400,'Building Detail'!$B437,'Unit Detail'!$Y$8:$Y$400,2)","v":0},{"$f":"SUMIF('Unit Detail'!$D$8:$D$400,$B437,'Unit Detail'!$H$8:$H$400)","v":0},0,"",{"$f":"COUNTIFS('Unit Detail'!$Y$8:$Y$400,\"1\",'Unit Detail'!$D$8:$D$400,'Building Detail'!$B437)","v":0},{"$f":"COUNTIFS('Unit Detail'!$Y$8:$Y$400,\"3\",'Unit Detail'!$D$8:$D$400,'Building Detail'!$B437)","v":0},{"$f":"COUNTIFS('Unit Detail'!$Y$8:$Y$400,\"2\",'Unit Detail'!$D$8:$D$400,'Building Detail'!$B437)","v":0},0,"",""]
[null,null,null,null,null,null,null,null,null,null,null,null,null,null,{"$f":"SUMIFS('Unit Detail'!$H$8:$H$400,'Unit Detail'!$D$8:$D$400,'Building Detail'!$B438,'Unit Detail'!$Y$8:$Y$400,1)","v":0},{"$f":"SUMIFS('Unit Detail'!$H$8:$H$400,'Unit Detail'!$D$8:$D$400,'Building Detail'!$B438,'Unit Detail'!$Y$8:$Y$400,3)","v":0},{"$f":"SUMIFS('Unit Detail'!$H$8:$H$400,'Unit Detail'!$D$8:$D$400,'Building Detail'!$B438,'Unit Detail'!$Y$8:$Y$400,2)","v":0},{"$f":"SUMIF('Unit Detail'!$D$8:$D$400,$B438,'Unit Detail'!$H$8:$H$400)","v":0},0,"",{"$f":"COUNTIFS('Unit Detail'!$Y$8:$Y$400,\"1\",'Unit Detail'!$D$8:$D$400,'Building Detail'!$B438)","v":0},{"$f":"COUNTIFS('Unit Detail'!$Y$8:$Y$400,\"3\",'Unit Detail'!$D$8:$D$400,'Building Detail'!$B438)","v":0},{"$f":"COUNTIFS('Unit Detail'!$Y$8:$Y$400,\"2\",'Unit Detail'!$D$8:$D$400,'Building Detail'!$B438)","v":0},0,"",""]
[null,null,null,null,null,null,null,null,null,null,null,null,null,null,{"$f":"SUMIFS('Unit Detail'!$H$8:$H$400,'Unit Detail'!$D$8:$D$400,'Building Detail'!$B439,'Unit Detail'!$Y$8:$Y$400,1)","v":0},{"$f":"SUMIFS('Unit Detail'!$H$8:$H$400,'Unit Detail'!$D$8:$D$400,'Building Detail'!$B439,'Unit Detail'!$Y$8:$Y$400,3)","v":0},{"$f":"SUMIFS('Unit Detail'!$H$8:$H$400,'Unit Detail'!$D$8:$D$400,'Building Detail'!$B439,'Unit Detail'!$Y$8:$Y$400,2)","v":0},{"$f":"SUMIF('Unit Detail'!$D$8:$D$400,$B439,'Unit Detail'!$H$8:$H$400)","v":0},0,"",{"$f":"COUNTIFS('Unit Detail'!$Y$8:$Y$400,\"1\",'Unit Detail'!$D$8:$D$400,'Building Detail'!$B439)","v":0},{"$f":"COUNTIFS('Unit Detail'!$Y$8:$Y$400,\"3\",'Unit Detail'!$D$8:$D$400,'Building Detail'!$B439)","v":0},{"$f":"COUNTIFS('Unit Detail'!$Y$8:$Y$400,\"2\",'Unit Detail'!$D$8:$D$400,'Building Detail'!$B439)","v":0},0,"",""]
[null,null,null,null,null,null,null,null,null,null,null,null,null,null,{"$f":"SUMIFS('Unit Detail'!$H$8:$H$400,'Unit Detail'!$D$8:$D$400,'Building Detail'!$B440,'Unit Detail'!$Y$8:$Y$400,1)","v":0},{"$f":"SUMIFS('Unit Detail'!$H$8:$H$400,'Unit Detail'!$D$8:$D$400,'Building Detail'!$B440,'Unit Detail'!$Y$8:$Y$400,3)","v":0},{"$f":"SUMIFS('Unit Detail'!$H$8:$H$400,'Unit Detail'!$D$8:$D$400,'Building Detail'!$B440,'Unit Detail'!$Y$8:$Y$400,2)","v":0},{"$f":"SUMIF('Unit Detail'!$D$8:$D$400,$B440,'Unit Detail'!$H$8:$H$400)","v":0},0,"",{"$f":"COUNTIFS('Unit Detail'!$Y$8:$Y$400,\"1\",'Unit Detail'!$D$8:$D$400,'Building Detail'!$B440)","v":0},{"$f":"COUNTIFS('Unit Detail'!$Y$8:$Y$400,\"3\",'Unit Detail'!$D$8:$D$400,'Building Detail'!$B440)","v":0},{"$f":"COUNTIFS('Unit Detail'!$Y$8:$Y$400,\"2\",'Unit Detail'!$D$8:$D$400,'Building Detail'!$B440)","v":0},0,"",""]
[null,null,null,null,null,null,null,null,null,null,null,null,null,null,{"$f":"SUMIFS('Unit Detail'!$H$8:$H$400,'Unit Detail'!$D$8:$D$400,'Building Detail'!$B441,'Unit Detail'!$Y$8:$Y$400,1)","v":0},{"$f":"SUMIFS('Unit Detail'!$H$8:$H$400,'Unit Detail'!$D$8:$D$400,'Building Detail'!$B441,'Unit Detail'!$Y$8:$Y$400,3)","v":0},{"$f":"SUMIFS('Unit Detail'!$H$8:$H$400,'Unit Detail'!$D$8:$D$400,'Building Detail'!$B441,'Unit Detail'!$Y$8:$Y$400,2)","v":0},{"$f":"SUMIF('Unit Detail'!$D$8:$D$400,$B441,'Unit Detail'!$H$8:$H$400)","v":0},0,"",{"$f":"COUNTIFS('Unit Detail'!$Y$8:$Y$400,\"1\",'Unit Detail'!$D$8:$D$400,'Building Detail'!$B441)","v":0},{"$f":"COUNTIFS('Unit Detail'!$Y$8:$Y$400,\"3\",'Unit Detail'!$D$8:$D$400,'Building Detail'!$B441)","v":0},{"$f":"COUNTIFS('Unit Detail'!$Y$8:$Y$400,\"2\",'Unit Detail'!$D$8:$D$400,'Building Detail'!$B441)","v":0},0,"",""]
[null,null,null,null,null,null,null,null,null,null,null,null,null,null,{"$f":"SUMIFS('Unit Detail'!$H$8:$H$400,'Unit Detail'!$D$8:$D$400,'Building Detail'!$B442,'Unit Detail'!$Y$8:$Y$400,1)","v":0},{"$f":"SUMIFS('Unit Detail'!$H$8:$H$400,'Unit Detail'!$D$8:$D$400,'Building Detail'!$B442,'Unit Detail'!$Y$8:$Y$400,3)","v":0},{"$f":"SUMIFS('Unit Detail'!$H$8:$H$400,'Unit Detail'!$D$8:$D$400,'Building Detail'!$B442,'Unit Detail'!$Y$8:$Y$400,2)","v":0},{"$f":"SUMIF('Unit Detail'!$D$8:$D$400,$B442,'Unit Detail'!$H$8:$H$400)","v":0},0,"",{"$f":"COUNTIFS('Unit Detail'!$Y$8:$Y$400,\"1\",'Unit Detail'!$D$8:$D$400,'Building Detail'!$B442)","v":0},{"$f":"COUNTIFS('Unit Detail'!$Y$8:$Y$400,\"3\",'Unit Detail'!$D$8:$D$400,'Building Detail'!$B442)","v":0},{"$f":"COUNTIFS('Unit Detail'!$Y$8:$Y$400,\"2\",'Unit Detail'!$D$8:$D$400,'Building Detail'!$B442)","v":0},0,"",""]
[null,null,null,null,null,null,null,null,null,null,null,null,null,null,{"$f":"SUMIFS('Unit Detail'!$H$8:$H$400,'Unit Detail'!$D$8:$D$400,'Building Detail'!$B443,'Unit Detail'!$Y$8:$Y$400,1)","v":0},{"$f":"SUMIFS('Unit Detail'!$H$8:$H$400,'Unit Detail'!$D$8:$D$400,'Building Detail'!$B443,'Unit Detail'!$Y$8:$Y$400,3)","v":0},{"$f":"SUMIFS('Unit Detail'!$H$8:$H$400,'Unit Detail'!$D$8:$D$400,'Building Detail'!$B443,'Unit Detail'!$Y$8:$Y$400,2)","v":0},{"$f":"SUMIF('Unit Detail'!$D$8:$D$400,$B443,'Unit Detail'!$H$8:$H$400)","v":0},0,"",{"$f":"COUNTIFS('Unit Detail'!$Y$8:$Y$400,\"1\",'Unit Detail'!$D$8:$D$400,'Building Detail'!$B443)","v":0},{"$f":"COUNTIFS('Unit Detail'!$Y$8:$Y$400,\"3\",'Unit Detail'!$D$8:$D$400,'Building Detail'!$B443)","v":0},{"$f":"COUNTIFS('Unit Detail'!$Y$8:$Y$400,\"2\",'Unit Detail'!$D$8:$D$400,'Building Detail'!$B443)","v":0},0,"",""]
[null,null,null,null,null,null,null,null,null,null,null,null,null,null,{"$f":"SUMIFS('Unit Detail'!$H$8:$H$400,'Unit Detail'!$D$8:$D$400,'Building Detail'!$B444,'Unit Detail'!$Y$8:$Y$400,1)","v":0},{"$f":"SUMIFS('Unit Detail'!$H$8:$H$400,'Unit Detail'!$D$8:$D$400,'Building Detail'!$B444,'Unit Detail'!$Y$8:$Y$400,3)","v":0},{"$f":"SUMIFS('Unit Detail'!$H$8:$H$400,'Unit Detail'!$D$8:$D$400,'Building Detail'!$B444,'Unit Detail'!$Y$8:$Y$400,2)","v":0},{"$f":"SUMIF('Unit Detail'!$D$8:$D$400,$B444,'Unit Detail'!$H$8:$H$400)","v":0},0,"",{"$f":"COUNTIFS('Unit Detail'!$Y$8:$Y$400,\"1\",'Unit Detail'!$D$8:$D$400,'Building Detail'!$B444)","v":0},{"$f":"COUNTIFS('Unit Detail'!$Y$8:$Y$400,\"3\",'Unit Detail'!$D$8:$D$400,'Building Detail'!$B444)","v":0},{"$f":"COUNTIFS('Unit Detail'!$Y$8:$Y$400,\"2\",'Unit Detail'!$D$8:$D$400,'Building Detail'!$B444)","v":0},0,"",""]
[null,null,null,null,null,null,null,null,null,null,null,null,null,null,{"$f":"SUMIFS('Unit Detail'!$H$8:$H$400,'Unit Detail'!$D$8:$D$400,'Building Detail'!$B445,'Unit Detail'!$Y$8:$Y$400,1)","v":0},{"$f":"SUMIFS('Unit Detail'!$H$8:$H$400,'Unit Detail'!$D$8:$D$400,'Building Detail'!$B445,'Unit Detail'!$Y$8:$Y$400,3)","v":0},{"$f":"SUMIFS('Unit Detail'!$H$8:$H$400,'Unit Detail'!$D$8:$D$400,'Building Detail'!$B445,'Unit Detail'!$Y$8:$Y$400,2)","v":0},{"$f":"SUMIF('Unit Detail'!$D$8:$D$400,$B445,'Unit Detail'!$H$8:$H$400)","v":0},0,"",{"$f":"COUNTIFS('Unit Detail'!$Y$8:$Y$400,\"1\",'Unit Detail'!$D$8:$D$400,'Building Detail'!$B445)","v":0},{"$f":"COUNTIFS('Unit Detail'!$Y$8:$Y$400,\"3\",'Unit Detail'!$D$8:$D$400,'Building Detail'!$B445)","v":0},{"$f":"COUNTIFS('Unit Detail'!$Y$8:$Y$400,\"2\",'Unit Detail'!$D$8:$D$400,'Building Detail'!$B445)","v":0},0,"",""]
[null,null,null,null,null,null,null,null,null,null,null,null,null,null,{"$f":"SUMIFS('Unit Detail'!$H$8:$H$400,'Unit Detail'!$D$8:$D$400,'Building Detail'!$B446,'Unit Detail'!$Y$8:$Y$400,1)","v":0},{"$f":"SUMIFS('Unit Detail'!$H$8:$H$400,'Unit Detail'!$D$8:$D$400,'Building Detail'!$B446,'Unit Detail'!$Y$8:$Y$400,3)","v":0},{"$f":"SUMIFS('Unit Detail'!$H$8:$H$400,'Unit Detail'!$D$8:$D$400,'Building Detail'!$B446,'Unit Detail'!$Y$8:$Y$400,2)","v":0},{"$f":"SUMIF('Unit Detail'!$D$8:$D$400,$B446,'Unit Detail'!$H$8:$H$400)","v":0},0,"",{"$f":"COUNTIFS('Unit Detail'!$Y$8:$Y$400,\"1\",'Unit Detail'!$D$8:$D$400,'Building Detail'!$B446)","v":0},{"$f":"COUNTIFS('Unit Detail'!$Y$8:$Y$400,\"3\",'Unit Detail'!$D$8:$D$400,'Building Detail'!$B446)","v":0},{"$f":"COUNTIFS('Unit Detail'!$Y$8:$Y$400,\"2\",'Unit Detail'!$D$8:$D$400,'Building Detail'!$B446)","v":0},0,"",""]
[null,null,null,null,null,null,null,null,null,null,null,null,null,null,{"$f":"SUMIFS('Unit Detail'!$H$8:$H$400,'Unit Detail'!$D$8:$D$400,'Building Detail'!$B447,'Unit Detail'!$Y$8:$Y$400,1)","v":0},{"$f":"SUMIFS('Unit Detail'!$H$8:$H$400,'Unit Detail'!$D$8:$D$400,'Building Detail'!$B447,'Unit Detail'!$Y$8:$Y$400,3)","v":0},{"$f":"SUMIFS('Unit Detail'!$H$8:$H$400,'Unit Detail'!$D$8:$D$400,'Building Detail'!$B447,'Unit Detail'!$Y$8:$Y$400,2)","v":0},{"$f":"SUMIF('Unit Detail'!$D$8:$D$400,$B447,'Unit Detail'!$H$8:$H$400)","v":0},0,"",{"$f":"COUNTIFS('Unit Detail'!$Y$8:$Y$400,\"1\",'Unit Detail'!$D$8:$D$400,'Building Detail'!$B447)","v":0},{"$f":"COUNTIFS('Unit Detail'!$Y$8:$Y$400,\"3\",'Unit Detail'!$D$8:$D$400,'Building Detail'!$B447)","v":0},{"$f":"COUNTIFS('Unit Detail'!$Y$8:$Y$400,\"2\",'Unit Detail'!$D$8:$D$400,'Building Detail'!$B447)","v":0},0,"",""]
[null,null,null,null,null,null,null,null,null,null,null,null,null,null,{"$f":"SUMIFS('Unit Detail'!$H$8:$H$400,'Unit Detail'!$D$8:$D$400,'Building Detail'!$B448,'Unit Detail'!$Y$8:$Y$400,1)","v":0},{"$f":"SUMIFS('Unit Detail'!$H$8:$H$400,'Unit Detail'!$D$8:$D$400,'Building Detail'!$B448,'Unit Detail'!$Y$8:$Y$400,3)","v":0},{"$f":"SUMIFS('Unit Detail'!$H$8:$H$400,'Unit Detail'!$D$8:$D$400,'Building Detail'!$B448,'Unit Detail'!$Y$8:$Y$400,2)","v":0},{"$f":"SUMIF('Unit Detail'!$D$8:$D$400,$B448,'Unit Detail'!$H$8:$H$400)","v":0},0,"",{"$f":"COUNTIFS('Unit Detail'!$Y$8:$Y$400,\"1\",'Unit Detail'!$D$8:$D$400,'Building Detail'!$B448)","v":0},{"$f":"COUNTIFS('Unit Detail'!$Y$8:$Y$400,\"3\",'Unit Detail'!$D$8:$D$400,'Building Detail'!$B448)","v":0},{"$f":"COUNTIFS('Unit Detail'!$Y$8:$Y$400,\"2\",'Unit Detail'!$D$8:$D$400,'Building Detail'!$B448)","v":0},0,"",""]
[null,null,null,null,null,null,null,null,null,null,null,null,null,null,{"$f":"SUMIFS('Unit Detail'!$H$8:$H$400,'Unit Detail'!$D$8:$D$400,'Building Detail'!$B449,'Unit Detail'!$Y$8:$Y$400,1)","v":0},{"$f":"SUMIFS('Unit Detail'!$H$8:$H$400,'Unit Detail'!$D$8:$D$400,'Building Detail'!$B449,'Unit Detail'!$Y$8:$Y$400,3)","v":0},{"$f":"SUMIFS('Unit Detail'!$H$8:$H$400,'Unit Detail'!$D$8:$D$400,'Building Detail'!$B449,'Unit Detail'!$Y$8:$Y$400,2)","v":0},{"$f":"SUMIF('Unit Detail'!$D$8:$D$400,$B449,'Unit Detail'!$H$8:$H$400)","v":0},0,"",{"$f":"COUNTIFS('Unit Detail'!$Y$8:$Y$400,\"1\",'Unit Detail'!$D$8:$D$400,'Building Detail'!$B449)","v":0},{"$f":"COUNTIFS('Unit Detail'!$Y$8:$Y$400,\"3\",'Unit Detail'!$D$8:$D$400,'Building Detail'!$B449)","v":0},{"$f":"COUNTIFS('Unit Detail'!$Y$8:$Y$400,\"2\",'Unit Detail'!$D$8:$D$400,'Building Detail'!$B449)","v":0},0,"",""]
[null,null,null,null,null,null,null,null,null,null,null,null,null,null,{"$f":"SUMIFS('Unit Detail'!$H$8:$H$400,'Unit Detail'!$D$8:$D$400,'Building Detail'!$B450,'Unit Detail'!$Y$8:$Y$400,1)","v":0},{"$f":"SUMIFS('Unit Detail'!$H$8:$H$400,'Unit Detail'!$D$8:$D$400,'Building Detail'!$B450,'Unit Detail'!$Y$8:$Y$400,3)","v":0},{"$f":"SUMIFS('Unit Detail'!$H$8:$H$400,'Unit Detail'!$D$8:$D$400,'Building Detail'!$B450,'Unit Detail'!$Y$8:$Y$400,2)","v":0},{"$f":"SUMIF('Unit Detail'!$D$8:$D$400,$B450,'Unit Detail'!$H$8:$H$400)","v":0},0,"",{"$f":"COUNTIFS('Unit Detail'!$Y$8:$Y$400,\"1\",'Unit Detail'!$D$8:$D$400,'Building Detail'!$B450)","v":0},{"$f":"COUNTIFS('Unit Detail'!$Y$8:$Y$400,\"3\",'Unit Detail'!$D$8:$D$400,'Building Detail'!$B450)","v":0},{"$f":"COUNTIFS('Unit Detail'!$Y$8:$Y$400,\"2\",'Unit Detail'!$D$8:$D$400,'Building Detail'!$B450)","v":0},0,"",""]
[null,null,null,null,null,null,null,null,null,null,null,null,null,null,{"$f":"SUMIFS('Unit Detail'!$H$8:$H$400,'Unit Detail'!$D$8:$D$400,'Building Detail'!$B451,'Unit Detail'!$Y$8:$Y$400,1)","v":0},{"$f":"SUMIFS('Unit Detail'!$H$8:$H$400,'Unit Detail'!$D$8:$D$400,'Building Detail'!$B451,'Unit Detail'!$Y$8:$Y$400,3)","v":0},{"$f":"SUMIFS('Unit Detail'!$H$8:$H$400,'Unit Detail'!$D$8:$D$400,'Building Detail'!$B451,'Unit Detail'!$Y$8:$Y$400,2)","v":0},{"$f":"SUMIF('Unit Detail'!$D$8:$D$400,$B451,'Unit Detail'!$H$8:$H$400)","v":0},{"$f":"SUM(M451,N451,R451)","v":0},"",{"$f":"COUNTIFS('Unit Detail'!$Y$8:$Y$400,\"1\",'Unit Detail'!$D$8:$D$400,'Building Detail'!$B451)","v":0},{"$f":"COUNTIFS('Unit Detail'!$Y$8:$Y$400,\"3\",'Unit Detail'!$D$8:$D$400,'Building Detail'!$B451)","v":0},{"$f":"COUNTIFS('Unit Detail'!$Y$8:$Y$400,\"2\",'Unit Detail'!$D$8:$D$400,'Building Detail'!$B451)","v":0},{"$f":"SUM(U451:W451)","v":0},"",""]
[null,null,null,null,null,null,null,null,null,null,null,null,null,null,{"$f":"SUMIFS('Unit Detail'!$H$8:$H$400,'Unit Detail'!$D$8:$D$400,'Building Detail'!$B452,'Unit Detail'!$Y$8:$Y$400,1)","v":0},{"$f":"SUMIFS('Unit Detail'!$H$8:$H$400,'Unit Detail'!$D$8:$D$400,'Building Detail'!$B452,'Unit Detail'!$Y$8:$Y$400,3)","v":0},{"$f":"SUMIFS('Unit Detail'!$H$8:$H$400,'Unit Detail'!$D$8:$D$400,'Building Detail'!$B452,'Unit Detail'!$Y$8:$Y$400,2)","v":0},{"$f":"SUMIF('Unit Detail'!$D$8:$D$400,$B452,'Unit Detail'!$H$8:$H$400)","v":0},0,"",{"$f":"COUNTIFS('Unit Detail'!$Y$8:$Y$400,\"1\",'Unit Detail'!$D$8:$D$400,'Building Detail'!$B452)","v":0},{"$f":"COUNTIFS('Unit Detail'!$Y$8:$Y$400,\"3\",'Unit Detail'!$D$8:$D$400,'Building Detail'!$B452)","v":0},{"$f":"COUNTIFS('Unit Detail'!$Y$8:$Y$400,\"2\",'Unit Detail'!$D$8:$D$400,'Building Detail'!$B452)","v":0},0,"",""]
[null,null,null,null,null,null,null,null,null,null,null,null,null,null,{"$f":"SUMIFS('Unit Detail'!$H$8:$H$400,'Unit Detail'!$D$8:$D$400,'Building Detail'!$B453,'Unit Detail'!$Y$8:$Y$400,1)","v":0},{"$f":"SUMIFS('Unit Detail'!$H$8:$H$400,'Unit Detail'!$D$8:$D$400,'Building Detail'!$B453,'Unit Detail'!$Y$8:$Y$400,3)","v":0},{"$f":"SUMIFS('Unit Detail'!$H$8:$H$400,'Unit Detail'!$D$8:$D$400,'Building Detail'!$B453,'Unit Detail'!$Y$8:$Y$400,2)","v":0},{"$f":"SUMIF('Unit Detail'!$D$8:$D$400,$B453,'Unit Detail'!$H$8:$H$400)","v":0},0,"",{"$f":"COUNTIFS('Unit Detail'!$Y$8:$Y$400,\"1\",'Unit Detail'!$D$8:$D$400,'Building Detail'!$B453)","v":0},{"$f":"COUNTIFS('Unit Detail'!$Y$8:$Y$400,\"3\",'Unit Detail'!$D$8:$D$400,'Building Detail'!$B453)","v":0},{"$f":"COUNTIFS('Unit Detail'!$Y$8:$Y$400,\"2\",'Unit Detail'!$D$8:$D$400,'Building Detail'!$B453)","v":0},0,"",""]
[null,null,null,null,null,null,null,null,null,null,null,null,null,null,{"$f":"SUMIFS('Unit Detail'!$H$8:$H$400,'Unit Detail'!$D$8:$D$400,'Building Detail'!$B454,'Unit Detail'!$Y$8:$Y$400,1)","v":0},{"$f":"SUMIFS('Unit Detail'!$H$8:$H$400,'Unit Detail'!$D$8:$D$400,'Building Detail'!$B454,'Unit Detail'!$Y$8:$Y$400,3)","v":0},{"$f":"SUMIFS('Unit Detail'!$H$8:$H$400,'Unit Detail'!$D$8:$D$400,'Building Detail'!$B454,'Unit Detail'!$Y$8:$Y$400,2)","v":0},{"$f":"SUMIF('Unit Detail'!$D$8:$D$400,$B454,'Unit Detail'!$H$8:$H$400)","v":0},0,"",{"$f":"COUNTIFS('Unit Detail'!$Y$8:$Y$400,\"1\",'Unit Detail'!$D$8:$D$400,'Building Detail'!$B454)","v":0},{"$f":"COUNTIFS('Unit Detail'!$Y$8:$Y$400,\"3\",'Unit Detail'!$D$8:$D$400,'Building Detail'!$B454)","v":0},{"$f":"COUNTIFS('Unit Detail'!$Y$8:$Y$400,\"2\",'Unit Detail'!$D$8:$D$400,'Building Detail'!$B454)","v":0},0,"",""]
[null,null,null,null,null,null,null,null,null,null,null,null,null,null,{"$f":"SUMIFS('Unit Detail'!$H$8:$H$400,'Unit Detail'!$D$8:$D$400,'Building Detail'!$B455,'Unit Detail'!$Y$8:$Y$400,1)","v":0},{"$f":"SUMIFS('Unit Detail'!$H$8:$H$400,'Unit Detail'!$D$8:$D$400,'Building Detail'!$B455,'Unit Detail'!$Y$8:$Y$400,3)","v":0},{"$f":"SUMIFS('Unit Detail'!$H$8:$H$400,'Unit Detail'!$D$8:$D$400,'Building Detail'!$B455,'Unit Detail'!$Y$8:$Y$400,2)","v":0},{"$f":"SUMIF('Unit Detail'!$D$8:$D$400,$B455,'Unit Detail'!$H$8:$H$400)","v":0},0,"",{"$f":"COUNTIFS('Unit Detail'!$Y$8:$Y$400,\"1\",'Unit Detail'!$D$8:$D$400,'Building Detail'!$B455)","v":0},{"$f":"COUNTIFS('Unit Detail'!$Y$8:$Y$400,\"3\",'Unit Detail'!$D$8:$D$400,'Building Detail'!$B455)","v":0},{"$f":"COUNTIFS('Unit Detail'!$Y$8:$Y$400,\"2\",'Unit Detail'!$D$8:$D$400,'Building Detail'!$B455)","v":0},0,"",""]
[null,null,null,null,null,null,null,null,null,null,null,null,null,null,{"$f":"SUMIFS('Unit Detail'!$H$8:$H$400,'Unit Detail'!$D$8:$D$400,'Building Detail'!$B456,'Unit Detail'!$Y$8:$Y$400,1)","v":0},{"$f":"SUMIFS('Unit Detail'!$H$8:$H$400,'Unit Detail'!$D$8:$D$400,'Building Detail'!$B456,'Unit Detail'!$Y$8:$Y$400,3)","v":0},{"$f":"SUMIFS('Unit Detail'!$H$8:$H$400,'Unit Detail'!$D$8:$D$400,'Building Detail'!$B456,'Unit Detail'!$Y$8:$Y$400,2)","v":0},{"$f":"SUMIF('Unit Detail'!$D$8:$D$400,$B456,'Unit Detail'!$H$8:$H$400)","v":0},0,"",{"$f":"COUNTIFS('Unit Detail'!$Y$8:$Y$400,\"1\",'Unit Detail'!$D$8:$D$400,'Building Detail'!$B456)","v":0},{"$f":"COUNTIFS('Unit Detail'!$Y$8:$Y$400,\"3\",'Unit Detail'!$D$8:$D$400,'Building Detail'!$B456)","v":0},{"$f":"COUNTIFS('Unit Detail'!$Y$8:$Y$400,\"2\",'Unit Detail'!$D$8:$D$400,'Building Detail'!$B456)","v":0},0,"",""]
[null,null,null,null,null,null,null,null,null,null,null,null,null,null,{"$f":"SUMIFS('Unit Detail'!$H$8:$H$400,'Unit Detail'!$D$8:$D$400,'Building Detail'!$B457,'Unit Detail'!$Y$8:$Y$400,1)","v":0},{"$f":"SUMIFS('Unit Detail'!$H$8:$H$400,'Unit Detail'!$D$8:$D$400,'Building Detail'!$B457,'Unit Detail'!$Y$8:$Y$400,3)","v":0},{"$f":"SUMIFS('Unit Detail'!$H$8:$H$400,'Unit Detail'!$D$8:$D$400,'Building Detail'!$B457,'Unit Detail'!$Y$8:$Y$400,2)","v":0},{"$f":"SUMIF('Unit Detail'!$D$8:$D$400,$B457,'Unit Detail'!$H$8:$H$400)","v":0},0,"",{"$f":"COUNTIFS('Unit Detail'!$Y$8:$Y$400,\"1\",'Unit Detail'!$D$8:$D$400,'Building Detail'!$B457)","v":0},{"$f":"COUNTIFS('Unit Detail'!$Y$8:$Y$400,\"3\",'Unit Detail'!$D$8:$D$400,'Building Detail'!$B457)","v":0},{"$f":"COUNTIFS('Unit Detail'!$Y$8:$Y$400,\"2\",'Unit Detail'!$D$8:$D$400,'Building Detail'!$B457)","v":0},0,"",""]
[null,null,null,null,null,null,null,null,null,null,null,null,null,null,{"$f":"SUMIFS('Unit Detail'!$H$8:$H$400,'Unit Detail'!$D$8:$D$400,'Building Detail'!$B458,'Unit Detail'!$Y$8:$Y$400,1)","v":0},{"$f":"SUMIFS('Unit Detail'!$H$8:$H$400,'Unit Detail'!$D$8:$D$400,'Building Detail'!$B458,'Unit Detail'!$Y$8:$Y$400,3)","v":0},{"$f":"SUMIFS('Unit Detail'!$H$8:$H$400,'Unit Detail'!$D$8:$D$400,'Building Detail'!$B458,'Unit Detail'!$Y$8:$Y$400,2)","v":0},{"$f":"SUMIF('Unit Detail'!$D$8:$D$400,$B458,'Unit Detail'!$H$8:$H$400)","v":0},0,"",{"$f":"COUNTIFS('Unit Detail'!$Y$8:$Y$400,\"1\",'Unit Detail'!$D$8:$D$400,'Building Detail'!$B458)","v":0},{"$f":"COUNTIFS('Unit Detail'!$Y$8:$Y$400,\"3\",'Unit Detail'!$D$8:$D$400,'Building Detail'!$B458)","v":0},{"$f":"COUNTIFS('Unit Detail'!$Y$8:$Y$400,\"2\",'Unit Detail'!$D$8:$D$400,'Building Detail'!$B458)","v":0},0,"",""]
[null,null,null,null,null,null,null,null,null,null,null,null,null,null,{"$f":"SUMIFS('Unit Detail'!$H$8:$H$400,'Unit Detail'!$D$8:$D$400,'Building Detail'!$B459,'Unit Detail'!$Y$8:$Y$400,1)","v":0},{"$f":"SUMIFS('Unit Detail'!$H$8:$H$400,'Unit Detail'!$D$8:$D$400,'Building Detail'!$B459,'Unit Detail'!$Y$8:$Y$400,3)","v":0},{"$f":"SUMIFS('Unit Detail'!$H$8:$H$400,'Unit Detail'!$D$8:$D$400,'Building Detail'!$B459,'Unit Detail'!$Y$8:$Y$400,2)","v":0},{"$f":"SUMIF('Unit Detail'!$D$8:$D$400,$B459,'Unit Detail'!$H$8:$H$400)","v":0},0,"",{"$f":"COUNTIFS('Unit Detail'!$Y$8:$Y$400,\"1\",'Unit Detail'!$D$8:$D$400,'Building Detail'!$B459)","v":0},{"$f":"COUNTIFS('Unit Detail'!$Y$8:$Y$400,\"3\",'Unit Detail'!$D$8:$D$400,'Building Detail'!$B459)","v":0},{"$f":"COUNTIFS('Unit Detail'!$Y$8:$Y$400,\"2\",'Unit Detail'!$D$8:$D$400,'Building Detail'!$B459)","v":0},0,"",""]
[null,null,null,null,null,null,null,null,null,null,null,null,null,null,{"$f":"SUMIFS('Unit Detail'!$H$8:$H$400,'Unit Detail'!$D$8:$D$400,'Building Detail'!$B460,'Unit Detail'!$Y$8:$Y$400,1)","v":0},{"$f":"SUMIFS('Unit Detail'!$H$8:$H$400,'Unit Detail'!$D$8:$D$400,'Building Detail'!$B460,'Unit Detail'!$Y$8:$Y$400,3)","v":0},{"$f":"SUMIFS('Unit Detail'!$H$8:$H$400,'Unit Detail'!$D$8:$D$400,'Building Detail'!$B460,'Unit Detail'!$Y$8:$Y$400,2)","v":0},{"$f":"SUMIF('Unit Detail'!$D$8:$D$400,$B460,'Unit Detail'!$H$8:$H$400)","v":0},0,"",{"$f":"COUNTIFS('Unit Detail'!$Y$8:$Y$400,\"1\",'Unit Detail'!$D$8:$D$400,'Building Detail'!$B460)","v":0},{"$f":"COUNTIFS('Unit Detail'!$Y$8:$Y$400,\"3\",'Unit Detail'!$D$8:$D$400,'Building Detail'!$B460)","v":0},{"$f":"COUNTIFS('Unit Detail'!$Y$8:$Y$400,\"2\",'Unit Detail'!$D$8:$D$400,'Building Detail'!$B460)","v":0},0,"",""]
[null,null,null,null,null,null,null,null,null,null,null,null,null,null,{"$f":"SUMIFS('Unit Detail'!$H$8:$H$400,'Unit Detail'!$D$8:$D$400,'Building Detail'!$B461,'Unit Detail'!$Y$8:$Y$400,1)","v":0},{"$f":"SUMIFS('Unit Detail'!$H$8:$H$400,'Unit Detail'!$D$8:$D$400,'Building Detail'!$B461,'Unit Detail'!$Y$8:$Y$400,3)","v":0},{"$f":"SUMIFS('Unit Detail'!$H$8:$H$400,'Unit Detail'!$D$8:$D$400,'Building Detail'!$B461,'Unit Detail'!$Y$8:$Y$400,2)","v":0},{"$f":"SUMIF('Unit Detail'!$D$8:$D$400,$B461,'Unit Detail'!$H$8:$H$400)","v":0},0,"",{"$f":"COUNTIFS('Unit Detail'!$Y$8:$Y$400,\"1\",'Unit Detail'!$D$8:$D$400,'Building Detail'!$B461)","v":0},{"$f":"COUNTIFS('Unit Detail'!$Y$8:$Y$400,\"3\",'Unit Detail'!$D$8:$D$400,'Building Detail'!$B461)","v":0},{"$f":"COUNTIFS('Unit Detail'!$Y$8:$Y$400,\"2\",'Unit Detail'!$D$8:$D$400,'Building Detail'!$B461)","v":0},0,"",""]
[null,null,null,null,null,null,null,null,null,null,null,null,null,null,{"$f":"SUMIFS('Unit Detail'!$H$8:$H$400,'Unit Detail'!$D$8:$D$400,'Building Detail'!$B462,'Unit Detail'!$Y$8:$Y$400,1)","v":0},{"$f":"SUMIFS('Unit Detail'!$H$8:$H$400,'Unit Detail'!$D$8:$D$400,'Building Detail'!$B462,'Unit Detail'!$Y$8:$Y$400,3)","v":0},{"$f":"SUMIFS('Unit Detail'!$H$8:$H$400,'Unit Detail'!$D$8:$D$400,'Building Detail'!$B462,'Unit Detail'!$Y$8:$Y$400,2)","v":0},{"$f":"SUMIF('Unit Detail'!$D$8:$D$400,$B462,'Unit Detail'!$H$8:$H$400)","v":0},0,"",{"$f":"COUNTIFS('Unit Detail'!$Y$8:$Y$400,\"1\",'Unit Detail'!$D$8:$D$400,'Building Detail'!$B462)","v":0},{"$f":"COUNTIFS('Unit Detail'!$Y$8:$Y$400,\"3\",'Unit Detail'!$D$8:$D$400,'Building Detail'!$B462)","v":0},{"$f":"COUNTIFS('Unit Detail'!$Y$8:$Y$400,\"2\",'Unit Detail'!$D$8:$D$400,'Building Detail'!$B462)","v":0},0,"",""]
[null,null,null,null,null,null,null,null,null,null,null,null,null,null,{"$f":"SUMIFS('Unit Detail'!$H$8:$H$400,'Unit Detail'!$D$8:$D$400,'Building Detail'!$B463,'Unit Detail'!$Y$8:$Y$400,1)","v":0},{"$f":"SUMIFS('Unit Detail'!$H$8:$H$400,'Unit Detail'!$D$8:$D$400,'Building Detail'!$B463,'Unit Detail'!$Y$8:$Y$400,3)","v":0},{"$f":"SUMIFS('Unit Detail'!$H$8:$H$400,'Unit Detail'!$D$8:$D$400,'Building Detail'!$B463,'Unit Detail'!$Y$8:$Y$400,2)","v":0},{"$f":"SUMIF('Unit Detail'!$D$8:$D$400,$B463,'Unit Detail'!$H$8:$H$400)","v":0},0,"",{"$f":"COUNTIFS('Unit Detail'!$Y$8:$Y$400,\"1\",'Unit Detail'!$D$8:$D$400,'Building Detail'!$B463)","v":0},{"$f":"COUNTIFS('Unit Detail'!$Y$8:$Y$400,\"3\",'Unit Detail'!$D$8:$D$400,'Building Detail'!$B463)","v":0},{"$f":"COUNTIFS('Unit Detail'!$Y$8:$Y$400,\"2\",'Unit Detail'!$D$8:$D$400,'Building Detail'!$B463)","v":0},0,"",""]
[null,null,null,null,null,null,null,null,null,null,null,null,null,null,{"$f":"SUMIFS('Unit Detail'!$H$8:$H$400,'Unit Detail'!$D$8:$D$400,'Building Detail'!$B464,'Unit Detail'!$Y$8:$Y$400,1)","v":0},{"$f":"SUMIFS('Unit Detail'!$H$8:$H$400,'Unit Detail'!$D$8:$D$400,'Building Detail'!$B464,'Unit Detail'!$Y$8:$Y$400,3)","v":0},{"$f":"SUMIFS('Unit Detail'!$H$8:$H$400,'Unit Detail'!$D$8:$D$400,'Building Detail'!$B464,'Unit Detail'!$Y$8:$Y$400,2)","v":0},{"$f":"SUMIF('Unit Detail'!$D$8:$D$400,$B464,'Unit Detail'!$H$8:$H$400)","v":0},0,"",{"$f":"COUNTIFS('Unit Detail'!$Y$8:$Y$400,\"1\",'Unit Detail'!$D$8:$D$400,'Building Detail'!$B464)","v":0},{"$f":"COUNTIFS('Unit Detail'!$Y$8:$Y$400,\"3\",'Unit Detail'!$D$8:$D$400,'Building Detail'!$B464)","v":0},{"$f":"COUNTIFS('Unit Detail'!$Y$8:$Y$400,\"2\",'Unit Detail'!$D$8:$D$400,'Building Detail'!$B464)","v":0},0,"",""]
[null,null,null,null,null,null,null,null,null,null,null,null,null,null,{"$f":"SUMIFS('Unit Detail'!$H$8:$H$400,'Unit Detail'!$D$8:$D$400,'Building Detail'!$B465,'Unit Detail'!$Y$8:$Y$400,1)","v":0},{"$f":"SUMIFS('Unit Detail'!$H$8:$H$400,'Unit Detail'!$D$8:$D$400,'Building Detail'!$B465,'Unit Detail'!$Y$8:$Y$400,3)","v":0},{"$f":"SUMIFS('Unit Detail'!$H$8:$H$400,'Unit Detail'!$D$8:$D$400,'Building Detail'!$B465,'Unit Detail'!$Y$8:$Y$400,2)","v":0},{"$f":"SUMIF('Unit Detail'!$D$8:$D$400,$B465,'Unit Detail'!$H$8:$H$400)","v":0},0,"",{"$f":"COUNTIFS('Unit Detail'!$Y$8:$Y$400,\"1\",'Unit Detail'!$D$8:$D$400,'Building Detail'!$B465)","v":0},{"$f":"COUNTIFS('Unit Detail'!$Y$8:$Y$400,\"3\",'Unit Detail'!$D$8:$D$400,'Building Detail'!$B465)","v":0},{"$f":"COUNTIFS('Unit Detail'!$Y$8:$Y$400,\"2\",'Unit Detail'!$D$8:$D$400,'Building Detail'!$B465)","v":0},0,"",""]
[null,null,null,null,null,null,null,null,null,null,null,null,null,null,{"$f":"SUMIFS('Unit Detail'!$H$8:$H$400,'Unit Detail'!$D$8:$D$400,'Building Detail'!$B466,'Unit Detail'!$Y$8:$Y$400,1)","v":0},{"$f":"SUMIFS('Unit Detail'!$H$8:$H$400,'Unit Detail'!$D$8:$D$400,'Building Detail'!$B466,'Unit Detail'!$Y$8:$Y$400,3)","v":0},{"$f":"SUMIFS('Unit Detail'!$H$8:$H$400,'Unit Detail'!$D$8:$D$400,'Building Detail'!$B466,'Unit Detail'!$Y$8:$Y$400,2)","v":0},{"$f":"SUMIF('Unit Detail'!$D$8:$D$400,$B466,'Unit Detail'!$H$8:$H$400)","v":0},0,"",{"$f":"COUNTIFS('Unit Detail'!$Y$8:$Y$400,\"1\",'Unit Detail'!$D$8:$D$400,'Building Detail'!$B466)","v":0},{"$f":"COUNTIFS('Unit Detail'!$Y$8:$Y$400,\"3\",'Unit Detail'!$D$8:$D$400,'Building Detail'!$B466)","v":0},{"$f":"COUNTIFS('Unit Detail'!$Y$8:$Y$400,\"2\",'Unit Detail'!$D$8:$D$400,'Building Detail'!$B466)","v":0},0,"",{"$f":"IF(Y466<T466,Y466,T466)","v":""}]
[null,null,null,null,null,null,null,null,null,null,null,null,null,null,{"$f":"SUMIFS('Unit Detail'!$H$8:$H$400,'Unit Detail'!$D$8:$D$400,'Building Detail'!$B467,'Unit Detail'!$Y$8:$Y$400,1)","v":0},{"$f":"SUMIFS('Unit Detail'!$H$8:$H$400,'Unit Detail'!$D$8:$D$400,'Building Detail'!$B467,'Unit Detail'!$Y$8:$Y$400,3)","v":0},{"$f":"SUMIFS('Unit Detail'!$H$8:$H$400,'Unit Detail'!$D$8:$D$400,'Building Detail'!$B467,'Unit Detail'!$Y$8:$Y$400,2)","v":0},{"$f":"SUMIF('Unit Detail'!$D$8:$D$400,$B467,'Unit Detail'!$H$8:$H$400)","v":0},0,"",{"$f":"COUNTIFS('Unit Detail'!$Y$8:$Y$400,\"1\",'Unit Detail'!$D$8:$D$400,'Building Detail'!$B467)","v":0},{"$f":"COUNTIFS('Unit Detail'!$Y$8:$Y$400,\"3\",'Unit Detail'!$D$8:$D$400,'Building Detail'!$B467)","v":0},{"$f":"COUNTIFS('Unit Detail'!$Y$8:$Y$400,\"2\",'Unit Detail'!$D$8:$D$400,'Building Detail'!$B467)","v":0},0,{"$f":"IF(B467=\"\",\"\",IF($P$15=0,1,U467/X467))","v":""},""]
[null,null,null,null,null,null,null,null,null,null,null,null,null,null,{"$f":"SUMIFS('Unit Detail'!$H$8:$H$400,'Unit Detail'!$D$8:$D$400,'Building Detail'!$B468,'Unit Detail'!$Y$8:$Y$400,1)","v":0},{"$f":"SUMIFS('Unit Detail'!$H$8:$H$400,'Unit Detail'!$D$8:$D$400,'Building Detail'!$B468,'Unit Detail'!$Y$8:$Y$400,3)","v":0},{"$f":"SUMIFS('Unit Detail'!$H$8:$H$400,'Unit Detail'!$D$8:$D$400,'Building Detail'!$B468,'Unit Detail'!$Y$8:$Y$400,2)","v":0},{"$f":"SUMIF('Unit Detail'!$D$8:$D$400,$B468,'Unit Detail'!$H$8:$H$400)","v":0},0,"",{"$f":"COUNTIFS('Unit Detail'!$Y$8:$Y$400,\"1\",'Unit Detail'!$D$8:$D$400,'Building Detail'!$B468)","v":0},{"$f":"COUNTIFS('Unit Detail'!$Y$8:$Y$400,\"3\",'Unit Detail'!$D$8:$D$400,'Building Detail'!$B468)","v":0},{"$f":"COUNTIFS('Unit Detail'!$Y$8:$Y$400,\"2\",'Unit Detail'!$D$8:$D$400,'Building Detail'!$B468)","v":0},0,"",""]
[null,null,null,null,null,null,null,null,null,null,null,null,null,null,{"$f":"SUMIFS('Unit Detail'!$H$8:$H$400,'Unit Detail'!$D$8:$D$400,'Building Detail'!$B469,'Unit Detail'!$Y$8:$Y$400,1)","v":0},{"$f":"SUMIFS('Unit Detail'!$H$8:$H$400,'Unit Detail'!$D$8:$D$400,'Building Detail'!$B469,'Unit Detail'!$Y$8:$Y$400,3)","v":0},{"$f":"SUMIFS('Unit Detail'!$H$8:$H$400,'Unit Detail'!$D$8:$D$400,'Building Detail'!$B469,'Unit Detail'!$Y$8:$Y$400,2)","v":0},{"$f":"SUMIF('Unit Detail'!$D$8:$D$400,$B469,'Unit Detail'!$H$8:$H$400)","v":0},0,{"$f":"IF(B469=\"\",\"\",IF($P$15=0,1,O469/R469))","v":""},{"$f":"COUNTIFS('Unit Detail'!$Y$8:$Y$400,\"1\",'Unit Detail'!$D$8:$D$400,'Building Detail'!$B469)","v":0},{"$f":"COUNTIFS('Unit Detail'!$Y$8:$Y$400,\"3\",'Unit Detail'!$D$8:$D$400,'Building Detail'!$B469)","v":0},{"$f":"COUNTIFS('Unit Detail'!$Y$8:$Y$400,\"2\",'Unit Detail'!$D$8:$D$400,'Building Detail'!$B469)","v":0},0,"",""]
[null,null,null,null,null,null,null,null,null,null,null,null,null,null,{"$f":"SUMIFS('Unit Detail'!$H$8:$H$400,'Unit Detail'!$D$8:$D$400,'Building Detail'!$B470,'Unit Detail'!$Y$8:$Y$400,1)","v":0},{"$f":"SUMIFS('Unit Detail'!$H$8:$H$400,'Unit Detail'!$D$8:$D$400,'Building Detail'!$B470,'Unit Detail'!$Y$8:$Y$400,3)","v":0},{"$f":"SUMIFS('Unit Detail'!$H$8:$H$400,'Unit Detail'!$D$8:$D$400,'Building Detail'!$B470,'Unit Detail'!$Y$8:$Y$400,2)","v":0},{"$f":"SUMIF('Unit Detail'!$D$8:$D$400,$B470,'Unit Detail'!$H$8:$H$400)","v":0},0,"",{"$f":"COUNTIFS('Unit Detail'!$Y$8:$Y$400,\"1\",'Unit Detail'!$D$8:$D$400,'Building Detail'!$B470)","v":0},{"$f":"COUNTIFS('Unit Detail'!$Y$8:$Y$400,\"3\",'Unit Detail'!$D$8:$D$400,'Building Detail'!$B470)","v":0},{"$f":"COUNTIFS('Unit Detail'!$Y$8:$Y$400,\"2\",'Unit Detail'!$D$8:$D$400,'Building Detail'!$B470)","v":0},0,"",""]
[null,null,null,null,null,null,null,null,null,null,null,null,null,null,{"$f":"SUMIFS('Unit Detail'!$H$8:$H$400,'Unit Detail'!$D$8:$D$400,'Building Detail'!$B471,'Unit Detail'!$Y$8:$Y$400,1)","v":0},{"$f":"SUMIFS('Unit Detail'!$H$8:$H$400,'Unit Detail'!$D$8:$D$400,'Building Detail'!$B471,'Unit Detail'!$Y$8:$Y$400,3)","v":0},{"$f":"SUMIFS('Unit Detail'!$H$8:$H$400,'Unit Detail'!$D$8:$D$400,'Building Detail'!$B471,'Unit Detail'!$Y$8:$Y$400,2)","v":0},{"$f":"SUMIF('Unit Detail'!$D$8:$D$400,$B471,'Unit Detail'!$H$8:$H$400)","v":0},0,"",{"$f":"COUNTIFS('Unit Detail'!$Y$8:$Y$400,\"1\",'Unit Detail'!$D$8:$D$400,'Building Detail'!$B471)","v":0},{"$f":"COUNTIFS('Unit Detail'!$Y$8:$Y$400,\"3\",'Unit Detail'!$D$8:$D$400,'Building Detail'!$B471)","v":0},{"$f":"COUNTIFS('Unit Detail'!$Y$8:$Y$400,\"2\",'Unit Detail'!$D$8:$D$400,'Building Detail'!$B471)","v":0},0,"",""]
[null,null,null,null,null,null,null,null,null,null,null,null,null,null,{"$f":"SUMIFS('Unit Detail'!$H$8:$H$400,'Unit Detail'!$D$8:$D$400,'Building Detail'!$B472,'Unit Detail'!$Y$8:$Y$400,1)","v":0},{"$f":"SUMIFS('Unit Detail'!$H$8:$H$400,'Unit Detail'!$D$8:$D$400,'Building Detail'!$B472,'Unit Detail'!$Y$8:$Y$400,3)","v":0},{"$f":"SUMIFS('Unit Detail'!$H$8:$H$400,'Unit Detail'!$D$8:$D$400,'Building Detail'!$B472,'Unit Detail'!$Y$8:$Y$400,2)","v":0},{"$f":"SUMIF('Unit Detail'!$D$8:$D$400,$B472,'Unit Detail'!$H$8:$H$400)","v":0},0,"",{"$f":"COUNTIFS('Unit Detail'!$Y$8:$Y$400,\"1\",'Unit Detail'!$D$8:$D$400,'Building Detail'!$B472)","v":0},{"$f":"COUNTIFS('Unit Detail'!$Y$8:$Y$400,\"3\",'Unit Detail'!$D$8:$D$400,'Building Detail'!$B472)","v":0},{"$f":"COUNTIFS('Unit Detail'!$Y$8:$Y$400,\"2\",'Unit Detail'!$D$8:$D$400,'Building Detail'!$B472)","v":0},0,"",""]
[null,null,null,null,null,null,null,null,null,null,null,null,null,null,{"$f":"SUMIFS('Unit Detail'!$H$8:$H$400,'Unit Detail'!$D$8:$D$400,'Building Detail'!$B473,'Unit Detail'!$Y$8:$Y$400,1)","v":0},{"$f":"SUMIFS('Unit Detail'!$H$8:$H$400,'Unit Detail'!$D$8:$D$400,'Building Detail'!$B473,'Unit Detail'!$Y$8:$Y$400,3)","v":0},{"$f":"SUMIFS('Unit Detail'!$H$8:$H$400,'Unit Detail'!$D$8:$D$400,'Building Detail'!$B473,'Unit Detail'!$Y$8:$Y$400,2)","v":0},{"$f":"SUMIF('Unit Detail'!$D$8:$D$400,$B473,'Unit Detail'!$H$8:$H$400)","v":0},0,"",{"$f":"COUNTIFS('Unit Detail'!$Y$8:$Y$400,\"1\",'Unit Detail'!$D$8:$D$400,'Building Detail'!$B473)","v":0},{"$f":"COUNTIFS('Unit Detail'!$Y$8:$Y$400,\"3\",'Unit Detail'!$D$8:$D$400,'Building Detail'!$B473)","v":0},{"$f":"COUNTIFS('Unit Detail'!$Y$8:$Y$400,\"2\",'Unit Detail'!$D$8:$D$400,'Building Detail'!$B473)","v":0},0,"",""]
[null,null,null,null,null,null,null,null,null,null,null,null,null,null,{"$f":"SUMIFS('Unit Detail'!$H$8:$H$400,'Unit Detail'!$D$8:$D$400,'Building Detail'!$B474,'Unit Detail'!$Y$8:$Y$400,1)","v":0},{"$f":"SUMIFS('Unit Detail'!$H$8:$H$400,'Unit Detail'!$D$8:$D$400,'Building Detail'!$B474,'Unit Detail'!$Y$8:$Y$400,3)","v":0},{"$f":"SUMIFS('Unit Detail'!$H$8:$H$400,'Unit Detail'!$D$8:$D$400,'Building Detail'!$B474,'Unit Detail'!$Y$8:$Y$400,2)","v":0},{"$f":"SUMIF('Unit Detail'!$D$8:$D$400,$B474,'Unit Detail'!$H$8:$H$400)","v":0},0,"",{"$f":"COUNTIFS('Unit Detail'!$Y$8:$Y$400,\"1\",'Unit Detail'!$D$8:$D$400,'Building Detail'!$B474)","v":0},{"$f":"COUNTIFS('Unit Detail'!$Y$8:$Y$400,\"3\",'Unit Detail'!$D$8:$D$400,'Building Detail'!$B474)","v":0},{"$f":"COUNTIFS('Unit Detail'!$Y$8:$Y$400,\"2\",'Unit Detail'!$D$8:$D$400,'Building Detail'!$B474)","v":0},0,"",""]
[null,null,null,null,null,null,null,null,null,null,null,null,null,null,{"$f":"SUMIFS('Unit Detail'!$H$8:$H$400,'Unit Detail'!$D$8:$D$400,'Building Detail'!$B475,'Unit Detail'!$Y$8:$Y$400,1)","v":0},{"$f":"SUMIFS('Unit Detail'!$H$8:$H$400,'Unit Detail'!$D$8:$D$400,'Building Detail'!$B475,'Unit Detail'!$Y$8:$Y$400,3)","v":0},{"$f":"SUMIFS('Unit Detail'!$H$8:$H$400,'Unit Detail'!$D$8:$D$400,'Building Detail'!$B475,'Unit Detail'!$Y$8:$Y$400,2)","v":0},{"$f":"SUMIF('Unit Detail'!$D$8:$D$400,$B475,'Unit Detail'!$H$8:$H$400)","v":0},0,"",{"$f":"COUNTIFS('Unit Detail'!$Y$8:$Y$400,\"1\",'Unit Detail'!$D$8:$D$400,'Building Detail'!$B475)","v":0},{"$f":"COUNTIFS('Unit Detail'!$Y$8:$Y$400,\"3\",'Unit Detail'!$D$8:$D$400,'Building Detail'!$B475)","v":0},{"$f":"COUNTIFS('Unit Detail'!$Y$8:$Y$400,\"2\",'Unit Detail'!$D$8:$D$400,'Building Detail'!$B475)","v":0},0,"",""]
[null,null,null,null,null,null,null,null,null,null,null,null,null,null,{"$f":"SUMIFS('Unit Detail'!$H$8:$H$400,'Unit Detail'!$D$8:$D$400,'Building Detail'!$B476,'Unit Detail'!$Y$8:$Y$400,1)","v":0},{"$f":"SUMIFS('Unit Detail'!$H$8:$H$400,'Unit Detail'!$D$8:$D$400,'Building Detail'!$B476,'Unit Detail'!$Y$8:$Y$400,3)","v":0},{"$f":"SUMIFS('Unit Detail'!$H$8:$H$400,'Unit Detail'!$D$8:$D$400,'Building Detail'!$B476,'Unit Detail'!$Y$8:$Y$400,2)","v":0},{"$f":"SUMIF('Unit Detail'!$D$8:$D$400,$B476,'Unit Detail'!$H$8:$H$400)","v":0},0,"",{"$f":"COUNTIFS('Unit Detail'!$Y$8:$Y$400,\"1\",'Unit Detail'!$D$8:$D$400,'Building Detail'!$B476)","v":0},{"$f":"COUNTIFS('Unit Detail'!$Y$8:$Y$400,\"3\",'Unit Detail'!$D$8:$D$400,'Building Detail'!$B476)","v":0},{"$f":"COUNTIFS('Unit Detail'!$Y$8:$Y$400,\"2\",'Unit Detail'!$D$8:$D$400,'Building Detail'!$B476)","v":0},0,"",""]
[null,null,null,null,null,null,null,null,null,null,null,null,null,null,{"$f":"SUMIFS('Unit Detail'!$H$8:$H$400,'Unit Detail'!$D$8:$D$400,'Building Detail'!$B477,'Unit Detail'!$Y$8:$Y$400,1)","v":0},{"$f":"SUMIFS('Unit Detail'!$H$8:$H$400,'Unit Detail'!$D$8:$D$400,'Building Detail'!$B477,'Unit Detail'!$Y$8:$Y$400,3)","v":0},{"$f":"SUMIFS('Unit Detail'!$H$8:$H$400,'Unit Detail'!$D$8:$D$400,'Building Detail'!$B477,'Unit Detail'!$Y$8:$Y$400,2)","v":0},{"$f":"SUMIF('Unit Detail'!$D$8:$D$400,$B477,'Unit Detail'!$H$8:$H$400)","v":0},0,"",{"$f":"COUNTIFS('Unit Detail'!$Y$8:$Y$400,\"1\",'Unit Detail'!$D$8:$D$400,'Building Detail'!$B477)","v":0},{"$f":"COUNTIFS('Unit Detail'!$Y$8:$Y$400,\"3\",'Unit Detail'!$D$8:$D$400,'Building Detail'!$B477)","v":0},{"$f":"COUNTIFS('Unit Detail'!$Y$8:$Y$400,\"2\",'Unit Detail'!$D$8:$D$400,'Building Detail'!$B477)","v":0},0,"",""]
[null,null,null,null,null,null,null,null,null,null,null,null,null,null,{"$f":"SUMIFS('Unit Detail'!$H$8:$H$400,'Unit Detail'!$D$8:$D$400,'Building Detail'!$B478,'Unit Detail'!$Y$8:$Y$400,1)","v":0},{"$f":"SUMIFS('Unit Detail'!$H$8:$H$400,'Unit Detail'!$D$8:$D$400,'Building Detail'!$B478,'Unit Detail'!$Y$8:$Y$400,3)","v":0},{"$f":"SUMIFS('Unit Detail'!$H$8:$H$400,'Unit Detail'!$D$8:$D$400,'Building Detail'!$B478,'Unit Detail'!$Y$8:$Y$400,2)","v":0},{"$f":"SUMIF('Unit Detail'!$D$8:$D$400,$B478,'Unit Detail'!$H$8:$H$400)","v":0},0,"",{"$f":"COUNTIFS('Unit Detail'!$Y$8:$Y$400,\"1\",'Unit Detail'!$D$8:$D$400,'Building Detail'!$B478)","v":0},{"$f":"COUNTIFS('Unit Detail'!$Y$8:$Y$400,\"3\",'Unit Detail'!$D$8:$D$400,'Building Detail'!$B478)","v":0},{"$f":"COUNTIFS('Unit Detail'!$Y$8:$Y$400,\"2\",'Unit Detail'!$D$8:$D$400,'Building Detail'!$B478)","v":0},0,"",""]
[null,null,null,null,null,null,null,null,null,null,null,null,null,null,{"$f":"SUMIFS('Unit Detail'!$H$8:$H$400,'Unit Detail'!$D$8:$D$400,'Building Detail'!$B479,'Unit Detail'!$Y$8:$Y$400,1)","v":0},{"$f":"SUMIFS('Unit Detail'!$H$8:$H$400,'Unit Detail'!$D$8:$D$400,'Building Detail'!$B479,'Unit Detail'!$Y$8:$Y$400,3)","v":0},{"$f":"SUMIFS('Unit Detail'!$H$8:$H$400,'Unit Detail'!$D$8:$D$400,'Building Detail'!$B479,'Unit Detail'!$Y$8:$Y$400,2)","v":0},{"$f":"SUMIF('Unit Detail'!$D$8:$D$400,$B479,'Unit Detail'!$H$8:$H$400)","v":0},0,"",{"$f":"COUNTIFS('Unit Detail'!$Y$8:$Y$400,\"1\",'Unit Detail'!$D$8:$D$400,'Building Detail'!$B479)","v":0},{"$f":"COUNTIFS('Unit Detail'!$Y$8:$Y$400,\"3\",'Unit Detail'!$D$8:$D$400,'Building Detail'!$B479)","v":0},{"$f":"COUNTIFS('Unit Detail'!$Y$8:$Y$400,\"2\",'Unit Detail'!$D$8:$D$400,'Building Detail'!$B479)","v":0},0,"",""]
[null,null,null,null,null,null,null,null,null,null,null,null,null,null,{"$f":"SUMIFS('Unit Detail'!$H$8:$H$400,'Unit Detail'!$D$8:$D$400,'Building Detail'!$B480,'Unit Detail'!$Y$8:$Y$400,1)","v":0},{"$f":"SUMIFS('Unit Detail'!$H$8:$H$400,'Unit Detail'!$D$8:$D$400,'Building Detail'!$B480,'Unit Detail'!$Y$8:$Y$400,3)","v":0},{"$f":"SUMIFS('Unit Detail'!$H$8:$H$400,'Unit Detail'!$D$8:$D$400,'Building Detail'!$B480,'Unit Detail'!$Y$8:$Y$400,2)","v":0},{"$f":"SUMIF('Unit Detail'!$D$8:$D$400,$B480,'Unit Detail'!$H$8:$H$400)","v":0},0,"",{"$f":"COUNTIFS('Unit Detail'!$Y$8:$Y$400,\"1\",'Unit Detail'!$D$8:$D$400,'Building Detail'!$B480)","v":0},{"$f":"COUNTIFS('Unit Detail'!$Y$8:$Y$400,\"3\",'Unit Detail'!$D$8:$D$400,'Building Detail'!$B480)","v":0},{"$f":"COUNTIFS('Unit Detail'!$Y$8:$Y$400,\"2\",'Unit Detail'!$D$8:$D$400,'Building Detail'!$B480)","v":0},0,"",""]
[null,null,null,null,null,null,null,null,null,null,null,null,null,null,{"$f":"SUMIFS('Unit Detail'!$H$8:$H$400,'Unit Detail'!$D$8:$D$400,'Building Detail'!$B481,'Unit Detail'!$Y$8:$Y$400,1)","v":0},{"$f":"SUMIFS('Unit Detail'!$H$8:$H$400,'Unit Detail'!$D$8:$D$400,'Building Detail'!$B481,'Unit Detail'!$Y$8:$Y$400,3)","v":0},{"$f":"SUMIFS('Unit Detail'!$H$8:$H$400,'Unit Detail'!$D$8:$D$400,'Building Detail'!$B481,'Unit Detail'!$Y$8:$Y$400,2)","v":0},{"$f":"SUMIF('Unit Detail'!$D$8:$D$400,$B481,'Unit Detail'!$H$8:$H$400)","v":0},0,"",{"$f":"COUNTIFS('Unit Detail'!$Y$8:$Y$400,\"1\",'Unit Detail'!$D$8:$D$400,'Building Detail'!$B481)","v":0},{"$f":"COUNTIFS('Unit Detail'!$Y$8:$Y$400,\"3\",'Unit Detail'!$D$8:$D$400,'Building Detail'!$B481)","v":0},{"$f":"COUNTIFS('Unit Detail'!$Y$8:$Y$400,\"2\",'Unit Detail'!$D$8:$D$400,'Building Detail'!$B481)","v":0},0,"",""]
[null,null,null,null,null,null,null,null,null,null,null,null,null,null,{"$f":"SUMIFS('Unit Detail'!$H$8:$H$400,'Unit Detail'!$D$8:$D$400,'Building Detail'!$B482,'Unit Detail'!$Y$8:$Y$400,1)","v":0},{"$f":"SUMIFS('Unit Detail'!$H$8:$H$400,'Unit Detail'!$D$8:$D$400,'Building Detail'!$B482,'Unit Detail'!$Y$8:$Y$400,3)","v":0},{"$f":"SUMIFS('Unit Detail'!$H$8:$H$400,'Unit Detail'!$D$8:$D$400,'Building Detail'!$B482,'Unit Detail'!$Y$8:$Y$400,2)","v":0},{"$f":"SUMIF('Unit Detail'!$D$8:$D$400,$B482,'Unit Detail'!$H$8:$H$400)","v":0},0,"",{"$f":"COUNTIFS('Unit Detail'!$Y$8:$Y$400,\"1\",'Unit Detail'!$D$8:$D$400,'Building Detail'!$B482)","v":0},{"$f":"COUNTIFS('Unit Detail'!$Y$8:$Y$400,\"3\",'Unit Detail'!$D$8:$D$400,'Building Detail'!$B482)","v":0},{"$f":"COUNTIFS('Unit Detail'!$Y$8:$Y$400,\"2\",'Unit Detail'!$D$8:$D$400,'Building Detail'!$B482)","v":0},0,"",""]
[null,null,null,null,null,null,null,null,null,null,null,null,null,null,{"$f":"SUMIFS('Unit Detail'!$H$8:$H$400,'Unit Detail'!$D$8:$D$400,'Building Detail'!$B483,'Unit Detail'!$Y$8:$Y$400,1)","v":0},{"$f":"SUMIFS('Unit Detail'!$H$8:$H$400,'Unit Detail'!$D$8:$D$400,'Building Detail'!$B483,'Unit Detail'!$Y$8:$Y$400,3)","v":0},{"$f":"SUMIFS('Unit Detail'!$H$8:$H$400,'Unit Detail'!$D$8:$D$400,'Building Detail'!$B483,'Unit Detail'!$Y$8:$Y$400,2)","v":0},{"$f":"SUMIF('Unit Detail'!$D$8:$D$400,$B483,'Unit Detail'!$H$8:$H$400)","v":0},0,"",{"$f":"COUNTIFS('Unit Detail'!$Y$8:$Y$400,\"1\",'Unit Detail'!$D$8:$D$400,'Building Detail'!$B483)","v":0},{"$f":"COUNTIFS('Unit Detail'!$Y$8:$Y$400,\"3\",'Unit Detail'!$D$8:$D$400,'Building Detail'!$B483)","v":0},{"$f":"COUNTIFS('Unit Detail'!$Y$8:$Y$400,\"2\",'Unit Detail'!$D$8:$D$400,'Building Detail'!$B483)","v":0},0,"",""]
[null,null,null,null,null,null,null,null,null,null,null,null,null,null,{"$f":"SUMIFS('Unit Detail'!$H$8:$H$400,'Unit Detail'!$D$8:$D$400,'Building Detail'!$B484,'Unit Detail'!$Y$8:$Y$400,1)","v":0},{"$f":"SUMIFS('Unit Detail'!$H$8:$H$400,'Unit Detail'!$D$8:$D$400,'Building Detail'!$B484,'Unit Detail'!$Y$8:$Y$400,3)","v":0},{"$f":"SUMIFS('Unit Detail'!$H$8:$H$400,'Unit Detail'!$D$8:$D$400,'Building Detail'!$B484,'Unit Detail'!$Y$8:$Y$400,2)","v":0},{"$f":"SUMIF('Unit Detail'!$D$8:$D$400,$B484,'Unit Detail'!$H$8:$H$400)","v":0},0,"",{"$f":"COUNTIFS('Unit Detail'!$Y$8:$Y$400,\"1\",'Unit Detail'!$D$8:$D$400,'Building Detail'!$B484)","v":0},{"$f":"COUNTIFS('Unit Detail'!$Y$8:$Y$400,\"3\",'Unit Detail'!$D$8:$D$400,'Building Detail'!$B484)","v":0},{"$f":"COUNTIFS('Unit Detail'!$Y$8:$Y$400,\"2\",'Unit Detail'!$D$8:$D$400,'Building Detail'!$B484)","v":0},0,"",""]
[null,null,null,null,null,null,null,null,null,null,null,null,null,null,{"$f":"SUMIFS('Unit Detail'!$H$8:$H$400,'Unit Detail'!$D$8:$D$400,'Building Detail'!$B485,'Unit Detail'!$Y$8:$Y$400,1)","v":0},{"$f":"SUMIFS('Unit Detail'!$H$8:$H$400,'Unit Detail'!$D$8:$D$400,'Building Detail'!$B485,'Unit Detail'!$Y$8:$Y$400,3)","v":0},{"$f":"SUMIFS('Unit Detail'!$H$8:$H$400,'Unit Detail'!$D$8:$D$400,'Building Detail'!$B485,'Unit Detail'!$Y$8:$Y$400,2)","v":0},{"$f":"SUMIF('Unit Detail'!$D$8:$D$400,$B485,'Unit Detail'!$H$8:$H$400)","v":0},0,"",{"$f":"COUNTIFS('Unit Detail'!$Y$8:$Y$400,\"1\",'Unit Detail'!$D$8:$D$400,'Building Detail'!$B485)","v":0},{"$f":"COUNTIFS('Unit Detail'!$Y$8:$Y$400,\"3\",'Unit Detail'!$D$8:$D$400,'Building Detail'!$B485)","v":0},{"$f":"COUNTIFS('Unit Detail'!$Y$8:$Y$400,\"2\",'Unit Detail'!$D$8:$D$400,'Building Detail'!$B485)","v":0},0,"",""]
[null,null,null,null,null,null,null,null,null,null,null,null,null,null,{"$f":"SUMIFS('Unit Detail'!$H$8:$H$400,'Unit Detail'!$D$8:$D$400,'Building Detail'!$B486,'Unit Detail'!$Y$8:$Y$400,1)","v":0},{"$f":"SUMIFS('Unit Detail'!$H$8:$H$400,'Unit Detail'!$D$8:$D$400,'Building Detail'!$B486,'Unit Detail'!$Y$8:$Y$400,3)","v":0},{"$f":"SUMIFS('Unit Detail'!$H$8:$H$400,'Unit Detail'!$D$8:$D$400,'Building Detail'!$B486,'Unit Detail'!$Y$8:$Y$400,2)","v":0},{"$f":"SUMIF('Unit Detail'!$D$8:$D$400,$B486,'Unit Detail'!$H$8:$H$400)","v":0},0,"",{"$f":"COUNTIFS('Unit Detail'!$Y$8:$Y$400,\"1\",'Unit Detail'!$D$8:$D$400,'Building Detail'!$B486)","v":0},{"$f":"COUNTIFS('Unit Detail'!$Y$8:$Y$400,\"3\",'Unit Detail'!$D$8:$D$400,'Building Detail'!$B486)","v":0},{"$f":"COUNTIFS('Unit Detail'!$Y$8:$Y$400,\"2\",'Unit Detail'!$D$8:$D$400,'Building Detail'!$B486)","v":0},0,"",""]
[null,null,null,null,null,null,null,null,null,null,null,null,null,null,{"$f":"SUMIFS('Unit Detail'!$H$8:$H$400,'Unit Detail'!$D$8:$D$400,'Building Detail'!$B487,'Unit Detail'!$Y$8:$Y$400,1)","v":0},{"$f":"SUMIFS('Unit Detail'!$H$8:$H$400,'Unit Detail'!$D$8:$D$400,'Building Detail'!$B487,'Unit Detail'!$Y$8:$Y$400,3)","v":0},{"$f":"SUMIFS('Unit Detail'!$H$8:$H$400,'Unit Detail'!$D$8:$D$400,'Building Detail'!$B487,'Unit Detail'!$Y$8:$Y$400,2)","v":0},{"$f":"SUMIF('Unit Detail'!$D$8:$D$400,$B487,'Unit Detail'!$H$8:$H$400)","v":0},0,"",{"$f":"COUNTIFS('Unit Detail'!$Y$8:$Y$400,\"1\",'Unit Detail'!$D$8:$D$400,'Building Detail'!$B487)","v":0},{"$f":"COUNTIFS('Unit Detail'!$Y$8:$Y$400,\"3\",'Unit Detail'!$D$8:$D$400,'Building Detail'!$B487)","v":0},{"$f":"COUNTIFS('Unit Detail'!$Y$8:$Y$400,\"2\",'Unit Detail'!$D$8:$D$400,'Building Detail'!$B487)","v":0},0,"",""]
[null,null,null,null,null,null,null,null,null,null,null,null,null,null,{"$f":"SUMIFS('Unit Detail'!$H$8:$H$400,'Unit Detail'!$D$8:$D$400,'Building Detail'!$B488,'Unit Detail'!$Y$8:$Y$400,1)","v":0},{"$f":"SUMIFS('Unit Detail'!$H$8:$H$400,'Unit Detail'!$D$8:$D$400,'Building Detail'!$B488,'Unit Detail'!$Y$8:$Y$400,3)","v":0},{"$f":"SUMIFS('Unit Detail'!$H$8:$H$400,'Unit Detail'!$D$8:$D$400,'Building Detail'!$B488,'Unit Detail'!$Y$8:$Y$400,2)","v":0},{"$f":"SUMIF('Unit Detail'!$D$8:$D$400,$B488,'Unit Detail'!$H$8:$H$400)","v":0},0,"",{"$f":"COUNTIFS('Unit Detail'!$Y$8:$Y$400,\"1\",'Unit Detail'!$D$8:$D$400,'Building Detail'!$B488)","v":0},{"$f":"COUNTIFS('Unit Detail'!$Y$8:$Y$400,\"3\",'Unit Detail'!$D$8:$D$400,'Building Detail'!$B488)","v":0},{"$f":"COUNTIFS('Unit Detail'!$Y$8:$Y$400,\"2\",'Unit Detail'!$D$8:$D$400,'Building Detail'!$B488)","v":0},0,"",""]
[null,null,null,null,null,null,null,null,null,null,null,null,null,null,{"$f":"SUMIFS('Unit Detail'!$H$8:$H$400,'Unit Detail'!$D$8:$D$400,'Building Detail'!$B489,'Unit Detail'!$Y$8:$Y$400,1)","v":0},{"$f":"SUMIFS('Unit Detail'!$H$8:$H$400,'Unit Detail'!$D$8:$D$400,'Building Detail'!$B489,'Unit Detail'!$Y$8:$Y$400,3)","v":0},{"$f":"SUMIFS('Unit Detail'!$H$8:$H$400,'Unit Detail'!$D$8:$D$400,'Building Detail'!$B489,'Unit Detail'!$Y$8:$Y$400,2)","v":0},{"$f":"SUMIF('Unit Detail'!$D$8:$D$400,$B489,'Unit Detail'!$H$8:$H$400)","v":0},0,"",{"$f":"COUNTIFS('Unit Detail'!$Y$8:$Y$400,\"1\",'Unit Detail'!$D$8:$D$400,'Building Detail'!$B489)","v":0},{"$f":"COUNTIFS('Unit Detail'!$Y$8:$Y$400,\"3\",'Unit Detail'!$D$8:$D$400,'Building Detail'!$B489)","v":0},{"$f":"COUNTIFS('Unit Detail'!$Y$8:$Y$400,\"2\",'Unit Detail'!$D$8:$D$400,'Building Detail'!$B489)","v":0},0,"",""]
[null,null,null,null,null,null,null,null,null,null,null,null,null,null,{"$f":"SUMIFS('Unit Detail'!$H$8:$H$400,'Unit Detail'!$D$8:$D$400,'Building Detail'!$B490,'Unit Detail'!$Y$8:$Y$400,1)","v":0},{"$f":"SUMIFS('Unit Detail'!$H$8:$H$400,'Unit Detail'!$D$8:$D$400,'Building Detail'!$B490,'Unit Detail'!$Y$8:$Y$400,3)","v":0},{"$f":"SUMIFS('Unit Detail'!$H$8:$H$400,'Unit Detail'!$D$8:$D$400,'Building Detail'!$B490,'Unit Detail'!$Y$8:$Y$400,2)","v":0},{"$f":"SUMIF('Unit Detail'!$D$8:$D$400,$B490,'Unit Detail'!$H$8:$H$400)","v":0},0,"",{"$f":"COUNTIFS('Unit Detail'!$Y$8:$Y$400,\"1\",'Unit Detail'!$D$8:$D$400,'Building Detail'!$B490)","v":0},{"$f":"COUNTIFS('Unit Detail'!$Y$8:$Y$400,\"3\",'Unit Detail'!$D$8:$D$400,'Building Detail'!$B490)","v":0},{"$f":"COUNTIFS('Unit Detail'!$Y$8:$Y$400,\"2\",'Unit Detail'!$D$8:$D$400,'Building Detail'!$B490)","v":0},0,"",""]
[null,null,null,null,null,null,null,null,null,null,null,null,null,null,{"$f":"SUMIFS('Unit Detail'!$H$8:$H$400,'Unit Detail'!$D$8:$D$400,'Building Detail'!$B491,'Unit Detail'!$Y$8:$Y$400,1)","v":0},{"$f":"SUMIFS('Unit Detail'!$H$8:$H$400,'Unit Detail'!$D$8:$D$400,'Building Detail'!$B491,'Unit Detail'!$Y$8:$Y$400,3)","v":0},{"$f":"SUMIFS('Unit Detail'!$H$8:$H$400,'Unit Detail'!$D$8:$D$400,'Building Detail'!$B491,'Unit Detail'!$Y$8:$Y$400,2)","v":0},{"$f":"SUMIF('Unit Detail'!$D$8:$D$400,$B491,'Unit Detail'!$H$8:$H$400)","v":0},0,"",{"$f":"COUNTIFS('Unit Detail'!$Y$8:$Y$400,\"1\",'Unit Detail'!$D$8:$D$400,'Building Detail'!$B491)","v":0},{"$f":"COUNTIFS('Unit Detail'!$Y$8:$Y$400,\"3\",'Unit Detail'!$D$8:$D$400,'Building Detail'!$B491)","v":0},{"$f":"COUNTIFS('Unit Detail'!$Y$8:$Y$400,\"2\",'Unit Detail'!$D$8:$D$400,'Building Detail'!$B491)","v":0},0,"",""]
[null,null,null,null,null,null,null,null,null,null,null,null,null,null,{"$f":"SUMIFS('Unit Detail'!$H$8:$H$400,'Unit Detail'!$D$8:$D$400,'Building Detail'!$B492,'Unit Detail'!$Y$8:$Y$400,1)","v":0},{"$f":"SUMIFS('Unit Detail'!$H$8:$H$400,'Unit Detail'!$D$8:$D$400,'Building Detail'!$B492,'Unit Detail'!$Y$8:$Y$400,3)","v":0},{"$f":"SUMIFS('Unit Detail'!$H$8:$H$400,'Unit Detail'!$D$8:$D$400,'Building Detail'!$B492,'Unit Detail'!$Y$8:$Y$400,2)","v":0},{"$f":"SUMIF('Unit Detail'!$D$8:$D$400,$B492,'Unit Detail'!$H$8:$H$400)","v":0},0,"",{"$f":"COUNTIFS('Unit Detail'!$Y$8:$Y$400,\"1\",'Unit Detail'!$D$8:$D$400,'Building Detail'!$B492)","v":0},{"$f":"COUNTIFS('Unit Detail'!$Y$8:$Y$400,\"3\",'Unit Detail'!$D$8:$D$400,'Building Detail'!$B492)","v":0},{"$f":"COUNTIFS('Unit Detail'!$Y$8:$Y$400,\"2\",'Unit Detail'!$D$8:$D$400,'Building Detail'!$B492)","v":0},0,"",""]
[null,null,null,null,null,null,null,null,null,null,null,null,null,null,{"$f":"SUMIFS('Unit Detail'!$H$8:$H$400,'Unit Detail'!$D$8:$D$400,'Building Detail'!$B493,'Unit Detail'!$Y$8:$Y$400,1)","v":0},{"$f":"SUMIFS('Unit Detail'!$H$8:$H$400,'Unit Detail'!$D$8:$D$400,'Building Detail'!$B493,'Unit Detail'!$Y$8:$Y$400,3)","v":0},{"$f":"SUMIFS('Unit Detail'!$H$8:$H$400,'Unit Detail'!$D$8:$D$400,'Building Detail'!$B493,'Unit Detail'!$Y$8:$Y$400,2)","v":0},{"$f":"SUMIF('Unit Detail'!$D$8:$D$400,$B493,'Unit Detail'!$H$8:$H$400)","v":0},0,"",{"$f":"COUNTIFS('Unit Detail'!$Y$8:$Y$400,\"1\",'Unit Detail'!$D$8:$D$400,'Building Detail'!$B493)","v":0},{"$f":"COUNTIFS('Unit Detail'!$Y$8:$Y$400,\"3\",'Unit Detail'!$D$8:$D$400,'Building Detail'!$B493)","v":0},{"$f":"COUNTIFS('Unit Detail'!$Y$8:$Y$400,\"2\",'Unit Detail'!$D$8:$D$400,'Building Detail'!$B493)","v":0},0,"",""]
[null,null,null,null,null,null,null,null,null,null,null,null,null,null,{"$f":"SUMIFS('Unit Detail'!$H$8:$H$400,'Unit Detail'!$D$8:$D$400,'Building Detail'!$B494,'Unit Detail'!$Y$8:$Y$400,1)","v":0},{"$f":"SUMIFS('Unit Detail'!$H$8:$H$400,'Unit Detail'!$D$8:$D$400,'Building Detail'!$B494,'Unit Detail'!$Y$8:$Y$400,3)","v":0},{"$f":"SUMIFS('Unit Detail'!$H$8:$H$400,'Unit Detail'!$D$8:$D$400,'Building Detail'!$B494,'Unit Detail'!$Y$8:$Y$400,2)","v":0},{"$f":"SUMIF('Unit Detail'!$D$8:$D$400,$B494,'Unit Detail'!$H$8:$H$400)","v":0},0,"",{"$f":"COUNTIFS('Unit Detail'!$Y$8:$Y$400,\"1\",'Unit Detail'!$D$8:$D$400,'Building Detail'!$B494)","v":0},{"$f":"COUNTIFS('Unit Detail'!$Y$8:$Y$400,\"3\",'Unit Detail'!$D$8:$D$400,'Building Detail'!$B494)","v":0},{"$f":"COUNTIFS('Unit Detail'!$Y$8:$Y$400,\"2\",'Unit Detail'!$D$8:$D$400,'Building Detail'!$B494)","v":0},0,"",""]
[null,null,null,null,null,null,null,null,null,null,null,null,null,null,{"$f":"SUMIFS('Unit Detail'!$H$8:$H$400,'Unit Detail'!$D$8:$D$400,'Building Detail'!$B495,'Unit Detail'!$Y$8:$Y$400,1)","v":0},{"$f":"SUMIFS('Unit Detail'!$H$8:$H$400,'Unit Detail'!$D$8:$D$400,'Building Detail'!$B495,'Unit Detail'!$Y$8:$Y$400,3)","v":0},{"$f":"SUMIFS('Unit Detail'!$H$8:$H$400,'Unit Detail'!$D$8:$D$400,'Building Detail'!$B495,'Unit Detail'!$Y$8:$Y$400,2)","v":0},{"$f":"SUMIF('Unit Detail'!$D$8:$D$400,$B495,'Unit Detail'!$H$8:$H$400)","v":0},0,"",{"$f":"COUNTIFS('Unit Detail'!$Y$8:$Y$400,\"1\",'Unit Detail'!$D$8:$D$400,'Building Detail'!$B495)","v":0},{"$f":"COUNTIFS('Unit Detail'!$Y$8:$Y$400,\"3\",'Unit Detail'!$D$8:$D$400,'Building Detail'!$B495)","v":0},{"$f":"COUNTIFS('Unit Detail'!$Y$8:$Y$400,\"2\",'Unit Detail'!$D$8:$D$400,'Building Detail'!$B495)","v":0},0,"",""]
[null,null,null,null,null,null,null,null,null,null,null,null,null,null,{"$f":"SUMIFS('Unit Detail'!$H$8:$H$400,'Unit Detail'!$D$8:$D$400,'Building Detail'!$B496,'Unit Detail'!$Y$8:$Y$400,1)","v":0},{"$f":"SUMIFS('Unit Detail'!$H$8:$H$400,'Unit Detail'!$D$8:$D$400,'Building Detail'!$B496,'Unit Detail'!$Y$8:$Y$400,3)","v":0},{"$f":"SUMIFS('Unit Detail'!$H$8:$H$400,'Unit Detail'!$D$8:$D$400,'Building Detail'!$B496,'Unit Detail'!$Y$8:$Y$400,2)","v":0},{"$f":"SUMIF('Unit Detail'!$D$8:$D$400,$B496,'Unit Detail'!$H$8:$H$400)","v":0},0,"",{"$f":"COUNTIFS('Unit Detail'!$Y$8:$Y$400,\"1\",'Unit Detail'!$D$8:$D$400,'Building Detail'!$B496)","v":0},{"$f":"COUNTIFS('Unit Detail'!$Y$8:$Y$400,\"3\",'Unit Detail'!$D$8:$D$400,'Building Detail'!$B496)","v":0},{"$f":"COUNTIFS('Unit Detail'!$Y$8:$Y$400,\"2\",'Unit Detail'!$D$8:$D$400,'Building Detail'!$B496)","v":0},0,"",""]
[null,null,null,null,null,null,null,null,null,null,null,null,null,null,{"$f":"SUMIFS('Unit Detail'!$H$8:$H$400,'Unit Detail'!$D$8:$D$400,'Building Detail'!$B497,'Unit Detail'!$Y$8:$Y$400,1)","v":0},{"$f":"SUMIFS('Unit Detail'!$H$8:$H$400,'Unit Detail'!$D$8:$D$400,'Building Detail'!$B497,'Unit Detail'!$Y$8:$Y$400,3)","v":0},{"$f":"SUMIFS('Unit Detail'!$H$8:$H$400,'Unit Detail'!$D$8:$D$400,'Building Detail'!$B497,'Unit Detail'!$Y$8:$Y$400,2)","v":0},{"$f":"SUMIF('Unit Detail'!$D$8:$D$400,$B497,'Unit Detail'!$H$8:$H$400)","v":0},0,"",{"$f":"COUNTIFS('Unit Detail'!$Y$8:$Y$400,\"1\",'Unit Detail'!$D$8:$D$400,'Building Detail'!$B497)","v":0},{"$f":"COUNTIFS('Unit Detail'!$Y$8:$Y$400,\"3\",'Unit Detail'!$D$8:$D$400,'Building Detail'!$B497)","v":0},{"$f":"COUNTIFS('Unit Detail'!$Y$8:$Y$400,\"2\",'Unit Detail'!$D$8:$D$400,'Building Detail'!$B497)","v":0},0,"",""]
[null,null,null,null,null,null,null,null,null,null,null,null,null,null,{"$f":"SUMIFS('Unit Detail'!$H$8:$H$400,'Unit Detail'!$D$8:$D$400,'Building Detail'!$B498,'Unit Detail'!$Y$8:$Y$400,1)","v":0},{"$f":"SUMIFS('Unit Detail'!$H$8:$H$400,'Unit Detail'!$D$8:$D$400,'Building Detail'!$B498,'Unit Detail'!$Y$8:$Y$400,3)","v":0},{"$f":"SUMIFS('Unit Detail'!$H$8:$H$400,'Unit Detail'!$D$8:$D$400,'Building Detail'!$B498,'Unit Detail'!$Y$8:$Y$400,2)","v":0},{"$f":"SUMIF('Unit Detail'!$D$8:$D$400,$B498,'Unit Detail'!$H$8:$H$400)","v":0},0,"",{"$f":"COUNTIFS('Unit Detail'!$Y$8:$Y$400,\"1\",'Unit Detail'!$D$8:$D$400,'Building Detail'!$B498)","v":0},{"$f":"COUNTIFS('Unit Detail'!$Y$8:$Y$400,\"3\",'Unit Detail'!$D$8:$D$400,'Building Detail'!$B498)","v":0},{"$f":"COUNTIFS('Unit Detail'!$Y$8:$Y$400,\"2\",'Unit Detail'!$D$8:$D$400,'Building Detail'!$B498)","v":0},0,"",""]
[null,null,null,null,null,null,null,null,null,null,null,null,null,null,{"$f":"SUMIFS('Unit Detail'!$H$8:$H$400,'Unit Detail'!$D$8:$D$400,'Building Detail'!$B499,'Unit Detail'!$Y$8:$Y$400,1)","v":0},{"$f":"SUMIFS('Unit Detail'!$H$8:$H$400,'Unit Detail'!$D$8:$D$400,'Building Detail'!$B499,'Unit Detail'!$Y$8:$Y$400,3)","v":0},{"$f":"SUMIFS('Unit Detail'!$H$8:$H$400,'Unit Detail'!$D$8:$D$400,'Building Detail'!$B499,'Unit Detail'!$Y$8:$Y$400,2)","v":0},{"$f":"SUMIF('Unit Detail'!$D$8:$D$400,$B499,'Unit Detail'!$H$8:$H$400)","v":0},0,"",{"$f":"COUNTIFS('Unit Detail'!$Y$8:$Y$400,\"1\",'Unit Detail'!$D$8:$D$400,'Building Detail'!$B499)","v":0},{"$f":"COUNTIFS('Unit Detail'!$Y$8:$Y$400,\"3\",'Unit Detail'!$D$8:$D$400,'Building Detail'!$B499)","v":0},{"$f":"COUNTIFS('Unit Detail'!$Y$8:$Y$400,\"2\",'Unit Detail'!$D$8:$D$400,'Building Detail'!$B499)","v":0},0,"",""]
[null,null,null,null,null,null,null,null,null,null,null,null,null,null,{"$f":"SUMIFS('Unit Detail'!$H$8:$H$400,'Unit Detail'!$D$8:$D$400,'Building Detail'!$B500,'Unit Detail'!$Y$8:$Y$400,1)","v":0},{"$f":"SUMIFS('Unit Detail'!$H$8:$H$400,'Unit Detail'!$D$8:$D$400,'Building Detail'!$B500,'Unit Detail'!$Y$8:$Y$400,3)","v":0},{"$f":"SUMIFS('Unit Detail'!$H$8:$H$400,'Unit Detail'!$D$8:$D$400,'Building Detail'!$B500,'Unit Detail'!$Y$8:$Y$400,2)","v":0},{"$f":"SUMIF('Unit Detail'!$D$8:$D$400,$B500,'Unit Detail'!$H$8:$H$400)","v":0},0,"",{"$f":"COUNTIFS('Unit Detail'!$Y$8:$Y$400,\"1\",'Unit Detail'!$D$8:$D$400,'Building Detail'!$B500)","v":0},{"$f":"COUNTIFS('Unit Detail'!$Y$8:$Y$400,\"3\",'Unit Detail'!$D$8:$D$400,'Building Detail'!$B500)","v":0},{"$f":"COUNTIFS('Unit Detail'!$Y$8:$Y$400,\"2\",'Unit Detail'!$D$8:$D$400,'Building Detail'!$B500)","v":0},0,"",""]
[null,null,null,null,null,null,null,null,null,null,null,null,null,null,{"$f":"SUMIFS('Unit Detail'!$H$8:$H$400,'Unit Detail'!$D$8:$D$400,'Building Detail'!$B501,'Unit Detail'!$Y$8:$Y$400,1)","v":0},{"$f":"SUMIFS('Unit Detail'!$H$8:$H$400,'Unit Detail'!$D$8:$D$400,'Building Detail'!$B501,'Unit Detail'!$Y$8:$Y$400,3)","v":0},{"$f":"SUMIFS('Unit Detail'!$H$8:$H$400,'Unit Detail'!$D$8:$D$400,'Building Detail'!$B501,'Unit Detail'!$Y$8:$Y$400,2)","v":0},{"$f":"SUMIF('Unit Detail'!$D$8:$D$400,$B501,'Unit Detail'!$H$8:$H$400)","v":0},0,"",{"$f":"COUNTIFS('Unit Detail'!$Y$8:$Y$400,\"1\",'Unit Detail'!$D$8:$D$400,'Building Detail'!$B501)","v":0},{"$f":"COUNTIFS('Unit Detail'!$Y$8:$Y$400,\"3\",'Unit Detail'!$D$8:$D$400,'Building Detail'!$B501)","v":0},{"$f":"COUNTIFS('Unit Detail'!$Y$8:$Y$400,\"2\",'Unit Detail'!$D$8:$D$400,'Building Detail'!$B501)","v":0},0,"",""]
[null,null,null,null,null,null,null,null,null,null,null,null,null,null,{"$f":"SUMIFS('Unit Detail'!$H$8:$H$400,'Unit Detail'!$D$8:$D$400,'Building Detail'!$B502,'Unit Detail'!$Y$8:$Y$400,1)","v":0},{"$f":"SUMIFS('Unit Detail'!$H$8:$H$400,'Unit Detail'!$D$8:$D$400,'Building Detail'!$B502,'Unit Detail'!$Y$8:$Y$400,3)","v":0},{"$f":"SUMIFS('Unit Detail'!$H$8:$H$400,'Unit Detail'!$D$8:$D$400,'Building Detail'!$B502,'Unit Detail'!$Y$8:$Y$400,2)","v":0},{"$f":"SUMIF('Unit Detail'!$D$8:$D$400,$B502,'Unit Detail'!$H$8:$H$400)","v":0},0,"",{"$f":"COUNTIFS('Unit Detail'!$Y$8:$Y$400,\"1\",'Unit Detail'!$D$8:$D$400,'Building Detail'!$B502)","v":0},{"$f":"COUNTIFS('Unit Detail'!$Y$8:$Y$400,\"3\",'Unit Detail'!$D$8:$D$400,'Building Detail'!$B502)","v":0},{"$f":"COUNTIFS('Unit Detail'!$Y$8:$Y$400,\"2\",'Unit Detail'!$D$8:$D$400,'Building Detail'!$B502)","v":0},0,"",""]
[null,null,null,null,null,null,null,null,null,null,null,null,null,null,{"$f":"SUMIFS('Unit Detail'!$H$8:$H$400,'Unit Detail'!$D$8:$D$400,'Building Detail'!$B503,'Unit Detail'!$Y$8:$Y$400,1)","v":0},{"$f":"SUMIFS('Unit Detail'!$H$8:$H$400,'Unit Detail'!$D$8:$D$400,'Building Detail'!$B503,'Unit Detail'!$Y$8:$Y$400,3)","v":0},{"$f":"SUMIFS('Unit Detail'!$H$8:$H$400,'Unit Detail'!$D$8:$D$400,'Building Detail'!$B503,'Unit Detail'!$Y$8:$Y$400,2)","v":0},{"$f":"SUMIF('Unit Detail'!$D$8:$D$400,$B503,'Unit Detail'!$H$8:$H$400)","v":0},0,"",{"$f":"COUNTIFS('Unit Detail'!$Y$8:$Y$400,\"1\",'Unit Detail'!$D$8:$D$400,'Building Detail'!$B503)","v":0},{"$f":"COUNTIFS('Unit Detail'!$Y$8:$Y$400,\"3\",'Unit Detail'!$D$8:$D$400,'Building Detail'!$B503)","v":0},{"$f":"COUNTIFS('Unit Detail'!$Y$8:$Y$400,\"2\",'Unit Detail'!$D$8:$D$400,'Building Detail'!$B503)","v":0},0,"",""]
[null,null,null,null,null,null,null,null,null,null,null,null,null,null,{"$f":"SUMIFS('Unit Detail'!$H$8:$H$400,'Unit Detail'!$D$8:$D$400,'Building Detail'!$B504,'Unit Detail'!$Y$8:$Y$400,1)","v":0},{"$f":"SUMIFS('Unit Detail'!$H$8:$H$400,'Unit Detail'!$D$8:$D$400,'Building Detail'!$B504,'Unit Detail'!$Y$8:$Y$400,3)","v":0},{"$f":"SUMIFS('Unit Detail'!$H$8:$H$400,'Unit Detail'!$D$8:$D$400,'Building Detail'!$B504,'Unit Detail'!$Y$8:$Y$400,2)","v":0},{"$f":"SUMIF('Unit Detail'!$D$8:$D$400,$B504,'Unit Detail'!$H$8:$H$400)","v":0},0,"",{"$f":"COUNTIFS('Unit Detail'!$Y$8:$Y$400,\"1\",'Unit Detail'!$D$8:$D$400,'Building Detail'!$B504)","v":0},{"$f":"COUNTIFS('Unit Detail'!$Y$8:$Y$400,\"3\",'Unit Detail'!$D$8:$D$400,'Building Detail'!$B504)","v":0},{"$f":"COUNTIFS('Unit Detail'!$Y$8:$Y$400,\"2\",'Unit Detail'!$D$8:$D$400,'Building Detail'!$B504)","v":0},0,"",""]
[null,null,null,null,null,null,null,null,null,null,null,null,null,null,{"$f":"SUMIFS('Unit Detail'!$H$8:$H$400,'Unit Detail'!$D$8:$D$400,'Building Detail'!$B505,'Unit Detail'!$Y$8:$Y$400,1)","v":0},{"$f":"SUMIFS('Unit Detail'!$H$8:$H$400,'Unit Detail'!$D$8:$D$400,'Building Detail'!$B505,'Unit Detail'!$Y$8:$Y$400,3)","v":0},{"$f":"SUMIFS('Unit Detail'!$H$8:$H$400,'Unit Detail'!$D$8:$D$400,'Building Detail'!$B505,'Unit Detail'!$Y$8:$Y$400,2)","v":0},{"$f":"SUMIF('Unit Detail'!$D$8:$D$400,$B505,'Unit Detail'!$H$8:$H$400)","v":0},0,"",{"$f":"COUNTIFS('Unit Detail'!$Y$8:$Y$400,\"1\",'Unit Detail'!$D$8:$D$400,'Building Detail'!$B505)","v":0},{"$f":"COUNTIFS('Unit Detail'!$Y$8:$Y$400,\"3\",'Unit Detail'!$D$8:$D$400,'Building Detail'!$B505)","v":0},{"$f":"COUNTIFS('Unit Detail'!$Y$8:$Y$400,\"2\",'Unit Detail'!$D$8:$D$400,'Building Detail'!$B505)","v":0},0,"",""]
[null,null,null,null,null,null,null,null,null,null,null,null,null,null,{"$f":"SUMIFS('Unit Detail'!$H$8:$H$400,'Unit Detail'!$D$8:$D$400,'Building Detail'!$B506,'Unit Detail'!$Y$8:$Y$400,1)","v":0},{"$f":"SUMIFS('Unit Detail'!$H$8:$H$400,'Unit Detail'!$D$8:$D$400,'Building Detail'!$B506,'Unit Detail'!$Y$8:$Y$400,3)","v":0},{"$f":"SUMIFS('Unit Detail'!$H$8:$H$400,'Unit Detail'!$D$8:$D$400,'Building Detail'!$B506,'Unit Detail'!$Y$8:$Y$400,2)","v":0},{"$f":"SUMIF('Unit Detail'!$D$8:$D$400,$B506,'Unit Detail'!$H$8:$H$400)","v":0},0,"",{"$f":"COUNTIFS('Unit Detail'!$Y$8:$Y$400,\"1\",'Unit Detail'!$D$8:$D$400,'Building Detail'!$B506)","v":0},{"$f":"COUNTIFS('Unit Detail'!$Y$8:$Y$400,\"3\",'Unit Detail'!$D$8:$D$400,'Building Detail'!$B506)","v":0},{"$f":"COUNTIFS('Unit Detail'!$Y$8:$Y$400,\"2\",'Unit Detail'!$D$8:$D$400,'Building Detail'!$B506)","v":0},0,"",""]
[null,null,null,null,null,null,null,null,null,null,null,null,null,null,{"$f":"SUMIFS('Unit Detail'!$H$8:$H$400,'Unit Detail'!$D$8:$D$400,'Building Detail'!$B507,'Unit Detail'!$Y$8:$Y$400,1)","v":0},{"$f":"SUMIFS('Unit Detail'!$H$8:$H$400,'Unit Detail'!$D$8:$D$400,'Building Detail'!$B507,'Unit Detail'!$Y$8:$Y$400,3)","v":0},{"$f":"SUMIFS('Unit Detail'!$H$8:$H$400,'Unit Detail'!$D$8:$D$400,'Building Detail'!$B507,'Unit Detail'!$Y$8:$Y$400,2)","v":0},{"$f":"SUMIF('Unit Detail'!$D$8:$D$400,$B507,'Unit Detail'!$H$8:$H$400)","v":0},0,"",{"$f":"COUNTIFS('Unit Detail'!$Y$8:$Y$400,\"1\",'Unit Detail'!$D$8:$D$400,'Building Detail'!$B507)","v":0},{"$f":"COUNTIFS('Unit Detail'!$Y$8:$Y$400,\"3\",'Unit Detail'!$D$8:$D$400,'Building Detail'!$B507)","v":0},{"$f":"COUNTIFS('Unit Detail'!$Y$8:$Y$400,\"2\",'Unit Detail'!$D$8:$D$400,'Building Detail'!$B507)","v":0},0,"",""]
[null,null,null,null,null,null,null,null,null,null,null,null,null,null,{"$f":"SUMIFS('Unit Detail'!$H$8:$H$400,'Unit Detail'!$D$8:$D$400,'Building Detail'!$B508,'Unit Detail'!$Y$8:$Y$400,1)","v":0},{"$f":"SUMIFS('Unit Detail'!$H$8:$H$400,'Unit Detail'!$D$8:$D$400,'Building Detail'!$B508,'Unit Detail'!$Y$8:$Y$400,3)","v":0},{"$f":"SUMIFS('Unit Detail'!$H$8:$H$400,'Unit Detail'!$D$8:$D$400,'Building Detail'!$B508,'Unit Detail'!$Y$8:$Y$400,2)","v":0},{"$f":"SUMIF('Unit Detail'!$D$8:$D$400,$B508,'Unit Detail'!$H$8:$H$400)","v":0},0,"",{"$f":"COUNTIFS('Unit Detail'!$Y$8:$Y$400,\"1\",'Unit Detail'!$D$8:$D$400,'Building Detail'!$B508)","v":0},{"$f":"COUNTIFS('Unit Detail'!$Y$8:$Y$400,\"3\",'Unit Detail'!$D$8:$D$400,'Building Detail'!$B508)","v":0},{"$f":"COUNTIFS('Unit Detail'!$Y$8:$Y$400,\"2\",'Unit Detail'!$D$8:$D$400,'Building Detail'!$B508)","v":0},0,"",""]
[null,null,null,null,null,null,null,null,null,null,null,null,null,null,{"$f":"SUMIFS('Unit Detail'!$H$8:$H$400,'Unit Detail'!$D$8:$D$400,'Building Detail'!$B509,'Unit Detail'!$Y$8:$Y$400,1)","v":0},{"$f":"SUMIFS('Unit Detail'!$H$8:$H$400,'Unit Detail'!$D$8:$D$400,'Building Detail'!$B509,'Unit Detail'!$Y$8:$Y$400,3)","v":0},{"$f":"SUMIFS('Unit Detail'!$H$8:$H$400,'Unit Detail'!$D$8:$D$400,'Building Detail'!$B509,'Unit Detail'!$Y$8:$Y$400,2)","v":0},{"$f":"SUMIF('Unit Detail'!$D$8:$D$400,$B509,'Unit Detail'!$H$8:$H$400)","v":0},0,"",{"$f":"COUNTIFS('Unit Detail'!$Y$8:$Y$400,\"1\",'Unit Detail'!$D$8:$D$400,'Building Detail'!$B509)","v":0},{"$f":"COUNTIFS('Unit Detail'!$Y$8:$Y$400,\"3\",'Unit Detail'!$D$8:$D$400,'Building Detail'!$B509)","v":0},{"$f":"COUNTIFS('Unit Detail'!$Y$8:$Y$400,\"2\",'Unit Detail'!$D$8:$D$400,'Building Detail'!$B509)","v":0},0,"",""]
[null,null,null,null,null,null,null,null,null,null,null,null,null,null,{"$f":"SUMIFS('Unit Detail'!$H$8:$H$400,'Unit Detail'!$D$8:$D$400,'Building Detail'!$B510,'Unit Detail'!$Y$8:$Y$400,1)","v":0},{"$f":"SUMIFS('Unit Detail'!$H$8:$H$400,'Unit Detail'!$D$8:$D$400,'Building Detail'!$B510,'Unit Detail'!$Y$8:$Y$400,3)","v":0},{"$f":"SUMIFS('Unit Detail'!$H$8:$H$400,'Unit Detail'!$D$8:$D$400,'Building Detail'!$B510,'Unit Detail'!$Y$8:$Y$400,2)","v":0},{"$f":"SUMIF('Unit Detail'!$D$8:$D$400,$B510,'Unit Detail'!$H$8:$H$400)","v":0},0,"",{"$f":"COUNTIFS('Unit Detail'!$Y$8:$Y$400,\"1\",'Unit Detail'!$D$8:$D$400,'Building Detail'!$B510)","v":0},{"$f":"COUNTIFS('Unit Detail'!$Y$8:$Y$400,\"3\",'Unit Detail'!$D$8:$D$400,'Building Detail'!$B510)","v":0},{"$f":"COUNTIFS('Unit Detail'!$Y$8:$Y$400,\"2\",'Unit Detail'!$D$8:$D$400,'Building Detail'!$B510)","v":0},0,"",""]
[null,null,null,null,null,null,null,null,null,null,null,null,null,null,{"$f":"SUMIFS('Unit Detail'!$H$8:$H$400,'Unit Detail'!$D$8:$D$400,'Building Detail'!$B511,'Unit Detail'!$Y$8:$Y$400,1)","v":0},{"$f":"SUMIFS('Unit Detail'!$H$8:$H$400,'Unit Detail'!$D$8:$D$400,'Building Detail'!$B511,'Unit Detail'!$Y$8:$Y$400,3)","v":0},{"$f":"SUMIFS('Unit Detail'!$H$8:$H$400,'Unit Detail'!$D$8:$D$400,'Building Detail'!$B511,'Unit Detail'!$Y$8:$Y$400,2)","v":0},{"$f":"SUMIF('Unit Detail'!$D$8:$D$400,$B511,'Unit Detail'!$H$8:$H$400)","v":0},0,"",{"$f":"COUNTIFS('Unit Detail'!$Y$8:$Y$400,\"1\",'Unit Detail'!$D$8:$D$400,'Building Detail'!$B511)","v":0},{"$f":"COUNTIFS('Unit Detail'!$Y$8:$Y$400,\"3\",'Unit Detail'!$D$8:$D$400,'Building Detail'!$B511)","v":0},{"$f":"COUNTIFS('Unit Detail'!$Y$8:$Y$400,\"2\",'Unit Detail'!$D$8:$D$400,'Building Detail'!$B511)","v":0},0,"",""]
[null,null,null,null,null,null,null,null,null,null,null,null,null,null,{"$f":"SUMIFS('Unit Detail'!$H$8:$H$400,'Unit Detail'!$D$8:$D$400,'Building Detail'!$B512,'Unit Detail'!$Y$8:$Y$400,1)","v":0},{"$f":"SUMIFS('Unit Detail'!$H$8:$H$400,'Unit Detail'!$D$8:$D$400,'Building Detail'!$B512,'Unit Detail'!$Y$8:$Y$400,3)","v":0},{"$f":"SUMIFS('Unit Detail'!$H$8:$H$400,'Unit Detail'!$D$8:$D$400,'Building Detail'!$B512,'Unit Detail'!$Y$8:$Y$400,2)","v":0},{"$f":"SUMIF('Unit Detail'!$D$8:$D$400,$B512,'Unit Detail'!$H$8:$H$400)","v":0},0,"",{"$f":"COUNTIFS('Unit Detail'!$Y$8:$Y$400,\"1\",'Unit Detail'!$D$8:$D$400,'Building Detail'!$B512)","v":0},{"$f":"COUNTIFS('Unit Detail'!$Y$8:$Y$400,\"3\",'Unit Detail'!$D$8:$D$400,'Building Detail'!$B512)","v":0},{"$f":"COUNTIFS('Unit Detail'!$Y$8:$Y$400,\"2\",'Unit Detail'!$D$8:$D$400,'Building Detail'!$B512)","v":0},0,"",""]
[null,null,null,null,null,null,null,null,null,null,null,null,null,null,{"$f":"SUMIFS('Unit Detail'!$H$8:$H$400,'Unit Detail'!$D$8:$D$400,'Building Detail'!$B513,'Unit Detail'!$Y$8:$Y$400,1)","v":0},{"$f":"SUMIFS('Unit Detail'!$H$8:$H$400,'Unit Detail'!$D$8:$D$400,'Building Detail'!$B513,'Unit Detail'!$Y$8:$Y$400,3)","v":0},{"$f":"SUMIFS('Unit Detail'!$H$8:$H$400,'Unit Detail'!$D$8:$D$400,'Building Detail'!$B513,'Unit Detail'!$Y$8:$Y$400,2)","v":0},{"$f":"SUMIF('Unit Detail'!$D$8:$D$400,$B513,'Unit Detail'!$H$8:$H$400)","v":0},0,"",{"$f":"COUNTIFS('Unit Detail'!$Y$8:$Y$400,\"1\",'Unit Detail'!$D$8:$D$400,'Building Detail'!$B513)","v":0},{"$f":"COUNTIFS('Unit Detail'!$Y$8:$Y$400,\"3\",'Unit Detail'!$D$8:$D$400,'Building Detail'!$B513)","v":0},{"$f":"COUNTIFS('Unit Detail'!$Y$8:$Y$400,\"2\",'Unit Detail'!$D$8:$D$400,'Building Detail'!$B513)","v":0},0,"",""]
[null,null,null,null,null,null,null,null,null,null,null,null,null,null,{"$f":"SUMIFS('Unit Detail'!$H$8:$H$400,'Unit Detail'!$D$8:$D$400,'Building Detail'!$B514,'Unit Detail'!$Y$8:$Y$400,1)","v":0},{"$f":"SUMIFS('Unit Detail'!$H$8:$H$400,'Unit Detail'!$D$8:$D$400,'Building Detail'!$B514,'Unit Detail'!$Y$8:$Y$400,3)","v":0},{"$f":"SUMIFS('Unit Detail'!$H$8:$H$400,'Unit Detail'!$D$8:$D$400,'Building Detail'!$B514,'Unit Detail'!$Y$8:$Y$400,2)","v":0},{"$f":"SUMIF('Unit Detail'!$D$8:$D$400,$B514,'Unit Detail'!$H$8:$H$400)","v":0},0,"",{"$f":"COUNTIFS('Unit Detail'!$Y$8:$Y$400,\"1\",'Unit Detail'!$D$8:$D$400,'Building Detail'!$B514)","v":0},{"$f":"COUNTIFS('Unit Detail'!$Y$8:$Y$400,\"3\",'Unit Detail'!$D$8:$D$400,'Building Detail'!$B514)","v":0},{"$f":"COUNTIFS('Unit Detail'!$Y$8:$Y$400,\"2\",'Unit Detail'!$D$8:$D$400,'Building Detail'!$B514)","v":0},0,"",""]
[null,null,null,null,null,null,null,null,null,null,null,null,null,null,{"$f":"SUMIFS('Unit Detail'!$H$8:$H$400,'Unit Detail'!$D$8:$D$400,'Building Detail'!$B515,'Unit Detail'!$Y$8:$Y$400,1)","v":0},{"$f":"SUMIFS('Unit Detail'!$H$8:$H$400,'Unit Detail'!$D$8:$D$400,'Building Detail'!$B515,'Unit Detail'!$Y$8:$Y$400,3)","v":0},{"$f":"SUMIFS('Unit Detail'!$H$8:$H$400,'Unit Detail'!$D$8:$D$400,'Building Detail'!$B515,'Unit Detail'!$Y$8:$Y$400,2)","v":0},{"$f":"SUMIF('Unit Detail'!$D$8:$D$400,$B515,'Unit Detail'!$H$8:$H$400)","v":0},{"$f":"SUM(M515,N515,R515)","v":0},"",{"$f":"COUNTIFS('Unit Detail'!$Y$8:$Y$400,\"1\",'Unit Detail'!$D$8:$D$400,'Building Detail'!$B515)","v":0},{"$f":"COUNTIFS('Unit Detail'!$Y$8:$Y$400,\"3\",'Unit Detail'!$D$8:$D$400,'Building Detail'!$B515)","v":0},{"$f":"COUNTIFS('Unit Detail'!$Y$8:$Y$400,\"2\",'Unit Detail'!$D$8:$D$400,'Building Detail'!$B515)","v":0},{"$f":"SUM(U515:W515)","v":0},"",""]
[null,null,null,null,null,null,null,null,null,null,null,null,null,null,{"$f":"SUMIFS('Unit Detail'!$H$8:$H$400,'Unit Detail'!$D$8:$D$400,'Building Detail'!$B516,'Unit Detail'!$Y$8:$Y$400,1)","v":0},{"$f":"SUMIFS('Unit Detail'!$H$8:$H$400,'Unit Detail'!$D$8:$D$400,'Building Detail'!$B516,'Unit Detail'!$Y$8:$Y$400,3)","v":0},{"$f":"SUMIFS('Unit Detail'!$H$8:$H$400,'Unit Detail'!$D$8:$D$400,'Building Detail'!$B516,'Unit Detail'!$Y$8:$Y$400,2)","v":0},{"$f":"SUMIF('Unit Detail'!$D$8:$D$400,$B516,'Unit Detail'!$H$8:$H$400)","v":0},0,"",{"$f":"COUNTIFS('Unit Detail'!$Y$8:$Y$400,\"1\",'Unit Detail'!$D$8:$D$400,'Building Detail'!$B516)","v":0},{"$f":"COUNTIFS('Unit Detail'!$Y$8:$Y$400,\"3\",'Unit Detail'!$D$8:$D$400,'Building Detail'!$B516)","v":0},{"$f":"COUNTIFS('Unit Detail'!$Y$8:$Y$400,\"2\",'Unit Detail'!$D$8:$D$400,'Building Detail'!$B516)","v":0},0,"",""]
[null,null,null,null,null,null,null,null,null,null,null,null,null,null,{"$f":"SUMIFS('Unit Detail'!$H$8:$H$400,'Unit Detail'!$D$8:$D$400,'Building Detail'!$B517,'Unit Detail'!$Y$8:$Y$400,1)","v":0},{"$f":"SUMIFS('Unit Detail'!$H$8:$H$400,'Unit Detail'!$D$8:$D$400,'Building Detail'!$B517,'Unit Detail'!$Y$8:$Y$400,3)","v":0},{"$f":"SUMIFS('Unit Detail'!$H$8:$H$400,'Unit Detail'!$D$8:$D$400,'Building Detail'!$B517,'Unit Detail'!$Y$8:$Y$400,2)","v":0},{"$f":"SUMIF('Unit Detail'!$D$8:$D$400,$B517,'Unit Detail'!$H$8:$H$400)","v":0},0,"",{"$f":"COUNTIFS('Unit Detail'!$Y$8:$Y$400,\"1\",'Unit Detail'!$D$8:$D$400,'Building Detail'!$B517)","v":0},{"$f":"COUNTIFS('Unit Detail'!$Y$8:$Y$400,\"3\",'Unit Detail'!$D$8:$D$400,'Building Detail'!$B517)","v":0},{"$f":"COUNTIFS('Unit Detail'!$Y$8:$Y$400,\"2\",'Unit Detail'!$D$8:$D$400,'Building Detail'!$B517)","v":0},0,"",""]
[null,null,null,null,null,null,null,null,null,null,null,null,null,null,{"$f":"SUMIFS('Unit Detail'!$H$8:$H$400,'Unit Detail'!$D$8:$D$400,'Building Detail'!$B518,'Unit Detail'!$Y$8:$Y$400,1)","v":0},{"$f":"SUMIFS('Unit Detail'!$H$8:$H$400,'Unit Detail'!$D$8:$D$400,'Building Detail'!$B518,'Unit Detail'!$Y$8:$Y$400,3)","v":0},{"$f":"SUMIFS('Unit Detail'!$H$8:$H$400,'Unit Detail'!$D$8:$D$400,'Building Detail'!$B518,'Unit Detail'!$Y$8:$Y$400,2)","v":0},{"$f":"SUMIF('Unit Detail'!$D$8:$D$400,$B518,'Unit Detail'!$H$8:$H$400)","v":0},0,"",{"$f":"COUNTIFS('Unit Detail'!$Y$8:$Y$400,\"1\",'Unit Detail'!$D$8:$D$400,'Building Detail'!$B518)","v":0},{"$f":"COUNTIFS('Unit Detail'!$Y$8:$Y$400,\"3\",'Unit Detail'!$D$8:$D$400,'Building Detail'!$B518)","v":0},{"$f":"COUNTIFS('Unit Detail'!$Y$8:$Y$400,\"2\",'Unit Detail'!$D$8:$D$400,'Building Detail'!$B518)","v":0},0,"",""]
[null,null,null,null,null,null,null,null,null,null,null,null,null,null,{"$f":"SUMIFS('Unit Detail'!$H$8:$H$400,'Unit Detail'!$D$8:$D$400,'Building Detail'!$B519,'Unit Detail'!$Y$8:$Y$400,1)","v":0},{"$f":"SUMIFS('Unit Detail'!$H$8:$H$400,'Unit Detail'!$D$8:$D$400,'Building Detail'!$B519,'Unit Detail'!$Y$8:$Y$400,3)","v":0},{"$f":"SUMIFS('Unit Detail'!$H$8:$H$400,'Unit Detail'!$D$8:$D$400,'Building Detail'!$B519,'Unit Detail'!$Y$8:$Y$400,2)","v":0},{"$f":"SUMIF('Unit Detail'!$D$8:$D$400,$B519,'Unit Detail'!$H$8:$H$400)","v":0},0,"",{"$f":"COUNTIFS('Unit Detail'!$Y$8:$Y$400,\"1\",'Unit Detail'!$D$8:$D$400,'Building Detail'!$B519)","v":0},{"$f":"COUNTIFS('Unit Detail'!$Y$8:$Y$400,\"3\",'Unit Detail'!$D$8:$D$400,'Building Detail'!$B519)","v":0},{"$f":"COUNTIFS('Unit Detail'!$Y$8:$Y$400,\"2\",'Unit Detail'!$D$8:$D$400,'Building Detail'!$B519)","v":0},0,"",""]
[null,null,null,null,null,null,null,null,null,null,null,null,null,null,{"$f":"SUMIFS('Unit Detail'!$H$8:$H$400,'Unit Detail'!$D$8:$D$400,'Building Detail'!$B520,'Unit Detail'!$Y$8:$Y$400,1)","v":0},{"$f":"SUMIFS('Unit Detail'!$H$8:$H$400,'Unit Detail'!$D$8:$D$400,'Building Detail'!$B520,'Unit Detail'!$Y$8:$Y$400,3)","v":0},{"$f":"SUMIFS('Unit Detail'!$H$8:$H$400,'Unit Detail'!$D$8:$D$400,'Building Detail'!$B520,'Unit Detail'!$Y$8:$Y$400,2)","v":0},{"$f":"SUMIF('Unit Detail'!$D$8:$D$400,$B520,'Unit Detail'!$H$8:$H$400)","v":0},0,"",{"$f":"COUNTIFS('Unit Detail'!$Y$8:$Y$400,\"1\",'Unit Detail'!$D$8:$D$400,'Building Detail'!$B520)","v":0},{"$f":"COUNTIFS('Unit Detail'!$Y$8:$Y$400,\"3\",'Unit Detail'!$D$8:$D$400,'Building Detail'!$B520)","v":0},{"$f":"COUNTIFS('Unit Detail'!$Y$8:$Y$400,\"2\",'Unit Detail'!$D$8:$D$400,'Building Detail'!$B520)","v":0},0,"",""]
[null,null,null,null,null,null,null,null,null,null,null,null,null,null,{"$f":"SUMIFS('Unit Detail'!$H$8:$H$400,'Unit Detail'!$D$8:$D$400,'Building Detail'!$B521,'Unit Detail'!$Y$8:$Y$400,1)","v":0},{"$f":"SUMIFS('Unit Detail'!$H$8:$H$400,'Unit Detail'!$D$8:$D$400,'Building Detail'!$B521,'Unit Detail'!$Y$8:$Y$400,3)","v":0},{"$f":"SUMIFS('Unit Detail'!$H$8:$H$400,'Unit Detail'!$D$8:$D$400,'Building Detail'!$B521,'Unit Detail'!$Y$8:$Y$400,2)","v":0},{"$f":"SUMIF('Unit Detail'!$D$8:$D$400,$B521,'Unit Detail'!$H$8:$H$400)","v":0},0,"",{"$f":"COUNTIFS('Unit Detail'!$Y$8:$Y$400,\"1\",'Unit Detail'!$D$8:$D$400,'Building Detail'!$B521)","v":0},{"$f":"COUNTIFS('Unit Detail'!$Y$8:$Y$400,\"3\",'Unit Detail'!$D$8:$D$400,'Building Detail'!$B521)","v":0},{"$f":"COUNTIFS('Unit Detail'!$Y$8:$Y$400,\"2\",'Unit Detail'!$D$8:$D$400,'Building Detail'!$B521)","v":0},0,"",""]
[null,null,null,null,null,null,null,null,null,null,null,null,null,null,{"$f":"SUMIFS('Unit Detail'!$H$8:$H$400,'Unit Detail'!$D$8:$D$400,'Building Detail'!$B522,'Unit Detail'!$Y$8:$Y$400,1)","v":0},{"$f":"SUMIFS('Unit Detail'!$H$8:$H$400,'Unit Detail'!$D$8:$D$400,'Building Detail'!$B522,'Unit Detail'!$Y$8:$Y$400,3)","v":0},{"$f":"SUMIFS('Unit Detail'!$H$8:$H$400,'Unit Detail'!$D$8:$D$400,'Building Detail'!$B522,'Unit Detail'!$Y$8:$Y$400,2)","v":0},{"$f":"SUMIF('Unit Detail'!$D$8:$D$400,$B522,'Unit Detail'!$H$8:$H$400)","v":0},0,"",{"$f":"COUNTIFS('Unit Detail'!$Y$8:$Y$400,\"1\",'Unit Detail'!$D$8:$D$400,'Building Detail'!$B522)","v":0},{"$f":"COUNTIFS('Unit Detail'!$Y$8:$Y$400,\"3\",'Unit Detail'!$D$8:$D$400,'Building Detail'!$B522)","v":0},{"$f":"COUNTIFS('Unit Detail'!$Y$8:$Y$400,\"2\",'Unit Detail'!$D$8:$D$400,'Building Detail'!$B522)","v":0},0,"",""]
[null,null,null,null,null,null,null,null,null,null,null,null,null,null,{"$f":"SUMIFS('Unit Detail'!$H$8:$H$400,'Unit Detail'!$D$8:$D$400,'Building Detail'!$B523,'Unit Detail'!$Y$8:$Y$400,1)","v":0},{"$f":"SUMIFS('Unit Detail'!$H$8:$H$400,'Unit Detail'!$D$8:$D$400,'Building Detail'!$B523,'Unit Detail'!$Y$8:$Y$400,3)","v":0},{"$f":"SUMIFS('Unit Detail'!$H$8:$H$400,'Unit Detail'!$D$8:$D$400,'Building Detail'!$B523,'Unit Detail'!$Y$8:$Y$400,2)","v":0},{"$f":"SUMIF('Unit Detail'!$D$8:$D$400,$B523,'Unit Detail'!$H$8:$H$400)","v":0},0,"",{"$f":"COUNTIFS('Unit Detail'!$Y$8:$Y$400,\"1\",'Unit Detail'!$D$8:$D$400,'Building Detail'!$B523)","v":0},{"$f":"COUNTIFS('Unit Detail'!$Y$8:$Y$400,\"3\",'Unit Detail'!$D$8:$D$400,'Building Detail'!$B523)","v":0},{"$f":"COUNTIFS('Unit Detail'!$Y$8:$Y$400,\"2\",'Unit Detail'!$D$8:$D$400,'Building Detail'!$B523)","v":0},0,"",""]
[null,null,null,null,null,null,null,null,null,null,null,null,null,null,{"$f":"SUMIFS('Unit Detail'!$H$8:$H$400,'Unit Detail'!$D$8:$D$400,'Building Detail'!$B524,'Unit Detail'!$Y$8:$Y$400,1)","v":0},{"$f":"SUMIFS('Unit Detail'!$H$8:$H$400,'Unit Detail'!$D$8:$D$400,'Building Detail'!$B524,'Unit Detail'!$Y$8:$Y$400,3)","v":0},{"$f":"SUMIFS('Unit Detail'!$H$8:$H$400,'Unit Detail'!$D$8:$D$400,'Building Detail'!$B524,'Unit Detail'!$Y$8:$Y$400,2)","v":0},{"$f":"SUMIF('Unit Detail'!$D$8:$D$400,$B524,'Unit Detail'!$H$8:$H$400)","v":0},0,"",{"$f":"COUNTIFS('Unit Detail'!$Y$8:$Y$400,\"1\",'Unit Detail'!$D$8:$D$400,'Building Detail'!$B524)","v":0},{"$f":"COUNTIFS('Unit Detail'!$Y$8:$Y$400,\"3\",'Unit Detail'!$D$8:$D$400,'Building Detail'!$B524)","v":0},{"$f":"COUNTIFS('Unit Detail'!$Y$8:$Y$400,\"2\",'Unit Detail'!$D$8:$D$400,'Building Detail'!$B524)","v":0},0,"",""]
[null,null,null,null,null,null,null,null,null,null,null,null,null,null,{"$f":"SUMIFS('Unit Detail'!$H$8:$H$400,'Unit Detail'!$D$8:$D$400,'Building Detail'!$B525,'Unit Detail'!$Y$8:$Y$400,1)","v":0},{"$f":"SUMIFS('Unit Detail'!$H$8:$H$400,'Unit Detail'!$D$8:$D$400,'Building Detail'!$B525,'Unit Detail'!$Y$8:$Y$400,3)","v":0},{"$f":"SUMIFS('Unit Detail'!$H$8:$H$400,'Unit Detail'!$D$8:$D$400,'Building Detail'!$B525,'Unit Detail'!$Y$8:$Y$400,2)","v":0},{"$f":"SUMIF('Unit Detail'!$D$8:$D$400,$B525,'Unit Detail'!$H$8:$H$400)","v":0},0,"",{"$f":"COUNTIFS('Unit Detail'!$Y$8:$Y$400,\"1\",'Unit Detail'!$D$8:$D$400,'Building Detail'!$B525)","v":0},{"$f":"COUNTIFS('Unit Detail'!$Y$8:$Y$400,\"3\",'Unit Detail'!$D$8:$D$400,'Building Detail'!$B525)","v":0},{"$f":"COUNTIFS('Unit Detail'!$Y$8:$Y$400,\"2\",'Unit Detail'!$D$8:$D$400,'Building Detail'!$B525)","v":0},0,"",""]
[null,null,null,null,null,null,null,null,null,null,null,null,null,null,{"$f":"SUMIFS('Unit Detail'!$H$8:$H$400,'Unit Detail'!$D$8:$D$400,'Building Detail'!$B526,'Unit Detail'!$Y$8:$Y$400,1)","v":0},{"$f":"SUMIFS('Unit Detail'!$H$8:$H$400,'Unit Detail'!$D$8:$D$400,'Building Detail'!$B526,'Unit Detail'!$Y$8:$Y$400,3)","v":0},{"$f":"SUMIFS('Unit Detail'!$H$8:$H$400,'Unit Detail'!$D$8:$D$400,'Building Detail'!$B526,'Unit Detail'!$Y$8:$Y$400,2)","v":0},{"$f":"SUMIF('Unit Detail'!$D$8:$D$400,$B526,'Unit Detail'!$H$8:$H$400)","v":0},0,"",{"$f":"COUNTIFS('Unit Detail'!$Y$8:$Y$400,\"1\",'Unit Detail'!$D$8:$D$400,'Building Detail'!$B526)","v":0},{"$f":"COUNTIFS('Unit Detail'!$Y$8:$Y$400,\"3\",'Unit Detail'!$D$8:$D$400,'Building Detail'!$B526)","v":0},{"$f":"COUNTIFS('Unit Detail'!$Y$8:$Y$400,\"2\",'Unit Detail'!$D$8:$D$400,'Building Detail'!$B526)","v":0},0,"",""]
[null,null,null,null,null,null,null,null,null,null,null,null,null,null,{"$f":"SUMIFS('Unit Detail'!$H$8:$H$400,'Unit Detail'!$D$8:$D$400,'Building Detail'!$B527,'Unit Detail'!$Y$8:$Y$400,1)","v":0},{"$f":"SUMIFS('Unit Detail'!$H$8:$H$400,'Unit Detail'!$D$8:$D$400,'Building Detail'!$B527,'Unit Detail'!$Y$8:$Y$400,3)","v":0},{"$f":"SUMIFS('Unit Detail'!$H$8:$H$400,'Unit Detail'!$D$8:$D$400,'Building Detail'!$B527,'Unit Detail'!$Y$8:$Y$400,2)","v":0},{"$f":"SUMIF('Unit Detail'!$D$8:$D$400,$B527,'Unit Detail'!$H$8:$H$400)","v":0},0,"",{"$f":"COUNTIFS('Unit Detail'!$Y$8:$Y$400,\"1\",'Unit Detail'!$D$8:$D$400,'Building Detail'!$B527)","v":0},{"$f":"COUNTIFS('Unit Detail'!$Y$8:$Y$400,\"3\",'Unit Detail'!$D$8:$D$400,'Building Detail'!$B527)","v":0},{"$f":"COUNTIFS('Unit Detail'!$Y$8:$Y$400,\"2\",'Unit Detail'!$D$8:$D$400,'Building Detail'!$B527)","v":0},0,"",""]
[null,null,null,null,null,null,null,null,null,null,null,null,null,null,{"$f":"SUMIFS('Unit Detail'!$H$8:$H$400,'Unit Detail'!$D$8:$D$400,'Building Detail'!$B528,'Unit Detail'!$Y$8:$Y$400,1)","v":0},{"$f":"SUMIFS('Unit Detail'!$H$8:$H$400,'Unit Detail'!$D$8:$D$400,'Building Detail'!$B528,'Unit Detail'!$Y$8:$Y$400,3)","v":0},{"$f":"SUMIFS('Unit Detail'!$H$8:$H$400,'Unit Detail'!$D$8:$D$400,'Building Detail'!$B528,'Unit Detail'!$Y$8:$Y$400,2)","v":0},{"$f":"SUMIF('Unit Detail'!$D$8:$D$400,$B528,'Unit Detail'!$H$8:$H$400)","v":0},0,"",{"$f":"COUNTIFS('Unit Detail'!$Y$8:$Y$400,\"1\",'Unit Detail'!$D$8:$D$400,'Building Detail'!$B528)","v":0},{"$f":"COUNTIFS('Unit Detail'!$Y$8:$Y$400,\"3\",'Unit Detail'!$D$8:$D$400,'Building Detail'!$B528)","v":0},{"$f":"COUNTIFS('Unit Detail'!$Y$8:$Y$400,\"2\",'Unit Detail'!$D$8:$D$400,'Building Detail'!$B528)","v":0},0,"",""]
[null,null,null,null,null,null,null,null,null,null,null,null,null,null,{"$f":"SUMIFS('Unit Detail'!$H$8:$H$400,'Unit Detail'!$D$8:$D$400,'Building Detail'!$B529,'Unit Detail'!$Y$8:$Y$400,1)","v":0},{"$f":"SUMIFS('Unit Detail'!$H$8:$H$400,'Unit Detail'!$D$8:$D$400,'Building Detail'!$B529,'Unit Detail'!$Y$8:$Y$400,3)","v":0},{"$f":"SUMIFS('Unit Detail'!$H$8:$H$400,'Unit Detail'!$D$8:$D$400,'Building Detail'!$B529,'Unit Detail'!$Y$8:$Y$400,2)","v":0},{"$f":"SUMIF('Unit Detail'!$D$8:$D$400,$B529,'Unit Detail'!$H$8:$H$400)","v":0},0,"",{"$f":"COUNTIFS('Unit Detail'!$Y$8:$Y$400,\"1\",'Unit Detail'!$D$8:$D$400,'Building Detail'!$B529)","v":0},{"$f":"COUNTIFS('Unit Detail'!$Y$8:$Y$400,\"3\",'Unit Detail'!$D$8:$D$400,'Building Detail'!$B529)","v":0},{"$f":"COUNTIFS('Unit Detail'!$Y$8:$Y$400,\"2\",'Unit Detail'!$D$8:$D$400,'Building Detail'!$B529)","v":0},0,"",""]
[null,null,null,null,null,null,null,null,null,null,null,null,null,null,{"$f":"SUMIFS('Unit Detail'!$H$8:$H$400,'Unit Detail'!$D$8:$D$400,'Building Detail'!$B530,'Unit Detail'!$Y$8:$Y$400,1)","v":0},{"$f":"SUMIFS('Unit Detail'!$H$8:$H$400,'Unit Detail'!$D$8:$D$400,'Building Detail'!$B530,'Unit Detail'!$Y$8:$Y$400,3)","v":0},{"$f":"SUMIFS('Unit Detail'!$H$8:$H$400,'Unit Detail'!$D$8:$D$400,'Building Detail'!$B530,'Unit Detail'!$Y$8:$Y$400,2)","v":0},{"$f":"SUMIF('Unit Detail'!$D$8:$D$400,$B530,'Unit Detail'!$H$8:$H$400)","v":0},0,"",{"$f":"COUNTIFS('Unit Detail'!$Y$8:$Y$400,\"1\",'Unit Detail'!$D$8:$D$400,'Building Detail'!$B530)","v":0},{"$f":"COUNTIFS('Unit Detail'!$Y$8:$Y$400,\"3\",'Unit Detail'!$D$8:$D$400,'Building Detail'!$B530)","v":0},{"$f":"COUNTIFS('Unit Detail'!$Y$8:$Y$400,\"2\",'Unit Detail'!$D$8:$D$400,'Building Detail'!$B530)","v":0},0,"",{"$f":"IF(Y530<T530,Y530,T530)","v":""}]
[null,null,null,null,null,null,null,null,null,null,null,null,null,null,{"$f":"SUMIFS('Unit Detail'!$H$8:$H$400,'Unit Detail'!$D$8:$D$400,'Building Detail'!$B531,'Unit Detail'!$Y$8:$Y$400,1)","v":0},{"$f":"SUMIFS('Unit Detail'!$H$8:$H$400,'Unit Detail'!$D$8:$D$400,'Building Detail'!$B531,'Unit Detail'!$Y$8:$Y$400,3)","v":0},{"$f":"SUMIFS('Unit Detail'!$H$8:$H$400,'Unit Detail'!$D$8:$D$400,'Building Detail'!$B531,'Unit Detail'!$Y$8:$Y$400,2)","v":0},{"$f":"SUMIF('Unit Detail'!$D$8:$D$400,$B531,'Unit Detail'!$H$8:$H$400)","v":0},0,"",{"$f":"COUNTIFS('Unit Detail'!$Y$8:$Y$400,\"1\",'Unit Detail'!$D$8:$D$400,'Building Detail'!$B531)","v":0},{"$f":"COUNTIFS('Unit Detail'!$Y$8:$Y$400,\"3\",'Unit Detail'!$D$8:$D$400,'Building Detail'!$B531)","v":0},{"$f":"COUNTIFS('Unit Detail'!$Y$8:$Y$400,\"2\",'Unit Detail'!$D$8:$D$400,'Building Detail'!$B531)","v":0},0,{"$f":"IF(B531=\"\",\"\",IF($P$15=0,1,U531/X531))","v":""},""]
[null,null,null,null,null,null,null,null,null,null,null,null,null,null,{"$f":"SUMIFS('Unit Detail'!$H$8:$H$400,'Unit Detail'!$D$8:$D$400,'Building Detail'!$B532,'Unit Detail'!$Y$8:$Y$400,1)","v":0},{"$f":"SUMIFS('Unit Detail'!$H$8:$H$400,'Unit Detail'!$D$8:$D$400,'Building Detail'!$B532,'Unit Detail'!$Y$8:$Y$400,3)","v":0},{"$f":"SUMIFS('Unit Detail'!$H$8:$H$400,'Unit Detail'!$D$8:$D$400,'Building Detail'!$B532,'Unit Detail'!$Y$8:$Y$400,2)","v":0},{"$f":"SUMIF('Unit Detail'!$D$8:$D$400,$B532,'Unit Detail'!$H$8:$H$400)","v":0},0,"",{"$f":"COUNTIFS('Unit Detail'!$Y$8:$Y$400,\"1\",'Unit Detail'!$D$8:$D$400,'Building Detail'!$B532)","v":0},{"$f":"COUNTIFS('Unit Detail'!$Y$8:$Y$400,\"3\",'Unit Detail'!$D$8:$D$400,'Building Detail'!$B532)","v":0},{"$f":"COUNTIFS('Unit Detail'!$Y$8:$Y$400,\"2\",'Unit Detail'!$D$8:$D$400,'Building Detail'!$B532)","v":0},0,"",""]
[null,null,null,null,null,null,null,null,null,null,null,null,null,null,{"$f":"SUMIFS('Unit Detail'!$H$8:$H$400,'Unit Detail'!$D$8:$D$400,'Building Detail'!$B533,'Unit Detail'!$Y$8:$Y$400,1)","v":0},{"$f":"SUMIFS('Unit Detail'!$H$8:$H$400,'Unit Detail'!$D$8:$D$400,'Building Detail'!$B533,'Unit Detail'!$Y$8:$Y$400,3)","v":0},{"$f":"SUMIFS('Unit Detail'!$H$8:$H$400,'Unit Detail'!$D$8:$D$400,'Building Detail'!$B533,'Unit Detail'!$Y$8:$Y$400,2)","v":0},{"$f":"SUMIF('Unit Detail'!$D$8:$D$400,$B533,'Unit Detail'!$H$8:$H$400)","v":0},0,{"$f":"IF(B533=\"\",\"\",IF($P$15=0,1,O533/R533))","v":""},{"$f":"COUNTIFS('Unit Detail'!$Y$8:$Y$400,\"1\",'Unit Detail'!$D$8:$D$400,'Building Detail'!$B533)","v":0},{"$f":"COUNTIFS('Unit Detail'!$Y$8:$Y$400,\"3\",'Unit Detail'!$D$8:$D$400,'Building Detail'!$B533)","v":0},{"$f":"COUNTIFS('Unit Detail'!$Y$8:$Y$400,\"2\",'Unit Detail'!$D$8:$D$400,'Building Detail'!$B533)","v":0},0,"",""]
[null,null,null,null,null,null,null,null,null,null,null,null,null,null,{"$f":"SUMIFS('Unit Detail'!$H$8:$H$400,'Unit Detail'!$D$8:$D$400,'Building Detail'!$B534,'Unit Detail'!$Y$8:$Y$400,1)","v":0},{"$f":"SUMIFS('Unit Detail'!$H$8:$H$400,'Unit Detail'!$D$8:$D$400,'Building Detail'!$B534,'Unit Detail'!$Y$8:$Y$400,3)","v":0},{"$f":"SUMIFS('Unit Detail'!$H$8:$H$400,'Unit Detail'!$D$8:$D$400,'Building Detail'!$B534,'Unit Detail'!$Y$8:$Y$400,2)","v":0},{"$f":"SUMIF('Unit Detail'!$D$8:$D$400,$B534,'Unit Detail'!$H$8:$H$400)","v":0},0,"",{"$f":"COUNTIFS('Unit Detail'!$Y$8:$Y$400,\"1\",'Unit Detail'!$D$8:$D$400,'Building Detail'!$B534)","v":0},{"$f":"COUNTIFS('Unit Detail'!$Y$8:$Y$400,\"3\",'Unit Detail'!$D$8:$D$400,'Building Detail'!$B534)","v":0},{"$f":"COUNTIFS('Unit Detail'!$Y$8:$Y$400,\"2\",'Unit Detail'!$D$8:$D$400,'Building Detail'!$B534)","v":0},0,"",""]
[null,null,null,null,null,null,null,null,null,null,null,null,null,null,{"$f":"SUMIFS('Unit Detail'!$H$8:$H$400,'Unit Detail'!$D$8:$D$400,'Building Detail'!$B535,'Unit Detail'!$Y$8:$Y$400,1)","v":0},{"$f":"SUMIFS('Unit Detail'!$H$8:$H$400,'Unit Detail'!$D$8:$D$400,'Building Detail'!$B535,'Unit Detail'!$Y$8:$Y$400,3)","v":0},{"$f":"SUMIFS('Unit Detail'!$H$8:$H$400,'Unit Detail'!$D$8:$D$400,'Building Detail'!$B535,'Unit Detail'!$Y$8:$Y$400,2)","v":0},{"$f":"SUMIF('Unit Detail'!$D$8:$D$400,$B535,'Unit Detail'!$H$8:$H$400)","v":0},0,"",{"$f":"COUNTIFS('Unit Detail'!$Y$8:$Y$400,\"1\",'Unit Detail'!$D$8:$D$400,'Building Detail'!$B535)","v":0},{"$f":"COUNTIFS('Unit Detail'!$Y$8:$Y$400,\"3\",'Unit Detail'!$D$8:$D$400,'Building Detail'!$B535)","v":0},{"$f":"COUNTIFS('Unit Detail'!$Y$8:$Y$400,\"2\",'Unit Detail'!$D$8:$D$400,'Building Detail'!$B535)","v":0},0,"",""]
[null,null,null,null,null,null,null,null,null,null,null,null,null,null,{"$f":"SUMIFS('Unit Detail'!$H$8:$H$400,'Unit Detail'!$D$8:$D$400,'Building Detail'!$B536,'Unit Detail'!$Y$8:$Y$400,1)","v":0},{"$f":"SUMIFS('Unit Detail'!$H$8:$H$400,'Unit Detail'!$D$8:$D$400,'Building Detail'!$B536,'Unit Detail'!$Y$8:$Y$400,3)","v":0},{"$f":"SUMIFS('Unit Detail'!$H$8:$H$400,'Unit Detail'!$D$8:$D$400,'Building Detail'!$B536,'Unit Detail'!$Y$8:$Y$400,2)","v":0},{"$f":"SUMIF('Unit Detail'!$D$8:$D$400,$B536,'Unit Detail'!$H$8:$H$400)","v":0},0,"",{"$f":"COUNTIFS('Unit Detail'!$Y$8:$Y$400,\"1\",'Unit Detail'!$D$8:$D$400,'Building Detail'!$B536)","v":0},{"$f":"COUNTIFS('Unit Detail'!$Y$8:$Y$400,\"3\",'Unit Detail'!$D$8:$D$400,'Building Detail'!$B536)","v":0},{"$f":"COUNTIFS('Unit Detail'!$Y$8:$Y$400,\"2\",'Unit Detail'!$D$8:$D$400,'Building Detail'!$B536)","v":0},0,"",""]
[null,null,null,null,null,null,null,null,null,null,null,null,null,null,{"$f":"SUMIFS('Unit Detail'!$H$8:$H$400,'Unit Detail'!$D$8:$D$400,'Building Detail'!$B537,'Unit Detail'!$Y$8:$Y$400,1)","v":0},{"$f":"SUMIFS('Unit Detail'!$H$8:$H$400,'Unit Detail'!$D$8:$D$400,'Building Detail'!$B537,'Unit Detail'!$Y$8:$Y$400,3)","v":0},{"$f":"SUMIFS('Unit Detail'!$H$8:$H$400,'Unit Detail'!$D$8:$D$400,'Building Detail'!$B537,'Unit Detail'!$Y$8:$Y$400,2)","v":0},{"$f":"SUMIF('Unit Detail'!$D$8:$D$400,$B537,'Unit Detail'!$H$8:$H$400)","v":0},0,"",{"$f":"COUNTIFS('Unit Detail'!$Y$8:$Y$400,\"1\",'Unit Detail'!$D$8:$D$400,'Building Detail'!$B537)","v":0},{"$f":"COUNTIFS('Unit Detail'!$Y$8:$Y$400,\"3\",'Unit Detail'!$D$8:$D$400,'Building Detail'!$B537)","v":0},{"$f":"COUNTIFS('Unit Detail'!$Y$8:$Y$400,\"2\",'Unit Detail'!$D$8:$D$400,'Building Detail'!$B537)","v":0},0,"",""]
[null,null,null,null,null,null,null,null,null,null,null,null,null,null,{"$f":"SUMIFS('Unit Detail'!$H$8:$H$400,'Unit Detail'!$D$8:$D$400,'Building Detail'!$B538,'Unit Detail'!$Y$8:$Y$400,1)","v":0},{"$f":"SUMIFS('Unit Detail'!$H$8:$H$400,'Unit Detail'!$D$8:$D$400,'Building Detail'!$B538,'Unit Detail'!$Y$8:$Y$400,3)","v":0},{"$f":"SUMIFS('Unit Detail'!$H$8:$H$400,'Unit Detail'!$D$8:$D$400,'Building Detail'!$B538,'Unit Detail'!$Y$8:$Y$400,2)","v":0},{"$f":"SUMIF('Unit Detail'!$D$8:$D$400,$B538,'Unit Detail'!$H$8:$H$400)","v":0},0,"",{"$f":"COUNTIFS('Unit Detail'!$Y$8:$Y$400,\"1\",'Unit Detail'!$D$8:$D$400,'Building Detail'!$B538)","v":0},{"$f":"COUNTIFS('Unit Detail'!$Y$8:$Y$400,\"3\",'Unit Detail'!$D$8:$D$400,'Building Detail'!$B538)","v":0},{"$f":"COUNTIFS('Unit Detail'!$Y$8:$Y$400,\"2\",'Unit Detail'!$D$8:$D$400,'Building Detail'!$B538)","v":0},0,"",""]
[null,null,null,null,null,null,null,null,null,null,null,null,null,null,{"$f":"SUMIFS('Unit Detail'!$H$8:$H$400,'Unit Detail'!$D$8:$D$400,'Building Detail'!$B539,'Unit Detail'!$Y$8:$Y$400,1)","v":0},{"$f":"SUMIFS('Unit Detail'!$H$8:$H$400,'Unit Detail'!$D$8:$D$400,'Building Detail'!$B539,'Unit Detail'!$Y$8:$Y$400,3)","v":0},{"$f":"SUMIFS('Unit Detail'!$H$8:$H$400,'Unit Detail'!$D$8:$D$400,'Building Detail'!$B539,'Unit Detail'!$Y$8:$Y$400,2)","v":0},{"$f":"SUMIF('Unit Detail'!$D$8:$D$400,$B539,'Unit Detail'!$H$8:$H$400)","v":0},0,"",{"$f":"COUNTIFS('Unit Detail'!$Y$8:$Y$400,\"1\",'Unit Detail'!$D$8:$D$400,'Building Detail'!$B539)","v":0},{"$f":"COUNTIFS('Unit Detail'!$Y$8:$Y$400,\"3\",'Unit Detail'!$D$8:$D$400,'Building Detail'!$B539)","v":0},{"$f":"COUNTIFS('Unit Detail'!$Y$8:$Y$400,\"2\",'Unit Detail'!$D$8:$D$400,'Building Detail'!$B539)","v":0},0,"",""]
[null,null,null,null,null,null,null,null,null,null,null,null,null,null,{"$f":"SUMIFS('Unit Detail'!$H$8:$H$400,'Unit Detail'!$D$8:$D$400,'Building Detail'!$B540,'Unit Detail'!$Y$8:$Y$400,1)","v":0},{"$f":"SUMIFS('Unit Detail'!$H$8:$H$400,'Unit Detail'!$D$8:$D$400,'Building Detail'!$B540,'Unit Detail'!$Y$8:$Y$400,3)","v":0},{"$f":"SUMIFS('Unit Detail'!$H$8:$H$400,'Unit Detail'!$D$8:$D$400,'Building Detail'!$B540,'Unit Detail'!$Y$8:$Y$400,2)","v":0},{"$f":"SUMIF('Unit Detail'!$D$8:$D$400,$B540,'Unit Detail'!$H$8:$H$400)","v":0},0,"",{"$f":"COUNTIFS('Unit Detail'!$Y$8:$Y$400,\"1\",'Unit Detail'!$D$8:$D$400,'Building Detail'!$B540)","v":0},{"$f":"COUNTIFS('Unit Detail'!$Y$8:$Y$400,\"3\",'Unit Detail'!$D$8:$D$400,'Building Detail'!$B540)","v":0},{"$f":"COUNTIFS('Unit Detail'!$Y$8:$Y$400,\"2\",'Unit Detail'!$D$8:$D$400,'Building Detail'!$B540)","v":0},0,"",""]
[null,null,null,null,null,null,null,null,null,null,null,null,null,null,{"$f":"SUMIFS('Unit Detail'!$H$8:$H$400,'Unit Detail'!$D$8:$D$400,'Building Detail'!$B541,'Unit Detail'!$Y$8:$Y$400,1)","v":0},{"$f":"SUMIFS('Unit Detail'!$H$8:$H$400,'Unit Detail'!$D$8:$D$400,'Building Detail'!$B541,'Unit Detail'!$Y$8:$Y$400,3)","v":0},{"$f":"SUMIFS('Unit Detail'!$H$8:$H$400,'Unit Detail'!$D$8:$D$400,'Building Detail'!$B541,'Unit Detail'!$Y$8:$Y$400,2)","v":0},{"$f":"SUMIF('Unit Detail'!$D$8:$D$400,$B541,'Unit Detail'!$H$8:$H$400)","v":0},0,"",{"$f":"COUNTIFS('Unit Detail'!$Y$8:$Y$400,\"1\",'Unit Detail'!$D$8:$D$400,'Building Detail'!$B541)","v":0},{"$f":"COUNTIFS('Unit Detail'!$Y$8:$Y$400,\"3\",'Unit Detail'!$D$8:$D$400,'Building Detail'!$B541)","v":0},{"$f":"COUNTIFS('Unit Detail'!$Y$8:$Y$400,\"2\",'Unit Detail'!$D$8:$D$400,'Building Detail'!$B541)","v":0},0,"",""]
[null,null,null,null,null,null,null,null,null,null,null,null,null,null,{"$f":"SUMIFS('Unit Detail'!$H$8:$H$400,'Unit Detail'!$D$8:$D$400,'Building Detail'!$B542,'Unit Detail'!$Y$8:$Y$400,1)","v":0},{"$f":"SUMIFS('Unit Detail'!$H$8:$H$400,'Unit Detail'!$D$8:$D$400,'Building Detail'!$B542,'Unit Detail'!$Y$8:$Y$400,3)","v":0},{"$f":"SUMIFS('Unit Detail'!$H$8:$H$400,'Unit Detail'!$D$8:$D$400,'Building Detail'!$B542,'Unit Detail'!$Y$8:$Y$400,2)","v":0},{"$f":"SUMIF('Unit Detail'!$D$8:$D$400,$B542,'Unit Detail'!$H$8:$H$400)","v":0},0,"",{"$f":"COUNTIFS('Unit Detail'!$Y$8:$Y$400,\"1\",'Unit Detail'!$D$8:$D$400,'Building Detail'!$B542)","v":0},{"$f":"COUNTIFS('Unit Detail'!$Y$8:$Y$400,\"3\",'Unit Detail'!$D$8:$D$400,'Building Detail'!$B542)","v":0},{"$f":"COUNTIFS('Unit Detail'!$Y$8:$Y$400,\"2\",'Unit Detail'!$D$8:$D$400,'Building Detail'!$B542)","v":0},0,"",""]
[null,null,null,null,null,null,null,null,null,null,null,null,null,null,{"$f":"SUMIFS('Unit Detail'!$H$8:$H$400,'Unit Detail'!$D$8:$D$400,'Building Detail'!$B543,'Unit Detail'!$Y$8:$Y$400,1)","v":0},{"$f":"SUMIFS('Unit Detail'!$H$8:$H$400,'Unit Detail'!$D$8:$D$400,'Building Detail'!$B543,'Unit Detail'!$Y$8:$Y$400,3)","v":0},{"$f":"SUMIFS('Unit Detail'!$H$8:$H$400,'Unit Detail'!$D$8:$D$400,'Building Detail'!$B543,'Unit Detail'!$Y$8:$Y$400,2)","v":0},{"$f":"SUMIF('Unit Detail'!$D$8:$D$400,$B543,'Unit Detail'!$H$8:$H$400)","v":0},0,"",{"$f":"COUNTIFS('Unit Detail'!$Y$8:$Y$400,\"1\",'Unit Detail'!$D$8:$D$400,'Building Detail'!$B543)","v":0},{"$f":"COUNTIFS('Unit Detail'!$Y$8:$Y$400,\"3\",'Unit Detail'!$D$8:$D$400,'Building Detail'!$B543)","v":0},{"$f":"COUNTIFS('Unit Detail'!$Y$8:$Y$400,\"2\",'Unit Detail'!$D$8:$D$400,'Building Detail'!$B543)","v":0},0,"",""]
[null,null,null,null,null,null,null,null,null,null,null,null,null,null,{"$f":"SUMIFS('Unit Detail'!$H$8:$H$400,'Unit Detail'!$D$8:$D$400,'Building Detail'!$B544,'Unit Detail'!$Y$8:$Y$400,1)","v":0},{"$f":"SUMIFS('Unit Detail'!$H$8:$H$400,'Unit Detail'!$D$8:$D$400,'Building Detail'!$B544,'Unit Detail'!$Y$8:$Y$400,3)","v":0},{"$f":"SUMIFS('Unit Detail'!$H$8:$H$400,'Unit Detail'!$D$8:$D$400,'Building Detail'!$B544,'Unit Detail'!$Y$8:$Y$400,2)","v":0},{"$f":"SUMIF('Unit Detail'!$D$8:$D$400,$B544,'Unit Detail'!$H$8:$H$400)","v":0},0,"",{"$f":"COUNTIFS('Unit Detail'!$Y$8:$Y$400,\"1\",'Unit Detail'!$D$8:$D$400,'Building Detail'!$B544)","v":0},{"$f":"COUNTIFS('Unit Detail'!$Y$8:$Y$400,\"3\",'Unit Detail'!$D$8:$D$400,'Building Detail'!$B544)","v":0},{"$f":"COUNTIFS('Unit Detail'!$Y$8:$Y$400,\"2\",'Unit Detail'!$D$8:$D$400,'Building Detail'!$B544)","v":0},0,"",""]
[null,null,null,null,null,null,null,null,null,null,null,null,null,null,{"$f":"SUMIFS('Unit Detail'!$H$8:$H$400,'Unit Detail'!$D$8:$D$400,'Building Detail'!$B545,'Unit Detail'!$Y$8:$Y$400,1)","v":0},{"$f":"SUMIFS('Unit Detail'!$H$8:$H$400,'Unit Detail'!$D$8:$D$400,'Building Detail'!$B545,'Unit Detail'!$Y$8:$Y$400,3)","v":0},{"$f":"SUMIFS('Unit Detail'!$H$8:$H$400,'Unit Detail'!$D$8:$D$400,'Building Detail'!$B545,'Unit Detail'!$Y$8:$Y$400,2)","v":0},{"$f":"SUMIF('Unit Detail'!$D$8:$D$400,$B545,'Unit Detail'!$H$8:$H$400)","v":0},0,"",{"$f":"COUNTIFS('Unit Detail'!$Y$8:$Y$400,\"1\",'Unit Detail'!$D$8:$D$400,'Building Detail'!$B545)","v":0},{"$f":"COUNTIFS('Unit Detail'!$Y$8:$Y$400,\"3\",'Unit Detail'!$D$8:$D$400,'Building Detail'!$B545)","v":0},{"$f":"COUNTIFS('Unit Detail'!$Y$8:$Y$400,\"2\",'Unit Detail'!$D$8:$D$400,'Building Detail'!$B545)","v":0},0,"",""]
[null,null,null,null,null,null,null,null,null,null,null,null,null,null,{"$f":"SUMIFS('Unit Detail'!$H$8:$H$400,'Unit Detail'!$D$8:$D$400,'Building Detail'!$B546,'Unit Detail'!$Y$8:$Y$400,1)","v":0},{"$f":"SUMIFS('Unit Detail'!$H$8:$H$400,'Unit Detail'!$D$8:$D$400,'Building Detail'!$B546,'Unit Detail'!$Y$8:$Y$400,3)","v":0},{"$f":"SUMIFS('Unit Detail'!$H$8:$H$400,'Unit Detail'!$D$8:$D$400,'Building Detail'!$B546,'Unit Detail'!$Y$8:$Y$400,2)","v":0},{"$f":"SUMIF('Unit Detail'!$D$8:$D$400,$B546,'Unit Detail'!$H$8:$H$400)","v":0},0,"",{"$f":"COUNTIFS('Unit Detail'!$Y$8:$Y$400,\"1\",'Unit Detail'!$D$8:$D$400,'Building Detail'!$B546)","v":0},{"$f":"COUNTIFS('Unit Detail'!$Y$8:$Y$400,\"3\",'Unit Detail'!$D$8:$D$400,'Building Detail'!$B546)","v":0},{"$f":"COUNTIFS('Unit Detail'!$Y$8:$Y$400,\"2\",'Unit Detail'!$D$8:$D$400,'Building Detail'!$B546)","v":0},0,"",""]
[null,null,null,null,null,null,null,null,null,null,null,null,null,null,{"$f":"SUMIFS('Unit Detail'!$H$8:$H$400,'Unit Detail'!$D$8:$D$400,'Building Detail'!$B547,'Unit Detail'!$Y$8:$Y$400,1)","v":0},{"$f":"SUMIFS('Unit Detail'!$H$8:$H$400,'Unit Detail'!$D$8:$D$400,'Building Detail'!$B547,'Unit Detail'!$Y$8:$Y$400,3)","v":0},{"$f":"SUMIFS('Unit Detail'!$H$8:$H$400,'Unit Detail'!$D$8:$D$400,'Building Detail'!$B547,'Unit Detail'!$Y$8:$Y$400,2)","v":0},{"$f":"SUMIF('Unit Detail'!$D$8:$D$400,$B547,'Unit Detail'!$H$8:$H$400)","v":0},0,"",{"$f":"COUNTIFS('Unit Detail'!$Y$8:$Y$400,\"1\",'Unit Detail'!$D$8:$D$400,'Building Detail'!$B547)","v":0},{"$f":"COUNTIFS('Unit Detail'!$Y$8:$Y$400,\"3\",'Unit Detail'!$D$8:$D$400,'Building Detail'!$B547)","v":0},{"$f":"COUNTIFS('Unit Detail'!$Y$8:$Y$400,\"2\",'Unit Detail'!$D$8:$D$400,'Building Detail'!$B547)","v":0},0,"",""]
[null,null,null,null,null,null,null,null,null,null,null,null,null,null,{"$f":"SUMIFS('Unit Detail'!$H$8:$H$400,'Unit Detail'!$D$8:$D$400,'Building Detail'!$B548,'Unit Detail'!$Y$8:$Y$400,1)","v":0},{"$f":"SUMIFS('Unit Detail'!$H$8:$H$400,'Unit Detail'!$D$8:$D$400,'Building Detail'!$B548,'Unit Detail'!$Y$8:$Y$400,3)","v":0},{"$f":"SUMIFS('Unit Detail'!$H$8:$H$400,'Unit Detail'!$D$8:$D$400,'Building Detail'!$B548,'Unit Detail'!$Y$8:$Y$400,2)","v":0},{"$f":"SUMIF('Unit Detail'!$D$8:$D$400,$B548,'Unit Detail'!$H$8:$H$400)","v":0},0,"",{"$f":"COUNTIFS('Unit Detail'!$Y$8:$Y$400,\"1\",'Unit Detail'!$D$8:$D$400,'Building Detail'!$B548)","v":0},{"$f":"COUNTIFS('Unit Detail'!$Y$8:$Y$400,\"3\",'Unit Detail'!$D$8:$D$400,'Building Detail'!$B548)","v":0},{"$f":"COUNTIFS('Unit Detail'!$Y$8:$Y$400,\"2\",'Unit Detail'!$D$8:$D$400,'Building Detail'!$B548)","v":0},0,"",""]
[null,null,null,null,null,null,null,null,null,null,null,null,null,null,{"$f":"SUMIFS('Unit Detail'!$H$8:$H$400,'Unit Detail'!$D$8:$D$400,'Building Detail'!$B549,'Unit Detail'!$Y$8:$Y$400,1)","v":0},{"$f":"SUMIFS('Unit Detail'!$H$8:$H$400,'Unit Detail'!$D$8:$D$400,'Building Detail'!$B549,'Unit Detail'!$Y$8:$Y$400,3)","v":0},{"$f":"SUMIFS('Unit Detail'!$H$8:$H$400,'Unit Detail'!$D$8:$D$400,'Building Detail'!$B549,'Unit Detail'!$Y$8:$Y$400,2)","v":0},{"$f":"SUMIF('Unit Detail'!$D$8:$D$400,$B549,'Unit Detail'!$H$8:$H$400)","v":0},0,"",{"$f":"COUNTIFS('Unit Detail'!$Y$8:$Y$400,\"1\",'Unit Detail'!$D$8:$D$400,'Building Detail'!$B549)","v":0},{"$f":"COUNTIFS('Unit Detail'!$Y$8:$Y$400,\"3\",'Unit Detail'!$D$8:$D$400,'Building Detail'!$B549)","v":0},{"$f":"COUNTIFS('Unit Detail'!$Y$8:$Y$400,\"2\",'Unit Detail'!$D$8:$D$400,'Building Detail'!$B549)","v":0},0,"",""]
[null,null,null,null,null,null,null,null,null,null,null,null,null,null,{"$f":"SUMIFS('Unit Detail'!$H$8:$H$400,'Unit Detail'!$D$8:$D$400,'Building Detail'!$B550,'Unit Detail'!$Y$8:$Y$400,1)","v":0},{"$f":"SUMIFS('Unit Detail'!$H$8:$H$400,'Unit Detail'!$D$8:$D$400,'Building Detail'!$B550,'Unit Detail'!$Y$8:$Y$400,3)","v":0},{"$f":"SUMIFS('Unit Detail'!$H$8:$H$400,'Unit Detail'!$D$8:$D$400,'Building Detail'!$B550,'Unit Detail'!$Y$8:$Y$400,2)","v":0},{"$f":"SUMIF('Unit Detail'!$D$8:$D$400,$B550,'Unit Detail'!$H$8:$H$400)","v":0},0,"",{"$f":"COUNTIFS('Unit Detail'!$Y$8:$Y$400,\"1\",'Unit Detail'!$D$8:$D$400,'Building Detail'!$B550)","v":0},{"$f":"COUNTIFS('Unit Detail'!$Y$8:$Y$400,\"3\",'Unit Detail'!$D$8:$D$400,'Building Detail'!$B550)","v":0},{"$f":"COUNTIFS('Unit Detail'!$Y$8:$Y$400,\"2\",'Unit Detail'!$D$8:$D$400,'Building Detail'!$B550)","v":0},0,"",""]
[null,null,null,null,null,null,null,null,null,null,null,null,null,null,{"$f":"SUMIFS('Unit Detail'!$H$8:$H$400,'Unit Detail'!$D$8:$D$400,'Building Detail'!$B551,'Unit Detail'!$Y$8:$Y$400,1)","v":0},{"$f":"SUMIFS('Unit Detail'!$H$8:$H$400,'Unit Detail'!$D$8:$D$400,'Building Detail'!$B551,'Unit Detail'!$Y$8:$Y$400,3)","v":0},{"$f":"SUMIFS('Unit Detail'!$H$8:$H$400,'Unit Detail'!$D$8:$D$400,'Building Detail'!$B551,'Unit Detail'!$Y$8:$Y$400,2)","v":0},{"$f":"SUMIF('Unit Detail'!$D$8:$D$400,$B551,'Unit Detail'!$H$8:$H$400)","v":0},0,"",{"$f":"COUNTIFS('Unit Detail'!$Y$8:$Y$400,\"1\",'Unit Detail'!$D$8:$D$400,'Building Detail'!$B551)","v":0},{"$f":"COUNTIFS('Unit Detail'!$Y$8:$Y$400,\"3\",'Unit Detail'!$D$8:$D$400,'Building Detail'!$B551)","v":0},{"$f":"COUNTIFS('Unit Detail'!$Y$8:$Y$400,\"2\",'Unit Detail'!$D$8:$D$400,'Building Detail'!$B551)","v":0},0,"",""]
[null,null,null,null,null,null,null,null,null,null,null,null,null,null,{"$f":"SUMIFS('Unit Detail'!$H$8:$H$400,'Unit Detail'!$D$8:$D$400,'Building Detail'!$B552,'Unit Detail'!$Y$8:$Y$400,1)","v":0},{"$f":"SUMIFS('Unit Detail'!$H$8:$H$400,'Unit Detail'!$D$8:$D$400,'Building Detail'!$B552,'Unit Detail'!$Y$8:$Y$400,3)","v":0},{"$f":"SUMIFS('Unit Detail'!$H$8:$H$400,'Unit Detail'!$D$8:$D$400,'Building Detail'!$B552,'Unit Detail'!$Y$8:$Y$400,2)","v":0},{"$f":"SUMIF('Unit Detail'!$D$8:$D$400,$B552,'Unit Detail'!$H$8:$H$400)","v":0},0,"",{"$f":"COUNTIFS('Unit Detail'!$Y$8:$Y$400,\"1\",'Unit Detail'!$D$8:$D$400,'Building Detail'!$B552)","v":0},{"$f":"COUNTIFS('Unit Detail'!$Y$8:$Y$400,\"3\",'Unit Detail'!$D$8:$D$400,'Building Detail'!$B552)","v":0},{"$f":"COUNTIFS('Unit Detail'!$Y$8:$Y$400,\"2\",'Unit Detail'!$D$8:$D$400,'Building Detail'!$B552)","v":0},0,"",""]
[null,null,null,null,null,null,null,null,null,null,null,null,null,null,{"$f":"SUMIFS('Unit Detail'!$H$8:$H$400,'Unit Detail'!$D$8:$D$400,'Building Detail'!$B553,'Unit Detail'!$Y$8:$Y$400,1)","v":0},{"$f":"SUMIFS('Unit Detail'!$H$8:$H$400,'Unit Detail'!$D$8:$D$400,'Building Detail'!$B553,'Unit Detail'!$Y$8:$Y$400,3)","v":0},{"$f":"SUMIFS('Unit Detail'!$H$8:$H$400,'Unit Detail'!$D$8:$D$400,'Building Detail'!$B553,'Unit Detail'!$Y$8:$Y$400,2)","v":0},{"$f":"SUMIF('Unit Detail'!$D$8:$D$400,$B553,'Unit Detail'!$H$8:$H$400)","v":0},0,"",{"$f":"COUNTIFS('Unit Detail'!$Y$8:$Y$400,\"1\",'Unit Detail'!$D$8:$D$400,'Building Detail'!$B553)","v":0},{"$f":"COUNTIFS('Unit Detail'!$Y$8:$Y$400,\"3\",'Unit Detail'!$D$8:$D$400,'Building Detail'!$B553)","v":0},{"$f":"COUNTIFS('Unit Detail'!$Y$8:$Y$400,\"2\",'Unit Detail'!$D$8:$D$400,'Building Detail'!$B553)","v":0},0,"",""]
[null,null,null,null,null,null,null,null,null,null,null,null,null,null,{"$f":"SUMIFS('Unit Detail'!$H$8:$H$400,'Unit Detail'!$D$8:$D$400,'Building Detail'!$B554,'Unit Detail'!$Y$8:$Y$400,1)","v":0},{"$f":"SUMIFS('Unit Detail'!$H$8:$H$400,'Unit Detail'!$D$8:$D$400,'Building Detail'!$B554,'Unit Detail'!$Y$8:$Y$400,3)","v":0},{"$f":"SUMIFS('Unit Detail'!$H$8:$H$400,'Unit Detail'!$D$8:$D$400,'Building Detail'!$B554,'Unit Detail'!$Y$8:$Y$400,2)","v":0},{"$f":"SUMIF('Unit Detail'!$D$8:$D$400,$B554,'Unit Detail'!$H$8:$H$400)","v":0},0,"",{"$f":"COUNTIFS('Unit Detail'!$Y$8:$Y$400,\"1\",'Unit Detail'!$D$8:$D$400,'Building Detail'!$B554)","v":0},{"$f":"COUNTIFS('Unit Detail'!$Y$8:$Y$400,\"3\",'Unit Detail'!$D$8:$D$400,'Building Detail'!$B554)","v":0},{"$f":"COUNTIFS('Unit Detail'!$Y$8:$Y$400,\"2\",'Unit Detail'!$D$8:$D$400,'Building Detail'!$B554)","v":0},0,"",""]
[null,null,null,null,null,null,null,null,null,null,null,null,null,null,{"$f":"SUMIFS('Unit Detail'!$H$8:$H$400,'Unit Detail'!$D$8:$D$400,'Building Detail'!$B555,'Unit Detail'!$Y$8:$Y$400,1)","v":0},{"$f":"SUMIFS('Unit Detail'!$H$8:$H$400,'Unit Detail'!$D$8:$D$400,'Building Detail'!$B555,'Unit Detail'!$Y$8:$Y$400,3)","v":0},{"$f":"SUMIFS('Unit Detail'!$H$8:$H$400,'Unit Detail'!$D$8:$D$400,'Building Detail'!$B555,'Unit Detail'!$Y$8:$Y$400,2)","v":0},{"$f":"SUMIF('Unit Detail'!$D$8:$D$400,$B555,'Unit Detail'!$H$8:$H$400)","v":0},0,"",{"$f":"COUNTIFS('Unit Detail'!$Y$8:$Y$400,\"1\",'Unit Detail'!$D$8:$D$400,'Building Detail'!$B555)","v":0},{"$f":"COUNTIFS('Unit Detail'!$Y$8:$Y$400,\"3\",'Unit Detail'!$D$8:$D$400,'Building Detail'!$B555)","v":0},{"$f":"COUNTIFS('Unit Detail'!$Y$8:$Y$400,\"2\",'Unit Detail'!$D$8:$D$400,'Building Detail'!$B555)","v":0},0,"",""]
[null,null,null,null,null,null,null,null,null,null,null,null,null,null,{"$f":"SUMIFS('Unit Detail'!$H$8:$H$400,'Unit Detail'!$D$8:$D$400,'Building Detail'!$B556,'Unit Detail'!$Y$8:$Y$400,1)","v":0},{"$f":"SUMIFS('Unit Detail'!$H$8:$H$400,'Unit Detail'!$D$8:$D$400,'Building Detail'!$B556,'Unit Detail'!$Y$8:$Y$400,3)","v":0},{"$f":"SUMIFS('Unit Detail'!$H$8:$H$400,'Unit Detail'!$D$8:$D$400,'Building Detail'!$B556,'Unit Detail'!$Y$8:$Y$400,2)","v":0},{"$f":"SUMIF('Unit Detail'!$D$8:$D$400,$B556,'Unit Detail'!$H$8:$H$400)","v":0},0,"",{"$f":"COUNTIFS('Unit Detail'!$Y$8:$Y$400,\"1\",'Unit Detail'!$D$8:$D$400,'Building Detail'!$B556)","v":0},{"$f":"COUNTIFS('Unit Detail'!$Y$8:$Y$400,\"3\",'Unit Detail'!$D$8:$D$400,'Building Detail'!$B556)","v":0},{"$f":"COUNTIFS('Unit Detail'!$Y$8:$Y$400,\"2\",'Unit Detail'!$D$8:$D$400,'Building Detail'!$B556)","v":0},0,"",""]
[null,null,null,null,null,null,null,null,null,null,null,null,null,null,{"$f":"SUMIFS('Unit Detail'!$H$8:$H$400,'Unit Detail'!$D$8:$D$400,'Building Detail'!$B557,'Unit Detail'!$Y$8:$Y$400,1)","v":0},{"$f":"SUMIFS('Unit Detail'!$H$8:$H$400,'Unit Detail'!$D$8:$D$400,'Building Detail'!$B557,'Unit Detail'!$Y$8:$Y$400,3)","v":0},{"$f":"SUMIFS('Unit Detail'!$H$8:$H$400,'Unit Detail'!$D$8:$D$400,'Building Detail'!$B557,'Unit Detail'!$Y$8:$Y$400,2)","v":0},{"$f":"SUMIF('Unit Detail'!$D$8:$D$400,$B557,'Unit Detail'!$H$8:$H$400)","v":0},0,"",{"$f":"COUNTIFS('Unit Detail'!$Y$8:$Y$400,\"1\",'Unit Detail'!$D$8:$D$400,'Building Detail'!$B557)","v":0},{"$f":"COUNTIFS('Unit Detail'!$Y$8:$Y$400,\"3\",'Unit Detail'!$D$8:$D$400,'Building Detail'!$B557)","v":0},{"$f":"COUNTIFS('Unit Detail'!$Y$8:$Y$400,\"2\",'Unit Detail'!$D$8:$D$400,'Building Detail'!$B557)","v":0},0,"",""]
[null,null,null,null,null,null,null,null,null,null,null,null,null,null,{"$f":"SUMIFS('Unit Detail'!$H$8:$H$400,'Unit Detail'!$D$8:$D$400,'Building Detail'!$B558,'Unit Detail'!$Y$8:$Y$400,1)","v":0},{"$f":"SUMIFS('Unit Detail'!$H$8:$H$400,'Unit Detail'!$D$8:$D$400,'Building Detail'!$B558,'Unit Detail'!$Y$8:$Y$400,3)","v":0},{"$f":"SUMIFS('Unit Detail'!$H$8:$H$400,'Unit Detail'!$D$8:$D$400,'Building Detail'!$B558,'Unit Detail'!$Y$8:$Y$400,2)","v":0},{"$f":"SUMIF('Unit Detail'!$D$8:$D$400,$B558,'Unit Detail'!$H$8:$H$400)","v":0},0,"",{"$f":"COUNTIFS('Unit Detail'!$Y$8:$Y$400,\"1\",'Unit Detail'!$D$8:$D$400,'Building Detail'!$B558)","v":0},{"$f":"COUNTIFS('Unit Detail'!$Y$8:$Y$400,\"3\",'Unit Detail'!$D$8:$D$400,'Building Detail'!$B558)","v":0},{"$f":"COUNTIFS('Unit Detail'!$Y$8:$Y$400,\"2\",'Unit Detail'!$D$8:$D$400,'Building Detail'!$B558)","v":0},0,"",""]
[null,null,null,null,null,null,null,null,null,null,null,null,null,null,{"$f":"SUMIFS('Unit Detail'!$H$8:$H$400,'Unit Detail'!$D$8:$D$400,'Building Detail'!$B559,'Unit Detail'!$Y$8:$Y$400,1)","v":0},{"$f":"SUMIFS('Unit Detail'!$H$8:$H$400,'Unit Detail'!$D$8:$D$400,'Building Detail'!$B559,'Unit Detail'!$Y$8:$Y$400,3)","v":0},{"$f":"SUMIFS('Unit Detail'!$H$8:$H$400,'Unit Detail'!$D$8:$D$400,'Building Detail'!$B559,'Unit Detail'!$Y$8:$Y$400,2)","v":0},{"$f":"SUMIF('Unit Detail'!$D$8:$D$400,$B559,'Unit Detail'!$H$8:$H$400)","v":0},0,"",{"$f":"COUNTIFS('Unit Detail'!$Y$8:$Y$400,\"1\",'Unit Detail'!$D$8:$D$400,'Building Detail'!$B559)","v":0},{"$f":"COUNTIFS('Unit Detail'!$Y$8:$Y$400,\"3\",'Unit Detail'!$D$8:$D$400,'Building Detail'!$B559)","v":0},{"$f":"COUNTIFS('Unit Detail'!$Y$8:$Y$400,\"2\",'Unit Detail'!$D$8:$D$400,'Building Detail'!$B559)","v":0},0,"",""]
[null,null,null,null,null,null,null,null,null,null,null,null,null,null,{"$f":"SUMIFS('Unit Detail'!$H$8:$H$400,'Unit Detail'!$D$8:$D$400,'Building Detail'!$B560,'Unit Detail'!$Y$8:$Y$400,1)","v":0},{"$f":"SUMIFS('Unit Detail'!$H$8:$H$400,'Unit Detail'!$D$8:$D$400,'Building Detail'!$B560,'Unit Detail'!$Y$8:$Y$400,3)","v":0},{"$f":"SUMIFS('Unit Detail'!$H$8:$H$400,'Unit Detail'!$D$8:$D$400,'Building Detail'!$B560,'Unit Detail'!$Y$8:$Y$400,2)","v":0},{"$f":"SUMIF('Unit Detail'!$D$8:$D$400,$B560,'Unit Detail'!$H$8:$H$400)","v":0},0,"",{"$f":"COUNTIFS('Unit Detail'!$Y$8:$Y$400,\"1\",'Unit Detail'!$D$8:$D$400,'Building Detail'!$B560)","v":0},{"$f":"COUNTIFS('Unit Detail'!$Y$8:$Y$400,\"3\",'Unit Detail'!$D$8:$D$400,'Building Detail'!$B560)","v":0},{"$f":"COUNTIFS('Unit Detail'!$Y$8:$Y$400,\"2\",'Unit Detail'!$D$8:$D$400,'Building Detail'!$B560)","v":0},0,"",""]
[null,null,null,null,null,null,null,null,null,null,null,null,null,null,{"$f":"SUMIFS('Unit Detail'!$H$8:$H$400,'Unit Detail'!$D$8:$D$400,'Building Detail'!$B561,'Unit Detail'!$Y$8:$Y$400,1)","v":0},{"$f":"SUMIFS('Unit Detail'!$H$8:$H$400,'Unit Detail'!$D$8:$D$400,'Building Detail'!$B561,'Unit Detail'!$Y$8:$Y$400,3)","v":0},{"$f":"SUMIFS('Unit Detail'!$H$8:$H$400,'Unit Detail'!$D$8:$D$400,'Building Detail'!$B561,'Unit Detail'!$Y$8:$Y$400,2)","v":0},{"$f":"SUMIF('Unit Detail'!$D$8:$D$400,$B561,'Unit Detail'!$H$8:$H$400)","v":0},0,"",{"$f":"COUNTIFS('Unit Detail'!$Y$8:$Y$400,\"1\",'Unit Detail'!$D$8:$D$400,'Building Detail'!$B561)","v":0},{"$f":"COUNTIFS('Unit Detail'!$Y$8:$Y$400,\"3\",'Unit Detail'!$D$8:$D$400,'Building Detail'!$B561)","v":0},{"$f":"COUNTIFS('Unit Detail'!$Y$8:$Y$400,\"2\",'Unit Detail'!$D$8:$D$400,'Building Detail'!$B561)","v":0},0,"",""]
[null,null,null,null,null,null,null,null,null,null,null,null,null,null,{"$f":"SUMIFS('Unit Detail'!$H$8:$H$400,'Unit Detail'!$D$8:$D$400,'Building Detail'!$B562,'Unit Detail'!$Y$8:$Y$400,1)","v":0},{"$f":"SUMIFS('Unit Detail'!$H$8:$H$400,'Unit Detail'!$D$8:$D$400,'Building Detail'!$B562,'Unit Detail'!$Y$8:$Y$400,3)","v":0},{"$f":"SUMIFS('Unit Detail'!$H$8:$H$400,'Unit Detail'!$D$8:$D$400,'Building Detail'!$B562,'Unit Detail'!$Y$8:$Y$400,2)","v":0},{"$f":"SUMIF('Unit Detail'!$D$8:$D$400,$B562,'Unit Detail'!$H$8:$H$400)","v":0},0,"",{"$f":"COUNTIFS('Unit Detail'!$Y$8:$Y$400,\"1\",'Unit Detail'!$D$8:$D$400,'Building Detail'!$B562)","v":0},{"$f":"COUNTIFS('Unit Detail'!$Y$8:$Y$400,\"3\",'Unit Detail'!$D$8:$D$400,'Building Detail'!$B562)","v":0},{"$f":"COUNTIFS('Unit Detail'!$Y$8:$Y$400,\"2\",'Unit Detail'!$D$8:$D$400,'Building Detail'!$B562)","v":0},0,"",""]
[null,null,null,null,null,null,null,null,null,null,null,null,null,null,{"$f":"SUMIFS('Unit Detail'!$H$8:$H$400,'Unit Detail'!$D$8:$D$400,'Building Detail'!$B563,'Unit Detail'!$Y$8:$Y$400,1)","v":0},{"$f":"SUMIFS('Unit Detail'!$H$8:$H$400,'Unit Detail'!$D$8:$D$400,'Building Detail'!$B563,'Unit Detail'!$Y$8:$Y$400,3)","v":0},{"$f":"SUMIFS('Unit Detail'!$H$8:$H$400,'Unit Detail'!$D$8:$D$400,'Building Detail'!$B563,'Unit Detail'!$Y$8:$Y$400,2)","v":0},{"$f":"SUMIF('Unit Detail'!$D$8:$D$400,$B563,'Unit Detail'!$H$8:$H$400)","v":0},0,"",{"$f":"COUNTIFS('Unit Detail'!$Y$8:$Y$400,\"1\",'Unit Detail'!$D$8:$D$400,'Building Detail'!$B563)","v":0},{"$f":"COUNTIFS('Unit Detail'!$Y$8:$Y$400,\"3\",'Unit Detail'!$D$8:$D$400,'Building Detail'!$B563)","v":0},{"$f":"COUNTIFS('Unit Detail'!$Y$8:$Y$400,\"2\",'Unit Detail'!$D$8:$D$400,'Building Detail'!$B563)","v":0},0,"",""]
[null,null,null,null,null,null,null,null,null,null,null,null,null,null,{"$f":"SUMIFS('Unit Detail'!$H$8:$H$400,'Unit Detail'!$D$8:$D$400,'Building Detail'!$B564,'Unit Detail'!$Y$8:$Y$400,1)","v":0},{"$f":"SUMIFS('Unit Detail'!$H$8:$H$400,'Unit Detail'!$D$8:$D$400,'Building Detail'!$B564,'Unit Detail'!$Y$8:$Y$400,3)","v":0},{"$f":"SUMIFS('Unit Detail'!$H$8:$H$400,'Unit Detail'!$D$8:$D$400,'Building Detail'!$B564,'Unit Detail'!$Y$8:$Y$400,2)","v":0},{"$f":"SUMIF('Unit Detail'!$D$8:$D$400,$B564,'Unit Detail'!$H$8:$H$400)","v":0},0,"",{"$f":"COUNTIFS('Unit Detail'!$Y$8:$Y$400,\"1\",'Unit Detail'!$D$8:$D$400,'Building Detail'!$B564)","v":0},{"$f":"COUNTIFS('Unit Detail'!$Y$8:$Y$400,\"3\",'Unit Detail'!$D$8:$D$400,'Building Detail'!$B564)","v":0},{"$f":"COUNTIFS('Unit Detail'!$Y$8:$Y$400,\"2\",'Unit Detail'!$D$8:$D$400,'Building Detail'!$B564)","v":0},0,"",""]
[null,null,null,null,null,null,null,null,null,null,null,null,null,null,{"$f":"SUMIFS('Unit Detail'!$H$8:$H$400,'Unit Detail'!$D$8:$D$400,'Building Detail'!$B565,'Unit Detail'!$Y$8:$Y$400,1)","v":0},{"$f":"SUMIFS('Unit Detail'!$H$8:$H$400,'Unit Detail'!$D$8:$D$400,'Building Detail'!$B565,'Unit Detail'!$Y$8:$Y$400,3)","v":0},{"$f":"SUMIFS('Unit Detail'!$H$8:$H$400,'Unit Detail'!$D$8:$D$400,'Building Detail'!$B565,'Unit Detail'!$Y$8:$Y$400,2)","v":0},{"$f":"SUMIF('Unit Detail'!$D$8:$D$400,$B565,'Unit Detail'!$H$8:$H$400)","v":0},0,"",{"$f":"COUNTIFS('Unit Detail'!$Y$8:$Y$400,\"1\",'Unit Detail'!$D$8:$D$400,'Building Detail'!$B565)","v":0},{"$f":"COUNTIFS('Unit Detail'!$Y$8:$Y$400,\"3\",'Unit Detail'!$D$8:$D$400,'Building Detail'!$B565)","v":0},{"$f":"COUNTIFS('Unit Detail'!$Y$8:$Y$400,\"2\",'Unit Detail'!$D$8:$D$400,'Building Detail'!$B565)","v":0},0,"",""]
[null,null,null,null,null,null,null,null,null,null,null,null,null,null,{"$f":"SUMIFS('Unit Detail'!$H$8:$H$400,'Unit Detail'!$D$8:$D$400,'Building Detail'!$B566,'Unit Detail'!$Y$8:$Y$400,1)","v":0},{"$f":"SUMIFS('Unit Detail'!$H$8:$H$400,'Unit Detail'!$D$8:$D$400,'Building Detail'!$B566,'Unit Detail'!$Y$8:$Y$400,3)","v":0},{"$f":"SUMIFS('Unit Detail'!$H$8:$H$400,'Unit Detail'!$D$8:$D$400,'Building Detail'!$B566,'Unit Detail'!$Y$8:$Y$400,2)","v":0},{"$f":"SUMIF('Unit Detail'!$D$8:$D$400,$B566,'Unit Detail'!$H$8:$H$400)","v":0},0,"",{"$f":"COUNTIFS('Unit Detail'!$Y$8:$Y$400,\"1\",'Unit Detail'!$D$8:$D$400,'Building Detail'!$B566)","v":0},{"$f":"COUNTIFS('Unit Detail'!$Y$8:$Y$400,\"3\",'Unit Detail'!$D$8:$D$400,'Building Detail'!$B566)","v":0},{"$f":"COUNTIFS('Unit Detail'!$Y$8:$Y$400,\"2\",'Unit Detail'!$D$8:$D$400,'Building Detail'!$B566)","v":0},0,"",""]
[null,null,null,null,null,null,null,null,null,null,null,null,null,null,{"$f":"SUMIFS('Unit Detail'!$H$8:$H$400,'Unit Detail'!$D$8:$D$400,'Building Detail'!$B567,'Unit Detail'!$Y$8:$Y$400,1)","v":0},{"$f":"SUMIFS('Unit Detail'!$H$8:$H$400,'Unit Detail'!$D$8:$D$400,'Building Detail'!$B567,'Unit Detail'!$Y$8:$Y$400,3)","v":0},{"$f":"SUMIFS('Unit Detail'!$H$8:$H$400,'Unit Detail'!$D$8:$D$400,'Building Detail'!$B567,'Unit Detail'!$Y$8:$Y$400,2)","v":0},{"$f":"SUMIF('Unit Detail'!$D$8:$D$400,$B567,'Unit Detail'!$H$8:$H$400)","v":0},0,"",{"$f":"COUNTIFS('Unit Detail'!$Y$8:$Y$400,\"1\",'Unit Detail'!$D$8:$D$400,'Building Detail'!$B567)","v":0},{"$f":"COUNTIFS('Unit Detail'!$Y$8:$Y$400,\"3\",'Unit Detail'!$D$8:$D$400,'Building Detail'!$B567)","v":0},{"$f":"COUNTIFS('Unit Detail'!$Y$8:$Y$400,\"2\",'Unit Detail'!$D$8:$D$400,'Building Detail'!$B567)","v":0},0,"",""]
[null,null,null,null,null,null,null,null,null,null,null,null,null,null,{"$f":"SUMIFS('Unit Detail'!$H$8:$H$400,'Unit Detail'!$D$8:$D$400,'Building Detail'!$B568,'Unit Detail'!$Y$8:$Y$400,1)","v":0},{"$f":"SUMIFS('Unit Detail'!$H$8:$H$400,'Unit Detail'!$D$8:$D$400,'Building Detail'!$B568,'Unit Detail'!$Y$8:$Y$400,3)","v":0},{"$f":"SUMIFS('Unit Detail'!$H$8:$H$400,'Unit Detail'!$D$8:$D$400,'Building Detail'!$B568,'Unit Detail'!$Y$8:$Y$400,2)","v":0},{"$f":"SUMIF('Unit Detail'!$D$8:$D$400,$B568,'Unit Detail'!$H$8:$H$400)","v":0},0,"",{"$f":"COUNTIFS('Unit Detail'!$Y$8:$Y$400,\"1\",'Unit Detail'!$D$8:$D$400,'Building Detail'!$B568)","v":0},{"$f":"COUNTIFS('Unit Detail'!$Y$8:$Y$400,\"3\",'Unit Detail'!$D$8:$D$400,'Building Detail'!$B568)","v":0},{"$f":"COUNTIFS('Unit Detail'!$Y$8:$Y$400,\"2\",'Unit Detail'!$D$8:$D$400,'Building Detail'!$B568)","v":0},0,"",""]
[null,null,null,null,null,null,null,null,null,null,null,null,null,null,{"$f":"SUMIFS('Unit Detail'!$H$8:$H$400,'Unit Detail'!$D$8:$D$400,'Building Detail'!$B569,'Unit Detail'!$Y$8:$Y$400,1)","v":0},{"$f":"SUMIFS('Unit Detail'!$H$8:$H$400,'Unit Detail'!$D$8:$D$400,'Building Detail'!$B569,'Unit Detail'!$Y$8:$Y$400,3)","v":0},{"$f":"SUMIFS('Unit Detail'!$H$8:$H$400,'Unit Detail'!$D$8:$D$400,'Building Detail'!$B569,'Unit Detail'!$Y$8:$Y$400,2)","v":0},{"$f":"SUMIF('Unit Detail'!$D$8:$D$400,$B569,'Unit Detail'!$H$8:$H$400)","v":0},0,"",{"$f":"COUNTIFS('Unit Detail'!$Y$8:$Y$400,\"1\",'Unit Detail'!$D$8:$D$400,'Building Detail'!$B569)","v":0},{"$f":"COUNTIFS('Unit Detail'!$Y$8:$Y$400,\"3\",'Unit Detail'!$D$8:$D$400,'Building Detail'!$B569)","v":0},{"$f":"COUNTIFS('Unit Detail'!$Y$8:$Y$400,\"2\",'Unit Detail'!$D$8:$D$400,'Building Detail'!$B569)","v":0},0,"",""]
[null,null,null,null,null,null,null,null,null,null,null,null,null,null,{"$f":"SUMIFS('Unit Detail'!$H$8:$H$400,'Unit Detail'!$D$8:$D$400,'Building Detail'!$B570,'Unit Detail'!$Y$8:$Y$400,1)","v":0},{"$f":"SUMIFS('Unit Detail'!$H$8:$H$400,'Unit Detail'!$D$8:$D$400,'Building Detail'!$B570,'Unit Detail'!$Y$8:$Y$400,3)","v":0},{"$f":"SUMIFS('Unit Detail'!$H$8:$H$400,'Unit Detail'!$D$8:$D$400,'Building Detail'!$B570,'Unit Detail'!$Y$8:$Y$400,2)","v":0},{"$f":"SUMIF('Unit Detail'!$D$8:$D$400,$B570,'Unit Detail'!$H$8:$H$400)","v":0},0,"",{"$f":"COUNTIFS('Unit Detail'!$Y$8:$Y$400,\"1\",'Unit Detail'!$D$8:$D$400,'Building Detail'!$B570)","v":0},{"$f":"COUNTIFS('Unit Detail'!$Y$8:$Y$400,\"3\",'Unit Detail'!$D$8:$D$400,'Building Detail'!$B570)","v":0},{"$f":"COUNTIFS('Unit Detail'!$Y$8:$Y$400,\"2\",'Unit Detail'!$D$8:$D$400,'Building Detail'!$B570)","v":0},0,"",""]
[null,null,null,null,null,null,null,null,null,null,null,null,null,null,{"$f":"SUMIFS('Unit Detail'!$H$8:$H$400,'Unit Detail'!$D$8:$D$400,'Building Detail'!$B571,'Unit Detail'!$Y$8:$Y$400,1)","v":0},{"$f":"SUMIFS('Unit Detail'!$H$8:$H$400,'Unit Detail'!$D$8:$D$400,'Building Detail'!$B571,'Unit Detail'!$Y$8:$Y$400,3)","v":0},{"$f":"SUMIFS('Unit Detail'!$H$8:$H$400,'Unit Detail'!$D$8:$D$400,'Building Detail'!$B571,'Unit Detail'!$Y$8:$Y$400,2)","v":0},{"$f":"SUMIF('Unit Detail'!$D$8:$D$400,$B571,'Unit Detail'!$H$8:$H$400)","v":0},0,"",{"$f":"COUNTIFS('Unit Detail'!$Y$8:$Y$400,\"1\",'Unit Detail'!$D$8:$D$400,'Building Detail'!$B571)","v":0},{"$f":"COUNTIFS('Unit Detail'!$Y$8:$Y$400,\"3\",'Unit Detail'!$D$8:$D$400,'Building Detail'!$B571)","v":0},{"$f":"COUNTIFS('Unit Detail'!$Y$8:$Y$400,\"2\",'Unit Detail'!$D$8:$D$400,'Building Detail'!$B571)","v":0},0,"",""]
[null,null,null,null,null,null,null,null,null,null,null,null,null,null,{"$f":"SUMIFS('Unit Detail'!$H$8:$H$400,'Unit Detail'!$D$8:$D$400,'Building Detail'!$B572,'Unit Detail'!$Y$8:$Y$400,1)","v":0},{"$f":"SUMIFS('Unit Detail'!$H$8:$H$400,'Unit Detail'!$D$8:$D$400,'Building Detail'!$B572,'Unit Detail'!$Y$8:$Y$400,3)","v":0},{"$f":"SUMIFS('Unit Detail'!$H$8:$H$400,'Unit Detail'!$D$8:$D$400,'Building Detail'!$B572,'Unit Detail'!$Y$8:$Y$400,2)","v":0},{"$f":"SUMIF('Unit Detail'!$D$8:$D$400,$B572,'Unit Detail'!$H$8:$H$400)","v":0},0,"",{"$f":"COUNTIFS('Unit Detail'!$Y$8:$Y$400,\"1\",'Unit Detail'!$D$8:$D$400,'Building Detail'!$B572)","v":0},{"$f":"COUNTIFS('Unit Detail'!$Y$8:$Y$400,\"3\",'Unit Detail'!$D$8:$D$400,'Building Detail'!$B572)","v":0},{"$f":"COUNTIFS('Unit Detail'!$Y$8:$Y$400,\"2\",'Unit Detail'!$D$8:$D$400,'Building Detail'!$B572)","v":0},0,"",""]
[null,null,null,null,null,null,null,null,null,null,null,null,null,null,{"$f":"SUMIFS('Unit Detail'!$H$8:$H$400,'Unit Detail'!$D$8:$D$400,'Building Detail'!$B573,'Unit Detail'!$Y$8:$Y$400,1)","v":0},{"$f":"SUMIFS('Unit Detail'!$H$8:$H$400,'Unit Detail'!$D$8:$D$400,'Building Detail'!$B573,'Unit Detail'!$Y$8:$Y$400,3)","v":0},{"$f":"SUMIFS('Unit Detail'!$H$8:$H$400,'Unit Detail'!$D$8:$D$400,'Building Detail'!$B573,'Unit Detail'!$Y$8:$Y$400,2)","v":0},{"$f":"SUMIF('Unit Detail'!$D$8:$D$400,$B573,'Unit Detail'!$H$8:$H$400)","v":0},0,"",{"$f":"COUNTIFS('Unit Detail'!$Y$8:$Y$400,\"1\",'Unit Detail'!$D$8:$D$400,'Building Detail'!$B573)","v":0},{"$f":"COUNTIFS('Unit Detail'!$Y$8:$Y$400,\"3\",'Unit Detail'!$D$8:$D$400,'Building Detail'!$B573)","v":0},{"$f":"COUNTIFS('Unit Detail'!$Y$8:$Y$400,\"2\",'Unit Detail'!$D$8:$D$400,'Building Detail'!$B573)","v":0},0,"",""]
[null,null,null,null,null,null,null,null,null,null,null,null,null,null,{"$f":"SUMIFS('Unit Detail'!$H$8:$H$400,'Unit Detail'!$D$8:$D$400,'Building Detail'!$B574,'Unit Detail'!$Y$8:$Y$400,1)","v":0},{"$f":"SUMIFS('Unit Detail'!$H$8:$H$400,'Unit Detail'!$D$8:$D$400,'Building Detail'!$B574,'Unit Detail'!$Y$8:$Y$400,3)","v":0},{"$f":"SUMIFS('Unit Detail'!$H$8:$H$400,'Unit Detail'!$D$8:$D$400,'Building Detail'!$B574,'Unit Detail'!$Y$8:$Y$400,2)","v":0},{"$f":"SUMIF('Unit Detail'!$D$8:$D$400,$B574,'Unit Detail'!$H$8:$H$400)","v":0},0,"",{"$f":"COUNTIFS('Unit Detail'!$Y$8:$Y$400,\"1\",'Unit Detail'!$D$8:$D$400,'Building Detail'!$B574)","v":0},{"$f":"COUNTIFS('Unit Detail'!$Y$8:$Y$400,\"3\",'Unit Detail'!$D$8:$D$400,'Building Detail'!$B574)","v":0},{"$f":"COUNTIFS('Unit Detail'!$Y$8:$Y$400,\"2\",'Unit Detail'!$D$8:$D$400,'Building Detail'!$B574)","v":0},0,"",""]
[null,null,null,null,null,null,null,null,null,null,null,null,null,null,{"$f":"SUMIFS('Unit Detail'!$H$8:$H$400,'Unit Detail'!$D$8:$D$400,'Building Detail'!$B575,'Unit Detail'!$Y$8:$Y$400,1)","v":0},{"$f":"SUMIFS('Unit Detail'!$H$8:$H$400,'Unit Detail'!$D$8:$D$400,'Building Detail'!$B575,'Unit Detail'!$Y$8:$Y$400,3)","v":0},{"$f":"SUMIFS('Unit Detail'!$H$8:$H$400,'Unit Detail'!$D$8:$D$400,'Building Detail'!$B575,'Unit Detail'!$Y$8:$Y$400,2)","v":0},{"$f":"SUMIF('Unit Detail'!$D$8:$D$400,$B575,'Unit Detail'!$H$8:$H$400)","v":0},0,"",{"$f":"COUNTIFS('Unit Detail'!$Y$8:$Y$400,\"1\",'Unit Detail'!$D$8:$D$400,'Building Detail'!$B575)","v":0},{"$f":"COUNTIFS('Unit Detail'!$Y$8:$Y$400,\"3\",'Unit Detail'!$D$8:$D$400,'Building Detail'!$B575)","v":0},{"$f":"COUNTIFS('Unit Detail'!$Y$8:$Y$400,\"2\",'Unit Detail'!$D$8:$D$400,'Building Detail'!$B575)","v":0},0,"",""]
[null,null,null,null,null,null,null,null,null,null,null,null,null,null,{"$f":"SUMIFS('Unit Detail'!$H$8:$H$400,'Unit Detail'!$D$8:$D$400,'Building Detail'!$B576,'Unit Detail'!$Y$8:$Y$400,1)","v":0},{"$f":"SUMIFS('Unit Detail'!$H$8:$H$400,'Unit Detail'!$D$8:$D$400,'Building Detail'!$B576,'Unit Detail'!$Y$8:$Y$400,3)","v":0},{"$f":"SUMIFS('Unit Detail'!$H$8:$H$400,'Unit Detail'!$D$8:$D$400,'Building Detail'!$B576,'Unit Detail'!$Y$8:$Y$400,2)","v":0},{"$f":"SUMIF('Unit Detail'!$D$8:$D$400,$B576,'Unit Detail'!$H$8:$H$400)","v":0},0,"",{"$f":"COUNTIFS('Unit Detail'!$Y$8:$Y$400,\"1\",'Unit Detail'!$D$8:$D$400,'Building Detail'!$B576)","v":0},{"$f":"COUNTIFS('Unit Detail'!$Y$8:$Y$400,\"3\",'Unit Detail'!$D$8:$D$400,'Building Detail'!$B576)","v":0},{"$f":"COUNTIFS('Unit Detail'!$Y$8:$Y$400,\"2\",'Unit Detail'!$D$8:$D$400,'Building Detail'!$B576)","v":0},0,"",""]
[null,null,null,null,null,null,null,null,null,null,null,null,null,null,{"$f":"SUMIFS('Unit Detail'!$H$8:$H$400,'Unit Detail'!$D$8:$D$400,'Building Detail'!$B577,'Unit Detail'!$Y$8:$Y$400,1)","v":0},{"$f":"SUMIFS('Unit Detail'!$H$8:$H$400,'Unit Detail'!$D$8:$D$400,'Building Detail'!$B577,'Unit Detail'!$Y$8:$Y$400,3)","v":0},{"$f":"SUMIFS('Unit Detail'!$H$8:$H$400,'Unit Detail'!$D$8:$D$400,'Building Detail'!$B577,'Unit Detail'!$Y$8:$Y$400,2)","v":0},{"$f":"SUMIF('Unit Detail'!$D$8:$D$400,$B577,'Unit Detail'!$H$8:$H$400)","v":0},0,"",{"$f":"COUNTIFS('Unit Detail'!$Y$8:$Y$400,\"1\",'Unit Detail'!$D$8:$D$400,'Building Detail'!$B577)","v":0},{"$f":"COUNTIFS('Unit Detail'!$Y$8:$Y$400,\"3\",'Unit Detail'!$D$8:$D$400,'Building Detail'!$B577)","v":0},{"$f":"COUNTIFS('Unit Detail'!$Y$8:$Y$400,\"2\",'Unit Detail'!$D$8:$D$400,'Building Detail'!$B577)","v":0},0,"",""]
[null,null,null,null,null,null,null,null,null,null,null,null,null,null,{"$f":"SUMIFS('Unit Detail'!$H$8:$H$400,'Unit Detail'!$D$8:$D$400,'Building Detail'!$B578,'Unit Detail'!$Y$8:$Y$400,1)","v":0},{"$f":"SUMIFS('Unit Detail'!$H$8:$H$400,'Unit Detail'!$D$8:$D$400,'Building Detail'!$B578,'Unit Detail'!$Y$8:$Y$400,3)","v":0},{"$f":"SUMIFS('Unit Detail'!$H$8:$H$400,'Unit Detail'!$D$8:$D$400,'Building Detail'!$B578,'Unit Detail'!$Y$8:$Y$400,2)","v":0},{"$f":"SUMIF('Unit Detail'!$D$8:$D$400,$B578,'Unit Detail'!$H$8:$H$400)","v":0},0,"",{"$f":"COUNTIFS('Unit Detail'!$Y$8:$Y$400,\"1\",'Unit Detail'!$D$8:$D$400,'Building Detail'!$B578)","v":0},{"$f":"COUNTIFS('Unit Detail'!$Y$8:$Y$400,\"3\",'Unit Detail'!$D$8:$D$400,'Building Detail'!$B578)","v":0},{"$f":"COUNTIFS('Unit Detail'!$Y$8:$Y$400,\"2\",'Unit Detail'!$D$8:$D$400,'Building Detail'!$B578)","v":0},0,"",""]
[null,null,null,null,null,null,null,null,null,null,null,null,null,null,{"$f":"SUMIFS('Unit Detail'!$H$8:$H$400,'Unit Detail'!$D$8:$D$400,'Building Detail'!$B579,'Unit Detail'!$Y$8:$Y$400,1)","v":0},{"$f":"SUMIFS('Unit Detail'!$H$8:$H$400,'Unit Detail'!$D$8:$D$400,'Building Detail'!$B579,'Unit Detail'!$Y$8:$Y$400,3)","v":0},{"$f":"SUMIFS('Unit Detail'!$H$8:$H$400,'Unit Detail'!$D$8:$D$400,'Building Detail'!$B579,'Unit Detail'!$Y$8:$Y$400,2)","v":0},{"$f":"SUMIF('Unit Detail'!$D$8:$D$400,$B579,'Unit Detail'!$H$8:$H$400)","v":0},{"$f":"SUM(M579,N579,R579)","v":0},"",{"$f":"COUNTIFS('Unit Detail'!$Y$8:$Y$400,\"1\",'Unit Detail'!$D$8:$D$400,'Building Detail'!$B579)","v":0},{"$f":"COUNTIFS('Unit Detail'!$Y$8:$Y$400,\"3\",'Unit Detail'!$D$8:$D$400,'Building Detail'!$B579)","v":0},{"$f":"COUNTIFS('Unit Detail'!$Y$8:$Y$400,\"2\",'Unit Detail'!$D$8:$D$400,'Building Detail'!$B579)","v":0},{"$f":"SUM(U579:W579)","v":0},"",""]
[null,null,null,null,null,null,null,null,null,null,null,null,null,null,{"$f":"SUMIFS('Unit Detail'!$H$8:$H$400,'Unit Detail'!$D$8:$D$400,'Building Detail'!$B580,'Unit Detail'!$Y$8:$Y$400,1)","v":0},{"$f":"SUMIFS('Unit Detail'!$H$8:$H$400,'Unit Detail'!$D$8:$D$400,'Building Detail'!$B580,'Unit Detail'!$Y$8:$Y$400,3)","v":0},{"$f":"SUMIFS('Unit Detail'!$H$8:$H$400,'Unit Detail'!$D$8:$D$400,'Building Detail'!$B580,'Unit Detail'!$Y$8:$Y$400,2)","v":0},{"$f":"SUMIF('Unit Detail'!$D$8:$D$400,$B580,'Unit Detail'!$H$8:$H$400)","v":0},0,"",{"$f":"COUNTIFS('Unit Detail'!$Y$8:$Y$400,\"1\",'Unit Detail'!$D$8:$D$400,'Building Detail'!$B580)","v":0},{"$f":"COUNTIFS('Unit Detail'!$Y$8:$Y$400,\"3\",'Unit Detail'!$D$8:$D$400,'Building Detail'!$B580)","v":0},{"$f":"COUNTIFS('Unit Detail'!$Y$8:$Y$400,\"2\",'Unit Detail'!$D$8:$D$400,'Building Detail'!$B580)","v":0},0,"",""]
[null,null,null,null,null,null,null,null,null,null,null,null,null,null,{"$f":"SUMIFS('Unit Detail'!$H$8:$H$400,'Unit Detail'!$D$8:$D$400,'Building Detail'!$B581,'Unit Detail'!$Y$8:$Y$400,1)","v":0},{"$f":"SUMIFS('Unit Detail'!$H$8:$H$400,'Unit Detail'!$D$8:$D$400,'Building Detail'!$B581,'Unit Detail'!$Y$8:$Y$400,3)","v":0},{"$f":"SUMIFS('Unit Detail'!$H$8:$H$400,'Unit Detail'!$D$8:$D$400,'Building Detail'!$B581,'Unit Detail'!$Y$8:$Y$400,2)","v":0},{"$f":"SUMIF('Unit Detail'!$D$8:$D$400,$B581,'Unit Detail'!$H$8:$H$400)","v":0},0,"",{"$f":"COUNTIFS('Unit Detail'!$Y$8:$Y$400,\"1\",'Unit Detail'!$D$8:$D$400,'Building Detail'!$B581)","v":0},{"$f":"COUNTIFS('Unit Detail'!$Y$8:$Y$400,\"3\",'Unit Detail'!$D$8:$D$400,'Building Detail'!$B581)","v":0},{"$f":"COUNTIFS('Unit Detail'!$Y$8:$Y$400,\"2\",'Unit Detail'!$D$8:$D$400,'Building Detail'!$B581)","v":0},0,"",""]
[null,null,null,null,null,null,null,null,null,null,null,null,null,null,{"$f":"SUMIFS('Unit Detail'!$H$8:$H$400,'Unit Detail'!$D$8:$D$400,'Building Detail'!$B582,'Unit Detail'!$Y$8:$Y$400,1)","v":0},{"$f":"SUMIFS('Unit Detail'!$H$8:$H$400,'Unit Detail'!$D$8:$D$400,'Building Detail'!$B582,'Unit Detail'!$Y$8:$Y$400,3)","v":0},{"$f":"SUMIFS('Unit Detail'!$H$8:$H$400,'Unit Detail'!$D$8:$D$400,'Building Detail'!$B582,'Unit Detail'!$Y$8:$Y$400,2)","v":0},{"$f":"SUMIF('Unit Detail'!$D$8:$D$400,$B582,'Unit Detail'!$H$8:$H$400)","v":0},0,"",{"$f":"COUNTIFS('Unit Detail'!$Y$8:$Y$400,\"1\",'Unit Detail'!$D$8:$D$400,'Building Detail'!$B582)","v":0},{"$f":"COUNTIFS('Unit Detail'!$Y$8:$Y$400,\"3\",'Unit Detail'!$D$8:$D$400,'Building Detail'!$B582)","v":0},{"$f":"COUNTIFS('Unit Detail'!$Y$8:$Y$400,\"2\",'Unit Detail'!$D$8:$D$400,'Building Detail'!$B582)","v":0},0,"",""]
[null,null,null,null,null,null,null,null,null,null,null,null,null,null,{"$f":"SUMIFS('Unit Detail'!$H$8:$H$400,'Unit Detail'!$D$8:$D$400,'Building Detail'!$B583,'Unit Detail'!$Y$8:$Y$400,1)","v":0},{"$f":"SUMIFS('Unit Detail'!$H$8:$H$400,'Unit Detail'!$D$8:$D$400,'Building Detail'!$B583,'Unit Detail'!$Y$8:$Y$400,3)","v":0},{"$f":"SUMIFS('Unit Detail'!$H$8:$H$400,'Unit Detail'!$D$8:$D$400,'Building Detail'!$B583,'Unit Detail'!$Y$8:$Y$400,2)","v":0},{"$f":"SUMIF('Unit Detail'!$D$8:$D$400,$B583,'Unit Detail'!$H$8:$H$400)","v":0},0,"",{"$f":"COUNTIFS('Unit Detail'!$Y$8:$Y$400,\"1\",'Unit Detail'!$D$8:$D$400,'Building Detail'!$B583)","v":0},{"$f":"COUNTIFS('Unit Detail'!$Y$8:$Y$400,\"3\",'Unit Detail'!$D$8:$D$400,'Building Detail'!$B583)","v":0},{"$f":"COUNTIFS('Unit Detail'!$Y$8:$Y$400,\"2\",'Unit Detail'!$D$8:$D$400,'Building Detail'!$B583)","v":0},0,"",""]
[null,null,null,null,null,null,null,null,null,null,null,null,null,null,{"$f":"SUMIFS('Unit Detail'!$H$8:$H$400,'Unit Detail'!$D$8:$D$400,'Building Detail'!$B584,'Unit Detail'!$Y$8:$Y$400,1)","v":0},{"$f":"SUMIFS('Unit Detail'!$H$8:$H$400,'Unit Detail'!$D$8:$D$400,'Building Detail'!$B584,'Unit Detail'!$Y$8:$Y$400,3)","v":0},{"$f":"SUMIFS('Unit Detail'!$H$8:$H$400,'Unit Detail'!$D$8:$D$400,'Building Detail'!$B584,'Unit Detail'!$Y$8:$Y$400,2)","v":0},{"$f":"SUMIF('Unit Detail'!$D$8:$D$400,$B584,'Unit Detail'!$H$8:$H$400)","v":0},0,"",{"$f":"COUNTIFS('Unit Detail'!$Y$8:$Y$400,\"1\",'Unit Detail'!$D$8:$D$400,'Building Detail'!$B584)","v":0},{"$f":"COUNTIFS('Unit Detail'!$Y$8:$Y$400,\"3\",'Unit Detail'!$D$8:$D$400,'Building Detail'!$B584)","v":0},{"$f":"COUNTIFS('Unit Detail'!$Y$8:$Y$400,\"2\",'Unit Detail'!$D$8:$D$400,'Building Detail'!$B584)","v":0},0,"",""]
[null,null,null,null,null,null,null,null,null,null,null,null,null,null,{"$f":"SUMIFS('Unit Detail'!$H$8:$H$400,'Unit Detail'!$D$8:$D$400,'Building Detail'!$B585,'Unit Detail'!$Y$8:$Y$400,1)","v":0},{"$f":"SUMIFS('Unit Detail'!$H$8:$H$400,'Unit Detail'!$D$8:$D$400,'Building Detail'!$B585,'Unit Detail'!$Y$8:$Y$400,3)","v":0},{"$f":"SUMIFS('Unit Detail'!$H$8:$H$400,'Unit Detail'!$D$8:$D$400,'Building Detail'!$B585,'Unit Detail'!$Y$8:$Y$400,2)","v":0},{"$f":"SUMIF('Unit Detail'!$D$8:$D$400,$B585,'Unit Detail'!$H$8:$H$400)","v":0},0,"",{"$f":"COUNTIFS('Unit Detail'!$Y$8:$Y$400,\"1\",'Unit Detail'!$D$8:$D$400,'Building Detail'!$B585)","v":0},{"$f":"COUNTIFS('Unit Detail'!$Y$8:$Y$400,\"3\",'Unit Detail'!$D$8:$D$400,'Building Detail'!$B585)","v":0},{"$f":"COUNTIFS('Unit Detail'!$Y$8:$Y$400,\"2\",'Unit Detail'!$D$8:$D$400,'Building Detail'!$B585)","v":0},0,"",""]
[null,null,null,null,null,null,null,null,null,null,null,null,null,null,{"$f":"SUMIFS('Unit Detail'!$H$8:$H$400,'Unit Detail'!$D$8:$D$400,'Building Detail'!$B586,'Unit Detail'!$Y$8:$Y$400,1)","v":0},{"$f":"SUMIFS('Unit Detail'!$H$8:$H$400,'Unit Detail'!$D$8:$D$400,'Building Detail'!$B586,'Unit Detail'!$Y$8:$Y$400,3)","v":0},{"$f":"SUMIFS('Unit Detail'!$H$8:$H$400,'Unit Detail'!$D$8:$D$400,'Building Detail'!$B586,'Unit Detail'!$Y$8:$Y$400,2)","v":0},{"$f":"SUMIF('Unit Detail'!$D$8:$D$400,$B586,'Unit Detail'!$H$8:$H$400)","v":0},0,"",{"$f":"COUNTIFS('Unit Detail'!$Y$8:$Y$400,\"1\",'Unit Detail'!$D$8:$D$400,'Building Detail'!$B586)","v":0},{"$f":"COUNTIFS('Unit Detail'!$Y$8:$Y$400,\"3\",'Unit Detail'!$D$8:$D$400,'Building Detail'!$B586)","v":0},{"$f":"COUNTIFS('Unit Detail'!$Y$8:$Y$400,\"2\",'Unit Detail'!$D$8:$D$400,'Building Detail'!$B586)","v":0},0,"",""]
[null,null,null,null,null,null,null,null,null,null,null,null,null,null,{"$f":"SUMIFS('Unit Detail'!$H$8:$H$400,'Unit Detail'!$D$8:$D$400,'Building Detail'!$B587,'Unit Detail'!$Y$8:$Y$400,1)","v":0},{"$f":"SUMIFS('Unit Detail'!$H$8:$H$400,'Unit Detail'!$D$8:$D$400,'Building Detail'!$B587,'Unit Detail'!$Y$8:$Y$400,3)","v":0},{"$f":"SUMIFS('Unit Detail'!$H$8:$H$400,'Unit Detail'!$D$8:$D$400,'Building Detail'!$B587,'Unit Detail'!$Y$8:$Y$400,2)","v":0},{"$f":"SUMIF('Unit Detail'!$D$8:$D$400,$B587,'Unit Detail'!$H$8:$H$400)","v":0},0,"",{"$f":"COUNTIFS('Unit Detail'!$Y$8:$Y$400,\"1\",'Unit Detail'!$D$8:$D$400,'Building Detail'!$B587)","v":0},{"$f":"COUNTIFS('Unit Detail'!$Y$8:$Y$400,\"3\",'Unit Detail'!$D$8:$D$400,'Building Detail'!$B587)","v":0},{"$f":"COUNTIFS('Unit Detail'!$Y$8:$Y$400,\"2\",'Unit Detail'!$D$8:$D$400,'Building Detail'!$B587)","v":0},0,"",""]
[null,null,null,null,null,null,null,null,null,null,null,null,null,null,{"$f":"SUMIFS('Unit Detail'!$H$8:$H$400,'Unit Detail'!$D$8:$D$400,'Building Detail'!$B588,'Unit Detail'!$Y$8:$Y$400,1)","v":0},{"$f":"SUMIFS('Unit Detail'!$H$8:$H$400,'Unit Detail'!$D$8:$D$400,'Building Detail'!$B588,'Unit Detail'!$Y$8:$Y$400,3)","v":0},{"$f":"SUMIFS('Unit Detail'!$H$8:$H$400,'Unit Detail'!$D$8:$D$400,'Building Detail'!$B588,'Unit Detail'!$Y$8:$Y$400,2)","v":0},{"$f":"SUMIF('Unit Detail'!$D$8:$D$400,$B588,'Unit Detail'!$H$8:$H$400)","v":0},0,"",{"$f":"COUNTIFS('Unit Detail'!$Y$8:$Y$400,\"1\",'Unit Detail'!$D$8:$D$400,'Building Detail'!$B588)","v":0},{"$f":"COUNTIFS('Unit Detail'!$Y$8:$Y$400,\"3\",'Unit Detail'!$D$8:$D$400,'Building Detail'!$B588)","v":0},{"$f":"COUNTIFS('Unit Detail'!$Y$8:$Y$400,\"2\",'Unit Detail'!$D$8:$D$400,'Building Detail'!$B588)","v":0},0,"",""]
[null,null,null,null,null,null,null,null,null,null,null,null,null,null,{"$f":"SUMIFS('Unit Detail'!$H$8:$H$400,'Unit Detail'!$D$8:$D$400,'Building Detail'!$B589,'Unit Detail'!$Y$8:$Y$400,1)","v":0},{"$f":"SUMIFS('Unit Detail'!$H$8:$H$400,'Unit Detail'!$D$8:$D$400,'Building Detail'!$B589,'Unit Detail'!$Y$8:$Y$400,3)","v":0},{"$f":"SUMIFS('Unit Detail'!$H$8:$H$400,'Unit Detail'!$D$8:$D$400,'Building Detail'!$B589,'Unit Detail'!$Y$8:$Y$400,2)","v":0},{"$f":"SUMIF('Unit Detail'!$D$8:$D$400,$B589,'Unit Detail'!$H$8:$H$400)","v":0},0,"",{"$f":"COUNTIFS('Unit Detail'!$Y$8:$Y$400,\"1\",'Unit Detail'!$D$8:$D$400,'Building Detail'!$B589)","v":0},{"$f":"COUNTIFS('Unit Detail'!$Y$8:$Y$400,\"3\",'Unit Detail'!$D$8:$D$400,'Building Detail'!$B589)","v":0},{"$f":"COUNTIFS('Unit Detail'!$Y$8:$Y$400,\"2\",'Unit Detail'!$D$8:$D$400,'Building Detail'!$B589)","v":0},0,"",""]
[null,null,null,null,null,null,null,null,null,null,null,null,null,null,{"$f":"SUMIFS('Unit Detail'!$H$8:$H$400,'Unit Detail'!$D$8:$D$400,'Building Detail'!$B590,'Unit Detail'!$Y$8:$Y$400,1)","v":0},{"$f":"SUMIFS('Unit Detail'!$H$8:$H$400,'Unit Detail'!$D$8:$D$400,'Building Detail'!$B590,'Unit Detail'!$Y$8:$Y$400,3)","v":0},{"$f":"SUMIFS('Unit Detail'!$H$8:$H$400,'Unit Detail'!$D$8:$D$400,'Building Detail'!$B590,'Unit Detail'!$Y$8:$Y$400,2)","v":0},{"$f":"SUMIF('Unit Detail'!$D$8:$D$400,$B590,'Unit Detail'!$H$8:$H$400)","v":0},0,"",{"$f":"COUNTIFS('Unit Detail'!$Y$8:$Y$400,\"1\",'Unit Detail'!$D$8:$D$400,'Building Detail'!$B590)","v":0},{"$f":"COUNTIFS('Unit Detail'!$Y$8:$Y$400,\"3\",'Unit Detail'!$D$8:$D$400,'Building Detail'!$B590)","v":0},{"$f":"COUNTIFS('Unit Detail'!$Y$8:$Y$400,\"2\",'Unit Detail'!$D$8:$D$400,'Building Detail'!$B590)","v":0},0,"",""]
[null,null,null,null,null,null,null,null,null,null,null,null,null,null,{"$f":"SUMIFS('Unit Detail'!$H$8:$H$400,'Unit Detail'!$D$8:$D$400,'Building Detail'!$B591,'Unit Detail'!$Y$8:$Y$400,1)","v":0},{"$f":"SUMIFS('Unit Detail'!$H$8:$H$400,'Unit Detail'!$D$8:$D$400,'Building Detail'!$B591,'Unit Detail'!$Y$8:$Y$400,3)","v":0},{"$f":"SUMIFS('Unit Detail'!$H$8:$H$400,'Unit Detail'!$D$8:$D$400,'Building Detail'!$B591,'Unit Detail'!$Y$8:$Y$400,2)","v":0},{"$f":"SUMIF('Unit Detail'!$D$8:$D$400,$B591,'Unit Detail'!$H$8:$H$400)","v":0},0,"",{"$f":"COUNTIFS('Unit Detail'!$Y$8:$Y$400,\"1\",'Unit Detail'!$D$8:$D$400,'Building Detail'!$B591)","v":0},{"$f":"COUNTIFS('Unit Detail'!$Y$8:$Y$400,\"3\",'Unit Detail'!$D$8:$D$400,'Building Detail'!$B591)","v":0},{"$f":"COUNTIFS('Unit Detail'!$Y$8:$Y$400,\"2\",'Unit Detail'!$D$8:$D$400,'Building Detail'!$B591)","v":0},0,"",""]
[null,null,null,null,null,null,null,null,null,null,null,null,null,null,{"$f":"SUMIFS('Unit Detail'!$H$8:$H$400,'Unit Detail'!$D$8:$D$400,'Building Detail'!$B592,'Unit Detail'!$Y$8:$Y$400,1)","v":0},{"$f":"SUMIFS('Unit Detail'!$H$8:$H$400,'Unit Detail'!$D$8:$D$400,'Building Detail'!$B592,'Unit Detail'!$Y$8:$Y$400,3)","v":0},{"$f":"SUMIFS('Unit Detail'!$H$8:$H$400,'Unit Detail'!$D$8:$D$400,'Building Detail'!$B592,'Unit Detail'!$Y$8:$Y$400,2)","v":0},{"$f":"SUMIF('Unit Detail'!$D$8:$D$400,$B592,'Unit Detail'!$H$8:$H$400)","v":0},0,"",{"$f":"COUNTIFS('Unit Detail'!$Y$8:$Y$400,\"1\",'Unit Detail'!$D$8:$D$400,'Building Detail'!$B592)","v":0},{"$f":"COUNTIFS('Unit Detail'!$Y$8:$Y$400,\"3\",'Unit Detail'!$D$8:$D$400,'Building Detail'!$B592)","v":0},{"$f":"COUNTIFS('Unit Detail'!$Y$8:$Y$400,\"2\",'Unit Detail'!$D$8:$D$400,'Building Detail'!$B592)","v":0},0,"",""]
[null,null,null,null,null,null,null,null,null,null,null,null,null,null,{"$f":"SUMIFS('Unit Detail'!$H$8:$H$400,'Unit Detail'!$D$8:$D$400,'Building Detail'!$B593,'Unit Detail'!$Y$8:$Y$400,1)","v":0},{"$f":"SUMIFS('Unit Detail'!$H$8:$H$400,'Unit Detail'!$D$8:$D$400,'Building Detail'!$B593,'Unit Detail'!$Y$8:$Y$400,3)","v":0},{"$f":"SUMIFS('Unit Detail'!$H$8:$H$400,'Unit Detail'!$D$8:$D$400,'Building Detail'!$B593,'Unit Detail'!$Y$8:$Y$400,2)","v":0},{"$f":"SUMIF('Unit Detail'!$D$8:$D$400,$B593,'Unit Detail'!$H$8:$H$400)","v":0},0,"",{"$f":"COUNTIFS('Unit Detail'!$Y$8:$Y$400,\"1\",'Unit Detail'!$D$8:$D$400,'Building Detail'!$B593)","v":0},{"$f":"COUNTIFS('Unit Detail'!$Y$8:$Y$400,\"3\",'Unit Detail'!$D$8:$D$400,'Building Detail'!$B593)","v":0},{"$f":"COUNTIFS('Unit Detail'!$Y$8:$Y$400,\"2\",'Unit Detail'!$D$8:$D$400,'Building Detail'!$B593)","v":0},0,"",""]
[null,null,null,null,null,null,null,null,null,null,null,null,null,null,{"$f":"SUMIFS('Unit Detail'!$H$8:$H$400,'Unit Detail'!$D$8:$D$400,'Building Detail'!$B594,'Unit Detail'!$Y$8:$Y$400,1)","v":0},{"$f":"SUMIFS('Unit Detail'!$H$8:$H$400,'Unit Detail'!$D$8:$D$400,'Building Detail'!$B594,'Unit Detail'!$Y$8:$Y$400,3)","v":0},{"$f":"SUMIFS('Unit Detail'!$H$8:$H$400,'Unit Detail'!$D$8:$D$400,'Building Detail'!$B594,'Unit Detail'!$Y$8:$Y$400,2)","v":0},{"$f":"SUMIF('Unit Detail'!$D$8:$D$400,$B594,'Unit Detail'!$H$8:$H$400)","v":0},0,"",{"$f":"COUNTIFS('Unit Detail'!$Y$8:$Y$400,\"1\",'Unit Detail'!$D$8:$D$400,'Building Detail'!$B594)","v":0},{"$f":"COUNTIFS('Unit Detail'!$Y$8:$Y$400,\"3\",'Unit Detail'!$D$8:$D$400,'Building Detail'!$B594)","v":0},{"$f":"COUNTIFS('Unit Detail'!$Y$8:$Y$400,\"2\",'Unit Detail'!$D$8:$D$400,'Building Detail'!$B594)","v":0},0,"",{"$f":"IF(Y594<T594,Y594,T594)","v":""}]
[null,null,null,null,null,null,null,null,null,null,null,null,null,null,{"$f":"SUMIFS('Unit Detail'!$H$8:$H$400,'Unit Detail'!$D$8:$D$400,'Building Detail'!$B595,'Unit Detail'!$Y$8:$Y$400,1)","v":0},{"$f":"SUMIFS('Unit Detail'!$H$8:$H$400,'Unit Detail'!$D$8:$D$400,'Building Detail'!$B595,'Unit Detail'!$Y$8:$Y$400,3)","v":0},{"$f":"SUMIFS('Unit Detail'!$H$8:$H$400,'Unit Detail'!$D$8:$D$400,'Building Detail'!$B595,'Unit Detail'!$Y$8:$Y$400,2)","v":0},{"$f":"SUMIF('Unit Detail'!$D$8:$D$400,$B595,'Unit Detail'!$H$8:$H$400)","v":0},0,"",{"$f":"COUNTIFS('Unit Detail'!$Y$8:$Y$400,\"1\",'Unit Detail'!$D$8:$D$400,'Building Detail'!$B595)","v":0},{"$f":"COUNTIFS('Unit Detail'!$Y$8:$Y$400,\"3\",'Unit Detail'!$D$8:$D$400,'Building Detail'!$B595)","v":0},{"$f":"COUNTIFS('Unit Detail'!$Y$8:$Y$400,\"2\",'Unit Detail'!$D$8:$D$400,'Building Detail'!$B595)","v":0},0,{"$f":"IF(B595=\"\",\"\",IF($P$15=0,1,U595/X595))","v":""},""]
[null,null,null,null,null,null,null,null,null,null,null,null,null,null,{"$f":"SUMIFS('Unit Detail'!$H$8:$H$400,'Unit Detail'!$D$8:$D$400,'Building Detail'!$B596,'Unit Detail'!$Y$8:$Y$400,1)","v":0},{"$f":"SUMIFS('Unit Detail'!$H$8:$H$400,'Unit Detail'!$D$8:$D$400,'Building Detail'!$B596,'Unit Detail'!$Y$8:$Y$400,3)","v":0},{"$f":"SUMIFS('Unit Detail'!$H$8:$H$400,'Unit Detail'!$D$8:$D$400,'Building Detail'!$B596,'Unit Detail'!$Y$8:$Y$400,2)","v":0},{"$f":"SUMIF('Unit Detail'!$D$8:$D$400,$B596,'Unit Detail'!$H$8:$H$400)","v":0},0,"",{"$f":"COUNTIFS('Unit Detail'!$Y$8:$Y$400,\"1\",'Unit Detail'!$D$8:$D$400,'Building Detail'!$B596)","v":0},{"$f":"COUNTIFS('Unit Detail'!$Y$8:$Y$400,\"3\",'Unit Detail'!$D$8:$D$400,'Building Detail'!$B596)","v":0},{"$f":"COUNTIFS('Unit Detail'!$Y$8:$Y$400,\"2\",'Unit Detail'!$D$8:$D$400,'Building Detail'!$B596)","v":0},0,"",""]
[null,null,null,null,null,null,null,null,null,null,null,null,null,null,{"$f":"SUMIFS('Unit Detail'!$H$8:$H$400,'Unit Detail'!$D$8:$D$400,'Building Detail'!$B597,'Unit Detail'!$Y$8:$Y$400,1)","v":0},{"$f":"SUMIFS('Unit Detail'!$H$8:$H$400,'Unit Detail'!$D$8:$D$400,'Building Detail'!$B597,'Unit Detail'!$Y$8:$Y$400,3)","v":0},{"$f":"SUMIFS('Unit Detail'!$H$8:$H$400,'Unit Detail'!$D$8:$D$400,'Building Detail'!$B597,'Unit Detail'!$Y$8:$Y$400,2)","v":0},{"$f":"SUMIF('Unit Detail'!$D$8:$D$400,$B597,'Unit Detail'!$H$8:$H$400)","v":0},0,{"$f":"IF(B597=\"\",\"\",IF($P$15=0,1,O597/R597))","v":""},{"$f":"COUNTIFS('Unit Detail'!$Y$8:$Y$400,\"1\",'Unit Detail'!$D$8:$D$400,'Building Detail'!$B597)","v":0},{"$f":"COUNTIFS('Unit Detail'!$Y$8:$Y$400,\"3\",'Unit Detail'!$D$8:$D$400,'Building Detail'!$B597)","v":0},{"$f":"COUNTIFS('Unit Detail'!$Y$8:$Y$400,\"2\",'Unit Detail'!$D$8:$D$400,'Building Detail'!$B597)","v":0},0,"",""]
[null,null,null,null,null,null,null,null,null,null,null,null,null,null,{"$f":"SUMIFS('Unit Detail'!$H$8:$H$400,'Unit Detail'!$D$8:$D$400,'Building Detail'!$B598,'Unit Detail'!$Y$8:$Y$400,1)","v":0},{"$f":"SUMIFS('Unit Detail'!$H$8:$H$400,'Unit Detail'!$D$8:$D$400,'Building Detail'!$B598,'Unit Detail'!$Y$8:$Y$400,3)","v":0},{"$f":"SUMIFS('Unit Detail'!$H$8:$H$400,'Unit Detail'!$D$8:$D$400,'Building Detail'!$B598,'Unit Detail'!$Y$8:$Y$400,2)","v":0},{"$f":"SUMIF('Unit Detail'!$D$8:$D$400,$B598,'Unit Detail'!$H$8:$H$400)","v":0},0,"",{"$f":"COUNTIFS('Unit Detail'!$Y$8:$Y$400,\"1\",'Unit Detail'!$D$8:$D$400,'Building Detail'!$B598)","v":0},{"$f":"COUNTIFS('Unit Detail'!$Y$8:$Y$400,\"3\",'Unit Detail'!$D$8:$D$400,'Building Detail'!$B598)","v":0},{"$f":"COUNTIFS('Unit Detail'!$Y$8:$Y$400,\"2\",'Unit Detail'!$D$8:$D$400,'Building Detail'!$B598)","v":0},0,"",""]
[null,null,null,null,null,null,null,null,null,null,null,null,null,null,{"$f":"SUMIFS('Unit Detail'!$H$8:$H$400,'Unit Detail'!$D$8:$D$400,'Building Detail'!$B599,'Unit Detail'!$Y$8:$Y$400,1)","v":0},{"$f":"SUMIFS('Unit Detail'!$H$8:$H$400,'Unit Detail'!$D$8:$D$400,'Building Detail'!$B599,'Unit Detail'!$Y$8:$Y$400,3)","v":0},{"$f":"SUMIFS('Unit Detail'!$H$8:$H$400,'Unit Detail'!$D$8:$D$400,'Building Detail'!$B599,'Unit Detail'!$Y$8:$Y$400,2)","v":0},{"$f":"SUMIF('Unit Detail'!$D$8:$D$400,$B599,'Unit Detail'!$H$8:$H$400)","v":0},0,"",{"$f":"COUNTIFS('Unit Detail'!$Y$8:$Y$400,\"1\",'Unit Detail'!$D$8:$D$400,'Building Detail'!$B599)","v":0},{"$f":"COUNTIFS('Unit Detail'!$Y$8:$Y$400,\"3\",'Unit Detail'!$D$8:$D$400,'Building Detail'!$B599)","v":0},{"$f":"COUNTIFS('Unit Detail'!$Y$8:$Y$400,\"2\",'Unit Detail'!$D$8:$D$400,'Building Detail'!$B599)","v":0},0,"",""]
[null,null,null,null,null,null,null,null,null,null,null,null,null,null,{"$f":"SUMIFS('Unit Detail'!$H$8:$H$400,'Unit Detail'!$D$8:$D$400,'Building Detail'!$B600,'Unit Detail'!$Y$8:$Y$400,1)","v":0},{"$f":"SUMIFS('Unit Detail'!$H$8:$H$400,'Unit Detail'!$D$8:$D$400,'Building Detail'!$B600,'Unit Detail'!$Y$8:$Y$400,3)","v":0},{"$f":"SUMIFS('Unit Detail'!$H$8:$H$400,'Unit Detail'!$D$8:$D$400,'Building Detail'!$B600,'Unit Detail'!$Y$8:$Y$400,2)","v":0},{"$f":"SUMIF('Unit Detail'!$D$8:$D$400,$B600,'Unit Detail'!$H$8:$H$400)","v":0},0,"",{"$f":"COUNTIFS('Unit Detail'!$Y$8:$Y$400,\"1\",'Unit Detail'!$D$8:$D$400,'Building Detail'!$B600)","v":0},{"$f":"COUNTIFS('Unit Detail'!$Y$8:$Y$400,\"3\",'Unit Detail'!$D$8:$D$400,'Building Detail'!$B600)","v":0},{"$f":"COUNTIFS('Unit Detail'!$Y$8:$Y$400,\"2\",'Unit Detail'!$D$8:$D$400,'Building Detail'!$B600)","v":0},0,"",""]
[null,null,null,null,null,null,null,null,null,null,null,null,null,null,{"$f":"SUMIFS('Unit Detail'!$H$8:$H$400,'Unit Detail'!$D$8:$D$400,'Building Detail'!$B601,'Unit Detail'!$Y$8:$Y$400,1)","v":0},{"$f":"SUMIFS('Unit Detail'!$H$8:$H$400,'Unit Detail'!$D$8:$D$400,'Building Detail'!$B601,'Unit Detail'!$Y$8:$Y$400,3)","v":0},{"$f":"SUMIFS('Unit Detail'!$H$8:$H$400,'Unit Detail'!$D$8:$D$400,'Building Detail'!$B601,'Unit Detail'!$Y$8:$Y$400,2)","v":0},{"$f":"SUMIF('Unit Detail'!$D$8:$D$400,$B601,'Unit Detail'!$H$8:$H$400)","v":0},0,"",{"$f":"COUNTIFS('Unit Detail'!$Y$8:$Y$400,\"1\",'Unit Detail'!$D$8:$D$400,'Building Detail'!$B601)","v":0},{"$f":"COUNTIFS('Unit Detail'!$Y$8:$Y$400,\"3\",'Unit Detail'!$D$8:$D$400,'Building Detail'!$B601)","v":0},{"$f":"COUNTIFS('Unit Detail'!$Y$8:$Y$400,\"2\",'Unit Detail'!$D$8:$D$400,'Building Detail'!$B601)","v":0},0,"",""]
[null,null,null,null,null,null,null,null,null,null,null,null,null,null,{"$f":"SUMIFS('Unit Detail'!$H$8:$H$400,'Unit Detail'!$D$8:$D$400,'Building Detail'!$B602,'Unit Detail'!$Y$8:$Y$400,1)","v":0},{"$f":"SUMIFS('Unit Detail'!$H$8:$H$400,'Unit Detail'!$D$8:$D$400,'Building Detail'!$B602,'Unit Detail'!$Y$8:$Y$400,3)","v":0},{"$f":"SUMIFS('Unit Detail'!$H$8:$H$400,'Unit Detail'!$D$8:$D$400,'Building Detail'!$B602,'Unit Detail'!$Y$8:$Y$400,2)","v":0},{"$f":"SUMIF('Unit Detail'!$D$8:$D$400,$B602,'Unit Detail'!$H$8:$H$400)","v":0},0,"",{"$f":"COUNTIFS('Unit Detail'!$Y$8:$Y$400,\"1\",'Unit Detail'!$D$8:$D$400,'Building Detail'!$B602)","v":0},{"$f":"COUNTIFS('Unit Detail'!$Y$8:$Y$400,\"3\",'Unit Detail'!$D$8:$D$400,'Building Detail'!$B602)","v":0},{"$f":"COUNTIFS('Unit Detail'!$Y$8:$Y$400,\"2\",'Unit Detail'!$D$8:$D$400,'Building Detail'!$B602)","v":0},0,"",""]
[null,null,null,null,null,null,null,null,null,null,null,null,null,null,{"$f":"SUMIFS('Unit Detail'!$H$8:$H$400,'Unit Detail'!$D$8:$D$400,'Building Detail'!$B603,'Unit Detail'!$Y$8:$Y$400,1)","v":0},{"$f":"SUMIFS('Unit Detail'!$H$8:$H$400,'Unit Detail'!$D$8:$D$400,'Building Detail'!$B603,'Unit Detail'!$Y$8:$Y$400,3)","v":0},{"$f":"SUMIFS('Unit Detail'!$H$8:$H$400,'Unit Detail'!$D$8:$D$400,'Building Detail'!$B603,'Unit Detail'!$Y$8:$Y$400,2)","v":0},{"$f":"SUMIF('Unit Detail'!$D$8:$D$400,$B603,'Unit Detail'!$H$8:$H$400)","v":0},0,"",{"$f":"COUNTIFS('Unit Detail'!$Y$8:$Y$400,\"1\",'Unit Detail'!$D$8:$D$400,'Building Detail'!$B603)","v":0},{"$f":"COUNTIFS('Unit Detail'!$Y$8:$Y$400,\"3\",'Unit Detail'!$D$8:$D$400,'Building Detail'!$B603)","v":0},{"$f":"COUNTIFS('Unit Detail'!$Y$8:$Y$400,\"2\",'Unit Detail'!$D$8:$D$400,'Building Detail'!$B603)","v":0},0,"",""]
[null,null,null,null,null,null,null,null,null,null,null,null,null,null,{"$f":"SUMIFS('Unit Detail'!$H$8:$H$400,'Unit Detail'!$D$8:$D$400,'Building Detail'!$B604,'Unit Detail'!$Y$8:$Y$400,1)","v":0},{"$f":"SUMIFS('Unit Detail'!$H$8:$H$400,'Unit Detail'!$D$8:$D$400,'Building Detail'!$B604,'Unit Detail'!$Y$8:$Y$400,3)","v":0},{"$f":"SUMIFS('Unit Detail'!$H$8:$H$400,'Unit Detail'!$D$8:$D$400,'Building Detail'!$B604,'Unit Detail'!$Y$8:$Y$400,2)","v":0},{"$f":"SUMIF('Unit Detail'!$D$8:$D$400,$B604,'Unit Detail'!$H$8:$H$400)","v":0},0,"",{"$f":"COUNTIFS('Unit Detail'!$Y$8:$Y$400,\"1\",'Unit Detail'!$D$8:$D$400,'Building Detail'!$B604)","v":0},{"$f":"COUNTIFS('Unit Detail'!$Y$8:$Y$400,\"3\",'Unit Detail'!$D$8:$D$400,'Building Detail'!$B604)","v":0},{"$f":"COUNTIFS('Unit Detail'!$Y$8:$Y$400,\"2\",'Unit Detail'!$D$8:$D$400,'Building Detail'!$B604)","v":0},0,"",""]
[null,null,null,null,null,null,null,null,null,null,null,null,null,null,{"$f":"SUMIFS('Unit Detail'!$H$8:$H$400,'Unit Detail'!$D$8:$D$400,'Building Detail'!$B605,'Unit Detail'!$Y$8:$Y$400,1)","v":0},{"$f":"SUMIFS('Unit Detail'!$H$8:$H$400,'Unit Detail'!$D$8:$D$400,'Building Detail'!$B605,'Unit Detail'!$Y$8:$Y$400,3)","v":0},{"$f":"SUMIFS('Unit Detail'!$H$8:$H$400,'Unit Detail'!$D$8:$D$400,'Building Detail'!$B605,'Unit Detail'!$Y$8:$Y$400,2)","v":0},{"$f":"SUMIF('Unit Detail'!$D$8:$D$400,$B605,'Unit Detail'!$H$8:$H$400)","v":0},0,"",{"$f":"COUNTIFS('Unit Detail'!$Y$8:$Y$400,\"1\",'Unit Detail'!$D$8:$D$400,'Building Detail'!$B605)","v":0},{"$f":"COUNTIFS('Unit Detail'!$Y$8:$Y$400,\"3\",'Unit Detail'!$D$8:$D$400,'Building Detail'!$B605)","v":0},{"$f":"COUNTIFS('Unit Detail'!$Y$8:$Y$400,\"2\",'Unit Detail'!$D$8:$D$400,'Building Detail'!$B605)","v":0},0,"",""]
[null,null,null,null,null,null,null,null,null,null,null,null,null,null,{"$f":"SUMIFS('Unit Detail'!$H$8:$H$400,'Unit Detail'!$D$8:$D$400,'Building Detail'!$B606,'Unit Detail'!$Y$8:$Y$400,1)","v":0},{"$f":"SUMIFS('Unit Detail'!$H$8:$H$400,'Unit Detail'!$D$8:$D$400,'Building Detail'!$B606,'Unit Detail'!$Y$8:$Y$400,3)","v":0},{"$f":"SUMIFS('Unit Detail'!$H$8:$H$400,'Unit Detail'!$D$8:$D$400,'Building Detail'!$B606,'Unit Detail'!$Y$8:$Y$400,2)","v":0},{"$f":"SUMIF('Unit Detail'!$D$8:$D$400,$B606,'Unit Detail'!$H$8:$H$400)","v":0},0,"",{"$f":"COUNTIFS('Unit Detail'!$Y$8:$Y$400,\"1\",'Unit Detail'!$D$8:$D$400,'Building Detail'!$B606)","v":0},{"$f":"COUNTIFS('Unit Detail'!$Y$8:$Y$400,\"3\",'Unit Detail'!$D$8:$D$400,'Building Detail'!$B606)","v":0},{"$f":"COUNTIFS('Unit Detail'!$Y$8:$Y$400,\"2\",'Unit Detail'!$D$8:$D$400,'Building Detail'!$B606)","v":0},0,"",""]
[null,null,null,null,null,null,null,null,null,null,null,null,null,null,{"$f":"SUMIFS('Unit Detail'!$H$8:$H$400,'Unit Detail'!$D$8:$D$400,'Building Detail'!$B607,'Unit Detail'!$Y$8:$Y$400,1)","v":0},{"$f":"SUMIFS('Unit Detail'!$H$8:$H$400,'Unit Detail'!$D$8:$D$400,'Building Detail'!$B607,'Unit Detail'!$Y$8:$Y$400,3)","v":0},{"$f":"SUMIFS('Unit Detail'!$H$8:$H$400,'Unit Detail'!$D$8:$D$400,'Building Detail'!$B607,'Unit Detail'!$Y$8:$Y$400,2)","v":0},{"$f":"SUMIF('Unit Detail'!$D$8:$D$400,$B607,'Unit Detail'!$H$8:$H$400)","v":0},0,"",{"$f":"COUNTIFS('Unit Detail'!$Y$8:$Y$400,\"1\",'Unit Detail'!$D$8:$D$400,'Building Detail'!$B607)","v":0},{"$f":"COUNTIFS('Unit Detail'!$Y$8:$Y$400,\"3\",'Unit Detail'!$D$8:$D$400,'Building Detail'!$B607)","v":0},{"$f":"COUNTIFS('Unit Detail'!$Y$8:$Y$400,\"2\",'Unit Detail'!$D$8:$D$400,'Building Detail'!$B607)","v":0},0,"",""]
[null,null,null,null,null,null,null,null,null,null,null,null,null,null,{"$f":"SUMIFS('Unit Detail'!$H$8:$H$400,'Unit Detail'!$D$8:$D$400,'Building Detail'!$B608,'Unit Detail'!$Y$8:$Y$400,1)","v":0},{"$f":"SUMIFS('Unit Detail'!$H$8:$H$400,'Unit Detail'!$D$8:$D$400,'Building Detail'!$B608,'Unit Detail'!$Y$8:$Y$400,3)","v":0},{"$f":"SUMIFS('Unit Detail'!$H$8:$H$400,'Unit Detail'!$D$8:$D$400,'Building Detail'!$B608,'Unit Detail'!$Y$8:$Y$400,2)","v":0},{"$f":"SUMIF('Unit Detail'!$D$8:$D$400,$B608,'Unit Detail'!$H$8:$H$400)","v":0},0,"",{"$f":"COUNTIFS('Unit Detail'!$Y$8:$Y$400,\"1\",'Unit Detail'!$D$8:$D$400,'Building Detail'!$B608)","v":0},{"$f":"COUNTIFS('Unit Detail'!$Y$8:$Y$400,\"3\",'Unit Detail'!$D$8:$D$400,'Building Detail'!$B608)","v":0},{"$f":"COUNTIFS('Unit Detail'!$Y$8:$Y$400,\"2\",'Unit Detail'!$D$8:$D$400,'Building Detail'!$B608)","v":0},0,"",""]
[null,null,null,null,null,null,null,null,null,null,null,null,null,null,{"$f":"SUMIFS('Unit Detail'!$H$8:$H$400,'Unit Detail'!$D$8:$D$400,'Building Detail'!$B609,'Unit Detail'!$Y$8:$Y$400,1)","v":0},{"$f":"SUMIFS('Unit Detail'!$H$8:$H$400,'Unit Detail'!$D$8:$D$400,'Building Detail'!$B609,'Unit Detail'!$Y$8:$Y$400,3)","v":0},{"$f":"SUMIFS('Unit Detail'!$H$8:$H$400,'Unit Detail'!$D$8:$D$400,'Building Detail'!$B609,'Unit Detail'!$Y$8:$Y$400,2)","v":0},{"$f":"SUMIF('Unit Detail'!$D$8:$D$400,$B609,'Unit Detail'!$H$8:$H$400)","v":0},0,"",{"$f":"COUNTIFS('Unit Detail'!$Y$8:$Y$400,\"1\",'Unit Detail'!$D$8:$D$400,'Building Detail'!$B609)","v":0},{"$f":"COUNTIFS('Unit Detail'!$Y$8:$Y$400,\"3\",'Unit Detail'!$D$8:$D$400,'Building Detail'!$B609)","v":0},{"$f":"COUNTIFS('Unit Detail'!$Y$8:$Y$400,\"2\",'Unit Detail'!$D$8:$D$400,'Building Detail'!$B609)","v":0},0,"",""]
[null,null,null,null,null,null,null,null,null,null,null,null,null,null,{"$f":"SUMIFS('Unit Detail'!$H$8:$H$400,'Unit Detail'!$D$8:$D$400,'Building Detail'!$B610,'Unit Detail'!$Y$8:$Y$400,1)","v":0},{"$f":"SUMIFS('Unit Detail'!$H$8:$H$400,'Unit Detail'!$D$8:$D$400,'Building Detail'!$B610,'Unit Detail'!$Y$8:$Y$400,3)","v":0},{"$f":"SUMIFS('Unit Detail'!$H$8:$H$400,'Unit Detail'!$D$8:$D$400,'Building Detail'!$B610,'Unit Detail'!$Y$8:$Y$400,2)","v":0},{"$f":"SUMIF('Unit Detail'!$D$8:$D$400,$B610,'Unit Detail'!$H$8:$H$400)","v":0},0,"",{"$f":"COUNTIFS('Unit Detail'!$Y$8:$Y$400,\"1\",'Unit Detail'!$D$8:$D$400,'Building Detail'!$B610)","v":0},{"$f":"COUNTIFS('Unit Detail'!$Y$8:$Y$400,\"3\",'Unit Detail'!$D$8:$D$400,'Building Detail'!$B610)","v":0},{"$f":"COUNTIFS('Unit Detail'!$Y$8:$Y$400,\"2\",'Unit Detail'!$D$8:$D$400,'Building Detail'!$B610)","v":0},0,"",""]
[null,null,null,null,null,null,null,null,null,null,null,null,null,null,{"$f":"SUMIFS('Unit Detail'!$H$8:$H$400,'Unit Detail'!$D$8:$D$400,'Building Detail'!$B611,'Unit Detail'!$Y$8:$Y$400,1)","v":0},{"$f":"SUMIFS('Unit Detail'!$H$8:$H$400,'Unit Detail'!$D$8:$D$400,'Building Detail'!$B611,'Unit Detail'!$Y$8:$Y$400,3)","v":0},{"$f":"SUMIFS('Unit Detail'!$H$8:$H$400,'Unit Detail'!$D$8:$D$400,'Building Detail'!$B611,'Unit Detail'!$Y$8:$Y$400,2)","v":0},{"$f":"SUMIF('Unit Detail'!$D$8:$D$400,$B611,'Unit Detail'!$H$8:$H$400)","v":0},0,"",{"$f":"COUNTIFS('Unit Detail'!$Y$8:$Y$400,\"1\",'Unit Detail'!$D$8:$D$400,'Building Detail'!$B611)","v":0},{"$f":"COUNTIFS('Unit Detail'!$Y$8:$Y$400,\"3\",'Unit Detail'!$D$8:$D$400,'Building Detail'!$B611)","v":0},{"$f":"COUNTIFS('Unit Detail'!$Y$8:$Y$400,\"2\",'Unit Detail'!$D$8:$D$400,'Building Detail'!$B611)","v":0},0,"",""]
[null,null,null,null,null,null,null,null,null,null,null,null,null,null,{"$f":"SUMIFS('Unit Detail'!$H$8:$H$400,'Unit Detail'!$D$8:$D$400,'Building Detail'!$B612,'Unit Detail'!$Y$8:$Y$400,1)","v":0},{"$f":"SUMIFS('Unit Detail'!$H$8:$H$400,'Unit Detail'!$D$8:$D$400,'Building Detail'!$B612,'Unit Detail'!$Y$8:$Y$400,3)","v":0},{"$f":"SUMIFS('Unit Detail'!$H$8:$H$400,'Unit Detail'!$D$8:$D$400,'Building Detail'!$B612,'Unit Detail'!$Y$8:$Y$400,2)","v":0},{"$f":"SUMIF('Unit Detail'!$D$8:$D$400,$B612,'Unit Detail'!$H$8:$H$400)","v":0},0,"",{"$f":"COUNTIFS('Unit Detail'!$Y$8:$Y$400,\"1\",'Unit Detail'!$D$8:$D$400,'Building Detail'!$B612)","v":0},{"$f":"COUNTIFS('Unit Detail'!$Y$8:$Y$400,\"3\",'Unit Detail'!$D$8:$D$400,'Building Detail'!$B612)","v":0},{"$f":"COUNTIFS('Unit Detail'!$Y$8:$Y$400,\"2\",'Unit Detail'!$D$8:$D$400,'Building Detail'!$B612)","v":0},0,"",""]
[null,null,null,null,null,null,null,null,null,null,null,null,null,null,{"$f":"SUMIFS('Unit Detail'!$H$8:$H$400,'Unit Detail'!$D$8:$D$400,'Building Detail'!$B613,'Unit Detail'!$Y$8:$Y$400,1)","v":0},{"$f":"SUMIFS('Unit Detail'!$H$8:$H$400,'Unit Detail'!$D$8:$D$400,'Building Detail'!$B613,'Unit Detail'!$Y$8:$Y$400,3)","v":0},{"$f":"SUMIFS('Unit Detail'!$H$8:$H$400,'Unit Detail'!$D$8:$D$400,'Building Detail'!$B613,'Unit Detail'!$Y$8:$Y$400,2)","v":0},{"$f":"SUMIF('Unit Detail'!$D$8:$D$400,$B613,'Unit Detail'!$H$8:$H$400)","v":0},0,"",{"$f":"COUNTIFS('Unit Detail'!$Y$8:$Y$400,\"1\",'Unit Detail'!$D$8:$D$400,'Building Detail'!$B613)","v":0},{"$f":"COUNTIFS('Unit Detail'!$Y$8:$Y$400,\"3\",'Unit Detail'!$D$8:$D$400,'Building Detail'!$B613)","v":0},{"$f":"COUNTIFS('Unit Detail'!$Y$8:$Y$400,\"2\",'Unit Detail'!$D$8:$D$400,'Building Detail'!$B613)","v":0},0,"",""]
[null,null,null,null,null,null,null,null,null,null,null,null,null,null,{"$f":"SUMIFS('Unit Detail'!$H$8:$H$400,'Unit Detail'!$D$8:$D$400,'Building Detail'!$B614,'Unit Detail'!$Y$8:$Y$400,1)","v":0},{"$f":"SUMIFS('Unit Detail'!$H$8:$H$400,'Unit Detail'!$D$8:$D$400,'Building Detail'!$B614,'Unit Detail'!$Y$8:$Y$400,3)","v":0},{"$f":"SUMIFS('Unit Detail'!$H$8:$H$400,'Unit Detail'!$D$8:$D$400,'Building Detail'!$B614,'Unit Detail'!$Y$8:$Y$400,2)","v":0},{"$f":"SUMIF('Unit Detail'!$D$8:$D$400,$B614,'Unit Detail'!$H$8:$H$400)","v":0},0,"",{"$f":"COUNTIFS('Unit Detail'!$Y$8:$Y$400,\"1\",'Unit Detail'!$D$8:$D$400,'Building Detail'!$B614)","v":0},{"$f":"COUNTIFS('Unit Detail'!$Y$8:$Y$400,\"3\",'Unit Detail'!$D$8:$D$400,'Building Detail'!$B614)","v":0},{"$f":"COUNTIFS('Unit Detail'!$Y$8:$Y$400,\"2\",'Unit Detail'!$D$8:$D$400,'Building Detail'!$B614)","v":0},0,"",""]
[null,null,null,null,null,null,null,null,null,null,null,null,null,null,{"$f":"SUMIFS('Unit Detail'!$H$8:$H$400,'Unit Detail'!$D$8:$D$400,'Building Detail'!$B615,'Unit Detail'!$Y$8:$Y$400,1)","v":0},{"$f":"SUMIFS('Unit Detail'!$H$8:$H$400,'Unit Detail'!$D$8:$D$400,'Building Detail'!$B615,'Unit Detail'!$Y$8:$Y$400,3)","v":0},{"$f":"SUMIFS('Unit Detail'!$H$8:$H$400,'Unit Detail'!$D$8:$D$400,'Building Detail'!$B615,'Unit Detail'!$Y$8:$Y$400,2)","v":0},{"$f":"SUMIF('Unit Detail'!$D$8:$D$400,$B615,'Unit Detail'!$H$8:$H$400)","v":0},0,"",{"$f":"COUNTIFS('Unit Detail'!$Y$8:$Y$400,\"1\",'Unit Detail'!$D$8:$D$400,'Building Detail'!$B615)","v":0},{"$f":"COUNTIFS('Unit Detail'!$Y$8:$Y$400,\"3\",'Unit Detail'!$D$8:$D$400,'Building Detail'!$B615)","v":0},{"$f":"COUNTIFS('Unit Detail'!$Y$8:$Y$400,\"2\",'Unit Detail'!$D$8:$D$400,'Building Detail'!$B615)","v":0},0,"",""]
[null,null,null,null,null,null,null,null,null,null,null,null,null,null,{"$f":"SUMIFS('Unit Detail'!$H$8:$H$400,'Unit Detail'!$D$8:$D$400,'Building Detail'!$B616,'Unit Detail'!$Y$8:$Y$400,1)","v":0},{"$f":"SUMIFS('Unit Detail'!$H$8:$H$400,'Unit Detail'!$D$8:$D$400,'Building Detail'!$B616,'Unit Detail'!$Y$8:$Y$400,3)","v":0},{"$f":"SUMIFS('Unit Detail'!$H$8:$H$400,'Unit Detail'!$D$8:$D$400,'Building Detail'!$B616,'Unit Detail'!$Y$8:$Y$400,2)","v":0},{"$f":"SUMIF('Unit Detail'!$D$8:$D$400,$B616,'Unit Detail'!$H$8:$H$400)","v":0},0,"",{"$f":"COUNTIFS('Unit Detail'!$Y$8:$Y$400,\"1\",'Unit Detail'!$D$8:$D$400,'Building Detail'!$B616)","v":0},{"$f":"COUNTIFS('Unit Detail'!$Y$8:$Y$400,\"3\",'Unit Detail'!$D$8:$D$400,'Building Detail'!$B616)","v":0},{"$f":"COUNTIFS('Unit Detail'!$Y$8:$Y$400,\"2\",'Unit Detail'!$D$8:$D$400,'Building Detail'!$B616)","v":0},0,"",""]
[null,null,null,null,null,null,null,null,null,null,null,null,null,null,{"$f":"SUMIFS('Unit Detail'!$H$8:$H$400,'Unit Detail'!$D$8:$D$400,'Building Detail'!$B617,'Unit Detail'!$Y$8:$Y$400,1)","v":0},{"$f":"SUMIFS('Unit Detail'!$H$8:$H$400,'Unit Detail'!$D$8:$D$400,'Building Detail'!$B617,'Unit Detail'!$Y$8:$Y$400,3)","v":0},{"$f":"SUMIFS('Unit Detail'!$H$8:$H$400,'Unit Detail'!$D$8:$D$400,'Building Detail'!$B617,'Unit Detail'!$Y$8:$Y$400,2)","v":0},{"$f":"SUMIF('Unit Detail'!$D$8:$D$400,$B617,'Unit Detail'!$H$8:$H$400)","v":0},0,"",{"$f":"COUNTIFS('Unit Detail'!$Y$8:$Y$400,\"1\",'Unit Detail'!$D$8:$D$400,'Building Detail'!$B617)","v":0},{"$f":"COUNTIFS('Unit Detail'!$Y$8:$Y$400,\"3\",'Unit Detail'!$D$8:$D$400,'Building Detail'!$B617)","v":0},{"$f":"COUNTIFS('Unit Detail'!$Y$8:$Y$400,\"2\",'Unit Detail'!$D$8:$D$400,'Building Detail'!$B617)","v":0},0,"",""]
[null,null,null,null,null,null,null,null,null,null,null,null,null,null,{"$f":"SUMIFS('Unit Detail'!$H$8:$H$400,'Unit Detail'!$D$8:$D$400,'Building Detail'!$B618,'Unit Detail'!$Y$8:$Y$400,1)","v":0},{"$f":"SUMIFS('Unit Detail'!$H$8:$H$400,'Unit Detail'!$D$8:$D$400,'Building Detail'!$B618,'Unit Detail'!$Y$8:$Y$400,3)","v":0},{"$f":"SUMIFS('Unit Detail'!$H$8:$H$400,'Unit Detail'!$D$8:$D$400,'Building Detail'!$B618,'Unit Detail'!$Y$8:$Y$400,2)","v":0},{"$f":"SUMIF('Unit Detail'!$D$8:$D$400,$B618,'Unit Detail'!$H$8:$H$400)","v":0},0,"",{"$f":"COUNTIFS('Unit Detail'!$Y$8:$Y$400,\"1\",'Unit Detail'!$D$8:$D$400,'Building Detail'!$B618)","v":0},{"$f":"COUNTIFS('Unit Detail'!$Y$8:$Y$400,\"3\",'Unit Detail'!$D$8:$D$400,'Building Detail'!$B618)","v":0},{"$f":"COUNTIFS('Unit Detail'!$Y$8:$Y$400,\"2\",'Unit Detail'!$D$8:$D$400,'Building Detail'!$B618)","v":0},0,"",""]
[null,null,null,null,null,null,null,null,null,null,null,null,null,null,{"$f":"SUMIFS('Unit Detail'!$H$8:$H$400,'Unit Detail'!$D$8:$D$400,'Building Detail'!$B619,'Unit Detail'!$Y$8:$Y$400,1)","v":0},{"$f":"SUMIFS('Unit Detail'!$H$8:$H$400,'Unit Detail'!$D$8:$D$400,'Building Detail'!$B619,'Unit Detail'!$Y$8:$Y$400,3)","v":0},{"$f":"SUMIFS('Unit Detail'!$H$8:$H$400,'Unit Detail'!$D$8:$D$400,'Building Detail'!$B619,'Unit Detail'!$Y$8:$Y$400,2)","v":0},{"$f":"SUMIF('Unit Detail'!$D$8:$D$400,$B619,'Unit Detail'!$H$8:$H$400)","v":0},0,"",{"$f":"COUNTIFS('Unit Detail'!$Y$8:$Y$400,\"1\",'Unit Detail'!$D$8:$D$400,'Building Detail'!$B619)","v":0},{"$f":"COUNTIFS('Unit Detail'!$Y$8:$Y$400,\"3\",'Unit Detail'!$D$8:$D$400,'Building Detail'!$B619)","v":0},{"$f":"COUNTIFS('Unit Detail'!$Y$8:$Y$400,\"2\",'Unit Detail'!$D$8:$D$400,'Building Detail'!$B619)","v":0},0,"",""]
[null,null,null,null,null,null,null,null,null,null,null,null,null,null,{"$f":"SUMIFS('Unit Detail'!$H$8:$H$400,'Unit Detail'!$D$8:$D$400,'Building Detail'!$B620,'Unit Detail'!$Y$8:$Y$400,1)","v":0},{"$f":"SUMIFS('Unit Detail'!$H$8:$H$400,'Unit Detail'!$D$8:$D$400,'Building Detail'!$B620,'Unit Detail'!$Y$8:$Y$400,3)","v":0},{"$f":"SUMIFS('Unit Detail'!$H$8:$H$400,'Unit Detail'!$D$8:$D$400,'Building Detail'!$B620,'Unit Detail'!$Y$8:$Y$400,2)","v":0},{"$f":"SUMIF('Unit Detail'!$D$8:$D$400,$B620,'Unit Detail'!$H$8:$H$400)","v":0},0,"",{"$f":"COUNTIFS('Unit Detail'!$Y$8:$Y$400,\"1\",'Unit Detail'!$D$8:$D$400,'Building Detail'!$B620)","v":0},{"$f":"COUNTIFS('Unit Detail'!$Y$8:$Y$400,\"3\",'Unit Detail'!$D$8:$D$400,'Building Detail'!$B620)","v":0},{"$f":"COUNTIFS('Unit Detail'!$Y$8:$Y$400,\"2\",'Unit Detail'!$D$8:$D$400,'Building Detail'!$B620)","v":0},0,"",""]
[null,null,null,null,null,null,null,null,null,null,null,null,null,null,{"$f":"SUMIFS('Unit Detail'!$H$8:$H$400,'Unit Detail'!$D$8:$D$400,'Building Detail'!$B621,'Unit Detail'!$Y$8:$Y$400,1)","v":0},{"$f":"SUMIFS('Unit Detail'!$H$8:$H$400,'Unit Detail'!$D$8:$D$400,'Building Detail'!$B621,'Unit Detail'!$Y$8:$Y$400,3)","v":0},{"$f":"SUMIFS('Unit Detail'!$H$8:$H$400,'Unit Detail'!$D$8:$D$400,'Building Detail'!$B621,'Unit Detail'!$Y$8:$Y$400,2)","v":0},{"$f":"SUMIF('Unit Detail'!$D$8:$D$400,$B621,'Unit Detail'!$H$8:$H$400)","v":0},0,"",{"$f":"COUNTIFS('Unit Detail'!$Y$8:$Y$400,\"1\",'Unit Detail'!$D$8:$D$400,'Building Detail'!$B621)","v":0},{"$f":"COUNTIFS('Unit Detail'!$Y$8:$Y$400,\"3\",'Unit Detail'!$D$8:$D$400,'Building Detail'!$B621)","v":0},{"$f":"COUNTIFS('Unit Detail'!$Y$8:$Y$400,\"2\",'Unit Detail'!$D$8:$D$400,'Building Detail'!$B621)","v":0},0,"",""]
[null,null,null,null,null,null,null,null,null,null,null,null,null,null,{"$f":"SUMIFS('Unit Detail'!$H$8:$H$400,'Unit Detail'!$D$8:$D$400,'Building Detail'!$B622,'Unit Detail'!$Y$8:$Y$400,1)","v":0},{"$f":"SUMIFS('Unit Detail'!$H$8:$H$400,'Unit Detail'!$D$8:$D$400,'Building Detail'!$B622,'Unit Detail'!$Y$8:$Y$400,3)","v":0},{"$f":"SUMIFS('Unit Detail'!$H$8:$H$400,'Unit Detail'!$D$8:$D$400,'Building Detail'!$B622,'Unit Detail'!$Y$8:$Y$400,2)","v":0},{"$f":"SUMIF('Unit Detail'!$D$8:$D$400,$B622,'Unit Detail'!$H$8:$H$400)","v":0},0,"",{"$f":"COUNTIFS('Unit Detail'!$Y$8:$Y$400,\"1\",'Unit Detail'!$D$8:$D$400,'Building Detail'!$B622)","v":0},{"$f":"COUNTIFS('Unit Detail'!$Y$8:$Y$400,\"3\",'Unit Detail'!$D$8:$D$400,'Building Detail'!$B622)","v":0},{"$f":"COUNTIFS('Unit Detail'!$Y$8:$Y$400,\"2\",'Unit Detail'!$D$8:$D$400,'Building Detail'!$B622)","v":0},0,"",""]
[null,null,null,null,null,null,null,null,null,null,null,null,null,null,{"$f":"SUMIFS('Unit Detail'!$H$8:$H$400,'Unit Detail'!$D$8:$D$400,'Building Detail'!$B623,'Unit Detail'!$Y$8:$Y$400,1)","v":0},{"$f":"SUMIFS('Unit Detail'!$H$8:$H$400,'Unit Detail'!$D$8:$D$400,'Building Detail'!$B623,'Unit Detail'!$Y$8:$Y$400,3)","v":0},{"$f":"SUMIFS('Unit Detail'!$H$8:$H$400,'Unit Detail'!$D$8:$D$400,'Building Detail'!$B623,'Unit Detail'!$Y$8:$Y$400,2)","v":0},{"$f":"SUMIF('Unit Detail'!$D$8:$D$400,$B623,'Unit Detail'!$H$8:$H$400)","v":0},0,"",{"$f":"COUNTIFS('Unit Detail'!$Y$8:$Y$400,\"1\",'Unit Detail'!$D$8:$D$400,'Building Detail'!$B623)","v":0},{"$f":"COUNTIFS('Unit Detail'!$Y$8:$Y$400,\"3\",'Unit Detail'!$D$8:$D$400,'Building Detail'!$B623)","v":0},{"$f":"COUNTIFS('Unit Detail'!$Y$8:$Y$400,\"2\",'Unit Detail'!$D$8:$D$400,'Building Detail'!$B623)","v":0},0,"",""]
[null,null,null,null,null,null,null,null,null,null,null,null,null,null,{"$f":"SUMIFS('Unit Detail'!$H$8:$H$400,'Unit Detail'!$D$8:$D$400,'Building Detail'!$B624,'Unit Detail'!$Y$8:$Y$400,1)","v":0},{"$f":"SUMIFS('Unit Detail'!$H$8:$H$400,'Unit Detail'!$D$8:$D$400,'Building Detail'!$B624,'Unit Detail'!$Y$8:$Y$400,3)","v":0},{"$f":"SUMIFS('Unit Detail'!$H$8:$H$400,'Unit Detail'!$D$8:$D$400,'Building Detail'!$B624,'Unit Detail'!$Y$8:$Y$400,2)","v":0},{"$f":"SUMIF('Unit Detail'!$D$8:$D$400,$B624,'Unit Detail'!$H$8:$H$400)","v":0},0,"",{"$f":"COUNTIFS('Unit Detail'!$Y$8:$Y$400,\"1\",'Unit Detail'!$D$8:$D$400,'Building Detail'!$B624)","v":0},{"$f":"COUNTIFS('Unit Detail'!$Y$8:$Y$400,\"3\",'Unit Detail'!$D$8:$D$400,'Building Detail'!$B624)","v":0},{"$f":"COUNTIFS('Unit Detail'!$Y$8:$Y$400,\"2\",'Unit Detail'!$D$8:$D$400,'Building Detail'!$B624)","v":0},0,"",""]
[null,null,null,null,null,null,null,null,null,null,null,null,null,null,{"$f":"SUMIFS('Unit Detail'!$H$8:$H$400,'Unit Detail'!$D$8:$D$400,'Building Detail'!$B625,'Unit Detail'!$Y$8:$Y$400,1)","v":0},{"$f":"SUMIFS('Unit Detail'!$H$8:$H$400,'Unit Detail'!$D$8:$D$400,'Building Detail'!$B625,'Unit Detail'!$Y$8:$Y$400,3)","v":0},{"$f":"SUMIFS('Unit Detail'!$H$8:$H$400,'Unit Detail'!$D$8:$D$400,'Building Detail'!$B625,'Unit Detail'!$Y$8:$Y$400,2)","v":0},{"$f":"SUMIF('Unit Detail'!$D$8:$D$400,$B625,'Unit Detail'!$H$8:$H$400)","v":0},0,"",{"$f":"COUNTIFS('Unit Detail'!$Y$8:$Y$400,\"1\",'Unit Detail'!$D$8:$D$400,'Building Detail'!$B625)","v":0},{"$f":"COUNTIFS('Unit Detail'!$Y$8:$Y$400,\"3\",'Unit Detail'!$D$8:$D$400,'Building Detail'!$B625)","v":0},{"$f":"COUNTIFS('Unit Detail'!$Y$8:$Y$400,\"2\",'Unit Detail'!$D$8:$D$400,'Building Detail'!$B625)","v":0},0,"",""]
[null,null,null,null,null,null,null,null,null,null,null,null,null,null,{"$f":"SUMIFS('Unit Detail'!$H$8:$H$400,'Unit Detail'!$D$8:$D$400,'Building Detail'!$B626,'Unit Detail'!$Y$8:$Y$400,1)","v":0},{"$f":"SUMIFS('Unit Detail'!$H$8:$H$400,'Unit Detail'!$D$8:$D$400,'Building Detail'!$B626,'Unit Detail'!$Y$8:$Y$400,3)","v":0},{"$f":"SUMIFS('Unit Detail'!$H$8:$H$400,'Unit Detail'!$D$8:$D$400,'Building Detail'!$B626,'Unit Detail'!$Y$8:$Y$400,2)","v":0},{"$f":"SUMIF('Unit Detail'!$D$8:$D$400,$B626,'Unit Detail'!$H$8:$H$400)","v":0},0,"",{"$f":"COUNTIFS('Unit Detail'!$Y$8:$Y$400,\"1\",'Unit Detail'!$D$8:$D$400,'Building Detail'!$B626)","v":0},{"$f":"COUNTIFS('Unit Detail'!$Y$8:$Y$400,\"3\",'Unit Detail'!$D$8:$D$400,'Building Detail'!$B626)","v":0},{"$f":"COUNTIFS('Unit Detail'!$Y$8:$Y$400,\"2\",'Unit Detail'!$D$8:$D$400,'Building Detail'!$B626)","v":0},0,"",""]
[null,null,null,null,null,null,null,null,null,null,null,null,null,null,{"$f":"SUMIFS('Unit Detail'!$H$8:$H$400,'Unit Detail'!$D$8:$D$400,'Building Detail'!$B627,'Unit Detail'!$Y$8:$Y$400,1)","v":0},{"$f":"SUMIFS('Unit Detail'!$H$8:$H$400,'Unit Detail'!$D$8:$D$400,'Building Detail'!$B627,'Unit Detail'!$Y$8:$Y$400,3)","v":0},{"$f":"SUMIFS('Unit Detail'!$H$8:$H$400,'Unit Detail'!$D$8:$D$400,'Building Detail'!$B627,'Unit Detail'!$Y$8:$Y$400,2)","v":0},{"$f":"SUMIF('Unit Detail'!$D$8:$D$400,$B627,'Unit Detail'!$H$8:$H$400)","v":0},0,"",{"$f":"COUNTIFS('Unit Detail'!$Y$8:$Y$400,\"1\",'Unit Detail'!$D$8:$D$400,'Building Detail'!$B627)","v":0},{"$f":"COUNTIFS('Unit Detail'!$Y$8:$Y$400,\"3\",'Unit Detail'!$D$8:$D$400,'Building Detail'!$B627)","v":0},{"$f":"COUNTIFS('Unit Detail'!$Y$8:$Y$400,\"2\",'Unit Detail'!$D$8:$D$400,'Building Detail'!$B627)","v":0},0,"",""]
[null,null,null,null,null,null,null,null,null,null,null,null,null,null,{"$f":"SUMIFS('Unit Detail'!$H$8:$H$400,'Unit Detail'!$D$8:$D$400,'Building Detail'!$B628,'Unit Detail'!$Y$8:$Y$400,1)","v":0},{"$f":"SUMIFS('Unit Detail'!$H$8:$H$400,'Unit Detail'!$D$8:$D$400,'Building Detail'!$B628,'Unit Detail'!$Y$8:$Y$400,3)","v":0},{"$f":"SUMIFS('Unit Detail'!$H$8:$H$400,'Unit Detail'!$D$8:$D$400,'Building Detail'!$B628,'Unit Detail'!$Y$8:$Y$400,2)","v":0},{"$f":"SUMIF('Unit Detail'!$D$8:$D$400,$B628,'Unit Detail'!$H$8:$H$400)","v":0},0,"",{"$f":"COUNTIFS('Unit Detail'!$Y$8:$Y$400,\"1\",'Unit Detail'!$D$8:$D$400,'Building Detail'!$B628)","v":0},{"$f":"COUNTIFS('Unit Detail'!$Y$8:$Y$400,\"3\",'Unit Detail'!$D$8:$D$400,'Building Detail'!$B628)","v":0},{"$f":"COUNTIFS('Unit Detail'!$Y$8:$Y$400,\"2\",'Unit Detail'!$D$8:$D$400,'Building Detail'!$B628)","v":0},0,"",""]
[null,null,null,null,null,null,null,null,null,null,null,null,null,null,{"$f":"SUMIFS('Unit Detail'!$H$8:$H$400,'Unit Detail'!$D$8:$D$400,'Building Detail'!$B629,'Unit Detail'!$Y$8:$Y$400,1)","v":0},{"$f":"SUMIFS('Unit Detail'!$H$8:$H$400,'Unit Detail'!$D$8:$D$400,'Building Detail'!$B629,'Unit Detail'!$Y$8:$Y$400,3)","v":0},{"$f":"SUMIFS('Unit Detail'!$H$8:$H$400,'Unit Detail'!$D$8:$D$400,'Building Detail'!$B629,'Unit Detail'!$Y$8:$Y$400,2)","v":0},{"$f":"SUMIF('Unit Detail'!$D$8:$D$400,$B629,'Unit Detail'!$H$8:$H$400)","v":0},0,"",{"$f":"COUNTIFS('Unit Detail'!$Y$8:$Y$400,\"1\",'Unit Detail'!$D$8:$D$400,'Building Detail'!$B629)","v":0},{"$f":"COUNTIFS('Unit Detail'!$Y$8:$Y$400,\"3\",'Unit Detail'!$D$8:$D$400,'Building Detail'!$B629)","v":0},{"$f":"COUNTIFS('Unit Detail'!$Y$8:$Y$400,\"2\",'Unit Detail'!$D$8:$D$400,'Building Detail'!$B629)","v":0},0,"",""]
[null,null,null,null,null,null,null,null,null,null,null,null,null,null,{"$f":"SUMIFS('Unit Detail'!$H$8:$H$400,'Unit Detail'!$D$8:$D$400,'Building Detail'!$B630,'Unit Detail'!$Y$8:$Y$400,1)","v":0},{"$f":"SUMIFS('Unit Detail'!$H$8:$H$400,'Unit Detail'!$D$8:$D$400,'Building Detail'!$B630,'Unit Detail'!$Y$8:$Y$400,3)","v":0},{"$f":"SUMIFS('Unit Detail'!$H$8:$H$400,'Unit Detail'!$D$8:$D$400,'Building Detail'!$B630,'Unit Detail'!$Y$8:$Y$400,2)","v":0},{"$f":"SUMIF('Unit Detail'!$D$8:$D$400,$B630,'Unit Detail'!$H$8:$H$400)","v":0},0,"",{"$f":"COUNTIFS('Unit Detail'!$Y$8:$Y$400,\"1\",'Unit Detail'!$D$8:$D$400,'Building Detail'!$B630)","v":0},{"$f":"COUNTIFS('Unit Detail'!$Y$8:$Y$400,\"3\",'Unit Detail'!$D$8:$D$400,'Building Detail'!$B630)","v":0},{"$f":"COUNTIFS('Unit Detail'!$Y$8:$Y$400,\"2\",'Unit Detail'!$D$8:$D$400,'Building Detail'!$B630)","v":0},0,"",""]
[null,null,null,null,null,null,null,null,null,null,null,null,null,null,{"$f":"SUMIFS('Unit Detail'!$H$8:$H$400,'Unit Detail'!$D$8:$D$400,'Building Detail'!$B631,'Unit Detail'!$Y$8:$Y$400,1)","v":0},{"$f":"SUMIFS('Unit Detail'!$H$8:$H$400,'Unit Detail'!$D$8:$D$400,'Building Detail'!$B631,'Unit Detail'!$Y$8:$Y$400,3)","v":0},{"$f":"SUMIFS('Unit Detail'!$H$8:$H$400,'Unit Detail'!$D$8:$D$400,'Building Detail'!$B631,'Unit Detail'!$Y$8:$Y$400,2)","v":0},{"$f":"SUMIF('Unit Detail'!$D$8:$D$400,$B631,'Unit Detail'!$H$8:$H$400)","v":0},0,"",{"$f":"COUNTIFS('Unit Detail'!$Y$8:$Y$400,\"1\",'Unit Detail'!$D$8:$D$400,'Building Detail'!$B631)","v":0},{"$f":"COUNTIFS('Unit Detail'!$Y$8:$Y$400,\"3\",'Unit Detail'!$D$8:$D$400,'Building Detail'!$B631)","v":0},{"$f":"COUNTIFS('Unit Detail'!$Y$8:$Y$400,\"2\",'Unit Detail'!$D$8:$D$400,'Building Detail'!$B631)","v":0},0,"",""]
[null,null,null,null,null,null,null,null,null,null,null,null,null,null,{"$f":"SUMIFS('Unit Detail'!$H$8:$H$400,'Unit Detail'!$D$8:$D$400,'Building Detail'!$B632,'Unit Detail'!$Y$8:$Y$400,1)","v":0},{"$f":"SUMIFS('Unit Detail'!$H$8:$H$400,'Unit Detail'!$D$8:$D$400,'Building Detail'!$B632,'Unit Detail'!$Y$8:$Y$400,3)","v":0},{"$f":"SUMIFS('Unit Detail'!$H$8:$H$400,'Unit Detail'!$D$8:$D$400,'Building Detail'!$B632,'Unit Detail'!$Y$8:$Y$400,2)","v":0},{"$f":"SUMIF('Unit Detail'!$D$8:$D$400,$B632,'Unit Detail'!$H$8:$H$400)","v":0},0,"",{"$f":"COUNTIFS('Unit Detail'!$Y$8:$Y$400,\"1\",'Unit Detail'!$D$8:$D$400,'Building Detail'!$B632)","v":0},{"$f":"COUNTIFS('Unit Detail'!$Y$8:$Y$400,\"3\",'Unit Detail'!$D$8:$D$400,'Building Detail'!$B632)","v":0},{"$f":"COUNTIFS('Unit Detail'!$Y$8:$Y$400,\"2\",'Unit Detail'!$D$8:$D$400,'Building Detail'!$B632)","v":0},0,"",""]
[null,null,null,null,null,null,null,null,null,null,null,null,null,null,{"$f":"SUMIFS('Unit Detail'!$H$8:$H$400,'Unit Detail'!$D$8:$D$400,'Building Detail'!$B633,'Unit Detail'!$Y$8:$Y$400,1)","v":0},{"$f":"SUMIFS('Unit Detail'!$H$8:$H$400,'Unit Detail'!$D$8:$D$400,'Building Detail'!$B633,'Unit Detail'!$Y$8:$Y$400,3)","v":0},{"$f":"SUMIFS('Unit Detail'!$H$8:$H$400,'Unit Detail'!$D$8:$D$400,'Building Detail'!$B633,'Unit Detail'!$Y$8:$Y$400,2)","v":0},{"$f":"SUMIF('Unit Detail'!$D$8:$D$400,$B633,'Unit Detail'!$H$8:$H$400)","v":0},0,"",{"$f":"COUNTIFS('Unit Detail'!$Y$8:$Y$400,\"1\",'Unit Detail'!$D$8:$D$400,'Building Detail'!$B633)","v":0},{"$f":"COUNTIFS('Unit Detail'!$Y$8:$Y$400,\"3\",'Unit Detail'!$D$8:$D$400,'Building Detail'!$B633)","v":0},{"$f":"COUNTIFS('Unit Detail'!$Y$8:$Y$400,\"2\",'Unit Detail'!$D$8:$D$400,'Building Detail'!$B633)","v":0},0,"",""]
[null,null,null,null,null,null,null,null,null,null,null,null,null,null,{"$f":"SUMIFS('Unit Detail'!$H$8:$H$400,'Unit Detail'!$D$8:$D$400,'Building Detail'!$B634,'Unit Detail'!$Y$8:$Y$400,1)","v":0},{"$f":"SUMIFS('Unit Detail'!$H$8:$H$400,'Unit Detail'!$D$8:$D$400,'Building Detail'!$B634,'Unit Detail'!$Y$8:$Y$400,3)","v":0},{"$f":"SUMIFS('Unit Detail'!$H$8:$H$400,'Unit Detail'!$D$8:$D$400,'Building Detail'!$B634,'Unit Detail'!$Y$8:$Y$400,2)","v":0},{"$f":"SUMIF('Unit Detail'!$D$8:$D$400,$B634,'Unit Detail'!$H$8:$H$400)","v":0},0,"",{"$f":"COUNTIFS('Unit Detail'!$Y$8:$Y$400,\"1\",'Unit Detail'!$D$8:$D$400,'Building Detail'!$B634)","v":0},{"$f":"COUNTIFS('Unit Detail'!$Y$8:$Y$400,\"3\",'Unit Detail'!$D$8:$D$400,'Building Detail'!$B634)","v":0},{"$f":"COUNTIFS('Unit Detail'!$Y$8:$Y$400,\"2\",'Unit Detail'!$D$8:$D$400,'Building Detail'!$B634)","v":0},0,"",""]
[null,null,null,null,null,null,null,null,null,null,null,null,null,null,{"$f":"SUMIFS('Unit Detail'!$H$8:$H$400,'Unit Detail'!$D$8:$D$400,'Building Detail'!$B635,'Unit Detail'!$Y$8:$Y$400,1)","v":0},{"$f":"SUMIFS('Unit Detail'!$H$8:$H$400,'Unit Detail'!$D$8:$D$400,'Building Detail'!$B635,'Unit Detail'!$Y$8:$Y$400,3)","v":0},{"$f":"SUMIFS('Unit Detail'!$H$8:$H$400,'Unit Detail'!$D$8:$D$400,'Building Detail'!$B635,'Unit Detail'!$Y$8:$Y$400,2)","v":0},{"$f":"SUMIF('Unit Detail'!$D$8:$D$400,$B635,'Unit Detail'!$H$8:$H$400)","v":0},0,"",{"$f":"COUNTIFS('Unit Detail'!$Y$8:$Y$400,\"1\",'Unit Detail'!$D$8:$D$400,'Building Detail'!$B635)","v":0},{"$f":"COUNTIFS('Unit Detail'!$Y$8:$Y$400,\"3\",'Unit Detail'!$D$8:$D$400,'Building Detail'!$B635)","v":0},{"$f":"COUNTIFS('Unit Detail'!$Y$8:$Y$400,\"2\",'Unit Detail'!$D$8:$D$400,'Building Detail'!$B635)","v":0},0,"",""]
[null,null,null,null,null,null,null,null,null,null,null,null,null,null,{"$f":"SUMIFS('Unit Detail'!$H$8:$H$400,'Unit Detail'!$D$8:$D$400,'Building Detail'!$B636,'Unit Detail'!$Y$8:$Y$400,1)","v":0},{"$f":"SUMIFS('Unit Detail'!$H$8:$H$400,'Unit Detail'!$D$8:$D$400,'Building Detail'!$B636,'Unit Detail'!$Y$8:$Y$400,3)","v":0},{"$f":"SUMIFS('Unit Detail'!$H$8:$H$400,'Unit Detail'!$D$8:$D$400,'Building Detail'!$B636,'Unit Detail'!$Y$8:$Y$400,2)","v":0},{"$f":"SUMIF('Unit Detail'!$D$8:$D$400,$B636,'Unit Detail'!$H$8:$H$400)","v":0},0,"",{"$f":"COUNTIFS('Unit Detail'!$Y$8:$Y$400,\"1\",'Unit Detail'!$D$8:$D$400,'Building Detail'!$B636)","v":0},{"$f":"COUNTIFS('Unit Detail'!$Y$8:$Y$400,\"3\",'Unit Detail'!$D$8:$D$400,'Building Detail'!$B636)","v":0},{"$f":"COUNTIFS('Unit Detail'!$Y$8:$Y$400,\"2\",'Unit Detail'!$D$8:$D$400,'Building Detail'!$B636)","v":0},0,"",""]
[null,null,null,null,null,null,null,null,null,null,null,null,null,null,{"$f":"SUMIFS('Unit Detail'!$H$8:$H$400,'Unit Detail'!$D$8:$D$400,'Building Detail'!$B637,'Unit Detail'!$Y$8:$Y$400,1)","v":0},{"$f":"SUMIFS('Unit Detail'!$H$8:$H$400,'Unit Detail'!$D$8:$D$400,'Building Detail'!$B637,'Unit Detail'!$Y$8:$Y$400,3)","v":0},{"$f":"SUMIFS('Unit Detail'!$H$8:$H$400,'Unit Detail'!$D$8:$D$400,'Building Detail'!$B637,'Unit Detail'!$Y$8:$Y$400,2)","v":0},{"$f":"SUMIF('Unit Detail'!$D$8:$D$400,$B637,'Unit Detail'!$H$8:$H$400)","v":0},0,"",{"$f":"COUNTIFS('Unit Detail'!$Y$8:$Y$400,\"1\",'Unit Detail'!$D$8:$D$400,'Building Detail'!$B637)","v":0},{"$f":"COUNTIFS('Unit Detail'!$Y$8:$Y$400,\"3\",'Unit Detail'!$D$8:$D$400,'Building Detail'!$B637)","v":0},{"$f":"COUNTIFS('Unit Detail'!$Y$8:$Y$400,\"2\",'Unit Detail'!$D$8:$D$400,'Building Detail'!$B637)","v":0},0,"",""]
[null,null,null,null,null,null,null,null,null,null,null,null,null,null,{"$f":"SUMIFS('Unit Detail'!$H$8:$H$400,'Unit Detail'!$D$8:$D$400,'Building Detail'!$B638,'Unit Detail'!$Y$8:$Y$400,1)","v":0},{"$f":"SUMIFS('Unit Detail'!$H$8:$H$400,'Unit Detail'!$D$8:$D$400,'Building Detail'!$B638,'Unit Detail'!$Y$8:$Y$400,3)","v":0},{"$f":"SUMIFS('Unit Detail'!$H$8:$H$400,'Unit Detail'!$D$8:$D$400,'Building Detail'!$B638,'Unit Detail'!$Y$8:$Y$400,2)","v":0},{"$f":"SUMIF('Unit Detail'!$D$8:$D$400,$B638,'Unit Detail'!$H$8:$H$400)","v":0},0,"",{"$f":"COUNTIFS('Unit Detail'!$Y$8:$Y$400,\"1\",'Unit Detail'!$D$8:$D$400,'Building Detail'!$B638)","v":0},{"$f":"COUNTIFS('Unit Detail'!$Y$8:$Y$400,\"3\",'Unit Detail'!$D$8:$D$400,'Building Detail'!$B638)","v":0},{"$f":"COUNTIFS('Unit Detail'!$Y$8:$Y$400,\"2\",'Unit Detail'!$D$8:$D$400,'Building Detail'!$B638)","v":0},0,"",""]
[null,null,null,null,null,null,null,null,null,null,null,null,null,null,{"$f":"SUMIFS('Unit Detail'!$H$8:$H$400,'Unit Detail'!$D$8:$D$400,'Building Detail'!$B639,'Unit Detail'!$Y$8:$Y$400,1)","v":0},{"$f":"SUMIFS('Unit Detail'!$H$8:$H$400,'Unit Detail'!$D$8:$D$400,'Building Detail'!$B639,'Unit Detail'!$Y$8:$Y$400,3)","v":0},{"$f":"SUMIFS('Unit Detail'!$H$8:$H$400,'Unit Detail'!$D$8:$D$400,'Building Detail'!$B639,'Unit Detail'!$Y$8:$Y$400,2)","v":0},{"$f":"SUMIF('Unit Detail'!$D$8:$D$400,$B639,'Unit Detail'!$H$8:$H$400)","v":0},0,"",{"$f":"COUNTIFS('Unit Detail'!$Y$8:$Y$400,\"1\",'Unit Detail'!$D$8:$D$400,'Building Detail'!$B639)","v":0},{"$f":"COUNTIFS('Unit Detail'!$Y$8:$Y$400,\"3\",'Unit Detail'!$D$8:$D$400,'Building Detail'!$B639)","v":0},{"$f":"COUNTIFS('Unit Detail'!$Y$8:$Y$400,\"2\",'Unit Detail'!$D$8:$D$400,'Building Detail'!$B639)","v":0},0,"",""]
[null,null,null,null,null,null,null,null,null,null,null,null,null,null,{"$f":"SUMIFS('Unit Detail'!$H$8:$H$400,'Unit Detail'!$D$8:$D$400,'Building Detail'!$B640,'Unit Detail'!$Y$8:$Y$400,1)","v":0},{"$f":"SUMIFS('Unit Detail'!$H$8:$H$400,'Unit Detail'!$D$8:$D$400,'Building Detail'!$B640,'Unit Detail'!$Y$8:$Y$400,3)","v":0},{"$f":"SUMIFS('Unit Detail'!$H$8:$H$400,'Unit Detail'!$D$8:$D$400,'Building Detail'!$B640,'Unit Detail'!$Y$8:$Y$400,2)","v":0},{"$f":"SUMIF('Unit Detail'!$D$8:$D$400,$B640,'Unit Detail'!$H$8:$H$400)","v":0},0,"",{"$f":"COUNTIFS('Unit Detail'!$Y$8:$Y$400,\"1\",'Unit Detail'!$D$8:$D$400,'Building Detail'!$B640)","v":0},{"$f":"COUNTIFS('Unit Detail'!$Y$8:$Y$400,\"3\",'Unit Detail'!$D$8:$D$400,'Building Detail'!$B640)","v":0},{"$f":"COUNTIFS('Unit Detail'!$Y$8:$Y$400,\"2\",'Unit Detail'!$D$8:$D$400,'Building Detail'!$B640)","v":0},0,"",""]
[null,null,null,null,null,null,null,null,null,null,null,null,null,null,{"$f":"SUMIFS('Unit Detail'!$H$8:$H$400,'Unit Detail'!$D$8:$D$400,'Building Detail'!$B641,'Unit Detail'!$Y$8:$Y$400,1)","v":0},{"$f":"SUMIFS('Unit Detail'!$H$8:$H$400,'Unit Detail'!$D$8:$D$400,'Building Detail'!$B641,'Unit Detail'!$Y$8:$Y$400,3)","v":0},{"$f":"SUMIFS('Unit Detail'!$H$8:$H$400,'Unit Detail'!$D$8:$D$400,'Building Detail'!$B641,'Unit Detail'!$Y$8:$Y$400,2)","v":0},{"$f":"SUMIF('Unit Detail'!$D$8:$D$400,$B641,'Unit Detail'!$H$8:$H$400)","v":0},0,"",{"$f":"COUNTIFS('Unit Detail'!$Y$8:$Y$400,\"1\",'Unit Detail'!$D$8:$D$400,'Building Detail'!$B641)","v":0},{"$f":"COUNTIFS('Unit Detail'!$Y$8:$Y$400,\"3\",'Unit Detail'!$D$8:$D$400,'Building Detail'!$B641)","v":0},{"$f":"COUNTIFS('Unit Detail'!$Y$8:$Y$400,\"2\",'Unit Detail'!$D$8:$D$400,'Building Detail'!$B641)","v":0},0,"",""]
[null,null,null,null,null,null,null,null,null,null,null,null,null,null,{"$f":"SUMIFS('Unit Detail'!$H$8:$H$400,'Unit Detail'!$D$8:$D$400,'Building Detail'!$B642,'Unit Detail'!$Y$8:$Y$400,1)","v":0},{"$f":"SUMIFS('Unit Detail'!$H$8:$H$400,'Unit Detail'!$D$8:$D$400,'Building Detail'!$B642,'Unit Detail'!$Y$8:$Y$400,3)","v":0},{"$f":"SUMIFS('Unit Detail'!$H$8:$H$400,'Unit Detail'!$D$8:$D$400,'Building Detail'!$B642,'Unit Detail'!$Y$8:$Y$400,2)","v":0},{"$f":"SUMIF('Unit Detail'!$D$8:$D$400,$B642,'Unit Detail'!$H$8:$H$400)","v":0},0,"",{"$f":"COUNTIFS('Unit Detail'!$Y$8:$Y$400,\"1\",'Unit Detail'!$D$8:$D$400,'Building Detail'!$B642)","v":0},{"$f":"COUNTIFS('Unit Detail'!$Y$8:$Y$400,\"3\",'Unit Detail'!$D$8:$D$400,'Building Detail'!$B642)","v":0},{"$f":"COUNTIFS('Unit Detail'!$Y$8:$Y$400,\"2\",'Unit Detail'!$D$8:$D$400,'Building Detail'!$B642)","v":0},0,"",""]
[null,null,null,null,null,null,null,null,null,null,null,null,null,null,{"$f":"SUMIFS('Unit Detail'!$H$8:$H$400,'Unit Detail'!$D$8:$D$400,'Building Detail'!$B643,'Unit Detail'!$Y$8:$Y$400,1)","v":0},{"$f":"SUMIFS('Unit Detail'!$H$8:$H$400,'Unit Detail'!$D$8:$D$400,'Building Detail'!$B643,'Unit Detail'!$Y$8:$Y$400,3)","v":0},{"$f":"SUMIFS('Unit Detail'!$H$8:$H$400,'Unit Detail'!$D$8:$D$400,'Building Detail'!$B643,'Unit Detail'!$Y$8:$Y$400,2)","v":0},{"$f":"SUMIF('Unit Detail'!$D$8:$D$400,$B643,'Unit Detail'!$H$8:$H$400)","v":0},{"$f":"SUM(M643,N643,R643)","v":0},"",{"$f":"COUNTIFS('Unit Detail'!$Y$8:$Y$400,\"1\",'Unit Detail'!$D$8:$D$400,'Building Detail'!$B643)","v":0},{"$f":"COUNTIFS('Unit Detail'!$Y$8:$Y$400,\"3\",'Unit Detail'!$D$8:$D$400,'Building Detail'!$B643)","v":0},{"$f":"COUNTIFS('Unit Detail'!$Y$8:$Y$400,\"2\",'Unit Detail'!$D$8:$D$400,'Building Detail'!$B643)","v":0},{"$f":"SUM(U643:W643)","v":0},"",""]
[null,null,null,null,null,null,null,null,null,null,null,null,null,null,{"$f":"SUMIFS('Unit Detail'!$H$8:$H$400,'Unit Detail'!$D$8:$D$400,'Building Detail'!$B644,'Unit Detail'!$Y$8:$Y$400,1)","v":0},{"$f":"SUMIFS('Unit Detail'!$H$8:$H$400,'Unit Detail'!$D$8:$D$400,'Building Detail'!$B644,'Unit Detail'!$Y$8:$Y$400,3)","v":0},{"$f":"SUMIFS('Unit Detail'!$H$8:$H$400,'Unit Detail'!$D$8:$D$400,'Building Detail'!$B644,'Unit Detail'!$Y$8:$Y$400,2)","v":0},{"$f":"SUMIF('Unit Detail'!$D$8:$D$400,$B644,'Unit Detail'!$H$8:$H$400)","v":0},0,"",{"$f":"COUNTIFS('Unit Detail'!$Y$8:$Y$400,\"1\",'Unit Detail'!$D$8:$D$400,'Building Detail'!$B644)","v":0},{"$f":"COUNTIFS('Unit Detail'!$Y$8:$Y$400,\"3\",'Unit Detail'!$D$8:$D$400,'Building Detail'!$B644)","v":0},{"$f":"COUNTIFS('Unit Detail'!$Y$8:$Y$400,\"2\",'Unit Detail'!$D$8:$D$400,'Building Detail'!$B644)","v":0},0,"",""]
[null,null,null,null,null,null,null,null,null,null,null,null,null,null,{"$f":"SUMIFS('Unit Detail'!$H$8:$H$400,'Unit Detail'!$D$8:$D$400,'Building Detail'!$B645,'Unit Detail'!$Y$8:$Y$400,1)","v":0},{"$f":"SUMIFS('Unit Detail'!$H$8:$H$400,'Unit Detail'!$D$8:$D$400,'Building Detail'!$B645,'Unit Detail'!$Y$8:$Y$400,3)","v":0},{"$f":"SUMIFS('Unit Detail'!$H$8:$H$400,'Unit Detail'!$D$8:$D$400,'Building Detail'!$B645,'Unit Detail'!$Y$8:$Y$400,2)","v":0},{"$f":"SUMIF('Unit Detail'!$D$8:$D$400,$B645,'Unit Detail'!$H$8:$H$400)","v":0},0,"",{"$f":"COUNTIFS('Unit Detail'!$Y$8:$Y$400,\"1\",'Unit Detail'!$D$8:$D$400,'Building Detail'!$B645)","v":0},{"$f":"COUNTIFS('Unit Detail'!$Y$8:$Y$400,\"3\",'Unit Detail'!$D$8:$D$400,'Building Detail'!$B645)","v":0},{"$f":"COUNTIFS('Unit Detail'!$Y$8:$Y$400,\"2\",'Unit Detail'!$D$8:$D$400,'Building Detail'!$B645)","v":0},0,"",""]
[null,null,null,null,null,null,null,null,null,null,null,null,null,null,{"$f":"SUMIFS('Unit Detail'!$H$8:$H$400,'Unit Detail'!$D$8:$D$400,'Building Detail'!$B646,'Unit Detail'!$Y$8:$Y$400,1)","v":0},{"$f":"SUMIFS('Unit Detail'!$H$8:$H$400,'Unit Detail'!$D$8:$D$400,'Building Detail'!$B646,'Unit Detail'!$Y$8:$Y$400,3)","v":0},{"$f":"SUMIFS('Unit Detail'!$H$8:$H$400,'Unit Detail'!$D$8:$D$400,'Building Detail'!$B646,'Unit Detail'!$Y$8:$Y$400,2)","v":0},{"$f":"SUMIF('Unit Detail'!$D$8:$D$400,$B646,'Unit Detail'!$H$8:$H$400)","v":0},0,"",{"$f":"COUNTIFS('Unit Detail'!$Y$8:$Y$400,\"1\",'Unit Detail'!$D$8:$D$400,'Building Detail'!$B646)","v":0},{"$f":"COUNTIFS('Unit Detail'!$Y$8:$Y$400,\"3\",'Unit Detail'!$D$8:$D$400,'Building Detail'!$B646)","v":0},{"$f":"COUNTIFS('Unit Detail'!$Y$8:$Y$400,\"2\",'Unit Detail'!$D$8:$D$400,'Building Detail'!$B646)","v":0},0,"",""]
[null,null,null,null,null,null,null,null,null,null,null,null,null,null,{"$f":"SUMIFS('Unit Detail'!$H$8:$H$400,'Unit Detail'!$D$8:$D$400,'Building Detail'!$B647,'Unit Detail'!$Y$8:$Y$400,1)","v":0},{"$f":"SUMIFS('Unit Detail'!$H$8:$H$400,'Unit Detail'!$D$8:$D$400,'Building Detail'!$B647,'Unit Detail'!$Y$8:$Y$400,3)","v":0},{"$f":"SUMIFS('Unit Detail'!$H$8:$H$400,'Unit Detail'!$D$8:$D$400,'Building Detail'!$B647,'Unit Detail'!$Y$8:$Y$400,2)","v":0},{"$f":"SUMIF('Unit Detail'!$D$8:$D$400,$B647,'Unit Detail'!$H$8:$H$400)","v":0},0,"",{"$f":"COUNTIFS('Unit Detail'!$Y$8:$Y$400,\"1\",'Unit Detail'!$D$8:$D$400,'Building Detail'!$B647)","v":0},{"$f":"COUNTIFS('Unit Detail'!$Y$8:$Y$400,\"3\",'Unit Detail'!$D$8:$D$400,'Building Detail'!$B647)","v":0},{"$f":"COUNTIFS('Unit Detail'!$Y$8:$Y$400,\"2\",'Unit Detail'!$D$8:$D$400,'Building Detail'!$B647)","v":0},0,"",""]
[null,null,null,null,null,null,null,null,null,null,null,null,null,null,{"$f":"SUMIFS('Unit Detail'!$H$8:$H$400,'Unit Detail'!$D$8:$D$400,'Building Detail'!$B648,'Unit Detail'!$Y$8:$Y$400,1)","v":0},{"$f":"SUMIFS('Unit Detail'!$H$8:$H$400,'Unit Detail'!$D$8:$D$400,'Building Detail'!$B648,'Unit Detail'!$Y$8:$Y$400,3)","v":0},{"$f":"SUMIFS('Unit Detail'!$H$8:$H$400,'Unit Detail'!$D$8:$D$400,'Building Detail'!$B648,'Unit Detail'!$Y$8:$Y$400,2)","v":0},{"$f":"SUMIF('Unit Detail'!$D$8:$D$400,$B648,'Unit Detail'!$H$8:$H$400)","v":0},0,"",{"$f":"COUNTIFS('Unit Detail'!$Y$8:$Y$400,\"1\",'Unit Detail'!$D$8:$D$400,'Building Detail'!$B648)","v":0},{"$f":"COUNTIFS('Unit Detail'!$Y$8:$Y$400,\"3\",'Unit Detail'!$D$8:$D$400,'Building Detail'!$B648)","v":0},{"$f":"COUNTIFS('Unit Detail'!$Y$8:$Y$400,\"2\",'Unit Detail'!$D$8:$D$400,'Building Detail'!$B648)","v":0},0,"",""]
[null,null,null,null,null,null,null,null,null,null,null,null,null,null,{"$f":"SUMIFS('Unit Detail'!$H$8:$H$400,'Unit Detail'!$D$8:$D$400,'Building Detail'!$B649,'Unit Detail'!$Y$8:$Y$400,1)","v":0},{"$f":"SUMIFS('Unit Detail'!$H$8:$H$400,'Unit Detail'!$D$8:$D$400,'Building Detail'!$B649,'Unit Detail'!$Y$8:$Y$400,3)","v":0},{"$f":"SUMIFS('Unit Detail'!$H$8:$H$400,'Unit Detail'!$D$8:$D$400,'Building Detail'!$B649,'Unit Detail'!$Y$8:$Y$400,2)","v":0},{"$f":"SUMIF('Unit Detail'!$D$8:$D$400,$B649,'Unit Detail'!$H$8:$H$400)","v":0},0,"",{"$f":"COUNTIFS('Unit Detail'!$Y$8:$Y$400,\"1\",'Unit Detail'!$D$8:$D$400,'Building Detail'!$B649)","v":0},{"$f":"COUNTIFS('Unit Detail'!$Y$8:$Y$400,\"3\",'Unit Detail'!$D$8:$D$400,'Building Detail'!$B649)","v":0},{"$f":"COUNTIFS('Unit Detail'!$Y$8:$Y$400,\"2\",'Unit Detail'!$D$8:$D$400,'Building Detail'!$B649)","v":0},0,"",""]
[null,null,null,null,null,null,null,null,null,null,null,null,null,null,{"$f":"SUMIFS('Unit Detail'!$H$8:$H$400,'Unit Detail'!$D$8:$D$400,'Building Detail'!$B650,'Unit Detail'!$Y$8:$Y$400,1)","v":0},{"$f":"SUMIFS('Unit Detail'!$H$8:$H$400,'Unit Detail'!$D$8:$D$400,'Building Detail'!$B650,'Unit Detail'!$Y$8:$Y$400,3)","v":0},{"$f":"SUMIFS('Unit Detail'!$H$8:$H$400,'Unit Detail'!$D$8:$D$400,'Building Detail'!$B650,'Unit Detail'!$Y$8:$Y$400,2)","v":0},{"$f":"SUMIF('Unit Detail'!$D$8:$D$400,$B650,'Unit Detail'!$H$8:$H$400)","v":0},0,"",{"$f":"COUNTIFS('Unit Detail'!$Y$8:$Y$400,\"1\",'Unit Detail'!$D$8:$D$400,'Building Detail'!$B650)","v":0},{"$f":"COUNTIFS('Unit Detail'!$Y$8:$Y$400,\"3\",'Unit Detail'!$D$8:$D$400,'Building Detail'!$B650)","v":0},{"$f":"COUNTIFS('Unit Detail'!$Y$8:$Y$400,\"2\",'Unit Detail'!$D$8:$D$400,'Building Detail'!$B650)","v":0},0,"",""]
[null,null,null,null,null,null,null,null,null,null,null,null,null,null,{"$f":"SUMIFS('Unit Detail'!$H$8:$H$400,'Unit Detail'!$D$8:$D$400,'Building Detail'!$B651,'Unit Detail'!$Y$8:$Y$400,1)","v":0},{"$f":"SUMIFS('Unit Detail'!$H$8:$H$400,'Unit Detail'!$D$8:$D$400,'Building Detail'!$B651,'Unit Detail'!$Y$8:$Y$400,3)","v":0},{"$f":"SUMIFS('Unit Detail'!$H$8:$H$400,'Unit Detail'!$D$8:$D$400,'Building Detail'!$B651,'Unit Detail'!$Y$8:$Y$400,2)","v":0},{"$f":"SUMIF('Unit Detail'!$D$8:$D$400,$B651,'Unit Detail'!$H$8:$H$400)","v":0},0,"",{"$f":"COUNTIFS('Unit Detail'!$Y$8:$Y$400,\"1\",'Unit Detail'!$D$8:$D$400,'Building Detail'!$B651)","v":0},{"$f":"COUNTIFS('Unit Detail'!$Y$8:$Y$400,\"3\",'Unit Detail'!$D$8:$D$400,'Building Detail'!$B651)","v":0},{"$f":"COUNTIFS('Unit Detail'!$Y$8:$Y$400,\"2\",'Unit Detail'!$D$8:$D$400,'Building Detail'!$B651)","v":0},0,"",""]
[null,null,null,null,null,null,null,null,null,null,null,null,null,null,{"$f":"SUMIFS('Unit Detail'!$H$8:$H$400,'Unit Detail'!$D$8:$D$400,'Building Detail'!$B652,'Unit Detail'!$Y$8:$Y$400,1)","v":0},{"$f":"SUMIFS('Unit Detail'!$H$8:$H$400,'Unit Detail'!$D$8:$D$400,'Building Detail'!$B652,'Unit Detail'!$Y$8:$Y$400,3)","v":0},{"$f":"SUMIFS('Unit Detail'!$H$8:$H$400,'Unit Detail'!$D$8:$D$400,'Building Detail'!$B652,'Unit Detail'!$Y$8:$Y$400,2)","v":0},{"$f":"SUMIF('Unit Detail'!$D$8:$D$400,$B652,'Unit Detail'!$H$8:$H$400)","v":0},0,"",{"$f":"COUNTIFS('Unit Detail'!$Y$8:$Y$400,\"1\",'Unit Detail'!$D$8:$D$400,'Building Detail'!$B652)","v":0},{"$f":"COUNTIFS('Unit Detail'!$Y$8:$Y$400,\"3\",'Unit Detail'!$D$8:$D$400,'Building Detail'!$B652)","v":0},{"$f":"COUNTIFS('Unit Detail'!$Y$8:$Y$400,\"2\",'Unit Detail'!$D$8:$D$400,'Building Detail'!$B652)","v":0},0,"",""]
[null,null,null,null,null,null,null,null,null,null,null,null,null,null,{"$f":"SUMIFS('Unit Detail'!$H$8:$H$400,'Unit Detail'!$D$8:$D$400,'Building Detail'!$B653,'Unit Detail'!$Y$8:$Y$400,1)","v":0},{"$f":"SUMIFS('Unit Detail'!$H$8:$H$400,'Unit Detail'!$D$8:$D$400,'Building Detail'!$B653,'Unit Detail'!$Y$8:$Y$400,3)","v":0},{"$f":"SUMIFS('Unit Detail'!$H$8:$H$400,'Unit Detail'!$D$8:$D$400,'Building Detail'!$B653,'Unit Detail'!$Y$8:$Y$400,2)","v":0},{"$f":"SUMIF('Unit Detail'!$D$8:$D$400,$B653,'Unit Detail'!$H$8:$H$400)","v":0},0,"",{"$f":"COUNTIFS('Unit Detail'!$Y$8:$Y$400,\"1\",'Unit Detail'!$D$8:$D$400,'Building Detail'!$B653)","v":0},{"$f":"COUNTIFS('Unit Detail'!$Y$8:$Y$400,\"3\",'Unit Detail'!$D$8:$D$400,'Building Detail'!$B653)","v":0},{"$f":"COUNTIFS('Unit Detail'!$Y$8:$Y$400,\"2\",'Unit Detail'!$D$8:$D$400,'Building Detail'!$B653)","v":0},0,"",""]
[null,null,null,null,null,null,null,null,null,null,null,null,null,null,{"$f":"SUMIFS('Unit Detail'!$H$8:$H$400,'Unit Detail'!$D$8:$D$400,'Building Detail'!$B654,'Unit Detail'!$Y$8:$Y$400,1)","v":0},{"$f":"SUMIFS('Unit Detail'!$H$8:$H$400,'Unit Detail'!$D$8:$D$400,'Building Detail'!$B654,'Unit Detail'!$Y$8:$Y$400,3)","v":0},{"$f":"SUMIFS('Unit Detail'!$H$8:$H$400,'Unit Detail'!$D$8:$D$400,'Building Detail'!$B654,'Unit Detail'!$Y$8:$Y$400,2)","v":0},{"$f":"SUMIF('Unit Detail'!$D$8:$D$400,$B654,'Unit Detail'!$H$8:$H$400)","v":0},0,"",{"$f":"COUNTIFS('Unit Detail'!$Y$8:$Y$400,\"1\",'Unit Detail'!$D$8:$D$400,'Building Detail'!$B654)","v":0},{"$f":"COUNTIFS('Unit Detail'!$Y$8:$Y$400,\"3\",'Unit Detail'!$D$8:$D$400,'Building Detail'!$B654)","v":0},{"$f":"COUNTIFS('Unit Detail'!$Y$8:$Y$400,\"2\",'Unit Detail'!$D$8:$D$400,'Building Detail'!$B654)","v":0},0,"",""]
[null,null,null,null,null,null,null,null,null,null,null,null,null,null,{"$f":"SUMIFS('Unit Detail'!$H$8:$H$400,'Unit Detail'!$D$8:$D$400,'Building Detail'!$B655,'Unit Detail'!$Y$8:$Y$400,1)","v":0},{"$f":"SUMIFS('Unit Detail'!$H$8:$H$400,'Unit Detail'!$D$8:$D$400,'Building Detail'!$B655,'Unit Detail'!$Y$8:$Y$400,3)","v":0},{"$f":"SUMIFS('Unit Detail'!$H$8:$H$400,'Unit Detail'!$D$8:$D$400,'Building Detail'!$B655,'Unit Detail'!$Y$8:$Y$400,2)","v":0},{"$f":"SUMIF('Unit Detail'!$D$8:$D$400,$B655,'Unit Detail'!$H$8:$H$400)","v":0},0,"",{"$f":"COUNTIFS('Unit Detail'!$Y$8:$Y$400,\"1\",'Unit Detail'!$D$8:$D$400,'Building Detail'!$B655)","v":0},{"$f":"COUNTIFS('Unit Detail'!$Y$8:$Y$400,\"3\",'Unit Detail'!$D$8:$D$400,'Building Detail'!$B655)","v":0},{"$f":"COUNTIFS('Unit Detail'!$Y$8:$Y$400,\"2\",'Unit Detail'!$D$8:$D$400,'Building Detail'!$B655)","v":0},0,"",""]
[null,null,null,null,null,null,null,null,null,null,null,null,null,null,{"$f":"SUMIFS('Unit Detail'!$H$8:$H$400,'Unit Detail'!$D$8:$D$400,'Building Detail'!$B656,'Unit Detail'!$Y$8:$Y$400,1)","v":0},{"$f":"SUMIFS('Unit Detail'!$H$8:$H$400,'Unit Detail'!$D$8:$D$400,'Building Detail'!$B656,'Unit Detail'!$Y$8:$Y$400,3)","v":0},{"$f":"SUMIFS('Unit Detail'!$H$8:$H$400,'Unit Detail'!$D$8:$D$400,'Building Detail'!$B656,'Unit Detail'!$Y$8:$Y$400,2)","v":0},{"$f":"SUMIF('Unit Detail'!$D$8:$D$400,$B656,'Unit Detail'!$H$8:$H$400)","v":0},0,"",{"$f":"COUNTIFS('Unit Detail'!$Y$8:$Y$400,\"1\",'Unit Detail'!$D$8:$D$400,'Building Detail'!$B656)","v":0},{"$f":"COUNTIFS('Unit Detail'!$Y$8:$Y$400,\"3\",'Unit Detail'!$D$8:$D$400,'Building Detail'!$B656)","v":0},{"$f":"COUNTIFS('Unit Detail'!$Y$8:$Y$400,\"2\",'Unit Detail'!$D$8:$D$400,'Building Detail'!$B656)","v":0},0,"",""]
[null,null,null,null,null,null,null,null,null,null,null,null,null,null,{"$f":"SUMIFS('Unit Detail'!$H$8:$H$400,'Unit Detail'!$D$8:$D$400,'Building Detail'!$B657,'Unit Detail'!$Y$8:$Y$400,1)","v":0},{"$f":"SUMIFS('Unit Detail'!$H$8:$H$400,'Unit Detail'!$D$8:$D$400,'Building Detail'!$B657,'Unit Detail'!$Y$8:$Y$400,3)","v":0},{"$f":"SUMIFS('Unit Detail'!$H$8:$H$400,'Unit Detail'!$D$8:$D$400,'Building Detail'!$B657,'Unit Detail'!$Y$8:$Y$400,2)","v":0},{"$f":"SUMIF('Unit Detail'!$D$8:$D$400,$B657,'Unit Detail'!$H$8:$H$400)","v":0},0,"",{"$f":"COUNTIFS('Unit Detail'!$Y$8:$Y$400,\"1\",'Unit Detail'!$D$8:$D$400,'Building Detail'!$B657)","v":0},{"$f":"COUNTIFS('Unit Detail'!$Y$8:$Y$400,\"3\",'Unit Detail'!$D$8:$D$400,'Building Detail'!$B657)","v":0},{"$f":"COUNTIFS('Unit Detail'!$Y$8:$Y$400,\"2\",'Unit Detail'!$D$8:$D$400,'Building Detail'!$B657)","v":0},0,"",""]
[null,null,null,null,null,null,null,null,null,null,null,null,null,null,{"$f":"SUMIFS('Unit Detail'!$H$8:$H$400,'Unit Detail'!$D$8:$D$400,'Building Detail'!$B658,'Unit Detail'!$Y$8:$Y$400,1)","v":0},{"$f":"SUMIFS('Unit Detail'!$H$8:$H$400,'Unit Detail'!$D$8:$D$400,'Building Detail'!$B658,'Unit Detail'!$Y$8:$Y$400,3)","v":0},{"$f":"SUMIFS('Unit Detail'!$H$8:$H$400,'Unit Detail'!$D$8:$D$400,'Building Detail'!$B658,'Unit Detail'!$Y$8:$Y$400,2)","v":0},{"$f":"SUMIF('Unit Detail'!$D$8:$D$400,$B658,'Unit Detail'!$H$8:$H$400)","v":0},0,"",{"$f":"COUNTIFS('Unit Detail'!$Y$8:$Y$400,\"1\",'Unit Detail'!$D$8:$D$400,'Building Detail'!$B658)","v":0},{"$f":"COUNTIFS('Unit Detail'!$Y$8:$Y$400,\"3\",'Unit Detail'!$D$8:$D$400,'Building Detail'!$B658)","v":0},{"$f":"COUNTIFS('Unit Detail'!$Y$8:$Y$400,\"2\",'Unit Detail'!$D$8:$D$400,'Building Detail'!$B658)","v":0},0,"",{"$f":"IF(Y658<T658,Y658,T658)","v":""}]
[null,null,null,null,null,null,null,null,null,null,null,null,null,null,{"$f":"SUMIFS('Unit Detail'!$H$8:$H$400,'Unit Detail'!$D$8:$D$400,'Building Detail'!$B659,'Unit Detail'!$Y$8:$Y$400,1)","v":0},{"$f":"SUMIFS('Unit Detail'!$H$8:$H$400,'Unit Detail'!$D$8:$D$400,'Building Detail'!$B659,'Unit Detail'!$Y$8:$Y$400,3)","v":0},{"$f":"SUMIFS('Unit Detail'!$H$8:$H$400,'Unit Detail'!$D$8:$D$400,'Building Detail'!$B659,'Unit Detail'!$Y$8:$Y$400,2)","v":0},{"$f":"SUMIF('Unit Detail'!$D$8:$D$400,$B659,'Unit Detail'!$H$8:$H$400)","v":0},0,"",{"$f":"COUNTIFS('Unit Detail'!$Y$8:$Y$400,\"1\",'Unit Detail'!$D$8:$D$400,'Building Detail'!$B659)","v":0},{"$f":"COUNTIFS('Unit Detail'!$Y$8:$Y$400,\"3\",'Unit Detail'!$D$8:$D$400,'Building Detail'!$B659)","v":0},{"$f":"COUNTIFS('Unit Detail'!$Y$8:$Y$400,\"2\",'Unit Detail'!$D$8:$D$400,'Building Detail'!$B659)","v":0},0,{"$f":"IF(B659=\"\",\"\",IF($P$15=0,1,U659/X659))","v":""},""]
[null,null,null,null,null,null,null,null,null,null,null,null,null,null,{"$f":"SUMIFS('Unit Detail'!$H$8:$H$400,'Unit Detail'!$D$8:$D$400,'Building Detail'!$B660,'Unit Detail'!$Y$8:$Y$400,1)","v":0},{"$f":"SUMIFS('Unit Detail'!$H$8:$H$400,'Unit Detail'!$D$8:$D$400,'Building Detail'!$B660,'Unit Detail'!$Y$8:$Y$400,3)","v":0},{"$f":"SUMIFS('Unit Detail'!$H$8:$H$400,'Unit Detail'!$D$8:$D$400,'Building Detail'!$B660,'Unit Detail'!$Y$8:$Y$400,2)","v":0},{"$f":"SUMIF('Unit Detail'!$D$8:$D$400,$B660,'Unit Detail'!$H$8:$H$400)","v":0},0,"",{"$f":"COUNTIFS('Unit Detail'!$Y$8:$Y$400,\"1\",'Unit Detail'!$D$8:$D$400,'Building Detail'!$B660)","v":0},{"$f":"COUNTIFS('Unit Detail'!$Y$8:$Y$400,\"3\",'Unit Detail'!$D$8:$D$400,'Building Detail'!$B660)","v":0},{"$f":"COUNTIFS('Unit Detail'!$Y$8:$Y$400,\"2\",'Unit Detail'!$D$8:$D$400,'Building Detail'!$B660)","v":0},0,"",""]
[null,null,null,null,null,null,null,null,null,null,null,null,null,null,{"$f":"SUMIFS('Unit Detail'!$H$8:$H$400,'Unit Detail'!$D$8:$D$400,'Building Detail'!$B661,'Unit Detail'!$Y$8:$Y$400,1)","v":0},{"$f":"SUMIFS('Unit Detail'!$H$8:$H$400,'Unit Detail'!$D$8:$D$400,'Building Detail'!$B661,'Unit Detail'!$Y$8:$Y$400,3)","v":0},{"$f":"SUMIFS('Unit Detail'!$H$8:$H$400,'Unit Detail'!$D$8:$D$400,'Building Detail'!$B661,'Unit Detail'!$Y$8:$Y$400,2)","v":0},{"$f":"SUMIF('Unit Detail'!$D$8:$D$400,$B661,'Unit Detail'!$H$8:$H$400)","v":0},0,{"$f":"IF(B661=\"\",\"\",IF($P$15=0,1,O661/R661))","v":""},{"$f":"COUNTIFS('Unit Detail'!$Y$8:$Y$400,\"1\",'Unit Detail'!$D$8:$D$400,'Building Detail'!$B661)","v":0},{"$f":"COUNTIFS('Unit Detail'!$Y$8:$Y$400,\"3\",'Unit Detail'!$D$8:$D$400,'Building Detail'!$B661)","v":0},{"$f":"COUNTIFS('Unit Detail'!$Y$8:$Y$400,\"2\",'Unit Detail'!$D$8:$D$400,'Building Detail'!$B661)","v":0},0,"",""]
[null,null,null,null,null,null,null,null,null,null,null,null,null,null,{"$f":"SUMIFS('Unit Detail'!$H$8:$H$400,'Unit Detail'!$D$8:$D$400,'Building Detail'!$B662,'Unit Detail'!$Y$8:$Y$400,1)","v":0},{"$f":"SUMIFS('Unit Detail'!$H$8:$H$400,'Unit Detail'!$D$8:$D$400,'Building Detail'!$B662,'Unit Detail'!$Y$8:$Y$400,3)","v":0},{"$f":"SUMIFS('Unit Detail'!$H$8:$H$400,'Unit Detail'!$D$8:$D$400,'Building Detail'!$B662,'Unit Detail'!$Y$8:$Y$400,2)","v":0},{"$f":"SUMIF('Unit Detail'!$D$8:$D$400,$B662,'Unit Detail'!$H$8:$H$400)","v":0},0,"",{"$f":"COUNTIFS('Unit Detail'!$Y$8:$Y$400,\"1\",'Unit Detail'!$D$8:$D$400,'Building Detail'!$B662)","v":0},{"$f":"COUNTIFS('Unit Detail'!$Y$8:$Y$400,\"3\",'Unit Detail'!$D$8:$D$400,'Building Detail'!$B662)","v":0},{"$f":"COUNTIFS('Unit Detail'!$Y$8:$Y$400,\"2\",'Unit Detail'!$D$8:$D$400,'Building Detail'!$B662)","v":0},0,"",""]
[null,null,null,null,null,null,null,null,null,null,null,null,null,null,{"$f":"SUMIFS('Unit Detail'!$H$8:$H$400,'Unit Detail'!$D$8:$D$400,'Building Detail'!$B663,'Unit Detail'!$Y$8:$Y$400,1)","v":0},{"$f":"SUMIFS('Unit Detail'!$H$8:$H$400,'Unit Detail'!$D$8:$D$400,'Building Detail'!$B663,'Unit Detail'!$Y$8:$Y$400,3)","v":0},{"$f":"SUMIFS('Unit Detail'!$H$8:$H$400,'Unit Detail'!$D$8:$D$400,'Building Detail'!$B663,'Unit Detail'!$Y$8:$Y$400,2)","v":0},{"$f":"SUMIF('Unit Detail'!$D$8:$D$400,$B663,'Unit Detail'!$H$8:$H$400)","v":0},0,"",{"$f":"COUNTIFS('Unit Detail'!$Y$8:$Y$400,\"1\",'Unit Detail'!$D$8:$D$400,'Building Detail'!$B663)","v":0},{"$f":"COUNTIFS('Unit Detail'!$Y$8:$Y$400,\"3\",'Unit Detail'!$D$8:$D$400,'Building Detail'!$B663)","v":0},{"$f":"COUNTIFS('Unit Detail'!$Y$8:$Y$400,\"2\",'Unit Detail'!$D$8:$D$400,'Building Detail'!$B663)","v":0},0,"",""]
[null,null,null,null,null,null,null,null,null,null,null,null,null,null,{"$f":"SUMIFS('Unit Detail'!$H$8:$H$400,'Unit Detail'!$D$8:$D$400,'Building Detail'!$B664,'Unit Detail'!$Y$8:$Y$400,1)","v":0},{"$f":"SUMIFS('Unit Detail'!$H$8:$H$400,'Unit Detail'!$D$8:$D$400,'Building Detail'!$B664,'Unit Detail'!$Y$8:$Y$400,3)","v":0},{"$f":"SUMIFS('Unit Detail'!$H$8:$H$400,'Unit Detail'!$D$8:$D$400,'Building Detail'!$B664,'Unit Detail'!$Y$8:$Y$400,2)","v":0},{"$f":"SUMIF('Unit Detail'!$D$8:$D$400,$B664,'Unit Detail'!$H$8:$H$400)","v":0},0,"",{"$f":"COUNTIFS('Unit Detail'!$Y$8:$Y$400,\"1\",'Unit Detail'!$D$8:$D$400,'Building Detail'!$B664)","v":0},{"$f":"COUNTIFS('Unit Detail'!$Y$8:$Y$400,\"3\",'Unit Detail'!$D$8:$D$400,'Building Detail'!$B664)","v":0},{"$f":"COUNTIFS('Unit Detail'!$Y$8:$Y$400,\"2\",'Unit Detail'!$D$8:$D$400,'Building Detail'!$B664)","v":0},0,"",""]
[null,null,null,null,null,null,null,null,null,null,null,null,null,null,{"$f":"SUMIFS('Unit Detail'!$H$8:$H$400,'Unit Detail'!$D$8:$D$400,'Building Detail'!$B665,'Unit Detail'!$Y$8:$Y$400,1)","v":0},{"$f":"SUMIFS('Unit Detail'!$H$8:$H$400,'Unit Detail'!$D$8:$D$400,'Building Detail'!$B665,'Unit Detail'!$Y$8:$Y$400,3)","v":0},{"$f":"SUMIFS('Unit Detail'!$H$8:$H$400,'Unit Detail'!$D$8:$D$400,'Building Detail'!$B665,'Unit Detail'!$Y$8:$Y$400,2)","v":0},{"$f":"SUMIF('Unit Detail'!$D$8:$D$400,$B665,'Unit Detail'!$H$8:$H$400)","v":0},0,"",{"$f":"COUNTIFS('Unit Detail'!$Y$8:$Y$400,\"1\",'Unit Detail'!$D$8:$D$400,'Building Detail'!$B665)","v":0},{"$f":"COUNTIFS('Unit Detail'!$Y$8:$Y$400,\"3\",'Unit Detail'!$D$8:$D$400,'Building Detail'!$B665)","v":0},{"$f":"COUNTIFS('Unit Detail'!$Y$8:$Y$400,\"2\",'Unit Detail'!$D$8:$D$400,'Building Detail'!$B665)","v":0},0,"",""]
[null,null,null,null,null,null,null,null,null,null,null,null,null,null,{"$f":"SUMIFS('Unit Detail'!$H$8:$H$400,'Unit Detail'!$D$8:$D$400,'Building Detail'!$B666,'Unit Detail'!$Y$8:$Y$400,1)","v":0},{"$f":"SUMIFS('Unit Detail'!$H$8:$H$400,'Unit Detail'!$D$8:$D$400,'Building Detail'!$B666,'Unit Detail'!$Y$8:$Y$400,3)","v":0},{"$f":"SUMIFS('Unit Detail'!$H$8:$H$400,'Unit Detail'!$D$8:$D$400,'Building Detail'!$B666,'Unit Detail'!$Y$8:$Y$400,2)","v":0},{"$f":"SUMIF('Unit Detail'!$D$8:$D$400,$B666,'Unit Detail'!$H$8:$H$400)","v":0},0,"",{"$f":"COUNTIFS('Unit Detail'!$Y$8:$Y$400,\"1\",'Unit Detail'!$D$8:$D$400,'Building Detail'!$B666)","v":0},{"$f":"COUNTIFS('Unit Detail'!$Y$8:$Y$400,\"3\",'Unit Detail'!$D$8:$D$400,'Building Detail'!$B666)","v":0},{"$f":"COUNTIFS('Unit Detail'!$Y$8:$Y$400,\"2\",'Unit Detail'!$D$8:$D$400,'Building Detail'!$B666)","v":0},0,"",""]
[null,null,null,null,null,null,null,null,null,null,null,null,null,null,{"$f":"SUMIFS('Unit Detail'!$H$8:$H$400,'Unit Detail'!$D$8:$D$400,'Building Detail'!$B667,'Unit Detail'!$Y$8:$Y$400,1)","v":0},{"$f":"SUMIFS('Unit Detail'!$H$8:$H$400,'Unit Detail'!$D$8:$D$400,'Building Detail'!$B667,'Unit Detail'!$Y$8:$Y$400,3)","v":0},{"$f":"SUMIFS('Unit Detail'!$H$8:$H$400,'Unit Detail'!$D$8:$D$400,'Building Detail'!$B667,'Unit Detail'!$Y$8:$Y$400,2)","v":0},{"$f":"SUMIF('Unit Detail'!$D$8:$D$400,$B667,'Unit Detail'!$H$8:$H$400)","v":0},0,"",{"$f":"COUNTIFS('Unit Detail'!$Y$8:$Y$400,\"1\",'Unit Detail'!$D$8:$D$400,'Building Detail'!$B667)","v":0},{"$f":"COUNTIFS('Unit Detail'!$Y$8:$Y$400,\"3\",'Unit Detail'!$D$8:$D$400,'Building Detail'!$B667)","v":0},{"$f":"COUNTIFS('Unit Detail'!$Y$8:$Y$400,\"2\",'Unit Detail'!$D$8:$D$400,'Building Detail'!$B667)","v":0},0,"",""]
[null,null,null,null,null,null,null,null,null,null,null,null,null,null,{"$f":"SUMIFS('Unit Detail'!$H$8:$H$400,'Unit Detail'!$D$8:$D$400,'Building Detail'!$B668,'Unit Detail'!$Y$8:$Y$400,1)","v":0},{"$f":"SUMIFS('Unit Detail'!$H$8:$H$400,'Unit Detail'!$D$8:$D$400,'Building Detail'!$B668,'Unit Detail'!$Y$8:$Y$400,3)","v":0},{"$f":"SUMIFS('Unit Detail'!$H$8:$H$400,'Unit Detail'!$D$8:$D$400,'Building Detail'!$B668,'Unit Detail'!$Y$8:$Y$400,2)","v":0},{"$f":"SUMIF('Unit Detail'!$D$8:$D$400,$B668,'Unit Detail'!$H$8:$H$400)","v":0},0,"",{"$f":"COUNTIFS('Unit Detail'!$Y$8:$Y$400,\"1\",'Unit Detail'!$D$8:$D$400,'Building Detail'!$B668)","v":0},{"$f":"COUNTIFS('Unit Detail'!$Y$8:$Y$400,\"3\",'Unit Detail'!$D$8:$D$400,'Building Detail'!$B668)","v":0},{"$f":"COUNTIFS('Unit Detail'!$Y$8:$Y$400,\"2\",'Unit Detail'!$D$8:$D$400,'Building Detail'!$B668)","v":0},0,"",""]
[null,null,null,null,null,null,null,null,null,null,null,null,null,null,{"$f":"SUMIFS('Unit Detail'!$H$8:$H$400,'Unit Detail'!$D$8:$D$400,'Building Detail'!$B669,'Unit Detail'!$Y$8:$Y$400,1)","v":0},{"$f":"SUMIFS('Unit Detail'!$H$8:$H$400,'Unit Detail'!$D$8:$D$400,'Building Detail'!$B669,'Unit Detail'!$Y$8:$Y$400,3)","v":0},{"$f":"SUMIFS('Unit Detail'!$H$8:$H$400,'Unit Detail'!$D$8:$D$400,'Building Detail'!$B669,'Unit Detail'!$Y$8:$Y$400,2)","v":0},{"$f":"SUMIF('Unit Detail'!$D$8:$D$400,$B669,'Unit Detail'!$H$8:$H$400)","v":0},0,"",{"$f":"COUNTIFS('Unit Detail'!$Y$8:$Y$400,\"1\",'Unit Detail'!$D$8:$D$400,'Building Detail'!$B669)","v":0},{"$f":"COUNTIFS('Unit Detail'!$Y$8:$Y$400,\"3\",'Unit Detail'!$D$8:$D$400,'Building Detail'!$B669)","v":0},{"$f":"COUNTIFS('Unit Detail'!$Y$8:$Y$400,\"2\",'Unit Detail'!$D$8:$D$400,'Building Detail'!$B669)","v":0},0,"",""]
[null,null,null,null,null,null,null,null,null,null,null,null,null,null,{"$f":"SUMIFS('Unit Detail'!$H$8:$H$400,'Unit Detail'!$D$8:$D$400,'Building Detail'!$B670,'Unit Detail'!$Y$8:$Y$400,1)","v":0},{"$f":"SUMIFS('Unit Detail'!$H$8:$H$400,'Unit Detail'!$D$8:$D$400,'Building Detail'!$B670,'Unit Detail'!$Y$8:$Y$400,3)","v":0},{"$f":"SUMIFS('Unit Detail'!$H$8:$H$400,'Unit Detail'!$D$8:$D$400,'Building Detail'!$B670,'Unit Detail'!$Y$8:$Y$400,2)","v":0},{"$f":"SUMIF('Unit Detail'!$D$8:$D$400,$B670,'Unit Detail'!$H$8:$H$400)","v":0},0,"",{"$f":"COUNTIFS('Unit Detail'!$Y$8:$Y$400,\"1\",'Unit Detail'!$D$8:$D$400,'Building Detail'!$B670)","v":0},{"$f":"COUNTIFS('Unit Detail'!$Y$8:$Y$400,\"3\",'Unit Detail'!$D$8:$D$400,'Building Detail'!$B670)","v":0},{"$f":"COUNTIFS('Unit Detail'!$Y$8:$Y$400,\"2\",'Unit Detail'!$D$8:$D$400,'Building Detail'!$B670)","v":0},0,"",""]
[null,null,null,null,null,null,null,null,null,null,null,null,null,null,{"$f":"SUMIFS('Unit Detail'!$H$8:$H$400,'Unit Detail'!$D$8:$D$400,'Building Detail'!$B671,'Unit Detail'!$Y$8:$Y$400,1)","v":0},{"$f":"SUMIFS('Unit Detail'!$H$8:$H$400,'Unit Detail'!$D$8:$D$400,'Building Detail'!$B671,'Unit Detail'!$Y$8:$Y$400,3)","v":0},{"$f":"SUMIFS('Unit Detail'!$H$8:$H$400,'Unit Detail'!$D$8:$D$400,'Building Detail'!$B671,'Unit Detail'!$Y$8:$Y$400,2)","v":0},{"$f":"SUMIF('Unit Detail'!$D$8:$D$400,$B671,'Unit Detail'!$H$8:$H$400)","v":0},0,"",{"$f":"COUNTIFS('Unit Detail'!$Y$8:$Y$400,\"1\",'Unit Detail'!$D$8:$D$400,'Building Detail'!$B671)","v":0},{"$f":"COUNTIFS('Unit Detail'!$Y$8:$Y$400,\"3\",'Unit Detail'!$D$8:$D$400,'Building Detail'!$B671)","v":0},{"$f":"COUNTIFS('Unit Detail'!$Y$8:$Y$400,\"2\",'Unit Detail'!$D$8:$D$400,'Building Detail'!$B671)","v":0},0,"",""]
[null,null,null,null,null,null,null,null,null,null,null,null,null,null,{"$f":"SUMIFS('Unit Detail'!$H$8:$H$400,'Unit Detail'!$D$8:$D$400,'Building Detail'!$B672,'Unit Detail'!$Y$8:$Y$400,1)","v":0},{"$f":"SUMIFS('Unit Detail'!$H$8:$H$400,'Unit Detail'!$D$8:$D$400,'Building Detail'!$B672,'Unit Detail'!$Y$8:$Y$400,3)","v":0},{"$f":"SUMIFS('Unit Detail'!$H$8:$H$400,'Unit Detail'!$D$8:$D$400,'Building Detail'!$B672,'Unit Detail'!$Y$8:$Y$400,2)","v":0},{"$f":"SUMIF('Unit Detail'!$D$8:$D$400,$B672,'Unit Detail'!$H$8:$H$400)","v":0},0,"",{"$f":"COUNTIFS('Unit Detail'!$Y$8:$Y$400,\"1\",'Unit Detail'!$D$8:$D$400,'Building Detail'!$B672)","v":0},{"$f":"COUNTIFS('Unit Detail'!$Y$8:$Y$400,\"3\",'Unit Detail'!$D$8:$D$400,'Building Detail'!$B672)","v":0},{"$f":"COUNTIFS('Unit Detail'!$Y$8:$Y$400,\"2\",'Unit Detail'!$D$8:$D$400,'Building Detail'!$B672)","v":0},0,"",""]
[null,null,null,null,null,null,null,null,null,null,null,null,null,null,{"$f":"SUMIFS('Unit Detail'!$H$8:$H$400,'Unit Detail'!$D$8:$D$400,'Building Detail'!$B673,'Unit Detail'!$Y$8:$Y$400,1)","v":0},{"$f":"SUMIFS('Unit Detail'!$H$8:$H$400,'Unit Detail'!$D$8:$D$400,'Building Detail'!$B673,'Unit Detail'!$Y$8:$Y$400,3)","v":0},{"$f":"SUMIFS('Unit Detail'!$H$8:$H$400,'Unit Detail'!$D$8:$D$400,'Building Detail'!$B673,'Unit Detail'!$Y$8:$Y$400,2)","v":0},{"$f":"SUMIF('Unit Detail'!$D$8:$D$400,$B673,'Unit Detail'!$H$8:$H$400)","v":0},0,"",{"$f":"COUNTIFS('Unit Detail'!$Y$8:$Y$400,\"1\",'Unit Detail'!$D$8:$D$400,'Building Detail'!$B673)","v":0},{"$f":"COUNTIFS('Unit Detail'!$Y$8:$Y$400,\"3\",'Unit Detail'!$D$8:$D$400,'Building Detail'!$B673)","v":0},{"$f":"COUNTIFS('Unit Detail'!$Y$8:$Y$400,\"2\",'Unit Detail'!$D$8:$D$400,'Building Detail'!$B673)","v":0},0,"",""]
[null,null,null,null,null,null,null,null,null,null,null,null,null,null,{"$f":"SUMIFS('Unit Detail'!$H$8:$H$400,'Unit Detail'!$D$8:$D$400,'Building Detail'!$B674,'Unit Detail'!$Y$8:$Y$400,1)","v":0},{"$f":"SUMIFS('Unit Detail'!$H$8:$H$400,'Unit Detail'!$D$8:$D$400,'Building Detail'!$B674,'Unit Detail'!$Y$8:$Y$400,3)","v":0},{"$f":"SUMIFS('Unit Detail'!$H$8:$H$400,'Unit Detail'!$D$8:$D$400,'Building Detail'!$B674,'Unit Detail'!$Y$8:$Y$400,2)","v":0},{"$f":"SUMIF('Unit Detail'!$D$8:$D$400,$B674,'Unit Detail'!$H$8:$H$400)","v":0},0,"",{"$f":"COUNTIFS('Unit Detail'!$Y$8:$Y$400,\"1\",'Unit Detail'!$D$8:$D$400,'Building Detail'!$B674)","v":0},{"$f":"COUNTIFS('Unit Detail'!$Y$8:$Y$400,\"3\",'Unit Detail'!$D$8:$D$400,'Building Detail'!$B674)","v":0},{"$f":"COUNTIFS('Unit Detail'!$Y$8:$Y$400,\"2\",'Unit Detail'!$D$8:$D$400,'Building Detail'!$B674)","v":0},0,"",""]
[null,null,null,null,null,null,null,null,null,null,null,null,null,null,{"$f":"SUMIFS('Unit Detail'!$H$8:$H$400,'Unit Detail'!$D$8:$D$400,'Building Detail'!$B675,'Unit Detail'!$Y$8:$Y$400,1)","v":0},{"$f":"SUMIFS('Unit Detail'!$H$8:$H$400,'Unit Detail'!$D$8:$D$400,'Building Detail'!$B675,'Unit Detail'!$Y$8:$Y$400,3)","v":0},{"$f":"SUMIFS('Unit Detail'!$H$8:$H$400,'Unit Detail'!$D$8:$D$400,'Building Detail'!$B675,'Unit Detail'!$Y$8:$Y$400,2)","v":0},{"$f":"SUMIF('Unit Detail'!$D$8:$D$400,$B675,'Unit Detail'!$H$8:$H$400)","v":0},0,"",{"$f":"COUNTIFS('Unit Detail'!$Y$8:$Y$400,\"1\",'Unit Detail'!$D$8:$D$400,'Building Detail'!$B675)","v":0},{"$f":"COUNTIFS('Unit Detail'!$Y$8:$Y$400,\"3\",'Unit Detail'!$D$8:$D$400,'Building Detail'!$B675)","v":0},{"$f":"COUNTIFS('Unit Detail'!$Y$8:$Y$400,\"2\",'Unit Detail'!$D$8:$D$400,'Building Detail'!$B675)","v":0},0,"",""]
[null,null,null,null,null,null,null,null,null,null,null,null,null,null,{"$f":"SUMIFS('Unit Detail'!$H$8:$H$400,'Unit Detail'!$D$8:$D$400,'Building Detail'!$B676,'Unit Detail'!$Y$8:$Y$400,1)","v":0},{"$f":"SUMIFS('Unit Detail'!$H$8:$H$400,'Unit Detail'!$D$8:$D$400,'Building Detail'!$B676,'Unit Detail'!$Y$8:$Y$400,3)","v":0},{"$f":"SUMIFS('Unit Detail'!$H$8:$H$400,'Unit Detail'!$D$8:$D$400,'Building Detail'!$B676,'Unit Detail'!$Y$8:$Y$400,2)","v":0},{"$f":"SUMIF('Unit Detail'!$D$8:$D$400,$B676,'Unit Detail'!$H$8:$H$400)","v":0},0,"",{"$f":"COUNTIFS('Unit Detail'!$Y$8:$Y$400,\"1\",'Unit Detail'!$D$8:$D$400,'Building Detail'!$B676)","v":0},{"$f":"COUNTIFS('Unit Detail'!$Y$8:$Y$400,\"3\",'Unit Detail'!$D$8:$D$400,'Building Detail'!$B676)","v":0},{"$f":"COUNTIFS('Unit Detail'!$Y$8:$Y$400,\"2\",'Unit Detail'!$D$8:$D$400,'Building Detail'!$B676)","v":0},0,"",""]
[null,null,null,null,null,null,null,null,null,null,null,null,null,null,{"$f":"SUMIFS('Unit Detail'!$H$8:$H$400,'Unit Detail'!$D$8:$D$400,'Building Detail'!$B677,'Unit Detail'!$Y$8:$Y$400,1)","v":0},{"$f":"SUMIFS('Unit Detail'!$H$8:$H$400,'Unit Detail'!$D$8:$D$400,'Building Detail'!$B677,'Unit Detail'!$Y$8:$Y$400,3)","v":0},{"$f":"SUMIFS('Unit Detail'!$H$8:$H$400,'Unit Detail'!$D$8:$D$400,'Building Detail'!$B677,'Unit Detail'!$Y$8:$Y$400,2)","v":0},{"$f":"SUMIF('Unit Detail'!$D$8:$D$400,$B677,'Unit Detail'!$H$8:$H$400)","v":0},0,"",{"$f":"COUNTIFS('Unit Detail'!$Y$8:$Y$400,\"1\",'Unit Detail'!$D$8:$D$400,'Building Detail'!$B677)","v":0},{"$f":"COUNTIFS('Unit Detail'!$Y$8:$Y$400,\"3\",'Unit Detail'!$D$8:$D$400,'Building Detail'!$B677)","v":0},{"$f":"COUNTIFS('Unit Detail'!$Y$8:$Y$400,\"2\",'Unit Detail'!$D$8:$D$400,'Building Detail'!$B677)","v":0},0,"",""]
[null,null,null,null,null,null,null,null,null,null,null,null,null,null,{"$f":"SUMIFS('Unit Detail'!$H$8:$H$400,'Unit Detail'!$D$8:$D$400,'Building Detail'!$B678,'Unit Detail'!$Y$8:$Y$400,1)","v":0},{"$f":"SUMIFS('Unit Detail'!$H$8:$H$400,'Unit Detail'!$D$8:$D$400,'Building Detail'!$B678,'Unit Detail'!$Y$8:$Y$400,3)","v":0},{"$f":"SUMIFS('Unit Detail'!$H$8:$H$400,'Unit Detail'!$D$8:$D$400,'Building Detail'!$B678,'Unit Detail'!$Y$8:$Y$400,2)","v":0},{"$f":"SUMIF('Unit Detail'!$D$8:$D$400,$B678,'Unit Detail'!$H$8:$H$400)","v":0},0,"",{"$f":"COUNTIFS('Unit Detail'!$Y$8:$Y$400,\"1\",'Unit Detail'!$D$8:$D$400,'Building Detail'!$B678)","v":0},{"$f":"COUNTIFS('Unit Detail'!$Y$8:$Y$400,\"3\",'Unit Detail'!$D$8:$D$400,'Building Detail'!$B678)","v":0},{"$f":"COUNTIFS('Unit Detail'!$Y$8:$Y$400,\"2\",'Unit Detail'!$D$8:$D$400,'Building Detail'!$B678)","v":0},0,"",""]
[null,null,null,null,null,null,null,null,null,null,null,null,null,null,{"$f":"SUMIFS('Unit Detail'!$H$8:$H$400,'Unit Detail'!$D$8:$D$400,'Building Detail'!$B679,'Unit Detail'!$Y$8:$Y$400,1)","v":0},{"$f":"SUMIFS('Unit Detail'!$H$8:$H$400,'Unit Detail'!$D$8:$D$400,'Building Detail'!$B679,'Unit Detail'!$Y$8:$Y$400,3)","v":0},{"$f":"SUMIFS('Unit Detail'!$H$8:$H$400,'Unit Detail'!$D$8:$D$400,'Building Detail'!$B679,'Unit Detail'!$Y$8:$Y$400,2)","v":0},{"$f":"SUMIF('Unit Detail'!$D$8:$D$400,$B679,'Unit Detail'!$H$8:$H$400)","v":0},0,"",{"$f":"COUNTIFS('Unit Detail'!$Y$8:$Y$400,\"1\",'Unit Detail'!$D$8:$D$400,'Building Detail'!$B679)","v":0},{"$f":"COUNTIFS('Unit Detail'!$Y$8:$Y$400,\"3\",'Unit Detail'!$D$8:$D$400,'Building Detail'!$B679)","v":0},{"$f":"COUNTIFS('Unit Detail'!$Y$8:$Y$400,\"2\",'Unit Detail'!$D$8:$D$400,'Building Detail'!$B679)","v":0},0,"",""]
[null,null,null,null,null,null,null,null,null,null,null,null,null,null,{"$f":"SUMIFS('Unit Detail'!$H$8:$H$400,'Unit Detail'!$D$8:$D$400,'Building Detail'!$B680,'Unit Detail'!$Y$8:$Y$400,1)","v":0},{"$f":"SUMIFS('Unit Detail'!$H$8:$H$400,'Unit Detail'!$D$8:$D$400,'Building Detail'!$B680,'Unit Detail'!$Y$8:$Y$400,3)","v":0},{"$f":"SUMIFS('Unit Detail'!$H$8:$H$400,'Unit Detail'!$D$8:$D$400,'Building Detail'!$B680,'Unit Detail'!$Y$8:$Y$400,2)","v":0},{"$f":"SUMIF('Unit Detail'!$D$8:$D$400,$B680,'Unit Detail'!$H$8:$H$400)","v":0},0,"",{"$f":"COUNTIFS('Unit Detail'!$Y$8:$Y$400,\"1\",'Unit Detail'!$D$8:$D$400,'Building Detail'!$B680)","v":0},{"$f":"COUNTIFS('Unit Detail'!$Y$8:$Y$400,\"3\",'Unit Detail'!$D$8:$D$400,'Building Detail'!$B680)","v":0},{"$f":"COUNTIFS('Unit Detail'!$Y$8:$Y$400,\"2\",'Unit Detail'!$D$8:$D$400,'Building Detail'!$B680)","v":0},0,"",""]
[null,null,null,null,null,null,null,null,null,null,null,null,null,null,{"$f":"SUMIFS('Unit Detail'!$H$8:$H$400,'Unit Detail'!$D$8:$D$400,'Building Detail'!$B681,'Unit Detail'!$Y$8:$Y$400,1)","v":0},{"$f":"SUMIFS('Unit Detail'!$H$8:$H$400,'Unit Detail'!$D$8:$D$400,'Building Detail'!$B681,'Unit Detail'!$Y$8:$Y$400,3)","v":0},{"$f":"SUMIFS('Unit Detail'!$H$8:$H$400,'Unit Detail'!$D$8:$D$400,'Building Detail'!$B681,'Unit Detail'!$Y$8:$Y$400,2)","v":0},{"$f":"SUMIF('Unit Detail'!$D$8:$D$400,$B681,'Unit Detail'!$H$8:$H$400)","v":0},0,"",{"$f":"COUNTIFS('Unit Detail'!$Y$8:$Y$400,\"1\",'Unit Detail'!$D$8:$D$400,'Building Detail'!$B681)","v":0},{"$f":"COUNTIFS('Unit Detail'!$Y$8:$Y$400,\"3\",'Unit Detail'!$D$8:$D$400,'Building Detail'!$B681)","v":0},{"$f":"COUNTIFS('Unit Detail'!$Y$8:$Y$400,\"2\",'Unit Detail'!$D$8:$D$400,'Building Detail'!$B681)","v":0},0,"",""]
[null,null,null,null,null,null,null,null,null,null,null,null,null,null,{"$f":"SUMIFS('Unit Detail'!$H$8:$H$400,'Unit Detail'!$D$8:$D$400,'Building Detail'!$B682,'Unit Detail'!$Y$8:$Y$400,1)","v":0},{"$f":"SUMIFS('Unit Detail'!$H$8:$H$400,'Unit Detail'!$D$8:$D$400,'Building Detail'!$B682,'Unit Detail'!$Y$8:$Y$400,3)","v":0},{"$f":"SUMIFS('Unit Detail'!$H$8:$H$400,'Unit Detail'!$D$8:$D$400,'Building Detail'!$B682,'Unit Detail'!$Y$8:$Y$400,2)","v":0},{"$f":"SUMIF('Unit Detail'!$D$8:$D$400,$B682,'Unit Detail'!$H$8:$H$400)","v":0},0,"",{"$f":"COUNTIFS('Unit Detail'!$Y$8:$Y$400,\"1\",'Unit Detail'!$D$8:$D$400,'Building Detail'!$B682)","v":0},{"$f":"COUNTIFS('Unit Detail'!$Y$8:$Y$400,\"3\",'Unit Detail'!$D$8:$D$400,'Building Detail'!$B682)","v":0},{"$f":"COUNTIFS('Unit Detail'!$Y$8:$Y$400,\"2\",'Unit Detail'!$D$8:$D$400,'Building Detail'!$B682)","v":0},0,"",""]
[null,null,null,null,null,null,null,null,null,null,null,null,null,null,{"$f":"SUMIFS('Unit Detail'!$H$8:$H$400,'Unit Detail'!$D$8:$D$400,'Building Detail'!$B683,'Unit Detail'!$Y$8:$Y$400,1)","v":0},{"$f":"SUMIFS('Unit Detail'!$H$8:$H$400,'Unit Detail'!$D$8:$D$400,'Building Detail'!$B683,'Unit Detail'!$Y$8:$Y$400,3)","v":0},{"$f":"SUMIFS('Unit Detail'!$H$8:$H$400,'Unit Detail'!$D$8:$D$400,'Building Detail'!$B683,'Unit Detail'!$Y$8:$Y$400,2)","v":0},{"$f":"SUMIF('Unit Detail'!$D$8:$D$400,$B683,'Unit Detail'!$H$8:$H$400)","v":0},0,"",{"$f":"COUNTIFS('Unit Detail'!$Y$8:$Y$400,\"1\",'Unit Detail'!$D$8:$D$400,'Building Detail'!$B683)","v":0},{"$f":"COUNTIFS('Unit Detail'!$Y$8:$Y$400,\"3\",'Unit Detail'!$D$8:$D$400,'Building Detail'!$B683)","v":0},{"$f":"COUNTIFS('Unit Detail'!$Y$8:$Y$400,\"2\",'Unit Detail'!$D$8:$D$400,'Building Detail'!$B683)","v":0},0,"",""]
[null,null,null,null,null,null,null,null,null,null,null,null,null,null,{"$f":"SUMIFS('Unit Detail'!$H$8:$H$400,'Unit Detail'!$D$8:$D$400,'Building Detail'!$B684,'Unit Detail'!$Y$8:$Y$400,1)","v":0},{"$f":"SUMIFS('Unit Detail'!$H$8:$H$400,'Unit Detail'!$D$8:$D$400,'Building Detail'!$B684,'Unit Detail'!$Y$8:$Y$400,3)","v":0},{"$f":"SUMIFS('Unit Detail'!$H$8:$H$400,'Unit Detail'!$D$8:$D$400,'Building Detail'!$B684,'Unit Detail'!$Y$8:$Y$400,2)","v":0},{"$f":"SUMIF('Unit Detail'!$D$8:$D$400,$B684,'Unit Detail'!$H$8:$H$400)","v":0},0,"",{"$f":"COUNTIFS('Unit Detail'!$Y$8:$Y$400,\"1\",'Unit Detail'!$D$8:$D$400,'Building Detail'!$B684)","v":0},{"$f":"COUNTIFS('Unit Detail'!$Y$8:$Y$400,\"3\",'Unit Detail'!$D$8:$D$400,'Building Detail'!$B684)","v":0},{"$f":"COUNTIFS('Unit Detail'!$Y$8:$Y$400,\"2\",'Unit Detail'!$D$8:$D$400,'Building Detail'!$B684)","v":0},0,"",""]
[null,null,null,null,null,null,null,null,null,null,null,null,null,null,{"$f":"SUMIFS('Unit Detail'!$H$8:$H$400,'Unit Detail'!$D$8:$D$400,'Building Detail'!$B685,'Unit Detail'!$Y$8:$Y$400,1)","v":0},{"$f":"SUMIFS('Unit Detail'!$H$8:$H$400,'Unit Detail'!$D$8:$D$400,'Building Detail'!$B685,'Unit Detail'!$Y$8:$Y$400,3)","v":0},{"$f":"SUMIFS('Unit Detail'!$H$8:$H$400,'Unit Detail'!$D$8:$D$400,'Building Detail'!$B685,'Unit Detail'!$Y$8:$Y$400,2)","v":0},{"$f":"SUMIF('Unit Detail'!$D$8:$D$400,$B685,'Unit Detail'!$H$8:$H$400)","v":0},0,"",{"$f":"COUNTIFS('Unit Detail'!$Y$8:$Y$400,\"1\",'Unit Detail'!$D$8:$D$400,'Building Detail'!$B685)","v":0},{"$f":"COUNTIFS('Unit Detail'!$Y$8:$Y$400,\"3\",'Unit Detail'!$D$8:$D$400,'Building Detail'!$B685)","v":0},{"$f":"COUNTIFS('Unit Detail'!$Y$8:$Y$400,\"2\",'Unit Detail'!$D$8:$D$400,'Building Detail'!$B685)","v":0},0,"",""]
[null,null,null,null,null,null,null,null,null,null,null,null,null,null,{"$f":"SUMIFS('Unit Detail'!$H$8:$H$400,'Unit Detail'!$D$8:$D$400,'Building Detail'!$B686,'Unit Detail'!$Y$8:$Y$400,1)","v":0},{"$f":"SUMIFS('Unit Detail'!$H$8:$H$400,'Unit Detail'!$D$8:$D$400,'Building Detail'!$B686,'Unit Detail'!$Y$8:$Y$400,3)","v":0},{"$f":"SUMIFS('Unit Detail'!$H$8:$H$400,'Unit Detail'!$D$8:$D$400,'Building Detail'!$B686,'Unit Detail'!$Y$8:$Y$400,2)","v":0},{"$f":"SUMIF('Unit Detail'!$D$8:$D$400,$B686,'Unit Detail'!$H$8:$H$400)","v":0},0,"",{"$f":"COUNTIFS('Unit Detail'!$Y$8:$Y$400,\"1\",'Unit Detail'!$D$8:$D$400,'Building Detail'!$B686)","v":0},{"$f":"COUNTIFS('Unit Detail'!$Y$8:$Y$400,\"3\",'Unit Detail'!$D$8:$D$400,'Building Detail'!$B686)","v":0},{"$f":"COUNTIFS('Unit Detail'!$Y$8:$Y$400,\"2\",'Unit Detail'!$D$8:$D$400,'Building Detail'!$B686)","v":0},0,"",""]
[null,null,null,null,null,null,null,null,null,null,null,null,null,null,{"$f":"SUMIFS('Unit Detail'!$H$8:$H$400,'Unit Detail'!$D$8:$D$400,'Building Detail'!$B687,'Unit Detail'!$Y$8:$Y$400,1)","v":0},{"$f":"SUMIFS('Unit Detail'!$H$8:$H$400,'Unit Detail'!$D$8:$D$400,'Building Detail'!$B687,'Unit Detail'!$Y$8:$Y$400,3)","v":0},{"$f":"SUMIFS('Unit Detail'!$H$8:$H$400,'Unit Detail'!$D$8:$D$400,'Building Detail'!$B687,'Unit Detail'!$Y$8:$Y$400,2)","v":0},{"$f":"SUMIF('Unit Detail'!$D$8:$D$400,$B687,'Unit Detail'!$H$8:$H$400)","v":0},0,"",{"$f":"COUNTIFS('Unit Detail'!$Y$8:$Y$400,\"1\",'Unit Detail'!$D$8:$D$400,'Building Detail'!$B687)","v":0},{"$f":"COUNTIFS('Unit Detail'!$Y$8:$Y$400,\"3\",'Unit Detail'!$D$8:$D$400,'Building Detail'!$B687)","v":0},{"$f":"COUNTIFS('Unit Detail'!$Y$8:$Y$400,\"2\",'Unit Detail'!$D$8:$D$400,'Building Detail'!$B687)","v":0},0,"",""]
[null,null,null,null,null,null,null,null,null,null,null,null,null,null,{"$f":"SUMIFS('Unit Detail'!$H$8:$H$400,'Unit Detail'!$D$8:$D$400,'Building Detail'!$B688,'Unit Detail'!$Y$8:$Y$400,1)","v":0},{"$f":"SUMIFS('Unit Detail'!$H$8:$H$400,'Unit Detail'!$D$8:$D$400,'Building Detail'!$B688,'Unit Detail'!$Y$8:$Y$400,3)","v":0},{"$f":"SUMIFS('Unit Detail'!$H$8:$H$400,'Unit Detail'!$D$8:$D$400,'Building Detail'!$B688,'Unit Detail'!$Y$8:$Y$400,2)","v":0},{"$f":"SUMIF('Unit Detail'!$D$8:$D$400,$B688,'Unit Detail'!$H$8:$H$400)","v":0},0,"",{"$f":"COUNTIFS('Unit Detail'!$Y$8:$Y$400,\"1\",'Unit Detail'!$D$8:$D$400,'Building Detail'!$B688)","v":0},{"$f":"COUNTIFS('Unit Detail'!$Y$8:$Y$400,\"3\",'Unit Detail'!$D$8:$D$400,'Building Detail'!$B688)","v":0},{"$f":"COUNTIFS('Unit Detail'!$Y$8:$Y$400,\"2\",'Unit Detail'!$D$8:$D$400,'Building Detail'!$B688)","v":0},0,"",""]
[null,null,null,null,null,null,null,null,null,null,null,null,null,null,{"$f":"SUMIFS('Unit Detail'!$H$8:$H$400,'Unit Detail'!$D$8:$D$400,'Building Detail'!$B689,'Unit Detail'!$Y$8:$Y$400,1)","v":0},{"$f":"SUMIFS('Unit Detail'!$H$8:$H$400,'Unit Detail'!$D$8:$D$400,'Building Detail'!$B689,'Unit Detail'!$Y$8:$Y$400,3)","v":0},{"$f":"SUMIFS('Unit Detail'!$H$8:$H$400,'Unit Detail'!$D$8:$D$400,'Building Detail'!$B689,'Unit Detail'!$Y$8:$Y$400,2)","v":0},{"$f":"SUMIF('Unit Detail'!$D$8:$D$400,$B689,'Unit Detail'!$H$8:$H$400)","v":0},0,"",{"$f":"COUNTIFS('Unit Detail'!$Y$8:$Y$400,\"1\",'Unit Detail'!$D$8:$D$400,'Building Detail'!$B689)","v":0},{"$f":"COUNTIFS('Unit Detail'!$Y$8:$Y$400,\"3\",'Unit Detail'!$D$8:$D$400,'Building Detail'!$B689)","v":0},{"$f":"COUNTIFS('Unit Detail'!$Y$8:$Y$400,\"2\",'Unit Detail'!$D$8:$D$400,'Building Detail'!$B689)","v":0},0,"",""]
[null,null,null,null,null,null,null,null,null,null,null,null,null,null,{"$f":"SUMIFS('Unit Detail'!$H$8:$H$400,'Unit Detail'!$D$8:$D$400,'Building Detail'!$B690,'Unit Detail'!$Y$8:$Y$400,1)","v":0},{"$f":"SUMIFS('Unit Detail'!$H$8:$H$400,'Unit Detail'!$D$8:$D$400,'Building Detail'!$B690,'Unit Detail'!$Y$8:$Y$400,3)","v":0},{"$f":"SUMIFS('Unit Detail'!$H$8:$H$400,'Unit Detail'!$D$8:$D$400,'Building Detail'!$B690,'Unit Detail'!$Y$8:$Y$400,2)","v":0},{"$f":"SUMIF('Unit Detail'!$D$8:$D$400,$B690,'Unit Detail'!$H$8:$H$400)","v":0},0,"",{"$f":"COUNTIFS('Unit Detail'!$Y$8:$Y$400,\"1\",'Unit Detail'!$D$8:$D$400,'Building Detail'!$B690)","v":0},{"$f":"COUNTIFS('Unit Detail'!$Y$8:$Y$400,\"3\",'Unit Detail'!$D$8:$D$400,'Building Detail'!$B690)","v":0},{"$f":"COUNTIFS('Unit Detail'!$Y$8:$Y$400,\"2\",'Unit Detail'!$D$8:$D$400,'Building Detail'!$B690)","v":0},0,"",""]
[null,null,null,null,null,null,null,null,null,null,null,null,null,null,{"$f":"SUMIFS('Unit Detail'!$H$8:$H$400,'Unit Detail'!$D$8:$D$400,'Building Detail'!$B691,'Unit Detail'!$Y$8:$Y$400,1)","v":0},{"$f":"SUMIFS('Unit Detail'!$H$8:$H$400,'Unit Detail'!$D$8:$D$400,'Building Detail'!$B691,'Unit Detail'!$Y$8:$Y$400,3)","v":0},{"$f":"SUMIFS('Unit Detail'!$H$8:$H$400,'Unit Detail'!$D$8:$D$400,'Building Detail'!$B691,'Unit Detail'!$Y$8:$Y$400,2)","v":0},{"$f":"SUMIF('Unit Detail'!$D$8:$D$400,$B691,'Unit Detail'!$H$8:$H$400)","v":0},0,"",{"$f":"COUNTIFS('Unit Detail'!$Y$8:$Y$400,\"1\",'Unit Detail'!$D$8:$D$400,'Building Detail'!$B691)","v":0},{"$f":"COUNTIFS('Unit Detail'!$Y$8:$Y$400,\"3\",'Unit Detail'!$D$8:$D$400,'Building Detail'!$B691)","v":0},{"$f":"COUNTIFS('Unit Detail'!$Y$8:$Y$400,\"2\",'Unit Detail'!$D$8:$D$400,'Building Detail'!$B691)","v":0},0,"",""]
[null,null,null,null,null,null,null,null,null,null,null,null,null,null,{"$f":"SUMIFS('Unit Detail'!$H$8:$H$400,'Unit Detail'!$D$8:$D$400,'Building Detail'!$B692,'Unit Detail'!$Y$8:$Y$400,1)","v":0},{"$f":"SUMIFS('Unit Detail'!$H$8:$H$400,'Unit Detail'!$D$8:$D$400,'Building Detail'!$B692,'Unit Detail'!$Y$8:$Y$400,3)","v":0},{"$f":"SUMIFS('Unit Detail'!$H$8:$H$400,'Unit Detail'!$D$8:$D$400,'Building Detail'!$B692,'Unit Detail'!$Y$8:$Y$400,2)","v":0},{"$f":"SUMIF('Unit Detail'!$D$8:$D$400,$B692,'Unit Detail'!$H$8:$H$400)","v":0},0,"",{"$f":"COUNTIFS('Unit Detail'!$Y$8:$Y$400,\"1\",'Unit Detail'!$D$8:$D$400,'Building Detail'!$B692)","v":0},{"$f":"COUNTIFS('Unit Detail'!$Y$8:$Y$400,\"3\",'Unit Detail'!$D$8:$D$400,'Building Detail'!$B692)","v":0},{"$f":"COUNTIFS('Unit Detail'!$Y$8:$Y$400,\"2\",'Unit Detail'!$D$8:$D$400,'Building Detail'!$B692)","v":0},0,"",""]
[null,null,null,null,null,null,null,null,null,null,null,null,null,null,{"$f":"SUMIFS('Unit Detail'!$H$8:$H$400,'Unit Detail'!$D$8:$D$400,'Building Detail'!$B693,'Unit Detail'!$Y$8:$Y$400,1)","v":0},{"$f":"SUMIFS('Unit Detail'!$H$8:$H$400,'Unit Detail'!$D$8:$D$400,'Building Detail'!$B693,'Unit Detail'!$Y$8:$Y$400,3)","v":0},{"$f":"SUMIFS('Unit Detail'!$H$8:$H$400,'Unit Detail'!$D$8:$D$400,'Building Detail'!$B693,'Unit Detail'!$Y$8:$Y$400,2)","v":0},{"$f":"SUMIF('Unit Detail'!$D$8:$D$400,$B693,'Unit Detail'!$H$8:$H$400)","v":0},0,"",{"$f":"COUNTIFS('Unit Detail'!$Y$8:$Y$400,\"1\",'Unit Detail'!$D$8:$D$400,'Building Detail'!$B693)","v":0},{"$f":"COUNTIFS('Unit Detail'!$Y$8:$Y$400,\"3\",'Unit Detail'!$D$8:$D$400,'Building Detail'!$B693)","v":0},{"$f":"COUNTIFS('Unit Detail'!$Y$8:$Y$400,\"2\",'Unit Detail'!$D$8:$D$400,'Building Detail'!$B693)","v":0},0,"",""]
[null,null,null,null,null,null,null,null,null,null,null,null,null,null,{"$f":"SUMIFS('Unit Detail'!$H$8:$H$400,'Unit Detail'!$D$8:$D$400,'Building Detail'!$B694,'Unit Detail'!$Y$8:$Y$400,1)","v":0},{"$f":"SUMIFS('Unit Detail'!$H$8:$H$400,'Unit Detail'!$D$8:$D$400,'Building Detail'!$B694,'Unit Detail'!$Y$8:$Y$400,3)","v":0},{"$f":"SUMIFS('Unit Detail'!$H$8:$H$400,'Unit Detail'!$D$8:$D$400,'Building Detail'!$B694,'Unit Detail'!$Y$8:$Y$400,2)","v":0},{"$f":"SUMIF('Unit Detail'!$D$8:$D$400,$B694,'Unit Detail'!$H$8:$H$400)","v":0},0,"",{"$f":"COUNTIFS('Unit Detail'!$Y$8:$Y$400,\"1\",'Unit Detail'!$D$8:$D$400,'Building Detail'!$B694)","v":0},{"$f":"COUNTIFS('Unit Detail'!$Y$8:$Y$400,\"3\",'Unit Detail'!$D$8:$D$400,'Building Detail'!$B694)","v":0},{"$f":"COUNTIFS('Unit Detail'!$Y$8:$Y$400,\"2\",'Unit Detail'!$D$8:$D$400,'Building Detail'!$B694)","v":0},0,"",""]
[null,null,null,null,null,null,null,null,null,null,null,null,null,null,{"$f":"SUMIFS('Unit Detail'!$H$8:$H$400,'Unit Detail'!$D$8:$D$400,'Building Detail'!$B695,'Unit Detail'!$Y$8:$Y$400,1)","v":0},{"$f":"SUMIFS('Unit Detail'!$H$8:$H$400,'Unit Detail'!$D$8:$D$400,'Building Detail'!$B695,'Unit Detail'!$Y$8:$Y$400,3)","v":0},{"$f":"SUMIFS('Unit Detail'!$H$8:$H$400,'Unit Detail'!$D$8:$D$400,'Building Detail'!$B695,'Unit Detail'!$Y$8:$Y$400,2)","v":0},{"$f":"SUMIF('Unit Detail'!$D$8:$D$400,$B695,'Unit Detail'!$H$8:$H$400)","v":0},0,"",{"$f":"COUNTIFS('Unit Detail'!$Y$8:$Y$400,\"1\",'Unit Detail'!$D$8:$D$400,'Building Detail'!$B695)","v":0},{"$f":"COUNTIFS('Unit Detail'!$Y$8:$Y$400,\"3\",'Unit Detail'!$D$8:$D$400,'Building Detail'!$B695)","v":0},{"$f":"COUNTIFS('Unit Detail'!$Y$8:$Y$400,\"2\",'Unit Detail'!$D$8:$D$400,'Building Detail'!$B695)","v":0},0,"",""]
[null,null,null,null,null,null,null,null,null,null,null,null,null,null,{"$f":"SUMIFS('Unit Detail'!$H$8:$H$400,'Unit Detail'!$D$8:$D$400,'Building Detail'!$B696,'Unit Detail'!$Y$8:$Y$400,1)","v":0},{"$f":"SUMIFS('Unit Detail'!$H$8:$H$400,'Unit Detail'!$D$8:$D$400,'Building Detail'!$B696,'Unit Detail'!$Y$8:$Y$400,3)","v":0},{"$f":"SUMIFS('Unit Detail'!$H$8:$H$400,'Unit Detail'!$D$8:$D$400,'Building Detail'!$B696,'Unit Detail'!$Y$8:$Y$400,2)","v":0},{"$f":"SUMIF('Unit Detail'!$D$8:$D$400,$B696,'Unit Detail'!$H$8:$H$400)","v":0},0,"",{"$f":"COUNTIFS('Unit Detail'!$Y$8:$Y$400,\"1\",'Unit Detail'!$D$8:$D$400,'Building Detail'!$B696)","v":0},{"$f":"COUNTIFS('Unit Detail'!$Y$8:$Y$400,\"3\",'Unit Detail'!$D$8:$D$400,'Building Detail'!$B696)","v":0},{"$f":"COUNTIFS('Unit Detail'!$Y$8:$Y$400,\"2\",'Unit Detail'!$D$8:$D$400,'Building Detail'!$B696)","v":0},0,"",""]
[null,null,null,null,null,null,null,null,null,null,null,null,null,null,{"$f":"SUMIFS('Unit Detail'!$H$8:$H$400,'Unit Detail'!$D$8:$D$400,'Building Detail'!$B697,'Unit Detail'!$Y$8:$Y$400,1)","v":0},{"$f":"SUMIFS('Unit Detail'!$H$8:$H$400,'Unit Detail'!$D$8:$D$400,'Building Detail'!$B697,'Unit Detail'!$Y$8:$Y$400,3)","v":0},{"$f":"SUMIFS('Unit Detail'!$H$8:$H$400,'Unit Detail'!$D$8:$D$400,'Building Detail'!$B697,'Unit Detail'!$Y$8:$Y$400,2)","v":0},{"$f":"SUMIF('Unit Detail'!$D$8:$D$400,$B697,'Unit Detail'!$H$8:$H$400)","v":0},0,"",{"$f":"COUNTIFS('Unit Detail'!$Y$8:$Y$400,\"1\",'Unit Detail'!$D$8:$D$400,'Building Detail'!$B697)","v":0},{"$f":"COUNTIFS('Unit Detail'!$Y$8:$Y$400,\"3\",'Unit Detail'!$D$8:$D$400,'Building Detail'!$B697)","v":0},{"$f":"COUNTIFS('Unit Detail'!$Y$8:$Y$400,\"2\",'Unit Detail'!$D$8:$D$400,'Building Detail'!$B697)","v":0},0,"",""]
[null,null,null,null,null,null,null,null,null,null,null,null,null,null,{"$f":"SUMIFS('Unit Detail'!$H$8:$H$400,'Unit Detail'!$D$8:$D$400,'Building Detail'!$B698,'Unit Detail'!$Y$8:$Y$400,1)","v":0},{"$f":"SUMIFS('Unit Detail'!$H$8:$H$400,'Unit Detail'!$D$8:$D$400,'Building Detail'!$B698,'Unit Detail'!$Y$8:$Y$400,3)","v":0},{"$f":"SUMIFS('Unit Detail'!$H$8:$H$400,'Unit Detail'!$D$8:$D$400,'Building Detail'!$B698,'Unit Detail'!$Y$8:$Y$400,2)","v":0},{"$f":"SUMIF('Unit Detail'!$D$8:$D$400,$B698,'Unit Detail'!$H$8:$H$400)","v":0},0,"",{"$f":"COUNTIFS('Unit Detail'!$Y$8:$Y$400,\"1\",'Unit Detail'!$D$8:$D$400,'Building Detail'!$B698)","v":0},{"$f":"COUNTIFS('Unit Detail'!$Y$8:$Y$400,\"3\",'Unit Detail'!$D$8:$D$400,'Building Detail'!$B698)","v":0},{"$f":"COUNTIFS('Unit Detail'!$Y$8:$Y$400,\"2\",'Unit Detail'!$D$8:$D$400,'Building Detail'!$B698)","v":0},0,"",""]
[null,null,null,null,null,null,null,null,null,null,null,null,null,null,{"$f":"SUMIFS('Unit Detail'!$H$8:$H$400,'Unit Detail'!$D$8:$D$400,'Building Detail'!$B699,'Unit Detail'!$Y$8:$Y$400,1)","v":0},{"$f":"SUMIFS('Unit Detail'!$H$8:$H$400,'Unit Detail'!$D$8:$D$400,'Building Detail'!$B699,'Unit Detail'!$Y$8:$Y$400,3)","v":0},{"$f":"SUMIFS('Unit Detail'!$H$8:$H$400,'Unit Detail'!$D$8:$D$400,'Building Detail'!$B699,'Unit Detail'!$Y$8:$Y$400,2)","v":0},{"$f":"SUMIF('Unit Detail'!$D$8:$D$400,$B699,'Unit Detail'!$H$8:$H$400)","v":0},0,"",{"$f":"COUNTIFS('Unit Detail'!$Y$8:$Y$400,\"1\",'Unit Detail'!$D$8:$D$400,'Building Detail'!$B699)","v":0},{"$f":"COUNTIFS('Unit Detail'!$Y$8:$Y$400,\"3\",'Unit Detail'!$D$8:$D$400,'Building Detail'!$B699)","v":0},{"$f":"COUNTIFS('Unit Detail'!$Y$8:$Y$400,\"2\",'Unit Detail'!$D$8:$D$400,'Building Detail'!$B699)","v":0},0,"",""]
[null,null,null,null,null,null,null,null,null,null,null,null,null,null,{"$f":"SUMIFS('Unit Detail'!$H$8:$H$400,'Unit Detail'!$D$8:$D$400,'Building Detail'!$B700,'Unit Detail'!$Y$8:$Y$400,1)","v":0},{"$f":"SUMIFS('Unit Detail'!$H$8:$H$400,'Unit Detail'!$D$8:$D$400,'Building Detail'!$B700,'Unit Detail'!$Y$8:$Y$400,3)","v":0},{"$f":"SUMIFS('Unit Detail'!$H$8:$H$400,'Unit Detail'!$D$8:$D$400,'Building Detail'!$B700,'Unit Detail'!$Y$8:$Y$400,2)","v":0},{"$f":"SUMIF('Unit Detail'!$D$8:$D$400,$B700,'Unit Detail'!$H$8:$H$400)","v":0},0,"",{"$f":"COUNTIFS('Unit Detail'!$Y$8:$Y$400,\"1\",'Unit Detail'!$D$8:$D$400,'Building Detail'!$B700)","v":0},{"$f":"COUNTIFS('Unit Detail'!$Y$8:$Y$400,\"3\",'Unit Detail'!$D$8:$D$400,'Building Detail'!$B700)","v":0},{"$f":"COUNTIFS('Unit Detail'!$Y$8:$Y$400,\"2\",'Unit Detail'!$D$8:$D$400,'Building Detail'!$B700)","v":0},0,"",""]
[null,null,null,null,null,null,null,null,null,null,null,null,null,null,{"$f":"SUMIFS('Unit Detail'!$H$8:$H$400,'Unit Detail'!$D$8:$D$400,'Building Detail'!$B701,'Unit Detail'!$Y$8:$Y$400,1)","v":0},{"$f":"SUMIFS('Unit Detail'!$H$8:$H$400,'Unit Detail'!$D$8:$D$400,'Building Detail'!$B701,'Unit Detail'!$Y$8:$Y$400,3)","v":0},{"$f":"SUMIFS('Unit Detail'!$H$8:$H$400,'Unit Detail'!$D$8:$D$400,'Building Detail'!$B701,'Unit Detail'!$Y$8:$Y$400,2)","v":0},{"$f":"SUMIF('Unit Detail'!$D$8:$D$400,$B701,'Unit Detail'!$H$8:$H$400)","v":0},0,"",{"$f":"COUNTIFS('Unit Detail'!$Y$8:$Y$400,\"1\",'Unit Detail'!$D$8:$D$400,'Building Detail'!$B701)","v":0},{"$f":"COUNTIFS('Unit Detail'!$Y$8:$Y$400,\"3\",'Unit Detail'!$D$8:$D$400,'Building Detail'!$B701)","v":0},{"$f":"COUNTIFS('Unit Detail'!$Y$8:$Y$400,\"2\",'Unit Detail'!$D$8:$D$400,'Building Detail'!$B701)","v":0},0,"",""]
[null,null,null,null,null,null,null,null,null,null,null,null,null,null,{"$f":"SUMIFS('Unit Detail'!$H$8:$H$400,'Unit Detail'!$D$8:$D$400,'Building Detail'!$B702,'Unit Detail'!$Y$8:$Y$400,1)","v":0},{"$f":"SUMIFS('Unit Detail'!$H$8:$H$400,'Unit Detail'!$D$8:$D$400,'Building Detail'!$B702,'Unit Detail'!$Y$8:$Y$400,3)","v":0},{"$f":"SUMIFS('Unit Detail'!$H$8:$H$400,'Unit Detail'!$D$8:$D$400,'Building Detail'!$B702,'Unit Detail'!$Y$8:$Y$400,2)","v":0},{"$f":"SUMIF('Unit Detail'!$D$8:$D$400,$B702,'Unit Detail'!$H$8:$H$400)","v":0},0,"",{"$f":"COUNTIFS('Unit Detail'!$Y$8:$Y$400,\"1\",'Unit Detail'!$D$8:$D$400,'Building Detail'!$B702)","v":0},{"$f":"COUNTIFS('Unit Detail'!$Y$8:$Y$400,\"3\",'Unit Detail'!$D$8:$D$400,'Building Detail'!$B702)","v":0},{"$f":"COUNTIFS('Unit Detail'!$Y$8:$Y$400,\"2\",'Unit Detail'!$D$8:$D$400,'Building Detail'!$B702)","v":0},0,"",""]
[null,null,null,null,null,null,null,null,null,null,null,null,null,null,{"$f":"SUMIFS('Unit Detail'!$H$8:$H$400,'Unit Detail'!$D$8:$D$400,'Building Detail'!$B703,'Unit Detail'!$Y$8:$Y$400,1)","v":0},{"$f":"SUMIFS('Unit Detail'!$H$8:$H$400,'Unit Detail'!$D$8:$D$400,'Building Detail'!$B703,'Unit Detail'!$Y$8:$Y$400,3)","v":0},{"$f":"SUMIFS('Unit Detail'!$H$8:$H$400,'Unit Detail'!$D$8:$D$400,'Building Detail'!$B703,'Unit Detail'!$Y$8:$Y$400,2)","v":0},{"$f":"SUMIF('Unit Detail'!$D$8:$D$400,$B703,'Unit Detail'!$H$8:$H$400)","v":0},0,"",{"$f":"COUNTIFS('Unit Detail'!$Y$8:$Y$400,\"1\",'Unit Detail'!$D$8:$D$400,'Building Detail'!$B703)","v":0},{"$f":"COUNTIFS('Unit Detail'!$Y$8:$Y$400,\"3\",'Unit Detail'!$D$8:$D$400,'Building Detail'!$B703)","v":0},{"$f":"COUNTIFS('Unit Detail'!$Y$8:$Y$400,\"2\",'Unit Detail'!$D$8:$D$400,'Building Detail'!$B703)","v":0},0,"",""]
[null,null,null,null,null,null,null,null,null,null,null,null,null,null,{"$f":"SUMIFS('Unit Detail'!$H$8:$H$400,'Unit Detail'!$D$8:$D$400,'Building Detail'!$B704,'Unit Detail'!$Y$8:$Y$400,1)","v":0},{"$f":"SUMIFS('Unit Detail'!$H$8:$H$400,'Unit Detail'!$D$8:$D$400,'Building Detail'!$B704,'Unit Detail'!$Y$8:$Y$400,3)","v":0},{"$f":"SUMIFS('Unit Detail'!$H$8:$H$400,'Unit Detail'!$D$8:$D$400,'Building Detail'!$B704,'Unit Detail'!$Y$8:$Y$400,2)","v":0},{"$f":"SUMIF('Unit Detail'!$D$8:$D$400,$B704,'Unit Detail'!$H$8:$H$400)","v":0},0,"",{"$f":"COUNTIFS('Unit Detail'!$Y$8:$Y$400,\"1\",'Unit Detail'!$D$8:$D$400,'Building Detail'!$B704)","v":0},{"$f":"COUNTIFS('Unit Detail'!$Y$8:$Y$400,\"3\",'Unit Detail'!$D$8:$D$400,'Building Detail'!$B704)","v":0},{"$f":"COUNTIFS('Unit Detail'!$Y$8:$Y$400,\"2\",'Unit Detail'!$D$8:$D$400,'Building Detail'!$B704)","v":0},0,"",""]
[null,null,null,null,null,null,null,null,null,null,null,null,null,null,{"$f":"SUMIFS('Unit Detail'!$H$8:$H$400,'Unit Detail'!$D$8:$D$400,'Building Detail'!$B705,'Unit Detail'!$Y$8:$Y$400,1)","v":0},{"$f":"SUMIFS('Unit Detail'!$H$8:$H$400,'Unit Detail'!$D$8:$D$400,'Building Detail'!$B705,'Unit Detail'!$Y$8:$Y$400,3)","v":0},{"$f":"SUMIFS('Unit Detail'!$H$8:$H$400,'Unit Detail'!$D$8:$D$400,'Building Detail'!$B705,'Unit Detail'!$Y$8:$Y$400,2)","v":0},{"$f":"SUMIF('Unit Detail'!$D$8:$D$400,$B705,'Unit Detail'!$H$8:$H$400)","v":0},0,"",{"$f":"COUNTIFS('Unit Detail'!$Y$8:$Y$400,\"1\",'Unit Detail'!$D$8:$D$400,'Building Detail'!$B705)","v":0},{"$f":"COUNTIFS('Unit Detail'!$Y$8:$Y$400,\"3\",'Unit Detail'!$D$8:$D$400,'Building Detail'!$B705)","v":0},{"$f":"COUNTIFS('Unit Detail'!$Y$8:$Y$400,\"2\",'Unit Detail'!$D$8:$D$400,'Building Detail'!$B705)","v":0},0,"",""]
[null,null,null,null,null,null,null,null,null,null,null,null,null,null,{"$f":"SUMIFS('Unit Detail'!$H$8:$H$400,'Unit Detail'!$D$8:$D$400,'Building Detail'!$B706,'Unit Detail'!$Y$8:$Y$400,1)","v":0},{"$f":"SUMIFS('Unit Detail'!$H$8:$H$400,'Unit Detail'!$D$8:$D$400,'Building Detail'!$B706,'Unit Detail'!$Y$8:$Y$400,3)","v":0},{"$f":"SUMIFS('Unit Detail'!$H$8:$H$400,'Unit Detail'!$D$8:$D$400,'Building Detail'!$B706,'Unit Detail'!$Y$8:$Y$400,2)","v":0},{"$f":"SUMIF('Unit Detail'!$D$8:$D$400,$B706,'Unit Detail'!$H$8:$H$400)","v":0},0,"",{"$f":"COUNTIFS('Unit Detail'!$Y$8:$Y$400,\"1\",'Unit Detail'!$D$8:$D$400,'Building Detail'!$B706)","v":0},{"$f":"COUNTIFS('Unit Detail'!$Y$8:$Y$400,\"3\",'Unit Detail'!$D$8:$D$400,'Building Detail'!$B706)","v":0},{"$f":"COUNTIFS('Unit Detail'!$Y$8:$Y$400,\"2\",'Unit Detail'!$D$8:$D$400,'Building Detail'!$B706)","v":0},0,"",""]
[null,null,null,null,null,null,null,null,null,null,null,null,null,null,{"$f":"SUMIFS('Unit Detail'!$H$8:$H$400,'Unit Detail'!$D$8:$D$400,'Building Detail'!$B707,'Unit Detail'!$Y$8:$Y$400,1)","v":0},{"$f":"SUMIFS('Unit Detail'!$H$8:$H$400,'Unit Detail'!$D$8:$D$400,'Building Detail'!$B707,'Unit Detail'!$Y$8:$Y$400,3)","v":0},{"$f":"SUMIFS('Unit Detail'!$H$8:$H$400,'Unit Detail'!$D$8:$D$400,'Building Detail'!$B707,'Unit Detail'!$Y$8:$Y$400,2)","v":0},{"$f":"SUMIF('Unit Detail'!$D$8:$D$400,$B707,'Unit Detail'!$H$8:$H$400)","v":0},{"$f":"SUM(M707,N707,R707)","v":0},"",{"$f":"COUNTIFS('Unit Detail'!$Y$8:$Y$400,\"1\",'Unit Detail'!$D$8:$D$400,'Building Detail'!$B707)","v":0},{"$f":"COUNTIFS('Unit Detail'!$Y$8:$Y$400,\"3\",'Unit Detail'!$D$8:$D$400,'Building Detail'!$B707)","v":0},{"$f":"COUNTIFS('Unit Detail'!$Y$8:$Y$400,\"2\",'Unit Detail'!$D$8:$D$400,'Building Detail'!$B707)","v":0},{"$f":"SUM(U707:W707)","v":0},"",""]
[null,null,null,null,null,null,null,null,null,null,null,null,null,null,{"$f":"SUMIFS('Unit Detail'!$H$8:$H$400,'Unit Detail'!$D$8:$D$400,'Building Detail'!$B708,'Unit Detail'!$Y$8:$Y$400,1)","v":0},{"$f":"SUMIFS('Unit Detail'!$H$8:$H$400,'Unit Detail'!$D$8:$D$400,'Building Detail'!$B708,'Unit Detail'!$Y$8:$Y$400,3)","v":0},{"$f":"SUMIFS('Unit Detail'!$H$8:$H$400,'Unit Detail'!$D$8:$D$400,'Building Detail'!$B708,'Unit Detail'!$Y$8:$Y$400,2)","v":0},{"$f":"SUMIF('Unit Detail'!$D$8:$D$400,$B708,'Unit Detail'!$H$8:$H$400)","v":0},0,"",{"$f":"COUNTIFS('Unit Detail'!$Y$8:$Y$400,\"1\",'Unit Detail'!$D$8:$D$400,'Building Detail'!$B708)","v":0},{"$f":"COUNTIFS('Unit Detail'!$Y$8:$Y$400,\"3\",'Unit Detail'!$D$8:$D$400,'Building Detail'!$B708)","v":0},{"$f":"COUNTIFS('Unit Detail'!$Y$8:$Y$400,\"2\",'Unit Detail'!$D$8:$D$400,'Building Detail'!$B708)","v":0},0,"",""]
[null,null,null,null,null,null,null,null,null,null,null,null,null,null,{"$f":"SUMIFS('Unit Detail'!$H$8:$H$400,'Unit Detail'!$D$8:$D$400,'Building Detail'!$B709,'Unit Detail'!$Y$8:$Y$400,1)","v":0},{"$f":"SUMIFS('Unit Detail'!$H$8:$H$400,'Unit Detail'!$D$8:$D$400,'Building Detail'!$B709,'Unit Detail'!$Y$8:$Y$400,3)","v":0},{"$f":"SUMIFS('Unit Detail'!$H$8:$H$400,'Unit Detail'!$D$8:$D$400,'Building Detail'!$B709,'Unit Detail'!$Y$8:$Y$400,2)","v":0},{"$f":"SUMIF('Unit Detail'!$D$8:$D$400,$B709,'Unit Detail'!$H$8:$H$400)","v":0},0,"",{"$f":"COUNTIFS('Unit Detail'!$Y$8:$Y$400,\"1\",'Unit Detail'!$D$8:$D$400,'Building Detail'!$B709)","v":0},{"$f":"COUNTIFS('Unit Detail'!$Y$8:$Y$400,\"3\",'Unit Detail'!$D$8:$D$400,'Building Detail'!$B709)","v":0},{"$f":"COUNTIFS('Unit Detail'!$Y$8:$Y$400,\"2\",'Unit Detail'!$D$8:$D$400,'Building Detail'!$B709)","v":0},0,"",""]
[null,null,null,null,null,null,null,null,null,null,null,null,null,null,{"$f":"SUMIFS('Unit Detail'!$H$8:$H$400,'Unit Detail'!$D$8:$D$400,'Building Detail'!$B710,'Unit Detail'!$Y$8:$Y$400,1)","v":0},{"$f":"SUMIFS('Unit Detail'!$H$8:$H$400,'Unit Detail'!$D$8:$D$400,'Building Detail'!$B710,'Unit Detail'!$Y$8:$Y$400,3)","v":0},{"$f":"SUMIFS('Unit Detail'!$H$8:$H$400,'Unit Detail'!$D$8:$D$400,'Building Detail'!$B710,'Unit Detail'!$Y$8:$Y$400,2)","v":0},{"$f":"SUMIF('Unit Detail'!$D$8:$D$400,$B710,'Unit Detail'!$H$8:$H$400)","v":0},0,"",{"$f":"COUNTIFS('Unit Detail'!$Y$8:$Y$400,\"1\",'Unit Detail'!$D$8:$D$400,'Building Detail'!$B710)","v":0},{"$f":"COUNTIFS('Unit Detail'!$Y$8:$Y$400,\"3\",'Unit Detail'!$D$8:$D$400,'Building Detail'!$B710)","v":0},{"$f":"COUNTIFS('Unit Detail'!$Y$8:$Y$400,\"2\",'Unit Detail'!$D$8:$D$400,'Building Detail'!$B710)","v":0},0,"",""]
[null,null,null,null,null,null,null,null,null,null,null,null,null,null,{"$f":"SUMIFS('Unit Detail'!$H$8:$H$400,'Unit Detail'!$D$8:$D$400,'Building Detail'!$B711,'Unit Detail'!$Y$8:$Y$400,1)","v":0},{"$f":"SUMIFS('Unit Detail'!$H$8:$H$400,'Unit Detail'!$D$8:$D$400,'Building Detail'!$B711,'Unit Detail'!$Y$8:$Y$400,3)","v":0},{"$f":"SUMIFS('Unit Detail'!$H$8:$H$400,'Unit Detail'!$D$8:$D$400,'Building Detail'!$B711,'Unit Detail'!$Y$8:$Y$400,2)","v":0},{"$f":"SUMIF('Unit Detail'!$D$8:$D$400,$B711,'Unit Detail'!$H$8:$H$400)","v":0},0,"",{"$f":"COUNTIFS('Unit Detail'!$Y$8:$Y$400,\"1\",'Unit Detail'!$D$8:$D$400,'Building Detail'!$B711)","v":0},{"$f":"COUNTIFS('Unit Detail'!$Y$8:$Y$400,\"3\",'Unit Detail'!$D$8:$D$400,'Building Detail'!$B711)","v":0},{"$f":"COUNTIFS('Unit Detail'!$Y$8:$Y$400,\"2\",'Unit Detail'!$D$8:$D$400,'Building Detail'!$B711)","v":0},0,"",""]
[null,null,null,null,null,null,null,null,null,null,null,null,null,null,{"$f":"SUMIFS('Unit Detail'!$H$8:$H$400,'Unit Detail'!$D$8:$D$400,'Building Detail'!$B712,'Unit Detail'!$Y$8:$Y$400,1)","v":0},{"$f":"SUMIFS('Unit Detail'!$H$8:$H$400,'Unit Detail'!$D$8:$D$400,'Building Detail'!$B712,'Unit Detail'!$Y$8:$Y$400,3)","v":0},{"$f":"SUMIFS('Unit Detail'!$H$8:$H$400,'Unit Detail'!$D$8:$D$400,'Building Detail'!$B712,'Unit Detail'!$Y$8:$Y$400,2)","v":0},{"$f":"SUMIF('Unit Detail'!$D$8:$D$400,$B712,'Unit Detail'!$H$8:$H$400)","v":0},0,"",{"$f":"COUNTIFS('Unit Detail'!$Y$8:$Y$400,\"1\",'Unit Detail'!$D$8:$D$400,'Building Detail'!$B712)","v":0},{"$f":"COUNTIFS('Unit Detail'!$Y$8:$Y$400,\"3\",'Unit Detail'!$D$8:$D$400,'Building Detail'!$B712)","v":0},{"$f":"COUNTIFS('Unit Detail'!$Y$8:$Y$400,\"2\",'Unit Detail'!$D$8:$D$400,'Building Detail'!$B712)","v":0},0,"",""]
[null,null,null,null,null,null,null,null,null,null,null,null,null,null,{"$f":"SUMIFS('Unit Detail'!$H$8:$H$400,'Unit Detail'!$D$8:$D$400,'Building Detail'!$B713,'Unit Detail'!$Y$8:$Y$400,1)","v":0},{"$f":"SUMIFS('Unit Detail'!$H$8:$H$400,'Unit Detail'!$D$8:$D$400,'Building Detail'!$B713,'Unit Detail'!$Y$8:$Y$400,3)","v":0},{"$f":"SUMIFS('Unit Detail'!$H$8:$H$400,'Unit Detail'!$D$8:$D$400,'Building Detail'!$B713,'Unit Detail'!$Y$8:$Y$400,2)","v":0},{"$f":"SUMIF('Unit Detail'!$D$8:$D$400,$B713,'Unit Detail'!$H$8:$H$400)","v":0},0,"",{"$f":"COUNTIFS('Unit Detail'!$Y$8:$Y$400,\"1\",'Unit Detail'!$D$8:$D$400,'Building Detail'!$B713)","v":0},{"$f":"COUNTIFS('Unit Detail'!$Y$8:$Y$400,\"3\",'Unit Detail'!$D$8:$D$400,'Building Detail'!$B713)","v":0},{"$f":"COUNTIFS('Unit Detail'!$Y$8:$Y$400,\"2\",'Unit Detail'!$D$8:$D$400,'Building Detail'!$B713)","v":0},0,"",""]
[null,null,null,null,null,null,null,null,null,null,null,null,null,null,{"$f":"SUMIFS('Unit Detail'!$H$8:$H$400,'Unit Detail'!$D$8:$D$400,'Building Detail'!$B714,'Unit Detail'!$Y$8:$Y$400,1)","v":0},{"$f":"SUMIFS('Unit Detail'!$H$8:$H$400,'Unit Detail'!$D$8:$D$400,'Building Detail'!$B714,'Unit Detail'!$Y$8:$Y$400,3)","v":0},{"$f":"SUMIFS('Unit Detail'!$H$8:$H$400,'Unit Detail'!$D$8:$D$400,'Building Detail'!$B714,'Unit Detail'!$Y$8:$Y$400,2)","v":0},{"$f":"SUMIF('Unit Detail'!$D$8:$D$400,$B714,'Unit Detail'!$H$8:$H$400)","v":0},0,"",{"$f":"COUNTIFS('Unit Detail'!$Y$8:$Y$400,\"1\",'Unit Detail'!$D$8:$D$400,'Building Detail'!$B714)","v":0},{"$f":"COUNTIFS('Unit Detail'!$Y$8:$Y$400,\"3\",'Unit Detail'!$D$8:$D$400,'Building Detail'!$B714)","v":0},{"$f":"COUNTIFS('Unit Detail'!$Y$8:$Y$400,\"2\",'Unit Detail'!$D$8:$D$400,'Building Detail'!$B714)","v":0},0,"",""]
[null,null,null,null,null,null,null,null,null,null,null,null,null,null,{"$f":"SUMIFS('Unit Detail'!$H$8:$H$400,'Unit Detail'!$D$8:$D$400,'Building Detail'!$B715,'Unit Detail'!$Y$8:$Y$400,1)","v":0},{"$f":"SUMIFS('Unit Detail'!$H$8:$H$400,'Unit Detail'!$D$8:$D$400,'Building Detail'!$B715,'Unit Detail'!$Y$8:$Y$400,3)","v":0},{"$f":"SUMIFS('Unit Detail'!$H$8:$H$400,'Unit Detail'!$D$8:$D$400,'Building Detail'!$B715,'Unit Detail'!$Y$8:$Y$400,2)","v":0},{"$f":"SUMIF('Unit Detail'!$D$8:$D$400,$B715,'Unit Detail'!$H$8:$H$400)","v":0},0,"",{"$f":"COUNTIFS('Unit Detail'!$Y$8:$Y$400,\"1\",'Unit Detail'!$D$8:$D$400,'Building Detail'!$B715)","v":0},{"$f":"COUNTIFS('Unit Detail'!$Y$8:$Y$400,\"3\",'Unit Detail'!$D$8:$D$400,'Building Detail'!$B715)","v":0},{"$f":"COUNTIFS('Unit Detail'!$Y$8:$Y$400,\"2\",'Unit Detail'!$D$8:$D$400,'Building Detail'!$B715)","v":0},0,"",""]
[null,null,null,null,null,null,null,null,null,null,null,null,null,null,{"$f":"SUMIFS('Unit Detail'!$H$8:$H$400,'Unit Detail'!$D$8:$D$400,'Building Detail'!$B716,'Unit Detail'!$Y$8:$Y$400,1)","v":0},{"$f":"SUMIFS('Unit Detail'!$H$8:$H$400,'Unit Detail'!$D$8:$D$400,'Building Detail'!$B716,'Unit Detail'!$Y$8:$Y$400,3)","v":0},{"$f":"SUMIFS('Unit Detail'!$H$8:$H$400,'Unit Detail'!$D$8:$D$400,'Building Detail'!$B716,'Unit Detail'!$Y$8:$Y$400,2)","v":0},{"$f":"SUMIF('Unit Detail'!$D$8:$D$400,$B716,'Unit Detail'!$H$8:$H$400)","v":0},0,"",{"$f":"COUNTIFS('Unit Detail'!$Y$8:$Y$400,\"1\",'Unit Detail'!$D$8:$D$400,'Building Detail'!$B716)","v":0},{"$f":"COUNTIFS('Unit Detail'!$Y$8:$Y$400,\"3\",'Unit Detail'!$D$8:$D$400,'Building Detail'!$B716)","v":0},{"$f":"COUNTIFS('Unit Detail'!$Y$8:$Y$400,\"2\",'Unit Detail'!$D$8:$D$400,'Building Detail'!$B716)","v":0},0,"",""]
[null,null,null,null,null,null,null,null,null,null,null,null,null,null,{"$f":"SUMIFS('Unit Detail'!$H$8:$H$400,'Unit Detail'!$D$8:$D$400,'Building Detail'!$B717,'Unit Detail'!$Y$8:$Y$400,1)","v":0},{"$f":"SUMIFS('Unit Detail'!$H$8:$H$400,'Unit Detail'!$D$8:$D$400,'Building Detail'!$B717,'Unit Detail'!$Y$8:$Y$400,3)","v":0},{"$f":"SUMIFS('Unit Detail'!$H$8:$H$400,'Unit Detail'!$D$8:$D$400,'Building Detail'!$B717,'Unit Detail'!$Y$8:$Y$400,2)","v":0},{"$f":"SUMIF('Unit Detail'!$D$8:$D$400,$B717,'Unit Detail'!$H$8:$H$400)","v":0},0,"",{"$f":"COUNTIFS('Unit Detail'!$Y$8:$Y$400,\"1\",'Unit Detail'!$D$8:$D$400,'Building Detail'!$B717)","v":0},{"$f":"COUNTIFS('Unit Detail'!$Y$8:$Y$400,\"3\",'Unit Detail'!$D$8:$D$400,'Building Detail'!$B717)","v":0},{"$f":"COUNTIFS('Unit Detail'!$Y$8:$Y$400,\"2\",'Unit Detail'!$D$8:$D$400,'Building Detail'!$B717)","v":0},0,"",""]
[null,null,null,null,null,null,null,null,null,null,null,null,null,null,{"$f":"SUMIFS('Unit Detail'!$H$8:$H$400,'Unit Detail'!$D$8:$D$400,'Building Detail'!$B718,'Unit Detail'!$Y$8:$Y$400,1)","v":0},{"$f":"SUMIFS('Unit Detail'!$H$8:$H$400,'Unit Detail'!$D$8:$D$400,'Building Detail'!$B718,'Unit Detail'!$Y$8:$Y$400,3)","v":0},{"$f":"SUMIFS('Unit Detail'!$H$8:$H$400,'Unit Detail'!$D$8:$D$400,'Building Detail'!$B718,'Unit Detail'!$Y$8:$Y$400,2)","v":0},{"$f":"SUMIF('Unit Detail'!$D$8:$D$400,$B718,'Unit Detail'!$H$8:$H$400)","v":0},0,"",{"$f":"COUNTIFS('Unit Detail'!$Y$8:$Y$400,\"1\",'Unit Detail'!$D$8:$D$400,'Building Detail'!$B718)","v":0},{"$f":"COUNTIFS('Unit Detail'!$Y$8:$Y$400,\"3\",'Unit Detail'!$D$8:$D$400,'Building Detail'!$B718)","v":0},{"$f":"COUNTIFS('Unit Detail'!$Y$8:$Y$400,\"2\",'Unit Detail'!$D$8:$D$400,'Building Detail'!$B718)","v":0},0,"",""]
[null,null,null,null,null,null,null,null,null,null,null,null,null,null,{"$f":"SUMIFS('Unit Detail'!$H$8:$H$400,'Unit Detail'!$D$8:$D$400,'Building Detail'!$B719,'Unit Detail'!$Y$8:$Y$400,1)","v":0},{"$f":"SUMIFS('Unit Detail'!$H$8:$H$400,'Unit Detail'!$D$8:$D$400,'Building Detail'!$B719,'Unit Detail'!$Y$8:$Y$400,3)","v":0},{"$f":"SUMIFS('Unit Detail'!$H$8:$H$400,'Unit Detail'!$D$8:$D$400,'Building Detail'!$B719,'Unit Detail'!$Y$8:$Y$400,2)","v":0},{"$f":"SUMIF('Unit Detail'!$D$8:$D$400,$B719,'Unit Detail'!$H$8:$H$400)","v":0},0,"",{"$f":"COUNTIFS('Unit Detail'!$Y$8:$Y$400,\"1\",'Unit Detail'!$D$8:$D$400,'Building Detail'!$B719)","v":0},{"$f":"COUNTIFS('Unit Detail'!$Y$8:$Y$400,\"3\",'Unit Detail'!$D$8:$D$400,'Building Detail'!$B719)","v":0},{"$f":"COUNTIFS('Unit Detail'!$Y$8:$Y$400,\"2\",'Unit Detail'!$D$8:$D$400,'Building Detail'!$B719)","v":0},0,"",""]
[null,null,null,null,null,null,null,null,null,null,null,null,null,null,{"$f":"SUMIFS('Unit Detail'!$H$8:$H$400,'Unit Detail'!$D$8:$D$400,'Building Detail'!$B720,'Unit Detail'!$Y$8:$Y$400,1)","v":0},{"$f":"SUMIFS('Unit Detail'!$H$8:$H$400,'Unit Detail'!$D$8:$D$400,'Building Detail'!$B720,'Unit Detail'!$Y$8:$Y$400,3)","v":0},{"$f":"SUMIFS('Unit Detail'!$H$8:$H$400,'Unit Detail'!$D$8:$D$400,'Building Detail'!$B720,'Unit Detail'!$Y$8:$Y$400,2)","v":0},{"$f":"SUMIF('Unit Detail'!$D$8:$D$400,$B720,'Unit Detail'!$H$8:$H$400)","v":0},0,"",{"$f":"COUNTIFS('Unit Detail'!$Y$8:$Y$400,\"1\",'Unit Detail'!$D$8:$D$400,'Building Detail'!$B720)","v":0},{"$f":"COUNTIFS('Unit Detail'!$Y$8:$Y$400,\"3\",'Unit Detail'!$D$8:$D$400,'Building Detail'!$B720)","v":0},{"$f":"COUNTIFS('Unit Detail'!$Y$8:$Y$400,\"2\",'Unit Detail'!$D$8:$D$400,'Building Detail'!$B720)","v":0},0,"",""]
[null,null,null,null,null,null,null,null,null,null,null,null,null,null,{"$f":"SUMIFS('Unit Detail'!$H$8:$H$400,'Unit Detail'!$D$8:$D$400,'Building Detail'!$B721,'Unit Detail'!$Y$8:$Y$400,1)","v":0},{"$f":"SUMIFS('Unit Detail'!$H$8:$H$400,'Unit Detail'!$D$8:$D$400,'Building Detail'!$B721,'Unit Detail'!$Y$8:$Y$400,3)","v":0},{"$f":"SUMIFS('Unit Detail'!$H$8:$H$400,'Unit Detail'!$D$8:$D$400,'Building Detail'!$B721,'Unit Detail'!$Y$8:$Y$400,2)","v":0},{"$f":"SUMIF('Unit Detail'!$D$8:$D$400,$B721,'Unit Detail'!$H$8:$H$400)","v":0},0,"",{"$f":"COUNTIFS('Unit Detail'!$Y$8:$Y$400,\"1\",'Unit Detail'!$D$8:$D$400,'Building Detail'!$B721)","v":0},{"$f":"COUNTIFS('Unit Detail'!$Y$8:$Y$400,\"3\",'Unit Detail'!$D$8:$D$400,'Building Detail'!$B721)","v":0},{"$f":"COUNTIFS('Unit Detail'!$Y$8:$Y$400,\"2\",'Unit Detail'!$D$8:$D$400,'Building Detail'!$B721)","v":0},0,"",""]
[null,null,null,null,null,null,null,null,null,null,null,null,null,null,{"$f":"SUMIFS('Unit Detail'!$H$8:$H$400,'Unit Detail'!$D$8:$D$400,'Building Detail'!$B722,'Unit Detail'!$Y$8:$Y$400,1)","v":0},{"$f":"SUMIFS('Unit Detail'!$H$8:$H$400,'Unit Detail'!$D$8:$D$400,'Building Detail'!$B722,'Unit Detail'!$Y$8:$Y$400,3)","v":0},{"$f":"SUMIFS('Unit Detail'!$H$8:$H$400,'Unit Detail'!$D$8:$D$400,'Building Detail'!$B722,'Unit Detail'!$Y$8:$Y$400,2)","v":0},{"$f":"SUMIF('Unit Detail'!$D$8:$D$400,$B722,'Unit Detail'!$H$8:$H$400)","v":0},0,"",{"$f":"COUNTIFS('Unit Detail'!$Y$8:$Y$400,\"1\",'Unit Detail'!$D$8:$D$400,'Building Detail'!$B722)","v":0},{"$f":"COUNTIFS('Unit Detail'!$Y$8:$Y$400,\"3\",'Unit Detail'!$D$8:$D$400,'Building Detail'!$B722)","v":0},{"$f":"COUNTIFS('Unit Detail'!$Y$8:$Y$400,\"2\",'Unit Detail'!$D$8:$D$400,'Building Detail'!$B722)","v":0},0,"",{"$f":"IF(Y722<T722,Y722,T722)","v":""}]
[null,null,null,null,null,null,null,null,null,null,null,null,null,null,{"$f":"SUMIFS('Unit Detail'!$H$8:$H$400,'Unit Detail'!$D$8:$D$400,'Building Detail'!$B723,'Unit Detail'!$Y$8:$Y$400,1)","v":0},{"$f":"SUMIFS('Unit Detail'!$H$8:$H$400,'Unit Detail'!$D$8:$D$400,'Building Detail'!$B723,'Unit Detail'!$Y$8:$Y$400,3)","v":0},{"$f":"SUMIFS('Unit Detail'!$H$8:$H$400,'Unit Detail'!$D$8:$D$400,'Building Detail'!$B723,'Unit Detail'!$Y$8:$Y$400,2)","v":0},{"$f":"SUMIF('Unit Detail'!$D$8:$D$400,$B723,'Unit Detail'!$H$8:$H$400)","v":0},0,"",{"$f":"COUNTIFS('Unit Detail'!$Y$8:$Y$400,\"1\",'Unit Detail'!$D$8:$D$400,'Building Detail'!$B723)","v":0},{"$f":"COUNTIFS('Unit Detail'!$Y$8:$Y$400,\"3\",'Unit Detail'!$D$8:$D$400,'Building Detail'!$B723)","v":0},{"$f":"COUNTIFS('Unit Detail'!$Y$8:$Y$400,\"2\",'Unit Detail'!$D$8:$D$400,'Building Detail'!$B723)","v":0},0,{"$f":"IF(B723=\"\",\"\",IF($P$15=0,1,U723/X723))","v":""},""]
[null,null,null,null,null,null,null,null,null,null,null,null,null,null,{"$f":"SUMIFS('Unit Detail'!$H$8:$H$400,'Unit Detail'!$D$8:$D$400,'Building Detail'!$B724,'Unit Detail'!$Y$8:$Y$400,1)","v":0},{"$f":"SUMIFS('Unit Detail'!$H$8:$H$400,'Unit Detail'!$D$8:$D$400,'Building Detail'!$B724,'Unit Detail'!$Y$8:$Y$400,3)","v":0},{"$f":"SUMIFS('Unit Detail'!$H$8:$H$400,'Unit Detail'!$D$8:$D$400,'Building Detail'!$B724,'Unit Detail'!$Y$8:$Y$400,2)","v":0},{"$f":"SUMIF('Unit Detail'!$D$8:$D$400,$B724,'Unit Detail'!$H$8:$H$400)","v":0},0,"",{"$f":"COUNTIFS('Unit Detail'!$Y$8:$Y$400,\"1\",'Unit Detail'!$D$8:$D$400,'Building Detail'!$B724)","v":0},{"$f":"COUNTIFS('Unit Detail'!$Y$8:$Y$400,\"3\",'Unit Detail'!$D$8:$D$400,'Building Detail'!$B724)","v":0},{"$f":"COUNTIFS('Unit Detail'!$Y$8:$Y$400,\"2\",'Unit Detail'!$D$8:$D$400,'Building Detail'!$B724)","v":0},0,"",""]
[null,null,null,null,null,null,null,null,null,null,null,null,null,null,{"$f":"SUMIFS('Unit Detail'!$H$8:$H$400,'Unit Detail'!$D$8:$D$400,'Building Detail'!$B725,'Unit Detail'!$Y$8:$Y$400,1)","v":0},{"$f":"SUMIFS('Unit Detail'!$H$8:$H$400,'Unit Detail'!$D$8:$D$400,'Building Detail'!$B725,'Unit Detail'!$Y$8:$Y$400,3)","v":0},{"$f":"SUMIFS('Unit Detail'!$H$8:$H$400,'Unit Detail'!$D$8:$D$400,'Building Detail'!$B725,'Unit Detail'!$Y$8:$Y$400,2)","v":0},{"$f":"SUMIF('Unit Detail'!$D$8:$D$400,$B725,'Unit Detail'!$H$8:$H$400)","v":0},0,{"$f":"IF(B725=\"\",\"\",IF($P$15=0,1,O725/R725))","v":""},{"$f":"COUNTIFS('Unit Detail'!$Y$8:$Y$400,\"1\",'Unit Detail'!$D$8:$D$400,'Building Detail'!$B725)","v":0},{"$f":"COUNTIFS('Unit Detail'!$Y$8:$Y$400,\"3\",'Unit Detail'!$D$8:$D$400,'Building Detail'!$B725)","v":0},{"$f":"COUNTIFS('Unit Detail'!$Y$8:$Y$400,\"2\",'Unit Detail'!$D$8:$D$400,'Building Detail'!$B725)","v":0},0,"",""]
[null,null,null,null,null,null,null,null,null,null,null,null,null,null,{"$f":"SUMIFS('Unit Detail'!$H$8:$H$400,'Unit Detail'!$D$8:$D$400,'Building Detail'!$B726,'Unit Detail'!$Y$8:$Y$400,1)","v":0},{"$f":"SUMIFS('Unit Detail'!$H$8:$H$400,'Unit Detail'!$D$8:$D$400,'Building Detail'!$B726,'Unit Detail'!$Y$8:$Y$400,3)","v":0},{"$f":"SUMIFS('Unit Detail'!$H$8:$H$400,'Unit Detail'!$D$8:$D$400,'Building Detail'!$B726,'Unit Detail'!$Y$8:$Y$400,2)","v":0},{"$f":"SUMIF('Unit Detail'!$D$8:$D$400,$B726,'Unit Detail'!$H$8:$H$400)","v":0},0,"",{"$f":"COUNTIFS('Unit Detail'!$Y$8:$Y$400,\"1\",'Unit Detail'!$D$8:$D$400,'Building Detail'!$B726)","v":0},{"$f":"COUNTIFS('Unit Detail'!$Y$8:$Y$400,\"3\",'Unit Detail'!$D$8:$D$400,'Building Detail'!$B726)","v":0},{"$f":"COUNTIFS('Unit Detail'!$Y$8:$Y$400,\"2\",'Unit Detail'!$D$8:$D$400,'Building Detail'!$B726)","v":0},0,"",""]
[null,null,null,null,null,null,null,null,null,null,null,null,null,null,{"$f":"SUMIFS('Unit Detail'!$H$8:$H$400,'Unit Detail'!$D$8:$D$400,'Building Detail'!$B727,'Unit Detail'!$Y$8:$Y$400,1)","v":0},{"$f":"SUMIFS('Unit Detail'!$H$8:$H$400,'Unit Detail'!$D$8:$D$400,'Building Detail'!$B727,'Unit Detail'!$Y$8:$Y$400,3)","v":0},{"$f":"SUMIFS('Unit Detail'!$H$8:$H$400,'Unit Detail'!$D$8:$D$400,'Building Detail'!$B727,'Unit Detail'!$Y$8:$Y$400,2)","v":0},{"$f":"SUMIF('Unit Detail'!$D$8:$D$400,$B727,'Unit Detail'!$H$8:$H$400)","v":0},0,"",{"$f":"COUNTIFS('Unit Detail'!$Y$8:$Y$400,\"1\",'Unit Detail'!$D$8:$D$400,'Building Detail'!$B727)","v":0},{"$f":"COUNTIFS('Unit Detail'!$Y$8:$Y$400,\"3\",'Unit Detail'!$D$8:$D$400,'Building Detail'!$B727)","v":0},{"$f":"COUNTIFS('Unit Detail'!$Y$8:$Y$400,\"2\",'Unit Detail'!$D$8:$D$400,'Building Detail'!$B727)","v":0},0,"",""]
[null,null,null,null,null,null,null,null,null,null,null,null,null,null,{"$f":"SUMIFS('Unit Detail'!$H$8:$H$400,'Unit Detail'!$D$8:$D$400,'Building Detail'!$B728,'Unit Detail'!$Y$8:$Y$400,1)","v":0},{"$f":"SUMIFS('Unit Detail'!$H$8:$H$400,'Unit Detail'!$D$8:$D$400,'Building Detail'!$B728,'Unit Detail'!$Y$8:$Y$400,3)","v":0},{"$f":"SUMIFS('Unit Detail'!$H$8:$H$400,'Unit Detail'!$D$8:$D$400,'Building Detail'!$B728,'Unit Detail'!$Y$8:$Y$400,2)","v":0},{"$f":"SUMIF('Unit Detail'!$D$8:$D$400,$B728,'Unit Detail'!$H$8:$H$400)","v":0},0,"",{"$f":"COUNTIFS('Unit Detail'!$Y$8:$Y$400,\"1\",'Unit Detail'!$D$8:$D$400,'Building Detail'!$B728)","v":0},{"$f":"COUNTIFS('Unit Detail'!$Y$8:$Y$400,\"3\",'Unit Detail'!$D$8:$D$400,'Building Detail'!$B728)","v":0},{"$f":"COUNTIFS('Unit Detail'!$Y$8:$Y$400,\"2\",'Unit Detail'!$D$8:$D$400,'Building Detail'!$B728)","v":0},0,"",""]
[null,null,null,null,null,null,null,null,null,null,null,null,null,null,{"$f":"SUMIFS('Unit Detail'!$H$8:$H$400,'Unit Detail'!$D$8:$D$400,'Building Detail'!$B729,'Unit Detail'!$Y$8:$Y$400,1)","v":0},{"$f":"SUMIFS('Unit Detail'!$H$8:$H$400,'Unit Detail'!$D$8:$D$400,'Building Detail'!$B729,'Unit Detail'!$Y$8:$Y$400,3)","v":0},{"$f":"SUMIFS('Unit Detail'!$H$8:$H$400,'Unit Detail'!$D$8:$D$400,'Building Detail'!$B729,'Unit Detail'!$Y$8:$Y$400,2)","v":0},{"$f":"SUMIF('Unit Detail'!$D$8:$D$400,$B729,'Unit Detail'!$H$8:$H$400)","v":0},0,"",{"$f":"COUNTIFS('Unit Detail'!$Y$8:$Y$400,\"1\",'Unit Detail'!$D$8:$D$400,'Building Detail'!$B729)","v":0},{"$f":"COUNTIFS('Unit Detail'!$Y$8:$Y$400,\"3\",'Unit Detail'!$D$8:$D$400,'Building Detail'!$B729)","v":0},{"$f":"COUNTIFS('Unit Detail'!$Y$8:$Y$400,\"2\",'Unit Detail'!$D$8:$D$400,'Building Detail'!$B729)","v":0},0,"",""]
[null,null,null,null,null,null,null,null,null,null,null,null,null,null,{"$f":"SUMIFS('Unit Detail'!$H$8:$H$400,'Unit Detail'!$D$8:$D$400,'Building Detail'!$B730,'Unit Detail'!$Y$8:$Y$400,1)","v":0},{"$f":"SUMIFS('Unit Detail'!$H$8:$H$400,'Unit Detail'!$D$8:$D$400,'Building Detail'!$B730,'Unit Detail'!$Y$8:$Y$400,3)","v":0},{"$f":"SUMIFS('Unit Detail'!$H$8:$H$400,'Unit Detail'!$D$8:$D$400,'Building Detail'!$B730,'Unit Detail'!$Y$8:$Y$400,2)","v":0},{"$f":"SUMIF('Unit Detail'!$D$8:$D$400,$B730,'Unit Detail'!$H$8:$H$400)","v":0},0,"",{"$f":"COUNTIFS('Unit Detail'!$Y$8:$Y$400,\"1\",'Unit Detail'!$D$8:$D$400,'Building Detail'!$B730)","v":0},{"$f":"COUNTIFS('Unit Detail'!$Y$8:$Y$400,\"3\",'Unit Detail'!$D$8:$D$400,'Building Detail'!$B730)","v":0},{"$f":"COUNTIFS('Unit Detail'!$Y$8:$Y$400,\"2\",'Unit Detail'!$D$8:$D$400,'Building Detail'!$B730)","v":0},0,"",""]
[null,null,null,null,null,null,null,null,null,null,null,null,null,null,{"$f":"SUMIFS('Unit Detail'!$H$8:$H$400,'Unit Detail'!$D$8:$D$400,'Building Detail'!$B731,'Unit Detail'!$Y$8:$Y$400,1)","v":0},{"$f":"SUMIFS('Unit Detail'!$H$8:$H$400,'Unit Detail'!$D$8:$D$400,'Building Detail'!$B731,'Unit Detail'!$Y$8:$Y$400,3)","v":0},{"$f":"SUMIFS('Unit Detail'!$H$8:$H$400,'Unit Detail'!$D$8:$D$400,'Building Detail'!$B731,'Unit Detail'!$Y$8:$Y$400,2)","v":0},{"$f":"SUMIF('Unit Detail'!$D$8:$D$400,$B731,'Unit Detail'!$H$8:$H$400)","v":0},0,"",{"$f":"COUNTIFS('Unit Detail'!$Y$8:$Y$400,\"1\",'Unit Detail'!$D$8:$D$400,'Building Detail'!$B731)","v":0},{"$f":"COUNTIFS('Unit Detail'!$Y$8:$Y$400,\"3\",'Unit Detail'!$D$8:$D$400,'Building Detail'!$B731)","v":0},{"$f":"COUNTIFS('Unit Detail'!$Y$8:$Y$400,\"2\",'Unit Detail'!$D$8:$D$400,'Building Detail'!$B731)","v":0},0,"",""]
[null,null,null,null,null,null,null,null,null,null,null,null,null,null,{"$f":"SUMIFS('Unit Detail'!$H$8:$H$400,'Unit Detail'!$D$8:$D$400,'Building Detail'!$B732,'Unit Detail'!$Y$8:$Y$400,1)","v":0},{"$f":"SUMIFS('Unit Detail'!$H$8:$H$400,'Unit Detail'!$D$8:$D$400,'Building Detail'!$B732,'Unit Detail'!$Y$8:$Y$400,3)","v":0},{"$f":"SUMIFS('Unit Detail'!$H$8:$H$400,'Unit Detail'!$D$8:$D$400,'Building Detail'!$B732,'Unit Detail'!$Y$8:$Y$400,2)","v":0},{"$f":"SUMIF('Unit Detail'!$D$8:$D$400,$B732,'Unit Detail'!$H$8:$H$400)","v":0},0,"",{"$f":"COUNTIFS('Unit Detail'!$Y$8:$Y$400,\"1\",'Unit Detail'!$D$8:$D$400,'Building Detail'!$B732)","v":0},{"$f":"COUNTIFS('Unit Detail'!$Y$8:$Y$400,\"3\",'Unit Detail'!$D$8:$D$400,'Building Detail'!$B732)","v":0},{"$f":"COUNTIFS('Unit Detail'!$Y$8:$Y$400,\"2\",'Unit Detail'!$D$8:$D$400,'Building Detail'!$B732)","v":0},0,"",""]
[null,null,null,null,null,null,null,null,null,null,null,null,null,null,{"$f":"SUMIFS('Unit Detail'!$H$8:$H$400,'Unit Detail'!$D$8:$D$400,'Building Detail'!$B733,'Unit Detail'!$Y$8:$Y$400,1)","v":0},{"$f":"SUMIFS('Unit Detail'!$H$8:$H$400,'Unit Detail'!$D$8:$D$400,'Building Detail'!$B733,'Unit Detail'!$Y$8:$Y$400,3)","v":0},{"$f":"SUMIFS('Unit Detail'!$H$8:$H$400,'Unit Detail'!$D$8:$D$400,'Building Detail'!$B733,'Unit Detail'!$Y$8:$Y$400,2)","v":0},{"$f":"SUMIF('Unit Detail'!$D$8:$D$400,$B733,'Unit Detail'!$H$8:$H$400)","v":0},0,"",{"$f":"COUNTIFS('Unit Detail'!$Y$8:$Y$400,\"1\",'Unit Detail'!$D$8:$D$400,'Building Detail'!$B733)","v":0},{"$f":"COUNTIFS('Unit Detail'!$Y$8:$Y$400,\"3\",'Unit Detail'!$D$8:$D$400,'Building Detail'!$B733)","v":0},{"$f":"COUNTIFS('Unit Detail'!$Y$8:$Y$400,\"2\",'Unit Detail'!$D$8:$D$400,'Building Detail'!$B733)","v":0},0,"",""]
[null,null,null,null,null,null,null,null,null,null,null,null,null,null,{"$f":"SUMIFS('Unit Detail'!$H$8:$H$400,'Unit Detail'!$D$8:$D$400,'Building Detail'!$B734,'Unit Detail'!$Y$8:$Y$400,1)","v":0},{"$f":"SUMIFS('Unit Detail'!$H$8:$H$400,'Unit Detail'!$D$8:$D$400,'Building Detail'!$B734,'Unit Detail'!$Y$8:$Y$400,3)","v":0},{"$f":"SUMIFS('Unit Detail'!$H$8:$H$400,'Unit Detail'!$D$8:$D$400,'Building Detail'!$B734,'Unit Detail'!$Y$8:$Y$400,2)","v":0},{"$f":"SUMIF('Unit Detail'!$D$8:$D$400,$B734,'Unit Detail'!$H$8:$H$400)","v":0},0,"",{"$f":"COUNTIFS('Unit Detail'!$Y$8:$Y$400,\"1\",'Unit Detail'!$D$8:$D$400,'Building Detail'!$B734)","v":0},{"$f":"COUNTIFS('Unit Detail'!$Y$8:$Y$400,\"3\",'Unit Detail'!$D$8:$D$400,'Building Detail'!$B734)","v":0},{"$f":"COUNTIFS('Unit Detail'!$Y$8:$Y$400,\"2\",'Unit Detail'!$D$8:$D$400,'Building Detail'!$B734)","v":0},0,"",""]
[null,null,null,null,null,null,null,null,null,null,null,null,null,null,{"$f":"SUMIFS('Unit Detail'!$H$8:$H$400,'Unit Detail'!$D$8:$D$400,'Building Detail'!$B735,'Unit Detail'!$Y$8:$Y$400,1)","v":0},{"$f":"SUMIFS('Unit Detail'!$H$8:$H$400,'Unit Detail'!$D$8:$D$400,'Building Detail'!$B735,'Unit Detail'!$Y$8:$Y$400,3)","v":0},{"$f":"SUMIFS('Unit Detail'!$H$8:$H$400,'Unit Detail'!$D$8:$D$400,'Building Detail'!$B735,'Unit Detail'!$Y$8:$Y$400,2)","v":0},{"$f":"SUMIF('Unit Detail'!$D$8:$D$400,$B735,'Unit Detail'!$H$8:$H$400)","v":0},0,"",{"$f":"COUNTIFS('Unit Detail'!$Y$8:$Y$400,\"1\",'Unit Detail'!$D$8:$D$400,'Building Detail'!$B735)","v":0},{"$f":"COUNTIFS('Unit Detail'!$Y$8:$Y$400,\"3\",'Unit Detail'!$D$8:$D$400,'Building Detail'!$B735)","v":0},{"$f":"COUNTIFS('Unit Detail'!$Y$8:$Y$400,\"2\",'Unit Detail'!$D$8:$D$400,'Building Detail'!$B735)","v":0},0,"",""]
[null,null,null,null,null,null,null,null,null,null,null,null,null,null,{"$f":"SUMIFS('Unit Detail'!$H$8:$H$400,'Unit Detail'!$D$8:$D$400,'Building Detail'!$B736,'Unit Detail'!$Y$8:$Y$400,1)","v":0},{"$f":"SUMIFS('Unit Detail'!$H$8:$H$400,'Unit Detail'!$D$8:$D$400,'Building Detail'!$B736,'Unit Detail'!$Y$8:$Y$400,3)","v":0},{"$f":"SUMIFS('Unit Detail'!$H$8:$H$400,'Unit Detail'!$D$8:$D$400,'Building Detail'!$B736,'Unit Detail'!$Y$8:$Y$400,2)","v":0},{"$f":"SUMIF('Unit Detail'!$D$8:$D$400,$B736,'Unit Detail'!$H$8:$H$400)","v":0},0,"",{"$f":"COUNTIFS('Unit Detail'!$Y$8:$Y$400,\"1\",'Unit Detail'!$D$8:$D$400,'Building Detail'!$B736)","v":0},{"$f":"COUNTIFS('Unit Detail'!$Y$8:$Y$400,\"3\",'Unit Detail'!$D$8:$D$400,'Building Detail'!$B736)","v":0},{"$f":"COUNTIFS('Unit Detail'!$Y$8:$Y$400,\"2\",'Unit Detail'!$D$8:$D$400,'Building Detail'!$B736)","v":0},0,"",""]
[null,null,null,null,null,null,null,null,null,null,null,null,null,null,{"$f":"SUMIFS('Unit Detail'!$H$8:$H$400,'Unit Detail'!$D$8:$D$400,'Building Detail'!$B737,'Unit Detail'!$Y$8:$Y$400,1)","v":0},{"$f":"SUMIFS('Unit Detail'!$H$8:$H$400,'Unit Detail'!$D$8:$D$400,'Building Detail'!$B737,'Unit Detail'!$Y$8:$Y$400,3)","v":0},{"$f":"SUMIFS('Unit Detail'!$H$8:$H$400,'Unit Detail'!$D$8:$D$400,'Building Detail'!$B737,'Unit Detail'!$Y$8:$Y$400,2)","v":0},{"$f":"SUMIF('Unit Detail'!$D$8:$D$400,$B737,'Unit Detail'!$H$8:$H$400)","v":0},0,"",{"$f":"COUNTIFS('Unit Detail'!$Y$8:$Y$400,\"1\",'Unit Detail'!$D$8:$D$400,'Building Detail'!$B737)","v":0},{"$f":"COUNTIFS('Unit Detail'!$Y$8:$Y$400,\"3\",'Unit Detail'!$D$8:$D$400,'Building Detail'!$B737)","v":0},{"$f":"COUNTIFS('Unit Detail'!$Y$8:$Y$400,\"2\",'Unit Detail'!$D$8:$D$400,'Building Detail'!$B737)","v":0},0,"",""]
[null,null,null,null,null,null,null,null,null,null,null,null,null,null,{"$f":"SUMIFS('Unit Detail'!$H$8:$H$400,'Unit Detail'!$D$8:$D$400,'Building Detail'!$B738,'Unit Detail'!$Y$8:$Y$400,1)","v":0},{"$f":"SUMIFS('Unit Detail'!$H$8:$H$400,'Unit Detail'!$D$8:$D$400,'Building Detail'!$B738,'Unit Detail'!$Y$8:$Y$400,3)","v":0},{"$f":"SUMIFS('Unit Detail'!$H$8:$H$400,'Unit Detail'!$D$8:$D$400,'Building Detail'!$B738,'Unit Detail'!$Y$8:$Y$400,2)","v":0},{"$f":"SUMIF('Unit Detail'!$D$8:$D$400,$B738,'Unit Detail'!$H$8:$H$400)","v":0},0,"",{"$f":"COUNTIFS('Unit Detail'!$Y$8:$Y$400,\"1\",'Unit Detail'!$D$8:$D$400,'Building Detail'!$B738)","v":0},{"$f":"COUNTIFS('Unit Detail'!$Y$8:$Y$400,\"3\",'Unit Detail'!$D$8:$D$400,'Building Detail'!$B738)","v":0},{"$f":"COUNTIFS('Unit Detail'!$Y$8:$Y$400,\"2\",'Unit Detail'!$D$8:$D$400,'Building Detail'!$B738)","v":0},0,"",""]
[null,null,null,null,null,null,null,null,null,null,null,null,null,null,{"$f":"SUMIFS('Unit Detail'!$H$8:$H$400,'Unit Detail'!$D$8:$D$400,'Building Detail'!$B739,'Unit Detail'!$Y$8:$Y$400,1)","v":0},{"$f":"SUMIFS('Unit Detail'!$H$8:$H$400,'Unit Detail'!$D$8:$D$400,'Building Detail'!$B739,'Unit Detail'!$Y$8:$Y$400,3)","v":0},{"$f":"SUMIFS('Unit Detail'!$H$8:$H$400,'Unit Detail'!$D$8:$D$400,'Building Detail'!$B739,'Unit Detail'!$Y$8:$Y$400,2)","v":0},{"$f":"SUMIF('Unit Detail'!$D$8:$D$400,$B739,'Unit Detail'!$H$8:$H$400)","v":0},0,"",{"$f":"COUNTIFS('Unit Detail'!$Y$8:$Y$400,\"1\",'Unit Detail'!$D$8:$D$400,'Building Detail'!$B739)","v":0},{"$f":"COUNTIFS('Unit Detail'!$Y$8:$Y$400,\"3\",'Unit Detail'!$D$8:$D$400,'Building Detail'!$B739)","v":0},{"$f":"COUNTIFS('Unit Detail'!$Y$8:$Y$400,\"2\",'Unit Detail'!$D$8:$D$400,'Building Detail'!$B739)","v":0},0,"",""]
[null,null,null,null,null,null,null,null,null,null,null,null,null,null,{"$f":"SUMIFS('Unit Detail'!$H$8:$H$400,'Unit Detail'!$D$8:$D$400,'Building Detail'!$B740,'Unit Detail'!$Y$8:$Y$400,1)","v":0},{"$f":"SUMIFS('Unit Detail'!$H$8:$H$400,'Unit Detail'!$D$8:$D$400,'Building Detail'!$B740,'Unit Detail'!$Y$8:$Y$400,3)","v":0},{"$f":"SUMIFS('Unit Detail'!$H$8:$H$400,'Unit Detail'!$D$8:$D$400,'Building Detail'!$B740,'Unit Detail'!$Y$8:$Y$400,2)","v":0},{"$f":"SUMIF('Unit Detail'!$D$8:$D$400,$B740,'Unit Detail'!$H$8:$H$400)","v":0},0,"",{"$f":"COUNTIFS('Unit Detail'!$Y$8:$Y$400,\"1\",'Unit Detail'!$D$8:$D$400,'Building Detail'!$B740)","v":0},{"$f":"COUNTIFS('Unit Detail'!$Y$8:$Y$400,\"3\",'Unit Detail'!$D$8:$D$400,'Building Detail'!$B740)","v":0},{"$f":"COUNTIFS('Unit Detail'!$Y$8:$Y$400,\"2\",'Unit Detail'!$D$8:$D$400,'Building Detail'!$B740)","v":0},0,"",""]
[null,null,null,null,null,null,null,null,null,null,null,null,null,null,{"$f":"SUMIFS('Unit Detail'!$H$8:$H$400,'Unit Detail'!$D$8:$D$400,'Building Detail'!$B741,'Unit Detail'!$Y$8:$Y$400,1)","v":0},{"$f":"SUMIFS('Unit Detail'!$H$8:$H$400,'Unit Detail'!$D$8:$D$400,'Building Detail'!$B741,'Unit Detail'!$Y$8:$Y$400,3)","v":0},{"$f":"SUMIFS('Unit Detail'!$H$8:$H$400,'Unit Detail'!$D$8:$D$400,'Building Detail'!$B741,'Unit Detail'!$Y$8:$Y$400,2)","v":0},{"$f":"SUMIF('Unit Detail'!$D$8:$D$400,$B741,'Unit Detail'!$H$8:$H$400)","v":0},0,"",{"$f":"COUNTIFS('Unit Detail'!$Y$8:$Y$400,\"1\",'Unit Detail'!$D$8:$D$400,'Building Detail'!$B741)","v":0},{"$f":"COUNTIFS('Unit Detail'!$Y$8:$Y$400,\"3\",'Unit Detail'!$D$8:$D$400,'Building Detail'!$B741)","v":0},{"$f":"COUNTIFS('Unit Detail'!$Y$8:$Y$400,\"2\",'Unit Detail'!$D$8:$D$400,'Building Detail'!$B741)","v":0},0,"",""]
[null,null,null,null,null,null,null,null,null,null,null,null,null,null,{"$f":"SUMIFS('Unit Detail'!$H$8:$H$400,'Unit Detail'!$D$8:$D$400,'Building Detail'!$B742,'Unit Detail'!$Y$8:$Y$400,1)","v":0},{"$f":"SUMIFS('Unit Detail'!$H$8:$H$400,'Unit Detail'!$D$8:$D$400,'Building Detail'!$B742,'Unit Detail'!$Y$8:$Y$400,3)","v":0},{"$f":"SUMIFS('Unit Detail'!$H$8:$H$400,'Unit Detail'!$D$8:$D$400,'Building Detail'!$B742,'Unit Detail'!$Y$8:$Y$400,2)","v":0},{"$f":"SUMIF('Unit Detail'!$D$8:$D$400,$B742,'Unit Detail'!$H$8:$H$400)","v":0},0,"",{"$f":"COUNTIFS('Unit Detail'!$Y$8:$Y$400,\"1\",'Unit Detail'!$D$8:$D$400,'Building Detail'!$B742)","v":0},{"$f":"COUNTIFS('Unit Detail'!$Y$8:$Y$400,\"3\",'Unit Detail'!$D$8:$D$400,'Building Detail'!$B742)","v":0},{"$f":"COUNTIFS('Unit Detail'!$Y$8:$Y$400,\"2\",'Unit Detail'!$D$8:$D$400,'Building Detail'!$B742)","v":0},0,"",""]
[null,null,null,null,null,null,null,null,null,null,null,null,null,null,{"$f":"SUMIFS('Unit Detail'!$H$8:$H$400,'Unit Detail'!$D$8:$D$400,'Building Detail'!$B743,'Unit Detail'!$Y$8:$Y$400,1)","v":0},{"$f":"SUMIFS('Unit Detail'!$H$8:$H$400,'Unit Detail'!$D$8:$D$400,'Building Detail'!$B743,'Unit Detail'!$Y$8:$Y$400,3)","v":0},{"$f":"SUMIFS('Unit Detail'!$H$8:$H$400,'Unit Detail'!$D$8:$D$400,'Building Detail'!$B743,'Unit Detail'!$Y$8:$Y$400,2)","v":0},{"$f":"SUMIF('Unit Detail'!$D$8:$D$400,$B743,'Unit Detail'!$H$8:$H$400)","v":0},0,"",{"$f":"COUNTIFS('Unit Detail'!$Y$8:$Y$400,\"1\",'Unit Detail'!$D$8:$D$400,'Building Detail'!$B743)","v":0},{"$f":"COUNTIFS('Unit Detail'!$Y$8:$Y$400,\"3\",'Unit Detail'!$D$8:$D$400,'Building Detail'!$B743)","v":0},{"$f":"COUNTIFS('Unit Detail'!$Y$8:$Y$400,\"2\",'Unit Detail'!$D$8:$D$400,'Building Detail'!$B743)","v":0},0,"",""]
[null,null,null,null,null,null,null,null,null,null,null,null,null,null,{"$f":"SUMIFS('Unit Detail'!$H$8:$H$400,'Unit Detail'!$D$8:$D$400,'Building Detail'!$B744,'Unit Detail'!$Y$8:$Y$400,1)","v":0},{"$f":"SUMIFS('Unit Detail'!$H$8:$H$400,'Unit Detail'!$D$8:$D$400,'Building Detail'!$B744,'Unit Detail'!$Y$8:$Y$400,3)","v":0},{"$f":"SUMIFS('Unit Detail'!$H$8:$H$400,'Unit Detail'!$D$8:$D$400,'Building Detail'!$B744,'Unit Detail'!$Y$8:$Y$400,2)","v":0},{"$f":"SUMIF('Unit Detail'!$D$8:$D$400,$B744,'Unit Detail'!$H$8:$H$400)","v":0},0,"",{"$f":"COUNTIFS('Unit Detail'!$Y$8:$Y$400,\"1\",'Unit Detail'!$D$8:$D$400,'Building Detail'!$B744)","v":0},{"$f":"COUNTIFS('Unit Detail'!$Y$8:$Y$400,\"3\",'Unit Detail'!$D$8:$D$400,'Building Detail'!$B744)","v":0},{"$f":"COUNTIFS('Unit Detail'!$Y$8:$Y$400,\"2\",'Unit Detail'!$D$8:$D$400,'Building Detail'!$B744)","v":0},0,"",""]
[null,null,null,null,null,null,null,null,null,null,null,null,null,null,{"$f":"SUMIFS('Unit Detail'!$H$8:$H$400,'Unit Detail'!$D$8:$D$400,'Building Detail'!$B745,'Unit Detail'!$Y$8:$Y$400,1)","v":0},{"$f":"SUMIFS('Unit Detail'!$H$8:$H$400,'Unit Detail'!$D$8:$D$400,'Building Detail'!$B745,'Unit Detail'!$Y$8:$Y$400,3)","v":0},{"$f":"SUMIFS('Unit Detail'!$H$8:$H$400,'Unit Detail'!$D$8:$D$400,'Building Detail'!$B745,'Unit Detail'!$Y$8:$Y$400,2)","v":0},{"$f":"SUMIF('Unit Detail'!$D$8:$D$400,$B745,'Unit Detail'!$H$8:$H$400)","v":0},0,"",{"$f":"COUNTIFS('Unit Detail'!$Y$8:$Y$400,\"1\",'Unit Detail'!$D$8:$D$400,'Building Detail'!$B745)","v":0},{"$f":"COUNTIFS('Unit Detail'!$Y$8:$Y$400,\"3\",'Unit Detail'!$D$8:$D$400,'Building Detail'!$B745)","v":0},{"$f":"COUNTIFS('Unit Detail'!$Y$8:$Y$400,\"2\",'Unit Detail'!$D$8:$D$400,'Building Detail'!$B745)","v":0},0,"",""]
[null,null,null,null,null,null,null,null,null,null,null,null,null,null,{"$f":"SUMIFS('Unit Detail'!$H$8:$H$400,'Unit Detail'!$D$8:$D$400,'Building Detail'!$B746,'Unit Detail'!$Y$8:$Y$400,1)","v":0},{"$f":"SUMIFS('Unit Detail'!$H$8:$H$400,'Unit Detail'!$D$8:$D$400,'Building Detail'!$B746,'Unit Detail'!$Y$8:$Y$400,3)","v":0},{"$f":"SUMIFS('Unit Detail'!$H$8:$H$400,'Unit Detail'!$D$8:$D$400,'Building Detail'!$B746,'Unit Detail'!$Y$8:$Y$400,2)","v":0},{"$f":"SUMIF('Unit Detail'!$D$8:$D$400,$B746,'Unit Detail'!$H$8:$H$400)","v":0},0,"",{"$f":"COUNTIFS('Unit Detail'!$Y$8:$Y$400,\"1\",'Unit Detail'!$D$8:$D$400,'Building Detail'!$B746)","v":0},{"$f":"COUNTIFS('Unit Detail'!$Y$8:$Y$400,\"3\",'Unit Detail'!$D$8:$D$400,'Building Detail'!$B746)","v":0},{"$f":"COUNTIFS('Unit Detail'!$Y$8:$Y$400,\"2\",'Unit Detail'!$D$8:$D$400,'Building Detail'!$B746)","v":0},0,"",""]
[null,null,null,null,null,null,null,null,null,null,null,null,null,null,{"$f":"SUMIFS('Unit Detail'!$H$8:$H$400,'Unit Detail'!$D$8:$D$400,'Building Detail'!$B747,'Unit Detail'!$Y$8:$Y$400,1)","v":0},{"$f":"SUMIFS('Unit Detail'!$H$8:$H$400,'Unit Detail'!$D$8:$D$400,'Building Detail'!$B747,'Unit Detail'!$Y$8:$Y$400,3)","v":0},{"$f":"SUMIFS('Unit Detail'!$H$8:$H$400,'Unit Detail'!$D$8:$D$400,'Building Detail'!$B747,'Unit Detail'!$Y$8:$Y$400,2)","v":0},{"$f":"SUMIF('Unit Detail'!$D$8:$D$400,$B747,'Unit Detail'!$H$8:$H$400)","v":0},0,"",{"$f":"COUNTIFS('Unit Detail'!$Y$8:$Y$400,\"1\",'Unit Detail'!$D$8:$D$400,'Building Detail'!$B747)","v":0},{"$f":"COUNTIFS('Unit Detail'!$Y$8:$Y$400,\"3\",'Unit Detail'!$D$8:$D$400,'Building Detail'!$B747)","v":0},{"$f":"COUNTIFS('Unit Detail'!$Y$8:$Y$400,\"2\",'Unit Detail'!$D$8:$D$400,'Building Detail'!$B747)","v":0},0,"",""]
[null,null,null,null,null,null,null,null,null,null,null,null,null,null,{"$f":"SUMIFS('Unit Detail'!$H$8:$H$400,'Unit Detail'!$D$8:$D$400,'Building Detail'!$B748,'Unit Detail'!$Y$8:$Y$400,1)","v":0},{"$f":"SUMIFS('Unit Detail'!$H$8:$H$400,'Unit Detail'!$D$8:$D$400,'Building Detail'!$B748,'Unit Detail'!$Y$8:$Y$400,3)","v":0},{"$f":"SUMIFS('Unit Detail'!$H$8:$H$400,'Unit Detail'!$D$8:$D$400,'Building Detail'!$B748,'Unit Detail'!$Y$8:$Y$400,2)","v":0},{"$f":"SUMIF('Unit Detail'!$D$8:$D$400,$B748,'Unit Detail'!$H$8:$H$400)","v":0},0,"",{"$f":"COUNTIFS('Unit Detail'!$Y$8:$Y$400,\"1\",'Unit Detail'!$D$8:$D$400,'Building Detail'!$B748)","v":0},{"$f":"COUNTIFS('Unit Detail'!$Y$8:$Y$400,\"3\",'Unit Detail'!$D$8:$D$400,'Building Detail'!$B748)","v":0},{"$f":"COUNTIFS('Unit Detail'!$Y$8:$Y$400,\"2\",'Unit Detail'!$D$8:$D$400,'Building Detail'!$B748)","v":0},0,"",""]
[null,null,null,null,null,null,null,null,null,null,null,null,null,null,{"$f":"SUMIFS('Unit Detail'!$H$8:$H$400,'Unit Detail'!$D$8:$D$400,'Building Detail'!$B749,'Unit Detail'!$Y$8:$Y$400,1)","v":0},{"$f":"SUMIFS('Unit Detail'!$H$8:$H$400,'Unit Detail'!$D$8:$D$400,'Building Detail'!$B749,'Unit Detail'!$Y$8:$Y$400,3)","v":0},{"$f":"SUMIFS('Unit Detail'!$H$8:$H$400,'Unit Detail'!$D$8:$D$400,'Building Detail'!$B749,'Unit Detail'!$Y$8:$Y$400,2)","v":0},{"$f":"SUMIF('Unit Detail'!$D$8:$D$400,$B749,'Unit Detail'!$H$8:$H$400)","v":0},0,"",{"$f":"COUNTIFS('Unit Detail'!$Y$8:$Y$400,\"1\",'Unit Detail'!$D$8:$D$400,'Building Detail'!$B749)","v":0},{"$f":"COUNTIFS('Unit Detail'!$Y$8:$Y$400,\"3\",'Unit Detail'!$D$8:$D$400,'Building Detail'!$B749)","v":0},{"$f":"COUNTIFS('Unit Detail'!$Y$8:$Y$400,\"2\",'Unit Detail'!$D$8:$D$400,'Building Detail'!$B749)","v":0},0,"",""]
[null,null,null,null,null,null,null,null,null,null,null,null,null,null,{"$f":"SUMIFS('Unit Detail'!$H$8:$H$400,'Unit Detail'!$D$8:$D$400,'Building Detail'!$B750,'Unit Detail'!$Y$8:$Y$400,1)","v":0},{"$f":"SUMIFS('Unit Detail'!$H$8:$H$400,'Unit Detail'!$D$8:$D$400,'Building Detail'!$B750,'Unit Detail'!$Y$8:$Y$400,3)","v":0},{"$f":"SUMIFS('Unit Detail'!$H$8:$H$400,'Unit Detail'!$D$8:$D$400,'Building Detail'!$B750,'Unit Detail'!$Y$8:$Y$400,2)","v":0},{"$f":"SUMIF('Unit Detail'!$D$8:$D$400,$B750,'Unit Detail'!$H$8:$H$400)","v":0},0,"",{"$f":"COUNTIFS('Unit Detail'!$Y$8:$Y$400,\"1\",'Unit Detail'!$D$8:$D$400,'Building Detail'!$B750)","v":0},{"$f":"COUNTIFS('Unit Detail'!$Y$8:$Y$400,\"3\",'Unit Detail'!$D$8:$D$400,'Building Detail'!$B750)","v":0},{"$f":"COUNTIFS('Unit Detail'!$Y$8:$Y$400,\"2\",'Unit Detail'!$D$8:$D$400,'Building Detail'!$B750)","v":0},0,"",""]
[null,null,null,null,null,null,null,null,null,null,null,null,null,null,{"$f":"SUMIFS('Unit Detail'!$H$8:$H$400,'Unit Detail'!$D$8:$D$400,'Building Detail'!$B751,'Unit Detail'!$Y$8:$Y$400,1)","v":0},{"$f":"SUMIFS('Unit Detail'!$H$8:$H$400,'Unit Detail'!$D$8:$D$400,'Building Detail'!$B751,'Unit Detail'!$Y$8:$Y$400,3)","v":0},{"$f":"SUMIFS('Unit Detail'!$H$8:$H$400,'Unit Detail'!$D$8:$D$400,'Building Detail'!$B751,'Unit Detail'!$Y$8:$Y$400,2)","v":0},{"$f":"SUMIF('Unit Detail'!$D$8:$D$400,$B751,'Unit Detail'!$H$8:$H$400)","v":0},0,"",{"$f":"COUNTIFS('Unit Detail'!$Y$8:$Y$400,\"1\",'Unit Detail'!$D$8:$D$400,'Building Detail'!$B751)","v":0},{"$f":"COUNTIFS('Unit Detail'!$Y$8:$Y$400,\"3\",'Unit Detail'!$D$8:$D$400,'Building Detail'!$B751)","v":0},{"$f":"COUNTIFS('Unit Detail'!$Y$8:$Y$400,\"2\",'Unit Detail'!$D$8:$D$400,'Building Detail'!$B751)","v":0},0,"",""]
[null,null,null,null,null,null,null,null,null,null,null,null,null,null,{"$f":"SUMIFS('Unit Detail'!$H$8:$H$400,'Unit Detail'!$D$8:$D$400,'Building Detail'!$B752,'Unit Detail'!$Y$8:$Y$400,1)","v":0},{"$f":"SUMIFS('Unit Detail'!$H$8:$H$400,'Unit Detail'!$D$8:$D$400,'Building Detail'!$B752,'Unit Detail'!$Y$8:$Y$400,3)","v":0},{"$f":"SUMIFS('Unit Detail'!$H$8:$H$400,'Unit Detail'!$D$8:$D$400,'Building Detail'!$B752,'Unit Detail'!$Y$8:$Y$400,2)","v":0},{"$f":"SUMIF('Unit Detail'!$D$8:$D$400,$B752,'Unit Detail'!$H$8:$H$400)","v":0},0,"",{"$f":"COUNTIFS('Unit Detail'!$Y$8:$Y$400,\"1\",'Unit Detail'!$D$8:$D$400,'Building Detail'!$B752)","v":0},{"$f":"COUNTIFS('Unit Detail'!$Y$8:$Y$400,\"3\",'Unit Detail'!$D$8:$D$400,'Building Detail'!$B752)","v":0},{"$f":"COUNTIFS('Unit Detail'!$Y$8:$Y$400,\"2\",'Unit Detail'!$D$8:$D$400,'Building Detail'!$B752)","v":0},0,"",""]
[null,null,null,null,null,null,null,null,null,null,null,null,null,null,{"$f":"SUMIFS('Unit Detail'!$H$8:$H$400,'Unit Detail'!$D$8:$D$400,'Building Detail'!$B753,'Unit Detail'!$Y$8:$Y$400,1)","v":0},{"$f":"SUMIFS('Unit Detail'!$H$8:$H$400,'Unit Detail'!$D$8:$D$400,'Building Detail'!$B753,'Unit Detail'!$Y$8:$Y$400,3)","v":0},{"$f":"SUMIFS('Unit Detail'!$H$8:$H$400,'Unit Detail'!$D$8:$D$400,'Building Detail'!$B753,'Unit Detail'!$Y$8:$Y$400,2)","v":0},{"$f":"SUMIF('Unit Detail'!$D$8:$D$400,$B753,'Unit Detail'!$H$8:$H$400)","v":0},0,"",{"$f":"COUNTIFS('Unit Detail'!$Y$8:$Y$400,\"1\",'Unit Detail'!$D$8:$D$400,'Building Detail'!$B753)","v":0},{"$f":"COUNTIFS('Unit Detail'!$Y$8:$Y$400,\"3\",'Unit Detail'!$D$8:$D$400,'Building Detail'!$B753)","v":0},{"$f":"COUNTIFS('Unit Detail'!$Y$8:$Y$400,\"2\",'Unit Detail'!$D$8:$D$400,'Building Detail'!$B753)","v":0},0,"",""]
[null,null,null,null,null,null,null,null,null,null,null,null,null,null,{"$f":"SUMIFS('Unit Detail'!$H$8:$H$400,'Unit Detail'!$D$8:$D$400,'Building Detail'!$B754,'Unit Detail'!$Y$8:$Y$400,1)","v":0},{"$f":"SUMIFS('Unit Detail'!$H$8:$H$400,'Unit Detail'!$D$8:$D$400,'Building Detail'!$B754,'Unit Detail'!$Y$8:$Y$400,3)","v":0},{"$f":"SUMIFS('Unit Detail'!$H$8:$H$400,'Unit Detail'!$D$8:$D$400,'Building Detail'!$B754,'Unit Detail'!$Y$8:$Y$400,2)","v":0},{"$f":"SUMIF('Unit Detail'!$D$8:$D$400,$B754,'Unit Detail'!$H$8:$H$400)","v":0},0,"",{"$f":"COUNTIFS('Unit Detail'!$Y$8:$Y$400,\"1\",'Unit Detail'!$D$8:$D$400,'Building Detail'!$B754)","v":0},{"$f":"COUNTIFS('Unit Detail'!$Y$8:$Y$400,\"3\",'Unit Detail'!$D$8:$D$400,'Building Detail'!$B754)","v":0},{"$f":"COUNTIFS('Unit Detail'!$Y$8:$Y$400,\"2\",'Unit Detail'!$D$8:$D$400,'Building Detail'!$B754)","v":0},0,"",""]
[null,null,null,null,null,null,null,null,null,null,null,null,null,null,{"$f":"SUMIFS('Unit Detail'!$H$8:$H$400,'Unit Detail'!$D$8:$D$400,'Building Detail'!$B755,'Unit Detail'!$Y$8:$Y$400,1)","v":0},{"$f":"SUMIFS('Unit Detail'!$H$8:$H$400,'Unit Detail'!$D$8:$D$400,'Building Detail'!$B755,'Unit Detail'!$Y$8:$Y$400,3)","v":0},{"$f":"SUMIFS('Unit Detail'!$H$8:$H$400,'Unit Detail'!$D$8:$D$400,'Building Detail'!$B755,'Unit Detail'!$Y$8:$Y$400,2)","v":0},{"$f":"SUMIF('Unit Detail'!$D$8:$D$400,$B755,'Unit Detail'!$H$8:$H$400)","v":0},0,"",{"$f":"COUNTIFS('Unit Detail'!$Y$8:$Y$400,\"1\",'Unit Detail'!$D$8:$D$400,'Building Detail'!$B755)","v":0},{"$f":"COUNTIFS('Unit Detail'!$Y$8:$Y$400,\"3\",'Unit Detail'!$D$8:$D$400,'Building Detail'!$B755)","v":0},{"$f":"COUNTIFS('Unit Detail'!$Y$8:$Y$400,\"2\",'Unit Detail'!$D$8:$D$400,'Building Detail'!$B755)","v":0},0,"",""]
[null,null,null,null,null,null,null,null,null,null,null,null,null,null,{"$f":"SUMIFS('Unit Detail'!$H$8:$H$400,'Unit Detail'!$D$8:$D$400,'Building Detail'!$B756,'Unit Detail'!$Y$8:$Y$400,1)","v":0},{"$f":"SUMIFS('Unit Detail'!$H$8:$H$400,'Unit Detail'!$D$8:$D$400,'Building Detail'!$B756,'Unit Detail'!$Y$8:$Y$400,3)","v":0},{"$f":"SUMIFS('Unit Detail'!$H$8:$H$400,'Unit Detail'!$D$8:$D$400,'Building Detail'!$B756,'Unit Detail'!$Y$8:$Y$400,2)","v":0},{"$f":"SUMIF('Unit Detail'!$D$8:$D$400,$B756,'Unit Detail'!$H$8:$H$400)","v":0},0,"",{"$f":"COUNTIFS('Unit Detail'!$Y$8:$Y$400,\"1\",'Unit Detail'!$D$8:$D$400,'Building Detail'!$B756)","v":0},{"$f":"COUNTIFS('Unit Detail'!$Y$8:$Y$400,\"3\",'Unit Detail'!$D$8:$D$400,'Building Detail'!$B756)","v":0},{"$f":"COUNTIFS('Unit Detail'!$Y$8:$Y$400,\"2\",'Unit Detail'!$D$8:$D$400,'Building Detail'!$B756)","v":0},0,"",""]
[null,null,null,null,null,null,null,null,null,null,null,null,null,null,{"$f":"SUMIFS('Unit Detail'!$H$8:$H$400,'Unit Detail'!$D$8:$D$400,'Building Detail'!$B757,'Unit Detail'!$Y$8:$Y$400,1)","v":0},{"$f":"SUMIFS('Unit Detail'!$H$8:$H$400,'Unit Detail'!$D$8:$D$400,'Building Detail'!$B757,'Unit Detail'!$Y$8:$Y$400,3)","v":0},{"$f":"SUMIFS('Unit Detail'!$H$8:$H$400,'Unit Detail'!$D$8:$D$400,'Building Detail'!$B757,'Unit Detail'!$Y$8:$Y$400,2)","v":0},{"$f":"SUMIF('Unit Detail'!$D$8:$D$400,$B757,'Unit Detail'!$H$8:$H$400)","v":0},0,"",{"$f":"COUNTIFS('Unit Detail'!$Y$8:$Y$400,\"1\",'Unit Detail'!$D$8:$D$400,'Building Detail'!$B757)","v":0},{"$f":"COUNTIFS('Unit Detail'!$Y$8:$Y$400,\"3\",'Unit Detail'!$D$8:$D$400,'Building Detail'!$B757)","v":0},{"$f":"COUNTIFS('Unit Detail'!$Y$8:$Y$400,\"2\",'Unit Detail'!$D$8:$D$400,'Building Detail'!$B757)","v":0},0,"",""]
[null,null,null,null,null,null,null,null,null,null,null,null,null,null,{"$f":"SUMIFS('Unit Detail'!$H$8:$H$400,'Unit Detail'!$D$8:$D$400,'Building Detail'!$B758,'Unit Detail'!$Y$8:$Y$400,1)","v":0},{"$f":"SUMIFS('Unit Detail'!$H$8:$H$400,'Unit Detail'!$D$8:$D$400,'Building Detail'!$B758,'Unit Detail'!$Y$8:$Y$400,3)","v":0},{"$f":"SUMIFS('Unit Detail'!$H$8:$H$400,'Unit Detail'!$D$8:$D$400,'Building Detail'!$B758,'Unit Detail'!$Y$8:$Y$400,2)","v":0},{"$f":"SUMIF('Unit Detail'!$D$8:$D$400,$B758,'Unit Detail'!$H$8:$H$400)","v":0},0,"",{"$f":"COUNTIFS('Unit Detail'!$Y$8:$Y$400,\"1\",'Unit Detail'!$D$8:$D$400,'Building Detail'!$B758)","v":0},{"$f":"COUNTIFS('Unit Detail'!$Y$8:$Y$400,\"3\",'Unit Detail'!$D$8:$D$400,'Building Detail'!$B758)","v":0},{"$f":"COUNTIFS('Unit Detail'!$Y$8:$Y$400,\"2\",'Unit Detail'!$D$8:$D$400,'Building Detail'!$B758)","v":0},0,"",""]
[null,null,null,null,null,null,null,null,null,null,null,null,null,null,{"$f":"SUMIFS('Unit Detail'!$H$8:$H$400,'Unit Detail'!$D$8:$D$400,'Building Detail'!$B759,'Unit Detail'!$Y$8:$Y$400,1)","v":0},{"$f":"SUMIFS('Unit Detail'!$H$8:$H$400,'Unit Detail'!$D$8:$D$400,'Building Detail'!$B759,'Unit Detail'!$Y$8:$Y$400,3)","v":0},{"$f":"SUMIFS('Unit Detail'!$H$8:$H$400,'Unit Detail'!$D$8:$D$400,'Building Detail'!$B759,'Unit Detail'!$Y$8:$Y$400,2)","v":0},{"$f":"SUMIF('Unit Detail'!$D$8:$D$400,$B759,'Unit Detail'!$H$8:$H$400)","v":0},0,"",{"$f":"COUNTIFS('Unit Detail'!$Y$8:$Y$400,\"1\",'Unit Detail'!$D$8:$D$400,'Building Detail'!$B759)","v":0},{"$f":"COUNTIFS('Unit Detail'!$Y$8:$Y$400,\"3\",'Unit Detail'!$D$8:$D$400,'Building Detail'!$B759)","v":0},{"$f":"COUNTIFS('Unit Detail'!$Y$8:$Y$400,\"2\",'Unit Detail'!$D$8:$D$400,'Building Detail'!$B759)","v":0},0,"",""]
[null,null,null,null,null,null,null,null,null,null,null,null,null,null,{"$f":"SUMIFS('Unit Detail'!$H$8:$H$400,'Unit Detail'!$D$8:$D$400,'Building Detail'!$B760,'Unit Detail'!$Y$8:$Y$400,1)","v":0},{"$f":"SUMIFS('Unit Detail'!$H$8:$H$400,'Unit Detail'!$D$8:$D$400,'Building Detail'!$B760,'Unit Detail'!$Y$8:$Y$400,3)","v":0},{"$f":"SUMIFS('Unit Detail'!$H$8:$H$400,'Unit Detail'!$D$8:$D$400,'Building Detail'!$B760,'Unit Detail'!$Y$8:$Y$400,2)","v":0},{"$f":"SUMIF('Unit Detail'!$D$8:$D$400,$B760,'Unit Detail'!$H$8:$H$400)","v":0},0,"",{"$f":"COUNTIFS('Unit Detail'!$Y$8:$Y$400,\"1\",'Unit Detail'!$D$8:$D$400,'Building Detail'!$B760)","v":0},{"$f":"COUNTIFS('Unit Detail'!$Y$8:$Y$400,\"3\",'Unit Detail'!$D$8:$D$400,'Building Detail'!$B760)","v":0},{"$f":"COUNTIFS('Unit Detail'!$Y$8:$Y$400,\"2\",'Unit Detail'!$D$8:$D$400,'Building Detail'!$B760)","v":0},0,"",""]
[null,null,null,null,null,null,null,null,null,null,null,null,null,null,{"$f":"SUMIFS('Unit Detail'!$H$8:$H$400,'Unit Detail'!$D$8:$D$400,'Building Detail'!$B761,'Unit Detail'!$Y$8:$Y$400,1)","v":0},{"$f":"SUMIFS('Unit Detail'!$H$8:$H$400,'Unit Detail'!$D$8:$D$400,'Building Detail'!$B761,'Unit Detail'!$Y$8:$Y$400,3)","v":0},{"$f":"SUMIFS('Unit Detail'!$H$8:$H$400,'Unit Detail'!$D$8:$D$400,'Building Detail'!$B761,'Unit Detail'!$Y$8:$Y$400,2)","v":0},{"$f":"SUMIF('Unit Detail'!$D$8:$D$400,$B761,'Unit Detail'!$H$8:$H$400)","v":0},0,"",{"$f":"COUNTIFS('Unit Detail'!$Y$8:$Y$400,\"1\",'Unit Detail'!$D$8:$D$400,'Building Detail'!$B761)","v":0},{"$f":"COUNTIFS('Unit Detail'!$Y$8:$Y$400,\"3\",'Unit Detail'!$D$8:$D$400,'Building Detail'!$B761)","v":0},{"$f":"COUNTIFS('Unit Detail'!$Y$8:$Y$400,\"2\",'Unit Detail'!$D$8:$D$400,'Building Detail'!$B761)","v":0},0,"",""]
[null,null,null,null,null,null,null,null,null,null,null,null,null,null,{"$f":"SUMIFS('Unit Detail'!$H$8:$H$400,'Unit Detail'!$D$8:$D$400,'Building Detail'!$B762,'Unit Detail'!$Y$8:$Y$400,1)","v":0},{"$f":"SUMIFS('Unit Detail'!$H$8:$H$400,'Unit Detail'!$D$8:$D$400,'Building Detail'!$B762,'Unit Detail'!$Y$8:$Y$400,3)","v":0},{"$f":"SUMIFS('Unit Detail'!$H$8:$H$400,'Unit Detail'!$D$8:$D$400,'Building Detail'!$B762,'Unit Detail'!$Y$8:$Y$400,2)","v":0},{"$f":"SUMIF('Unit Detail'!$D$8:$D$400,$B762,'Unit Detail'!$H$8:$H$400)","v":0},0,"",{"$f":"COUNTIFS('Unit Detail'!$Y$8:$Y$400,\"1\",'Unit Detail'!$D$8:$D$400,'Building Detail'!$B762)","v":0},{"$f":"COUNTIFS('Unit Detail'!$Y$8:$Y$400,\"3\",'Unit Detail'!$D$8:$D$400,'Building Detail'!$B762)","v":0},{"$f":"COUNTIFS('Unit Detail'!$Y$8:$Y$400,\"2\",'Unit Detail'!$D$8:$D$400,'Building Detail'!$B762)","v":0},0,"",""]
[null,null,null,null,null,null,null,null,null,null,null,null,null,null,{"$f":"SUMIFS('Unit Detail'!$H$8:$H$400,'Unit Detail'!$D$8:$D$400,'Building Detail'!$B763,'Unit Detail'!$Y$8:$Y$400,1)","v":0},{"$f":"SUMIFS('Unit Detail'!$H$8:$H$400,'Unit Detail'!$D$8:$D$400,'Building Detail'!$B763,'Unit Detail'!$Y$8:$Y$400,3)","v":0},{"$f":"SUMIFS('Unit Detail'!$H$8:$H$400,'Unit Detail'!$D$8:$D$400,'Building Detail'!$B763,'Unit Detail'!$Y$8:$Y$400,2)","v":0},{"$f":"SUMIF('Unit Detail'!$D$8:$D$400,$B763,'Unit Detail'!$H$8:$H$400)","v":0},0,"",{"$f":"COUNTIFS('Unit Detail'!$Y$8:$Y$400,\"1\",'Unit Detail'!$D$8:$D$400,'Building Detail'!$B763)","v":0},{"$f":"COUNTIFS('Unit Detail'!$Y$8:$Y$400,\"3\",'Unit Detail'!$D$8:$D$400,'Building Detail'!$B763)","v":0},{"$f":"COUNTIFS('Unit Detail'!$Y$8:$Y$400,\"2\",'Unit Detail'!$D$8:$D$400,'Building Detail'!$B763)","v":0},0,"",""]
[null,null,null,null,null,null,null,null,null,null,null,null,null,null,{"$f":"SUMIFS('Unit Detail'!$H$8:$H$400,'Unit Detail'!$D$8:$D$400,'Building Detail'!$B764,'Unit Detail'!$Y$8:$Y$400,1)","v":0},{"$f":"SUMIFS('Unit Detail'!$H$8:$H$400,'Unit Detail'!$D$8:$D$400,'Building Detail'!$B764,'Unit Detail'!$Y$8:$Y$400,3)","v":0},{"$f":"SUMIFS('Unit Detail'!$H$8:$H$400,'Unit Detail'!$D$8:$D$400,'Building Detail'!$B764,'Unit Detail'!$Y$8:$Y$400,2)","v":0},{"$f":"SUMIF('Unit Detail'!$D$8:$D$400,$B764,'Unit Detail'!$H$8:$H$400)","v":0},0,"",{"$f":"COUNTIFS('Unit Detail'!$Y$8:$Y$400,\"1\",'Unit Detail'!$D$8:$D$400,'Building Detail'!$B764)","v":0},{"$f":"COUNTIFS('Unit Detail'!$Y$8:$Y$400,\"3\",'Unit Detail'!$D$8:$D$400,'Building Detail'!$B764)","v":0},{"$f":"COUNTIFS('Unit Detail'!$Y$8:$Y$400,\"2\",'Unit Detail'!$D$8:$D$400,'Building Detail'!$B764)","v":0},0,"",""]
[null,null,null,null,null,null,null,null,null,null,null,null,null,null,{"$f":"SUMIFS('Unit Detail'!$H$8:$H$400,'Unit Detail'!$D$8:$D$400,'Building Detail'!$B765,'Unit Detail'!$Y$8:$Y$400,1)","v":0},{"$f":"SUMIFS('Unit Detail'!$H$8:$H$400,'Unit Detail'!$D$8:$D$400,'Building Detail'!$B765,'Unit Detail'!$Y$8:$Y$400,3)","v":0},{"$f":"SUMIFS('Unit Detail'!$H$8:$H$400,'Unit Detail'!$D$8:$D$400,'Building Detail'!$B765,'Unit Detail'!$Y$8:$Y$400,2)","v":0},{"$f":"SUMIF('Unit Detail'!$D$8:$D$400,$B765,'Unit Detail'!$H$8:$H$400)","v":0},0,"",{"$f":"COUNTIFS('Unit Detail'!$Y$8:$Y$400,\"1\",'Unit Detail'!$D$8:$D$400,'Building Detail'!$B765)","v":0},{"$f":"COUNTIFS('Unit Detail'!$Y$8:$Y$400,\"3\",'Unit Detail'!$D$8:$D$400,'Building Detail'!$B765)","v":0},{"$f":"COUNTIFS('Unit Detail'!$Y$8:$Y$400,\"2\",'Unit Detail'!$D$8:$D$400,'Building Detail'!$B765)","v":0},0,"",""]
[null,null,null,null,null,null,null,null,null,null,null,null,null,null,{"$f":"SUMIFS('Unit Detail'!$H$8:$H$400,'Unit Detail'!$D$8:$D$400,'Building Detail'!$B766,'Unit Detail'!$Y$8:$Y$400,1)","v":0},{"$f":"SUMIFS('Unit Detail'!$H$8:$H$400,'Unit Detail'!$D$8:$D$400,'Building Detail'!$B766,'Unit Detail'!$Y$8:$Y$400,3)","v":0},{"$f":"SUMIFS('Unit Detail'!$H$8:$H$400,'Unit Detail'!$D$8:$D$400,'Building Detail'!$B766,'Unit Detail'!$Y$8:$Y$400,2)","v":0},{"$f":"SUMIF('Unit Detail'!$D$8:$D$400,$B766,'Unit Detail'!$H$8:$H$400)","v":0},0,"",{"$f":"COUNTIFS('Unit Detail'!$Y$8:$Y$400,\"1\",'Unit Detail'!$D$8:$D$400,'Building Detail'!$B766)","v":0},{"$f":"COUNTIFS('Unit Detail'!$Y$8:$Y$400,\"3\",'Unit Detail'!$D$8:$D$400,'Building Detail'!$B766)","v":0},{"$f":"COUNTIFS('Unit Detail'!$Y$8:$Y$400,\"2\",'Unit Detail'!$D$8:$D$400,'Building Detail'!$B766)","v":0},0,"",""]
[null,null,null,null,null,null,null,null,null,null,null,null,null,null,{"$f":"SUMIFS('Unit Detail'!$H$8:$H$400,'Unit Detail'!$D$8:$D$400,'Building Detail'!$B767,'Unit Detail'!$Y$8:$Y$400,1)","v":0},{"$f":"SUMIFS('Unit Detail'!$H$8:$H$400,'Unit Detail'!$D$8:$D$400,'Building Detail'!$B767,'Unit Detail'!$Y$8:$Y$400,3)","v":0},{"$f":"SUMIFS('Unit Detail'!$H$8:$H$400,'Unit Detail'!$D$8:$D$400,'Building Detail'!$B767,'Unit Detail'!$Y$8:$Y$400,2)","v":0},{"$f":"SUMIF('Unit Detail'!$D$8:$D$400,$B767,'Unit Detail'!$H$8:$H$400)","v":0},0,"",{"$f":"COUNTIFS('Unit Detail'!$Y$8:$Y$400,\"1\",'Unit Detail'!$D$8:$D$400,'Building Detail'!$B767)","v":0},{"$f":"COUNTIFS('Unit Detail'!$Y$8:$Y$400,\"3\",'Unit Detail'!$D$8:$D$400,'Building Detail'!$B767)","v":0},{"$f":"COUNTIFS('Unit Detail'!$Y$8:$Y$400,\"2\",'Unit Detail'!$D$8:$D$400,'Building Detail'!$B767)","v":0},0,"",""]
[null,null,null,null,null,null,null,null,null,null,null,null,null,null,{"$f":"SUMIFS('Unit Detail'!$H$8:$H$400,'Unit Detail'!$D$8:$D$400,'Building Detail'!$B768,'Unit Detail'!$Y$8:$Y$400,1)","v":0},{"$f":"SUMIFS('Unit Detail'!$H$8:$H$400,'Unit Detail'!$D$8:$D$400,'Building Detail'!$B768,'Unit Detail'!$Y$8:$Y$400,3)","v":0},{"$f":"SUMIFS('Unit Detail'!$H$8:$H$400,'Unit Detail'!$D$8:$D$400,'Building Detail'!$B768,'Unit Detail'!$Y$8:$Y$400,2)","v":0},{"$f":"SUMIF('Unit Detail'!$D$8:$D$400,$B768,'Unit Detail'!$H$8:$H$400)","v":0},0,"",{"$f":"COUNTIFS('Unit Detail'!$Y$8:$Y$400,\"1\",'Unit Detail'!$D$8:$D$400,'Building Detail'!$B768)","v":0},{"$f":"COUNTIFS('Unit Detail'!$Y$8:$Y$400,\"3\",'Unit Detail'!$D$8:$D$400,'Building Detail'!$B768)","v":0},{"$f":"COUNTIFS('Unit Detail'!$Y$8:$Y$400,\"2\",'Unit Detail'!$D$8:$D$400,'Building Detail'!$B768)","v":0},0,"",""]
[null,null,null,null,null,null,null,null,null,null,null,null,null,null,{"$f":"SUMIFS('Unit Detail'!$H$8:$H$400,'Unit Detail'!$D$8:$D$400,'Building Detail'!$B769,'Unit Detail'!$Y$8:$Y$400,1)","v":0},{"$f":"SUMIFS('Unit Detail'!$H$8:$H$400,'Unit Detail'!$D$8:$D$400,'Building Detail'!$B769,'Unit Detail'!$Y$8:$Y$400,3)","v":0},{"$f":"SUMIFS('Unit Detail'!$H$8:$H$400,'Unit Detail'!$D$8:$D$400,'Building Detail'!$B769,'Unit Detail'!$Y$8:$Y$400,2)","v":0},{"$f":"SUMIF('Unit Detail'!$D$8:$D$400,$B769,'Unit Detail'!$H$8:$H$400)","v":0},0,"",{"$f":"COUNTIFS('Unit Detail'!$Y$8:$Y$400,\"1\",'Unit Detail'!$D$8:$D$400,'Building Detail'!$B769)","v":0},{"$f":"COUNTIFS('Unit Detail'!$Y$8:$Y$400,\"3\",'Unit Detail'!$D$8:$D$400,'Building Detail'!$B769)","v":0},{"$f":"COUNTIFS('Unit Detail'!$Y$8:$Y$400,\"2\",'Unit Detail'!$D$8:$D$400,'Building Detail'!$B769)","v":0},0,"",""]
[null,null,null,null,null,null,null,null,null,null,null,null,null,null,{"$f":"SUMIFS('Unit Detail'!$H$8:$H$400,'Unit Detail'!$D$8:$D$400,'Building Detail'!$B770,'Unit Detail'!$Y$8:$Y$400,1)","v":0},{"$f":"SUMIFS('Unit Detail'!$H$8:$H$400,'Unit Detail'!$D$8:$D$400,'Building Detail'!$B770,'Unit Detail'!$Y$8:$Y$400,3)","v":0},{"$f":"SUMIFS('Unit Detail'!$H$8:$H$400,'Unit Detail'!$D$8:$D$400,'Building Detail'!$B770,'Unit Detail'!$Y$8:$Y$400,2)","v":0},{"$f":"SUMIF('Unit Detail'!$D$8:$D$400,$B770,'Unit Detail'!$H$8:$H$400)","v":0},0,"",{"$f":"COUNTIFS('Unit Detail'!$Y$8:$Y$400,\"1\",'Unit Detail'!$D$8:$D$400,'Building Detail'!$B770)","v":0},{"$f":"COUNTIFS('Unit Detail'!$Y$8:$Y$400,\"3\",'Unit Detail'!$D$8:$D$400,'Building Detail'!$B770)","v":0},{"$f":"COUNTIFS('Unit Detail'!$Y$8:$Y$400,\"2\",'Unit Detail'!$D$8:$D$400,'Building Detail'!$B770)","v":0},0,"",""]
[null,null,null,null,null,null,null,null,null,null,null,null,null,null,{"$f":"SUMIFS('Unit Detail'!$H$8:$H$400,'Unit Detail'!$D$8:$D$400,'Building Detail'!$B771,'Unit Detail'!$Y$8:$Y$400,1)","v":0},{"$f":"SUMIFS('Unit Detail'!$H$8:$H$400,'Unit Detail'!$D$8:$D$400,'Building Detail'!$B771,'Unit Detail'!$Y$8:$Y$400,3)","v":0},{"$f":"SUMIFS('Unit Detail'!$H$8:$H$400,'Unit Detail'!$D$8:$D$400,'Building Detail'!$B771,'Unit Detail'!$Y$8:$Y$400,2)","v":0},{"$f":"SUMIF('Unit Detail'!$D$8:$D$400,$B771,'Unit Detail'!$H$8:$H$400)","v":0},{"$f":"SUM(M771,N771,R771)","v":0},"",{"$f":"COUNTIFS('Unit Detail'!$Y$8:$Y$400,\"1\",'Unit Detail'!$D$8:$D$400,'Building Detail'!$B771)","v":0},{"$f":"COUNTIFS('Unit Detail'!$Y$8:$Y$400,\"3\",'Unit Detail'!$D$8:$D$400,'Building Detail'!$B771)","v":0},{"$f":"COUNTIFS('Unit Detail'!$Y$8:$Y$400,\"2\",'Unit Detail'!$D$8:$D$400,'Building Detail'!$B771)","v":0},{"$f":"SUM(U771:W771)","v":0},"",""]
[null,null,null,null,null,null,null,null,null,null,null,null,null,null,{"$f":"SUMIFS('Unit Detail'!$H$8:$H$400,'Unit Detail'!$D$8:$D$400,'Building Detail'!$B772,'Unit Detail'!$Y$8:$Y$400,1)","v":0},{"$f":"SUMIFS('Unit Detail'!$H$8:$H$400,'Unit Detail'!$D$8:$D$400,'Building Detail'!$B772,'Unit Detail'!$Y$8:$Y$400,3)","v":0},{"$f":"SUMIFS('Unit Detail'!$H$8:$H$400,'Unit Detail'!$D$8:$D$400,'Building Detail'!$B772,'Unit Detail'!$Y$8:$Y$400,2)","v":0},{"$f":"SUMIF('Unit Detail'!$D$8:$D$400,$B772,'Unit Detail'!$H$8:$H$400)","v":0},0,"",{"$f":"COUNTIFS('Unit Detail'!$Y$8:$Y$400,\"1\",'Unit Detail'!$D$8:$D$400,'Building Detail'!$B772)","v":0},{"$f":"COUNTIFS('Unit Detail'!$Y$8:$Y$400,\"3\",'Unit Detail'!$D$8:$D$400,'Building Detail'!$B772)","v":0},{"$f":"COUNTIFS('Unit Detail'!$Y$8:$Y$400,\"2\",'Unit Detail'!$D$8:$D$400,'Building Detail'!$B772)","v":0},0,"",""]
[null,null,null,null,null,null,null,null,null,null,null,null,null,null,{"$f":"SUMIFS('Unit Detail'!$H$8:$H$400,'Unit Detail'!$D$8:$D$400,'Building Detail'!$B773,'Unit Detail'!$Y$8:$Y$400,1)","v":0},{"$f":"SUMIFS('Unit Detail'!$H$8:$H$400,'Unit Detail'!$D$8:$D$400,'Building Detail'!$B773,'Unit Detail'!$Y$8:$Y$400,3)","v":0},{"$f":"SUMIFS('Unit Detail'!$H$8:$H$400,'Unit Detail'!$D$8:$D$400,'Building Detail'!$B773,'Unit Detail'!$Y$8:$Y$400,2)","v":0},{"$f":"SUMIF('Unit Detail'!$D$8:$D$400,$B773,'Unit Detail'!$H$8:$H$400)","v":0},0,"",{"$f":"COUNTIFS('Unit Detail'!$Y$8:$Y$400,\"1\",'Unit Detail'!$D$8:$D$400,'Building Detail'!$B773)","v":0},{"$f":"COUNTIFS('Unit Detail'!$Y$8:$Y$400,\"3\",'Unit Detail'!$D$8:$D$400,'Building Detail'!$B773)","v":0},{"$f":"COUNTIFS('Unit Detail'!$Y$8:$Y$400,\"2\",'Unit Detail'!$D$8:$D$400,'Building Detail'!$B773)","v":0},0,"",""]
[null,null,null,null,null,null,null,null,null,null,null,null,null,null,{"$f":"SUMIFS('Unit Detail'!$H$8:$H$400,'Unit Detail'!$D$8:$D$400,'Building Detail'!$B774,'Unit Detail'!$Y$8:$Y$400,1)","v":0},{"$f":"SUMIFS('Unit Detail'!$H$8:$H$400,'Unit Detail'!$D$8:$D$400,'Building Detail'!$B774,'Unit Detail'!$Y$8:$Y$400,3)","v":0},{"$f":"SUMIFS('Unit Detail'!$H$8:$H$400,'Unit Detail'!$D$8:$D$400,'Building Detail'!$B774,'Unit Detail'!$Y$8:$Y$400,2)","v":0},{"$f":"SUMIF('Unit Detail'!$D$8:$D$400,$B774,'Unit Detail'!$H$8:$H$400)","v":0},0,"",{"$f":"COUNTIFS('Unit Detail'!$Y$8:$Y$400,\"1\",'Unit Detail'!$D$8:$D$400,'Building Detail'!$B774)","v":0},{"$f":"COUNTIFS('Unit Detail'!$Y$8:$Y$400,\"3\",'Unit Detail'!$D$8:$D$400,'Building Detail'!$B774)","v":0},{"$f":"COUNTIFS('Unit Detail'!$Y$8:$Y$400,\"2\",'Unit Detail'!$D$8:$D$400,'Building Detail'!$B774)","v":0},0,"",""]
[null,null,null,null,null,null,null,null,null,null,null,null,null,null,{"$f":"SUMIFS('Unit Detail'!$H$8:$H$400,'Unit Detail'!$D$8:$D$400,'Building Detail'!$B775,'Unit Detail'!$Y$8:$Y$400,1)","v":0},{"$f":"SUMIFS('Unit Detail'!$H$8:$H$400,'Unit Detail'!$D$8:$D$400,'Building Detail'!$B775,'Unit Detail'!$Y$8:$Y$400,3)","v":0},{"$f":"SUMIFS('Unit Detail'!$H$8:$H$400,'Unit Detail'!$D$8:$D$400,'Building Detail'!$B775,'Unit Detail'!$Y$8:$Y$400,2)","v":0},{"$f":"SUMIF('Unit Detail'!$D$8:$D$400,$B775,'Unit Detail'!$H$8:$H$400)","v":0},0,"",{"$f":"COUNTIFS('Unit Detail'!$Y$8:$Y$400,\"1\",'Unit Detail'!$D$8:$D$400,'Building Detail'!$B775)","v":0},{"$f":"COUNTIFS('Unit Detail'!$Y$8:$Y$400,\"3\",'Unit Detail'!$D$8:$D$400,'Building Detail'!$B775)","v":0},{"$f":"COUNTIFS('Unit Detail'!$Y$8:$Y$400,\"2\",'Unit Detail'!$D$8:$D$400,'Building Detail'!$B775)","v":0},0,"",""]
[null,null,null,null,null,null,null,null,null,null,null,null,null,null,{"$f":"SUMIFS('Unit Detail'!$H$8:$H$400,'Unit Detail'!$D$8:$D$400,'Building Detail'!$B776,'Unit Detail'!$Y$8:$Y$400,1)","v":0},{"$f":"SUMIFS('Unit Detail'!$H$8:$H$400,'Unit Detail'!$D$8:$D$400,'Building Detail'!$B776,'Unit Detail'!$Y$8:$Y$400,3)","v":0},{"$f":"SUMIFS('Unit Detail'!$H$8:$H$400,'Unit Detail'!$D$8:$D$400,'Building Detail'!$B776,'Unit Detail'!$Y$8:$Y$400,2)","v":0},{"$f":"SUMIF('Unit Detail'!$D$8:$D$400,$B776,'Unit Detail'!$H$8:$H$400)","v":0},0,"",{"$f":"COUNTIFS('Unit Detail'!$Y$8:$Y$400,\"1\",'Unit Detail'!$D$8:$D$400,'Building Detail'!$B776)","v":0},{"$f":"COUNTIFS('Unit Detail'!$Y$8:$Y$400,\"3\",'Unit Detail'!$D$8:$D$400,'Building Detail'!$B776)","v":0},{"$f":"COUNTIFS('Unit Detail'!$Y$8:$Y$400,\"2\",'Unit Detail'!$D$8:$D$400,'Building Detail'!$B776)","v":0},0,"",""]
[null,null,null,null,null,null,null,null,null,null,null,null,null,null,{"$f":"SUMIFS('Unit Detail'!$H$8:$H$400,'Unit Detail'!$D$8:$D$400,'Building Detail'!$B777,'Unit Detail'!$Y$8:$Y$400,1)","v":0},{"$f":"SUMIFS('Unit Detail'!$H$8:$H$400,'Unit Detail'!$D$8:$D$400,'Building Detail'!$B777,'Unit Detail'!$Y$8:$Y$400,3)","v":0},{"$f":"SUMIFS('Unit Detail'!$H$8:$H$400,'Unit Detail'!$D$8:$D$400,'Building Detail'!$B777,'Unit Detail'!$Y$8:$Y$400,2)","v":0},{"$f":"SUMIF('Unit Detail'!$D$8:$D$400,$B777,'Unit Detail'!$H$8:$H$400)","v":0},0,"",{"$f":"COUNTIFS('Unit Detail'!$Y$8:$Y$400,\"1\",'Unit Detail'!$D$8:$D$400,'Building Detail'!$B777)","v":0},{"$f":"COUNTIFS('Unit Detail'!$Y$8:$Y$400,\"3\",'Unit Detail'!$D$8:$D$400,'Building Detail'!$B777)","v":0},{"$f":"COUNTIFS('Unit Detail'!$Y$8:$Y$400,\"2\",'Unit Detail'!$D$8:$D$400,'Building Detail'!$B777)","v":0},0,"",""]
[null,null,null,null,null,null,null,null,null,null,null,null,null,null,{"$f":"SUMIFS('Unit Detail'!$H$8:$H$400,'Unit Detail'!$D$8:$D$400,'Building Detail'!$B778,'Unit Detail'!$Y$8:$Y$400,1)","v":0},{"$f":"SUMIFS('Unit Detail'!$H$8:$H$400,'Unit Detail'!$D$8:$D$400,'Building Detail'!$B778,'Unit Detail'!$Y$8:$Y$400,3)","v":0},{"$f":"SUMIFS('Unit Detail'!$H$8:$H$400,'Unit Detail'!$D$8:$D$400,'Building Detail'!$B778,'Unit Detail'!$Y$8:$Y$400,2)","v":0},{"$f":"SUMIF('Unit Detail'!$D$8:$D$400,$B778,'Unit Detail'!$H$8:$H$400)","v":0},0,"",{"$f":"COUNTIFS('Unit Detail'!$Y$8:$Y$400,\"1\",'Unit Detail'!$D$8:$D$400,'Building Detail'!$B778)","v":0},{"$f":"COUNTIFS('Unit Detail'!$Y$8:$Y$400,\"3\",'Unit Detail'!$D$8:$D$400,'Building Detail'!$B778)","v":0},{"$f":"COUNTIFS('Unit Detail'!$Y$8:$Y$400,\"2\",'Unit Detail'!$D$8:$D$400,'Building Detail'!$B778)","v":0},0,"",""]
[null,null,null,null,null,null,null,null,null,null,null,null,null,null,{"$f":"SUMIFS('Unit Detail'!$H$8:$H$400,'Unit Detail'!$D$8:$D$400,'Building Detail'!$B779,'Unit Detail'!$Y$8:$Y$400,1)","v":0},{"$f":"SUMIFS('Unit Detail'!$H$8:$H$400,'Unit Detail'!$D$8:$D$400,'Building Detail'!$B779,'Unit Detail'!$Y$8:$Y$400,3)","v":0},{"$f":"SUMIFS('Unit Detail'!$H$8:$H$400,'Unit Detail'!$D$8:$D$400,'Building Detail'!$B779,'Unit Detail'!$Y$8:$Y$400,2)","v":0},{"$f":"SUMIF('Unit Detail'!$D$8:$D$400,$B779,'Unit Detail'!$H$8:$H$400)","v":0},0,"",{"$f":"COUNTIFS('Unit Detail'!$Y$8:$Y$400,\"1\",'Unit Detail'!$D$8:$D$400,'Building Detail'!$B779)","v":0},{"$f":"COUNTIFS('Unit Detail'!$Y$8:$Y$400,\"3\",'Unit Detail'!$D$8:$D$400,'Building Detail'!$B779)","v":0},{"$f":"COUNTIFS('Unit Detail'!$Y$8:$Y$400,\"2\",'Unit Detail'!$D$8:$D$400,'Building Detail'!$B779)","v":0},0,"",""]
[null,null,null,null,null,null,null,null,null,null,null,null,null,null,{"$f":"SUMIFS('Unit Detail'!$H$8:$H$400,'Unit Detail'!$D$8:$D$400,'Building Detail'!$B780,'Unit Detail'!$Y$8:$Y$400,1)","v":0},{"$f":"SUMIFS('Unit Detail'!$H$8:$H$400,'Unit Detail'!$D$8:$D$400,'Building Detail'!$B780,'Unit Detail'!$Y$8:$Y$400,3)","v":0},{"$f":"SUMIFS('Unit Detail'!$H$8:$H$400,'Unit Detail'!$D$8:$D$400,'Building Detail'!$B780,'Unit Detail'!$Y$8:$Y$400,2)","v":0},{"$f":"SUMIF('Unit Detail'!$D$8:$D$400,$B780,'Unit Detail'!$H$8:$H$400)","v":0},0,"",{"$f":"COUNTIFS('Unit Detail'!$Y$8:$Y$400,\"1\",'Unit Detail'!$D$8:$D$400,'Building Detail'!$B780)","v":0},{"$f":"COUNTIFS('Unit Detail'!$Y$8:$Y$400,\"3\",'Unit Detail'!$D$8:$D$400,'Building Detail'!$B780)","v":0},{"$f":"COUNTIFS('Unit Detail'!$Y$8:$Y$400,\"2\",'Unit Detail'!$D$8:$D$400,'Building Detail'!$B780)","v":0},0,"",""]
[null,null,null,null,null,null,null,null,null,null,null,null,null,null,{"$f":"SUMIFS('Unit Detail'!$H$8:$H$400,'Unit Detail'!$D$8:$D$400,'Building Detail'!$B781,'Unit Detail'!$Y$8:$Y$400,1)","v":0},{"$f":"SUMIFS('Unit Detail'!$H$8:$H$400,'Unit Detail'!$D$8:$D$400,'Building Detail'!$B781,'Unit Detail'!$Y$8:$Y$400,3)","v":0},{"$f":"SUMIFS('Unit Detail'!$H$8:$H$400,'Unit Detail'!$D$8:$D$400,'Building Detail'!$B781,'Unit Detail'!$Y$8:$Y$400,2)","v":0},{"$f":"SUMIF('Unit Detail'!$D$8:$D$400,$B781,'Unit Detail'!$H$8:$H$400)","v":0},0,"",{"$f":"COUNTIFS('Unit Detail'!$Y$8:$Y$400,\"1\",'Unit Detail'!$D$8:$D$400,'Building Detail'!$B781)","v":0},{"$f":"COUNTIFS('Unit Detail'!$Y$8:$Y$400,\"3\",'Unit Detail'!$D$8:$D$400,'Building Detail'!$B781)","v":0},{"$f":"COUNTIFS('Unit Detail'!$Y$8:$Y$400,\"2\",'Unit Detail'!$D$8:$D$400,'Building Detail'!$B781)","v":0},0,"",""]
[null,null,null,null,null,null,null,null,null,null,null,null,null,null,{"$f":"SUMIFS('Unit Detail'!$H$8:$H$400,'Unit Detail'!$D$8:$D$400,'Building Detail'!$B782,'Unit Detail'!$Y$8:$Y$400,1)","v":0},{"$f":"SUMIFS('Unit Detail'!$H$8:$H$400,'Unit Detail'!$D$8:$D$400,'Building Detail'!$B782,'Unit Detail'!$Y$8:$Y$400,3)","v":0},{"$f":"SUMIFS('Unit Detail'!$H$8:$H$400,'Unit Detail'!$D$8:$D$400,'Building Detail'!$B782,'Unit Detail'!$Y$8:$Y$400,2)","v":0},{"$f":"SUMIF('Unit Detail'!$D$8:$D$400,$B782,'Unit Detail'!$H$8:$H$400)","v":0},0,"",{"$f":"COUNTIFS('Unit Detail'!$Y$8:$Y$400,\"1\",'Unit Detail'!$D$8:$D$400,'Building Detail'!$B782)","v":0},{"$f":"COUNTIFS('Unit Detail'!$Y$8:$Y$400,\"3\",'Unit Detail'!$D$8:$D$400,'Building Detail'!$B782)","v":0},{"$f":"COUNTIFS('Unit Detail'!$Y$8:$Y$400,\"2\",'Unit Detail'!$D$8:$D$400,'Building Detail'!$B782)","v":0},0,"",""]
[null,null,null,null,null,null,null,null,null,null,null,null,null,null,{"$f":"SUMIFS('Unit Detail'!$H$8:$H$400,'Unit Detail'!$D$8:$D$400,'Building Detail'!$B783,'Unit Detail'!$Y$8:$Y$400,1)","v":0},{"$f":"SUMIFS('Unit Detail'!$H$8:$H$400,'Unit Detail'!$D$8:$D$400,'Building Detail'!$B783,'Unit Detail'!$Y$8:$Y$400,3)","v":0},{"$f":"SUMIFS('Unit Detail'!$H$8:$H$400,'Unit Detail'!$D$8:$D$400,'Building Detail'!$B783,'Unit Detail'!$Y$8:$Y$400,2)","v":0},{"$f":"SUMIF('Unit Detail'!$D$8:$D$400,$B783,'Unit Detail'!$H$8:$H$400)","v":0},0,"",{"$f":"COUNTIFS('Unit Detail'!$Y$8:$Y$400,\"1\",'Unit Detail'!$D$8:$D$400,'Building Detail'!$B783)","v":0},{"$f":"COUNTIFS('Unit Detail'!$Y$8:$Y$400,\"3\",'Unit Detail'!$D$8:$D$400,'Building Detail'!$B783)","v":0},{"$f":"COUNTIFS('Unit Detail'!$Y$8:$Y$400,\"2\",'Unit Detail'!$D$8:$D$400,'Building Detail'!$B783)","v":0},0,"",""]
[null,null,null,null,null,null,null,null,null,null,null,null,null,null,{"$f":"SUMIFS('Unit Detail'!$H$8:$H$400,'Unit Detail'!$D$8:$D$400,'Building Detail'!$B784,'Unit Detail'!$Y$8:$Y$400,1)","v":0},{"$f":"SUMIFS('Unit Detail'!$H$8:$H$400,'Unit Detail'!$D$8:$D$400,'Building Detail'!$B784,'Unit Detail'!$Y$8:$Y$400,3)","v":0},{"$f":"SUMIFS('Unit Detail'!$H$8:$H$400,'Unit Detail'!$D$8:$D$400,'Building Detail'!$B784,'Unit Detail'!$Y$8:$Y$400,2)","v":0},{"$f":"SUMIF('Unit Detail'!$D$8:$D$400,$B784,'Unit Detail'!$H$8:$H$400)","v":0},0,"",{"$f":"COUNTIFS('Unit Detail'!$Y$8:$Y$400,\"1\",'Unit Detail'!$D$8:$D$400,'Building Detail'!$B784)","v":0},{"$f":"COUNTIFS('Unit Detail'!$Y$8:$Y$400,\"3\",'Unit Detail'!$D$8:$D$400,'Building Detail'!$B784)","v":0},{"$f":"COUNTIFS('Unit Detail'!$Y$8:$Y$400,\"2\",'Unit Detail'!$D$8:$D$400,'Building Detail'!$B784)","v":0},0,"",""]
[null,null,null,null,null,null,null,null,null,null,null,null,null,null,{"$f":"SUMIFS('Unit Detail'!$H$8:$H$400,'Unit Detail'!$D$8:$D$400,'Building Detail'!$B785,'Unit Detail'!$Y$8:$Y$400,1)","v":0},{"$f":"SUMIFS('Unit Detail'!$H$8:$H$400,'Unit Detail'!$D$8:$D$400,'Building Detail'!$B785,'Unit Detail'!$Y$8:$Y$400,3)","v":0},{"$f":"SUMIFS('Unit Detail'!$H$8:$H$400,'Unit Detail'!$D$8:$D$400,'Building Detail'!$B785,'Unit Detail'!$Y$8:$Y$400,2)","v":0},{"$f":"SUMIF('Unit Detail'!$D$8:$D$400,$B785,'Unit Detail'!$H$8:$H$400)","v":0},0,"",{"$f":"COUNTIFS('Unit Detail'!$Y$8:$Y$400,\"1\",'Unit Detail'!$D$8:$D$400,'Building Detail'!$B785)","v":0},{"$f":"COUNTIFS('Unit Detail'!$Y$8:$Y$400,\"3\",'Unit Detail'!$D$8:$D$400,'Building Detail'!$B785)","v":0},{"$f":"COUNTIFS('Unit Detail'!$Y$8:$Y$400,\"2\",'Unit Detail'!$D$8:$D$400,'Building Detail'!$B785)","v":0},0,"",""]
[null,null,null,null,null,null,null,null,null,null,null,null,null,null,{"$f":"SUMIFS('Unit Detail'!$H$8:$H$400,'Unit Detail'!$D$8:$D$400,'Building Detail'!$B786,'Unit Detail'!$Y$8:$Y$400,1)","v":0},{"$f":"SUMIFS('Unit Detail'!$H$8:$H$400,'Unit Detail'!$D$8:$D$400,'Building Detail'!$B786,'Unit Detail'!$Y$8:$Y$400,3)","v":0},{"$f":"SUMIFS('Unit Detail'!$H$8:$H$400,'Unit Detail'!$D$8:$D$400,'Building Detail'!$B786,'Unit Detail'!$Y$8:$Y$400,2)","v":0},{"$f":"SUMIF('Unit Detail'!$D$8:$D$400,$B786,'Unit Detail'!$H$8:$H$400)","v":0},0,"",{"$f":"COUNTIFS('Unit Detail'!$Y$8:$Y$400,\"1\",'Unit Detail'!$D$8:$D$400,'Building Detail'!$B786)","v":0},{"$f":"COUNTIFS('Unit Detail'!$Y$8:$Y$400,\"3\",'Unit Detail'!$D$8:$D$400,'Building Detail'!$B786)","v":0},{"$f":"COUNTIFS('Unit Detail'!$Y$8:$Y$400,\"2\",'Unit Detail'!$D$8:$D$400,'Building Detail'!$B786)","v":0},0,"",{"$f":"IF(Y786<T786,Y786,T786)","v":""}]
[null,null,null,null,null,null,null,null,null,null,null,null,null,null,{"$f":"SUMIFS('Unit Detail'!$H$8:$H$400,'Unit Detail'!$D$8:$D$400,'Building Detail'!$B787,'Unit Detail'!$Y$8:$Y$400,1)","v":0},{"$f":"SUMIFS('Unit Detail'!$H$8:$H$400,'Unit Detail'!$D$8:$D$400,'Building Detail'!$B787,'Unit Detail'!$Y$8:$Y$400,3)","v":0},{"$f":"SUMIFS('Unit Detail'!$H$8:$H$400,'Unit Detail'!$D$8:$D$400,'Building Detail'!$B787,'Unit Detail'!$Y$8:$Y$400,2)","v":0},{"$f":"SUMIF('Unit Detail'!$D$8:$D$400,$B787,'Unit Detail'!$H$8:$H$400)","v":0},0,"",{"$f":"COUNTIFS('Unit Detail'!$Y$8:$Y$400,\"1\",'Unit Detail'!$D$8:$D$400,'Building Detail'!$B787)","v":0},{"$f":"COUNTIFS('Unit Detail'!$Y$8:$Y$400,\"3\",'Unit Detail'!$D$8:$D$400,'Building Detail'!$B787)","v":0},{"$f":"COUNTIFS('Unit Detail'!$Y$8:$Y$400,\"2\",'Unit Detail'!$D$8:$D$400,'Building Detail'!$B787)","v":0},0,{"$f":"IF(B787=\"\",\"\",IF($P$15=0,1,U787/X787))","v":""},""]
[null,null,null,null,null,null,null,null,null,null,null,null,null,null,{"$f":"SUMIFS('Unit Detail'!$H$8:$H$400,'Unit Detail'!$D$8:$D$400,'Building Detail'!$B788,'Unit Detail'!$Y$8:$Y$400,1)","v":0},{"$f":"SUMIFS('Unit Detail'!$H$8:$H$400,'Unit Detail'!$D$8:$D$400,'Building Detail'!$B788,'Unit Detail'!$Y$8:$Y$400,3)","v":0},{"$f":"SUMIFS('Unit Detail'!$H$8:$H$400,'Unit Detail'!$D$8:$D$400,'Building Detail'!$B788,'Unit Detail'!$Y$8:$Y$400,2)","v":0},{"$f":"SUMIF('Unit Detail'!$D$8:$D$400,$B788,'Unit Detail'!$H$8:$H$400)","v":0},0,"",{"$f":"COUNTIFS('Unit Detail'!$Y$8:$Y$400,\"1\",'Unit Detail'!$D$8:$D$400,'Building Detail'!$B788)","v":0},{"$f":"COUNTIFS('Unit Detail'!$Y$8:$Y$400,\"3\",'Unit Detail'!$D$8:$D$400,'Building Detail'!$B788)","v":0},{"$f":"COUNTIFS('Unit Detail'!$Y$8:$Y$400,\"2\",'Unit Detail'!$D$8:$D$400,'Building Detail'!$B788)","v":0},0,"",""]
[null,null,null,null,null,null,null,null,null,null,null,null,null,null,{"$f":"SUMIFS('Unit Detail'!$H$8:$H$400,'Unit Detail'!$D$8:$D$400,'Building Detail'!$B789,'Unit Detail'!$Y$8:$Y$400,1)","v":0},{"$f":"SUMIFS('Unit Detail'!$H$8:$H$400,'Unit Detail'!$D$8:$D$400,'Building Detail'!$B789,'Unit Detail'!$Y$8:$Y$400,3)","v":0},{"$f":"SUMIFS('Unit Detail'!$H$8:$H$400,'Unit Detail'!$D$8:$D$400,'Building Detail'!$B789,'Unit Detail'!$Y$8:$Y$400,2)","v":0},{"$f":"SUMIF('Unit Detail'!$D$8:$D$400,$B789,'Unit Detail'!$H$8:$H$400)","v":0},0,{"$f":"IF(B789=\"\",\"\",IF($P$15=0,1,O789/R789))","v":""},{"$f":"COUNTIFS('Unit Detail'!$Y$8:$Y$400,\"1\",'Unit Detail'!$D$8:$D$400,'Building Detail'!$B789)","v":0},{"$f":"COUNTIFS('Unit Detail'!$Y$8:$Y$400,\"3\",'Unit Detail'!$D$8:$D$400,'Building Detail'!$B789)","v":0},{"$f":"COUNTIFS('Unit Detail'!$Y$8:$Y$400,\"2\",'Unit Detail'!$D$8:$D$400,'Building Detail'!$B789)","v":0},0,"",""]
[null,null,null,null,null,null,null,null,null,null,null,null,null,null,{"$f":"SUMIFS('Unit Detail'!$H$8:$H$400,'Unit Detail'!$D$8:$D$400,'Building Detail'!$B790,'Unit Detail'!$Y$8:$Y$400,1)","v":0},{"$f":"SUMIFS('Unit Detail'!$H$8:$H$400,'Unit Detail'!$D$8:$D$400,'Building Detail'!$B790,'Unit Detail'!$Y$8:$Y$400,3)","v":0},{"$f":"SUMIFS('Unit Detail'!$H$8:$H$400,'Unit Detail'!$D$8:$D$400,'Building Detail'!$B790,'Unit Detail'!$Y$8:$Y$400,2)","v":0},{"$f":"SUMIF('Unit Detail'!$D$8:$D$400,$B790,'Unit Detail'!$H$8:$H$400)","v":0},0,"",{"$f":"COUNTIFS('Unit Detail'!$Y$8:$Y$400,\"1\",'Unit Detail'!$D$8:$D$400,'Building Detail'!$B790)","v":0},{"$f":"COUNTIFS('Unit Detail'!$Y$8:$Y$400,\"3\",'Unit Detail'!$D$8:$D$400,'Building Detail'!$B790)","v":0},{"$f":"COUNTIFS('Unit Detail'!$Y$8:$Y$400,\"2\",'Unit Detail'!$D$8:$D$400,'Building Detail'!$B790)","v":0},0,"",""]
[null,null,null,null,null,null,null,null,null,null,null,null,null,null,{"$f":"SUMIFS('Unit Detail'!$H$8:$H$400,'Unit Detail'!$D$8:$D$400,'Building Detail'!$B791,'Unit Detail'!$Y$8:$Y$400,1)","v":0},{"$f":"SUMIFS('Unit Detail'!$H$8:$H$400,'Unit Detail'!$D$8:$D$400,'Building Detail'!$B791,'Unit Detail'!$Y$8:$Y$400,3)","v":0},{"$f":"SUMIFS('Unit Detail'!$H$8:$H$400,'Unit Detail'!$D$8:$D$400,'Building Detail'!$B791,'Unit Detail'!$Y$8:$Y$400,2)","v":0},{"$f":"SUMIF('Unit Detail'!$D$8:$D$400,$B791,'Unit Detail'!$H$8:$H$400)","v":0},0,"",{"$f":"COUNTIFS('Unit Detail'!$Y$8:$Y$400,\"1\",'Unit Detail'!$D$8:$D$400,'Building Detail'!$B791)","v":0},{"$f":"COUNTIFS('Unit Detail'!$Y$8:$Y$400,\"3\",'Unit Detail'!$D$8:$D$400,'Building Detail'!$B791)","v":0},{"$f":"COUNTIFS('Unit Detail'!$Y$8:$Y$400,\"2\",'Unit Detail'!$D$8:$D$400,'Building Detail'!$B791)","v":0},0,"",""]
[null,null,null,null,null,null,null,null,null,null,null,null,null,null,{"$f":"SUMIFS('Unit Detail'!$H$8:$H$400,'Unit Detail'!$D$8:$D$400,'Building Detail'!$B792,'Unit Detail'!$Y$8:$Y$400,1)","v":0},{"$f":"SUMIFS('Unit Detail'!$H$8:$H$400,'Unit Detail'!$D$8:$D$400,'Building Detail'!$B792,'Unit Detail'!$Y$8:$Y$400,3)","v":0},{"$f":"SUMIFS('Unit Detail'!$H$8:$H$400,'Unit Detail'!$D$8:$D$400,'Building Detail'!$B792,'Unit Detail'!$Y$8:$Y$400,2)","v":0},{"$f":"SUMIF('Unit Detail'!$D$8:$D$400,$B792,'Unit Detail'!$H$8:$H$400)","v":0},0,"",{"$f":"COUNTIFS('Unit Detail'!$Y$8:$Y$400,\"1\",'Unit Detail'!$D$8:$D$400,'Building Detail'!$B792)","v":0},{"$f":"COUNTIFS('Unit Detail'!$Y$8:$Y$400,\"3\",'Unit Detail'!$D$8:$D$400,'Building Detail'!$B792)","v":0},{"$f":"COUNTIFS('Unit Detail'!$Y$8:$Y$400,\"2\",'Unit Detail'!$D$8:$D$400,'Building Detail'!$B792)","v":0},0,"",""]
[null,null,null,null,null,null,null,null,null,null,null,null,null,null,{"$f":"SUMIFS('Unit Detail'!$H$8:$H$400,'Unit Detail'!$D$8:$D$400,'Building Detail'!$B793,'Unit Detail'!$Y$8:$Y$400,1)","v":0},{"$f":"SUMIFS('Unit Detail'!$H$8:$H$400,'Unit Detail'!$D$8:$D$400,'Building Detail'!$B793,'Unit Detail'!$Y$8:$Y$400,3)","v":0},{"$f":"SUMIFS('Unit Detail'!$H$8:$H$400,'Unit Detail'!$D$8:$D$400,'Building Detail'!$B793,'Unit Detail'!$Y$8:$Y$400,2)","v":0},{"$f":"SUMIF('Unit Detail'!$D$8:$D$400,$B793,'Unit Detail'!$H$8:$H$400)","v":0},0,"",{"$f":"COUNTIFS('Unit Detail'!$Y$8:$Y$400,\"1\",'Unit Detail'!$D$8:$D$400,'Building Detail'!$B793)","v":0},{"$f":"COUNTIFS('Unit Detail'!$Y$8:$Y$400,\"3\",'Unit Detail'!$D$8:$D$400,'Building Detail'!$B793)","v":0},{"$f":"COUNTIFS('Unit Detail'!$Y$8:$Y$400,\"2\",'Unit Detail'!$D$8:$D$400,'Building Detail'!$B793)","v":0},0,"",""]
[null,null,null,null,null,null,null,null,null,null,null,null,null,null,{"$f":"SUMIFS('Unit Detail'!$H$8:$H$400,'Unit Detail'!$D$8:$D$400,'Building Detail'!$B794,'Unit Detail'!$Y$8:$Y$400,1)","v":0},{"$f":"SUMIFS('Unit Detail'!$H$8:$H$400,'Unit Detail'!$D$8:$D$400,'Building Detail'!$B794,'Unit Detail'!$Y$8:$Y$400,3)","v":0},{"$f":"SUMIFS('Unit Detail'!$H$8:$H$400,'Unit Detail'!$D$8:$D$400,'Building Detail'!$B794,'Unit Detail'!$Y$8:$Y$400,2)","v":0},{"$f":"SUMIF('Unit Detail'!$D$8:$D$400,$B794,'Unit Detail'!$H$8:$H$400)","v":0},0,"",{"$f":"COUNTIFS('Unit Detail'!$Y$8:$Y$400,\"1\",'Unit Detail'!$D$8:$D$400,'Building Detail'!$B794)","v":0},{"$f":"COUNTIFS('Unit Detail'!$Y$8:$Y$400,\"3\",'Unit Detail'!$D$8:$D$400,'Building Detail'!$B794)","v":0},{"$f":"COUNTIFS('Unit Detail'!$Y$8:$Y$400,\"2\",'Unit Detail'!$D$8:$D$400,'Building Detail'!$B794)","v":0},0,"",""]
[null,null,null,null,null,null,null,null,null,null,null,null,null,null,{"$f":"SUMIFS('Unit Detail'!$H$8:$H$400,'Unit Detail'!$D$8:$D$400,'Building Detail'!$B795,'Unit Detail'!$Y$8:$Y$400,1)","v":0},{"$f":"SUMIFS('Unit Detail'!$H$8:$H$400,'Unit Detail'!$D$8:$D$400,'Building Detail'!$B795,'Unit Detail'!$Y$8:$Y$400,3)","v":0},{"$f":"SUMIFS('Unit Detail'!$H$8:$H$400,'Unit Detail'!$D$8:$D$400,'Building Detail'!$B795,'Unit Detail'!$Y$8:$Y$400,2)","v":0},{"$f":"SUMIF('Unit Detail'!$D$8:$D$400,$B795,'Unit Detail'!$H$8:$H$400)","v":0},0,"",{"$f":"COUNTIFS('Unit Detail'!$Y$8:$Y$400,\"1\",'Unit Detail'!$D$8:$D$400,'Building Detail'!$B795)","v":0},{"$f":"COUNTIFS('Unit Detail'!$Y$8:$Y$400,\"3\",'Unit Detail'!$D$8:$D$400,'Building Detail'!$B795)","v":0},{"$f":"COUNTIFS('Unit Detail'!$Y$8:$Y$400,\"2\",'Unit Detail'!$D$8:$D$400,'Building Detail'!$B795)","v":0},0,"",""]
[null,null,null,null,null,null,null,null,null,null,null,null,null,null,{"$f":"SUMIFS('Unit Detail'!$H$8:$H$400,'Unit Detail'!$D$8:$D$400,'Building Detail'!$B796,'Unit Detail'!$Y$8:$Y$400,1)","v":0},{"$f":"SUMIFS('Unit Detail'!$H$8:$H$400,'Unit Detail'!$D$8:$D$400,'Building Detail'!$B796,'Unit Detail'!$Y$8:$Y$400,3)","v":0},{"$f":"SUMIFS('Unit Detail'!$H$8:$H$400,'Unit Detail'!$D$8:$D$400,'Building Detail'!$B796,'Unit Detail'!$Y$8:$Y$400,2)","v":0},{"$f":"SUMIF('Unit Detail'!$D$8:$D$400,$B796,'Unit Detail'!$H$8:$H$400)","v":0},0,"",{"$f":"COUNTIFS('Unit Detail'!$Y$8:$Y$400,\"1\",'Unit Detail'!$D$8:$D$400,'Building Detail'!$B796)","v":0},{"$f":"COUNTIFS('Unit Detail'!$Y$8:$Y$400,\"3\",'Unit Detail'!$D$8:$D$400,'Building Detail'!$B796)","v":0},{"$f":"COUNTIFS('Unit Detail'!$Y$8:$Y$400,\"2\",'Unit Detail'!$D$8:$D$400,'Building Detail'!$B796)","v":0},0,"",""]
[null,null,null,null,null,null,null,null,null,null,null,null,null,null,{"$f":"SUMIFS('Unit Detail'!$H$8:$H$400,'Unit Detail'!$D$8:$D$400,'Building Detail'!$B797,'Unit Detail'!$Y$8:$Y$400,1)","v":0},{"$f":"SUMIFS('Unit Detail'!$H$8:$H$400,'Unit Detail'!$D$8:$D$400,'Building Detail'!$B797,'Unit Detail'!$Y$8:$Y$400,3)","v":0},{"$f":"SUMIFS('Unit Detail'!$H$8:$H$400,'Unit Detail'!$D$8:$D$400,'Building Detail'!$B797,'Unit Detail'!$Y$8:$Y$400,2)","v":0},{"$f":"SUMIF('Unit Detail'!$D$8:$D$400,$B797,'Unit Detail'!$H$8:$H$400)","v":0},0,"",{"$f":"COUNTIFS('Unit Detail'!$Y$8:$Y$400,\"1\",'Unit Detail'!$D$8:$D$400,'Building Detail'!$B797)","v":0},{"$f":"COUNTIFS('Unit Detail'!$Y$8:$Y$400,\"3\",'Unit Detail'!$D$8:$D$400,'Building Detail'!$B797)","v":0},{"$f":"COUNTIFS('Unit Detail'!$Y$8:$Y$400,\"2\",'Unit Detail'!$D$8:$D$400,'Building Detail'!$B797)","v":0},0,"",""]
[null,null,null,null,null,null,null,null,null,null,null,null,null,null,{"$f":"SUMIFS('Unit Detail'!$H$8:$H$400,'Unit Detail'!$D$8:$D$400,'Building Detail'!$B798,'Unit Detail'!$Y$8:$Y$400,1)","v":0},{"$f":"SUMIFS('Unit Detail'!$H$8:$H$400,'Unit Detail'!$D$8:$D$400,'Building Detail'!$B798,'Unit Detail'!$Y$8:$Y$400,3)","v":0},{"$f":"SUMIFS('Unit Detail'!$H$8:$H$400,'Unit Detail'!$D$8:$D$400,'Building Detail'!$B798,'Unit Detail'!$Y$8:$Y$400,2)","v":0},{"$f":"SUMIF('Unit Detail'!$D$8:$D$400,$B798,'Unit Detail'!$H$8:$H$400)","v":0},0,"",{"$f":"COUNTIFS('Unit Detail'!$Y$8:$Y$400,\"1\",'Unit Detail'!$D$8:$D$400,'Building Detail'!$B798)","v":0},{"$f":"COUNTIFS('Unit Detail'!$Y$8:$Y$400,\"3\",'Unit Detail'!$D$8:$D$400,'Building Detail'!$B798)","v":0},{"$f":"COUNTIFS('Unit Detail'!$Y$8:$Y$400,\"2\",'Unit Detail'!$D$8:$D$400,'Building Detail'!$B798)","v":0},0,"",""]
[null,null,null,null,null,null,null,null,null,null,null,null,null,null,{"$f":"SUMIFS('Unit Detail'!$H$8:$H$400,'Unit Detail'!$D$8:$D$400,'Building Detail'!$B799,'Unit Detail'!$Y$8:$Y$400,1)","v":0},{"$f":"SUMIFS('Unit Detail'!$H$8:$H$400,'Unit Detail'!$D$8:$D$400,'Building Detail'!$B799,'Unit Detail'!$Y$8:$Y$400,3)","v":0},{"$f":"SUMIFS('Unit Detail'!$H$8:$H$400,'Unit Detail'!$D$8:$D$400,'Building Detail'!$B799,'Unit Detail'!$Y$8:$Y$400,2)","v":0},{"$f":"SUMIF('Unit Detail'!$D$8:$D$400,$B799,'Unit Detail'!$H$8:$H$400)","v":0},0,"",{"$f":"COUNTIFS('Unit Detail'!$Y$8:$Y$400,\"1\",'Unit Detail'!$D$8:$D$400,'Building Detail'!$B799)","v":0},{"$f":"COUNTIFS('Unit Detail'!$Y$8:$Y$400,\"3\",'Unit Detail'!$D$8:$D$400,'Building Detail'!$B799)","v":0},{"$f":"COUNTIFS('Unit Detail'!$Y$8:$Y$400,\"2\",'Unit Detail'!$D$8:$D$400,'Building Detail'!$B799)","v":0},0,"",""]
[null,null,null,null,null,null,null,null,null,null,null,null,null,null,{"$f":"SUMIFS('Unit Detail'!$H$8:$H$400,'Unit Detail'!$D$8:$D$400,'Building Detail'!$B800,'Unit Detail'!$Y$8:$Y$400,1)","v":0},{"$f":"SUMIFS('Unit Detail'!$H$8:$H$400,'Unit Detail'!$D$8:$D$400,'Building Detail'!$B800,'Unit Detail'!$Y$8:$Y$400,3)","v":0},{"$f":"SUMIFS('Unit Detail'!$H$8:$H$400,'Unit Detail'!$D$8:$D$400,'Building Detail'!$B800,'Unit Detail'!$Y$8:$Y$400,2)","v":0},{"$f":"SUMIF('Unit Detail'!$D$8:$D$400,$B800,'Unit Detail'!$H$8:$H$400)","v":0},0,"",{"$f":"COUNTIFS('Unit Detail'!$Y$8:$Y$400,\"1\",'Unit Detail'!$D$8:$D$400,'Building Detail'!$B800)","v":0},{"$f":"COUNTIFS('Unit Detail'!$Y$8:$Y$400,\"3\",'Unit Detail'!$D$8:$D$400,'Building Detail'!$B800)","v":0},{"$f":"COUNTIFS('Unit Detail'!$Y$8:$Y$400,\"2\",'Unit Detail'!$D$8:$D$400,'Building Detail'!$B800)","v":0},0,"",""]
[null,null,null,null,null,null,null,null,null,null,null,null,null,null,{"$f":"SUMIFS('Unit Detail'!$H$8:$H$400,'Unit Detail'!$D$8:$D$400,'Building Detail'!$B801,'Unit Detail'!$Y$8:$Y$400,1)","v":0},{"$f":"SUMIFS('Unit Detail'!$H$8:$H$400,'Unit Detail'!$D$8:$D$400,'Building Detail'!$B801,'Unit Detail'!$Y$8:$Y$400,3)","v":0},{"$f":"SUMIFS('Unit Detail'!$H$8:$H$400,'Unit Detail'!$D$8:$D$400,'Building Detail'!$B801,'Unit Detail'!$Y$8:$Y$400,2)","v":0},{"$f":"SUMIF('Unit Detail'!$D$8:$D$400,$B801,'Unit Detail'!$H$8:$H$400)","v":0},0,"",{"$f":"COUNTIFS('Unit Detail'!$Y$8:$Y$400,\"1\",'Unit Detail'!$D$8:$D$400,'Building Detail'!$B801)","v":0},{"$f":"COUNTIFS('Unit Detail'!$Y$8:$Y$400,\"3\",'Unit Detail'!$D$8:$D$400,'Building Detail'!$B801)","v":0},{"$f":"COUNTIFS('Unit Detail'!$Y$8:$Y$400,\"2\",'Unit Detail'!$D$8:$D$400,'Building Detail'!$B801)","v":0},0,"",""]
[null,null,null,null,null,null,null,null,null,null,null,null,null,null,{"$f":"SUMIFS('Unit Detail'!$H$8:$H$400,'Unit Detail'!$D$8:$D$400,'Building Detail'!$B802,'Unit Detail'!$Y$8:$Y$400,1)","v":0},{"$f":"SUMIFS('Unit Detail'!$H$8:$H$400,'Unit Detail'!$D$8:$D$400,'Building Detail'!$B802,'Unit Detail'!$Y$8:$Y$400,3)","v":0},{"$f":"SUMIFS('Unit Detail'!$H$8:$H$400,'Unit Detail'!$D$8:$D$400,'Building Detail'!$B802,'Unit Detail'!$Y$8:$Y$400,2)","v":0},{"$f":"SUMIF('Unit Detail'!$D$8:$D$400,$B802,'Unit Detail'!$H$8:$H$400)","v":0},0,"",{"$f":"COUNTIFS('Unit Detail'!$Y$8:$Y$400,\"1\",'Unit Detail'!$D$8:$D$400,'Building Detail'!$B802)","v":0},{"$f":"COUNTIFS('Unit Detail'!$Y$8:$Y$400,\"3\",'Unit Detail'!$D$8:$D$400,'Building Detail'!$B802)","v":0},{"$f":"COUNTIFS('Unit Detail'!$Y$8:$Y$400,\"2\",'Unit Detail'!$D$8:$D$400,'Building Detail'!$B802)","v":0},0,"",""]
[null,null,null,null,null,null,null,null,null,null,null,null,null,null,{"$f":"SUMIFS('Unit Detail'!$H$8:$H$400,'Unit Detail'!$D$8:$D$400,'Building Detail'!$B803,'Unit Detail'!$Y$8:$Y$400,1)","v":0},{"$f":"SUMIFS('Unit Detail'!$H$8:$H$400,'Unit Detail'!$D$8:$D$400,'Building Detail'!$B803,'Unit Detail'!$Y$8:$Y$400,3)","v":0},{"$f":"SUMIFS('Unit Detail'!$H$8:$H$400,'Unit Detail'!$D$8:$D$400,'Building Detail'!$B803,'Unit Detail'!$Y$8:$Y$400,2)","v":0},{"$f":"SUMIF('Unit Detail'!$D$8:$D$400,$B803,'Unit Detail'!$H$8:$H$400)","v":0},0,"",{"$f":"COUNTIFS('Unit Detail'!$Y$8:$Y$400,\"1\",'Unit Detail'!$D$8:$D$400,'Building Detail'!$B803)","v":0},{"$f":"COUNTIFS('Unit Detail'!$Y$8:$Y$400,\"3\",'Unit Detail'!$D$8:$D$400,'Building Detail'!$B803)","v":0},{"$f":"COUNTIFS('Unit Detail'!$Y$8:$Y$400,\"2\",'Unit Detail'!$D$8:$D$400,'Building Detail'!$B803)","v":0},0,"",""]
[null,null,null,null,null,null,null,null,null,null,null,null,null,null,{"$f":"SUMIFS('Unit Detail'!$H$8:$H$400,'Unit Detail'!$D$8:$D$400,'Building Detail'!$B804,'Unit Detail'!$Y$8:$Y$400,1)","v":0},{"$f":"SUMIFS('Unit Detail'!$H$8:$H$400,'Unit Detail'!$D$8:$D$400,'Building Detail'!$B804,'Unit Detail'!$Y$8:$Y$400,3)","v":0},{"$f":"SUMIFS('Unit Detail'!$H$8:$H$400,'Unit Detail'!$D$8:$D$400,'Building Detail'!$B804,'Unit Detail'!$Y$8:$Y$400,2)","v":0},{"$f":"SUMIF('Unit Detail'!$D$8:$D$400,$B804,'Unit Detail'!$H$8:$H$400)","v":0},0,"",{"$f":"COUNTIFS('Unit Detail'!$Y$8:$Y$400,\"1\",'Unit Detail'!$D$8:$D$400,'Building Detail'!$B804)","v":0},{"$f":"COUNTIFS('Unit Detail'!$Y$8:$Y$400,\"3\",'Unit Detail'!$D$8:$D$400,'Building Detail'!$B804)","v":0},{"$f":"COUNTIFS('Unit Detail'!$Y$8:$Y$400,\"2\",'Unit Detail'!$D$8:$D$400,'Building Detail'!$B804)","v":0},0,"",""]
[null,null,null,null,null,null,null,null,null,null,null,null,null,null,{"$f":"SUMIFS('Unit Detail'!$H$8:$H$400,'Unit Detail'!$D$8:$D$400,'Building Detail'!$B805,'Unit Detail'!$Y$8:$Y$400,1)","v":0},{"$f":"SUMIFS('Unit Detail'!$H$8:$H$400,'Unit Detail'!$D$8:$D$400,'Building Detail'!$B805,'Unit Detail'!$Y$8:$Y$400,3)","v":0},{"$f":"SUMIFS('Unit Detail'!$H$8:$H$400,'Unit Detail'!$D$8:$D$400,'Building Detail'!$B805,'Unit Detail'!$Y$8:$Y$400,2)","v":0},{"$f":"SUMIF('Unit Detail'!$D$8:$D$400,$B805,'Unit Detail'!$H$8:$H$400)","v":0},0,"",{"$f":"COUNTIFS('Unit Detail'!$Y$8:$Y$400,\"1\",'Unit Detail'!$D$8:$D$400,'Building Detail'!$B805)","v":0},{"$f":"COUNTIFS('Unit Detail'!$Y$8:$Y$400,\"3\",'Unit Detail'!$D$8:$D$400,'Building Detail'!$B805)","v":0},{"$f":"COUNTIFS('Unit Detail'!$Y$8:$Y$400,\"2\",'Unit Detail'!$D$8:$D$400,'Building Detail'!$B805)","v":0},0,"",""]
[null,null,null,null,null,null,null,null,null,null,null,null,null,null,{"$f":"SUMIFS('Unit Detail'!$H$8:$H$400,'Unit Detail'!$D$8:$D$400,'Building Detail'!$B806,'Unit Detail'!$Y$8:$Y$400,1)","v":0},{"$f":"SUMIFS('Unit Detail'!$H$8:$H$400,'Unit Detail'!$D$8:$D$400,'Building Detail'!$B806,'Unit Detail'!$Y$8:$Y$400,3)","v":0},{"$f":"SUMIFS('Unit Detail'!$H$8:$H$400,'Unit Detail'!$D$8:$D$400,'Building Detail'!$B806,'Unit Detail'!$Y$8:$Y$400,2)","v":0},{"$f":"SUMIF('Unit Detail'!$D$8:$D$400,$B806,'Unit Detail'!$H$8:$H$400)","v":0},0,"",{"$f":"COUNTIFS('Unit Detail'!$Y$8:$Y$400,\"1\",'Unit Detail'!$D$8:$D$400,'Building Detail'!$B806)","v":0},{"$f":"COUNTIFS('Unit Detail'!$Y$8:$Y$400,\"3\",'Unit Detail'!$D$8:$D$400,'Building Detail'!$B806)","v":0},{"$f":"COUNTIFS('Unit Detail'!$Y$8:$Y$400,\"2\",'Unit Detail'!$D$8:$D$400,'Building Detail'!$B806)","v":0},0,"",""]
[null,null,null,null,null,null,null,null,null,null,null,null,null,null,{"$f":"SUMIFS('Unit Detail'!$H$8:$H$400,'Unit Detail'!$D$8:$D$400,'Building Detail'!$B807,'Unit Detail'!$Y$8:$Y$400,1)","v":0},{"$f":"SUMIFS('Unit Detail'!$H$8:$H$400,'Unit Detail'!$D$8:$D$400,'Building Detail'!$B807,'Unit Detail'!$Y$8:$Y$400,3)","v":0},{"$f":"SUMIFS('Unit Detail'!$H$8:$H$400,'Unit Detail'!$D$8:$D$400,'Building Detail'!$B807,'Unit Detail'!$Y$8:$Y$400,2)","v":0},{"$f":"SUMIF('Unit Detail'!$D$8:$D$400,$B807,'Unit Detail'!$H$8:$H$400)","v":0},0,"",{"$f":"COUNTIFS('Unit Detail'!$Y$8:$Y$400,\"1\",'Unit Detail'!$D$8:$D$400,'Building Detail'!$B807)","v":0},{"$f":"COUNTIFS('Unit Detail'!$Y$8:$Y$400,\"3\",'Unit Detail'!$D$8:$D$400,'Building Detail'!$B807)","v":0},{"$f":"COUNTIFS('Unit Detail'!$Y$8:$Y$400,\"2\",'Unit Detail'!$D$8:$D$400,'Building Detail'!$B807)","v":0},0,"",""]
[null,null,null,null,null,null,null,null,null,null,null,null,null,null,{"$f":"SUMIFS('Unit Detail'!$H$8:$H$400,'Unit Detail'!$D$8:$D$400,'Building Detail'!$B808,'Unit Detail'!$Y$8:$Y$400,1)","v":0},{"$f":"SUMIFS('Unit Detail'!$H$8:$H$400,'Unit Detail'!$D$8:$D$400,'Building Detail'!$B808,'Unit Detail'!$Y$8:$Y$400,3)","v":0},{"$f":"SUMIFS('Unit Detail'!$H$8:$H$400,'Unit Detail'!$D$8:$D$400,'Building Detail'!$B808,'Unit Detail'!$Y$8:$Y$400,2)","v":0},{"$f":"SUMIF('Unit Detail'!$D$8:$D$400,$B808,'Unit Detail'!$H$8:$H$400)","v":0},0,"",{"$f":"COUNTIFS('Unit Detail'!$Y$8:$Y$400,\"1\",'Unit Detail'!$D$8:$D$400,'Building Detail'!$B808)","v":0},{"$f":"COUNTIFS('Unit Detail'!$Y$8:$Y$400,\"3\",'Unit Detail'!$D$8:$D$400,'Building Detail'!$B808)","v":0},{"$f":"COUNTIFS('Unit Detail'!$Y$8:$Y$400,\"2\",'Unit Detail'!$D$8:$D$400,'Building Detail'!$B808)","v":0},0,"",""]
[null,null,null,null,null,null,null,null,null,null,null,null,null,null,{"$f":"SUMIFS('Unit Detail'!$H$8:$H$400,'Unit Detail'!$D$8:$D$400,'Building Detail'!$B809,'Unit Detail'!$Y$8:$Y$400,1)","v":0},{"$f":"SUMIFS('Unit Detail'!$H$8:$H$400,'Unit Detail'!$D$8:$D$400,'Building Detail'!$B809,'Unit Detail'!$Y$8:$Y$400,3)","v":0},{"$f":"SUMIFS('Unit Detail'!$H$8:$H$400,'Unit Detail'!$D$8:$D$400,'Building Detail'!$B809,'Unit Detail'!$Y$8:$Y$400,2)","v":0},{"$f":"SUMIF('Unit Detail'!$D$8:$D$400,$B809,'Unit Detail'!$H$8:$H$400)","v":0},0,"",{"$f":"COUNTIFS('Unit Detail'!$Y$8:$Y$400,\"1\",'Unit Detail'!$D$8:$D$400,'Building Detail'!$B809)","v":0},{"$f":"COUNTIFS('Unit Detail'!$Y$8:$Y$400,\"3\",'Unit Detail'!$D$8:$D$400,'Building Detail'!$B809)","v":0},{"$f":"COUNTIFS('Unit Detail'!$Y$8:$Y$400,\"2\",'Unit Detail'!$D$8:$D$400,'Building Detail'!$B809)","v":0},0,"",""]
[null,null,null,null,null,null,null,null,null,null,null,null,null,null,{"$f":"SUMIFS('Unit Detail'!$H$8:$H$400,'Unit Detail'!$D$8:$D$400,'Building Detail'!$B810,'Unit Detail'!$Y$8:$Y$400,1)","v":0},{"$f":"SUMIFS('Unit Detail'!$H$8:$H$400,'Unit Detail'!$D$8:$D$400,'Building Detail'!$B810,'Unit Detail'!$Y$8:$Y$400,3)","v":0},{"$f":"SUMIFS('Unit Detail'!$H$8:$H$400,'Unit Detail'!$D$8:$D$400,'Building Detail'!$B810,'Unit Detail'!$Y$8:$Y$400,2)","v":0},{"$f":"SUMIF('Unit Detail'!$D$8:$D$400,$B810,'Unit Detail'!$H$8:$H$400)","v":0},0,"",{"$f":"COUNTIFS('Unit Detail'!$Y$8:$Y$400,\"1\",'Unit Detail'!$D$8:$D$400,'Building Detail'!$B810)","v":0},{"$f":"COUNTIFS('Unit Detail'!$Y$8:$Y$400,\"3\",'Unit Detail'!$D$8:$D$400,'Building Detail'!$B810)","v":0},{"$f":"COUNTIFS('Unit Detail'!$Y$8:$Y$400,\"2\",'Unit Detail'!$D$8:$D$400,'Building Detail'!$B810)","v":0},0,"",""]
[null,null,null,null,null,null,null,null,null,null,null,null,null,null,{"$f":"SUMIFS('Unit Detail'!$H$8:$H$400,'Unit Detail'!$D$8:$D$400,'Building Detail'!$B811,'Unit Detail'!$Y$8:$Y$400,1)","v":0},{"$f":"SUMIFS('Unit Detail'!$H$8:$H$400,'Unit Detail'!$D$8:$D$400,'Building Detail'!$B811,'Unit Detail'!$Y$8:$Y$400,3)","v":0},{"$f":"SUMIFS('Unit Detail'!$H$8:$H$400,'Unit Detail'!$D$8:$D$400,'Building Detail'!$B811,'Unit Detail'!$Y$8:$Y$400,2)","v":0},{"$f":"SUMIF('Unit Detail'!$D$8:$D$400,$B811,'Unit Detail'!$H$8:$H$400)","v":0},0,"",{"$f":"COUNTIFS('Unit Detail'!$Y$8:$Y$400,\"1\",'Unit Detail'!$D$8:$D$400,'Building Detail'!$B811)","v":0},{"$f":"COUNTIFS('Unit Detail'!$Y$8:$Y$400,\"3\",'Unit Detail'!$D$8:$D$400,'Building Detail'!$B811)","v":0},{"$f":"COUNTIFS('Unit Detail'!$Y$8:$Y$400,\"2\",'Unit Detail'!$D$8:$D$400,'Building Detail'!$B811)","v":0},0,"",""]
[null,null,null,null,null,null,null,null,null,null,null,null,null,null,{"$f":"SUMIFS('Unit Detail'!$H$8:$H$400,'Unit Detail'!$D$8:$D$400,'Building Detail'!$B812,'Unit Detail'!$Y$8:$Y$400,1)","v":0},{"$f":"SUMIFS('Unit Detail'!$H$8:$H$400,'Unit Detail'!$D$8:$D$400,'Building Detail'!$B812,'Unit Detail'!$Y$8:$Y$400,3)","v":0},{"$f":"SUMIFS('Unit Detail'!$H$8:$H$400,'Unit Detail'!$D$8:$D$400,'Building Detail'!$B812,'Unit Detail'!$Y$8:$Y$400,2)","v":0},{"$f":"SUMIF('Unit Detail'!$D$8:$D$400,$B812,'Unit Detail'!$H$8:$H$400)","v":0},0,"",{"$f":"COUNTIFS('Unit Detail'!$Y$8:$Y$400,\"1\",'Unit Detail'!$D$8:$D$400,'Building Detail'!$B812)","v":0},{"$f":"COUNTIFS('Unit Detail'!$Y$8:$Y$400,\"3\",'Unit Detail'!$D$8:$D$400,'Building Detail'!$B812)","v":0},{"$f":"COUNTIFS('Unit Detail'!$Y$8:$Y$400,\"2\",'Unit Detail'!$D$8:$D$400,'Building Detail'!$B812)","v":0},0,"",""]
[null,null,null,null,null,null,null,null,null,null,null,null,null,null,{"$f":"SUMIFS('Unit Detail'!$H$8:$H$400,'Unit Detail'!$D$8:$D$400,'Building Detail'!$B813,'Unit Detail'!$Y$8:$Y$400,1)","v":0},{"$f":"SUMIFS('Unit Detail'!$H$8:$H$400,'Unit Detail'!$D$8:$D$400,'Building Detail'!$B813,'Unit Detail'!$Y$8:$Y$400,3)","v":0},{"$f":"SUMIFS('Unit Detail'!$H$8:$H$400,'Unit Detail'!$D$8:$D$400,'Building Detail'!$B813,'Unit Detail'!$Y$8:$Y$400,2)","v":0},{"$f":"SUMIF('Unit Detail'!$D$8:$D$400,$B813,'Unit Detail'!$H$8:$H$400)","v":0},0,"",{"$f":"COUNTIFS('Unit Detail'!$Y$8:$Y$400,\"1\",'Unit Detail'!$D$8:$D$400,'Building Detail'!$B813)","v":0},{"$f":"COUNTIFS('Unit Detail'!$Y$8:$Y$400,\"3\",'Unit Detail'!$D$8:$D$400,'Building Detail'!$B813)","v":0},{"$f":"COUNTIFS('Unit Detail'!$Y$8:$Y$400,\"2\",'Unit Detail'!$D$8:$D$400,'Building Detail'!$B813)","v":0},0,"",""]
[null,null,null,null,null,null,null,null,null,null,null,null,null,null,{"$f":"SUMIFS('Unit Detail'!$H$8:$H$400,'Unit Detail'!$D$8:$D$400,'Building Detail'!$B814,'Unit Detail'!$Y$8:$Y$400,1)","v":0},{"$f":"SUMIFS('Unit Detail'!$H$8:$H$400,'Unit Detail'!$D$8:$D$400,'Building Detail'!$B814,'Unit Detail'!$Y$8:$Y$400,3)","v":0},{"$f":"SUMIFS('Unit Detail'!$H$8:$H$400,'Unit Detail'!$D$8:$D$400,'Building Detail'!$B814,'Unit Detail'!$Y$8:$Y$400,2)","v":0},{"$f":"SUMIF('Unit Detail'!$D$8:$D$400,$B814,'Unit Detail'!$H$8:$H$400)","v":0},0,"",{"$f":"COUNTIFS('Unit Detail'!$Y$8:$Y$400,\"1\",'Unit Detail'!$D$8:$D$400,'Building Detail'!$B814)","v":0},{"$f":"COUNTIFS('Unit Detail'!$Y$8:$Y$400,\"3\",'Unit Detail'!$D$8:$D$400,'Building Detail'!$B814)","v":0},{"$f":"COUNTIFS('Unit Detail'!$Y$8:$Y$400,\"2\",'Unit Detail'!$D$8:$D$400,'Building Detail'!$B814)","v":0},0,"",""]
[null,null,null,null,null,null,null,null,null,null,null,null,null,null,{"$f":"SUMIFS('Unit Detail'!$H$8:$H$400,'Unit Detail'!$D$8:$D$400,'Building Detail'!$B815,'Unit Detail'!$Y$8:$Y$400,1)","v":0},{"$f":"SUMIFS('Unit Detail'!$H$8:$H$400,'Unit Detail'!$D$8:$D$400,'Building Detail'!$B815,'Unit Detail'!$Y$8:$Y$400,3)","v":0},{"$f":"SUMIFS('Unit Detail'!$H$8:$H$400,'Unit Detail'!$D$8:$D$400,'Building Detail'!$B815,'Unit Detail'!$Y$8:$Y$400,2)","v":0},{"$f":"SUMIF('Unit Detail'!$D$8:$D$400,$B815,'Unit Detail'!$H$8:$H$400)","v":0},0,"",{"$f":"COUNTIFS('Unit Detail'!$Y$8:$Y$400,\"1\",'Unit Detail'!$D$8:$D$400,'Building Detail'!$B815)","v":0},{"$f":"COUNTIFS('Unit Detail'!$Y$8:$Y$400,\"3\",'Unit Detail'!$D$8:$D$400,'Building Detail'!$B815)","v":0},{"$f":"COUNTIFS('Unit Detail'!$Y$8:$Y$400,\"2\",'Unit Detail'!$D$8:$D$400,'Building Detail'!$B815)","v":0},0,"",""]
[null,null,null,null,null,null,null,null,null,null,null,null,null,null,{"$f":"SUMIFS('Unit Detail'!$H$8:$H$400,'Unit Detail'!$D$8:$D$400,'Building Detail'!$B816,'Unit Detail'!$Y$8:$Y$400,1)","v":0},{"$f":"SUMIFS('Unit Detail'!$H$8:$H$400,'Unit Detail'!$D$8:$D$400,'Building Detail'!$B816,'Unit Detail'!$Y$8:$Y$400,3)","v":0},{"$f":"SUMIFS('Unit Detail'!$H$8:$H$400,'Unit Detail'!$D$8:$D$400,'Building Detail'!$B816,'Unit Detail'!$Y$8:$Y$400,2)","v":0},{"$f":"SUMIF('Unit Detail'!$D$8:$D$400,$B816,'Unit Detail'!$H$8:$H$400)","v":0},0,"",{"$f":"COUNTIFS('Unit Detail'!$Y$8:$Y$400,\"1\",'Unit Detail'!$D$8:$D$400,'Building Detail'!$B816)","v":0},{"$f":"COUNTIFS('Unit Detail'!$Y$8:$Y$400,\"3\",'Unit Detail'!$D$8:$D$400,'Building Detail'!$B816)","v":0},{"$f":"COUNTIFS('Unit Detail'!$Y$8:$Y$400,\"2\",'Unit Detail'!$D$8:$D$400,'Building Detail'!$B816)","v":0},0,"",""]
[null,null,null,null,null,null,null,null,null,null,null,null,null,null,{"$f":"SUMIFS('Unit Detail'!$H$8:$H$400,'Unit Detail'!$D$8:$D$400,'Building Detail'!$B817,'Unit Detail'!$Y$8:$Y$400,1)","v":0},{"$f":"SUMIFS('Unit Detail'!$H$8:$H$400,'Unit Detail'!$D$8:$D$400,'Building Detail'!$B817,'Unit Detail'!$Y$8:$Y$400,3)","v":0},{"$f":"SUMIFS('Unit Detail'!$H$8:$H$400,'Unit Detail'!$D$8:$D$400,'Building Detail'!$B817,'Unit Detail'!$Y$8:$Y$400,2)","v":0},{"$f":"SUMIF('Unit Detail'!$D$8:$D$400,$B817,'Unit Detail'!$H$8:$H$400)","v":0},0,"",{"$f":"COUNTIFS('Unit Detail'!$Y$8:$Y$400,\"1\",'Unit Detail'!$D$8:$D$400,'Building Detail'!$B817)","v":0},{"$f":"COUNTIFS('Unit Detail'!$Y$8:$Y$400,\"3\",'Unit Detail'!$D$8:$D$400,'Building Detail'!$B817)","v":0},{"$f":"COUNTIFS('Unit Detail'!$Y$8:$Y$400,\"2\",'Unit Detail'!$D$8:$D$400,'Building Detail'!$B817)","v":0},0,"",""]
[null,null,null,null,null,null,null,null,null,null,null,null,null,null,{"$f":"SUMIFS('Unit Detail'!$H$8:$H$400,'Unit Detail'!$D$8:$D$400,'Building Detail'!$B818,'Unit Detail'!$Y$8:$Y$400,1)","v":0},{"$f":"SUMIFS('Unit Detail'!$H$8:$H$400,'Unit Detail'!$D$8:$D$400,'Building Detail'!$B818,'Unit Detail'!$Y$8:$Y$400,3)","v":0},{"$f":"SUMIFS('Unit Detail'!$H$8:$H$400,'Unit Detail'!$D$8:$D$400,'Building Detail'!$B818,'Unit Detail'!$Y$8:$Y$400,2)","v":0},{"$f":"SUMIF('Unit Detail'!$D$8:$D$400,$B818,'Unit Detail'!$H$8:$H$400)","v":0},0,"",{"$f":"COUNTIFS('Unit Detail'!$Y$8:$Y$400,\"1\",'Unit Detail'!$D$8:$D$400,'Building Detail'!$B818)","v":0},{"$f":"COUNTIFS('Unit Detail'!$Y$8:$Y$400,\"3\",'Unit Detail'!$D$8:$D$400,'Building Detail'!$B818)","v":0},{"$f":"COUNTIFS('Unit Detail'!$Y$8:$Y$400,\"2\",'Unit Detail'!$D$8:$D$400,'Building Detail'!$B818)","v":0},0,"",""]
[null,null,null,null,null,null,null,null,null,null,null,null,null,null,{"$f":"SUMIFS('Unit Detail'!$H$8:$H$400,'Unit Detail'!$D$8:$D$400,'Building Detail'!$B819,'Unit Detail'!$Y$8:$Y$400,1)","v":0},{"$f":"SUMIFS('Unit Detail'!$H$8:$H$400,'Unit Detail'!$D$8:$D$400,'Building Detail'!$B819,'Unit Detail'!$Y$8:$Y$400,3)","v":0},{"$f":"SUMIFS('Unit Detail'!$H$8:$H$400,'Unit Detail'!$D$8:$D$400,'Building Detail'!$B819,'Unit Detail'!$Y$8:$Y$400,2)","v":0},{"$f":"SUMIF('Unit Detail'!$D$8:$D$400,$B819,'Unit Detail'!$H$8:$H$400)","v":0},0,"",{"$f":"COUNTIFS('Unit Detail'!$Y$8:$Y$400,\"1\",'Unit Detail'!$D$8:$D$400,'Building Detail'!$B819)","v":0},{"$f":"COUNTIFS('Unit Detail'!$Y$8:$Y$400,\"3\",'Unit Detail'!$D$8:$D$400,'Building Detail'!$B819)","v":0},{"$f":"COUNTIFS('Unit Detail'!$Y$8:$Y$400,\"2\",'Unit Detail'!$D$8:$D$400,'Building Detail'!$B819)","v":0},0,"",""]
[null,null,null,null,null,null,null,null,null,null,null,null,null,null,{"$f":"SUMIFS('Unit Detail'!$H$8:$H$400,'Unit Detail'!$D$8:$D$400,'Building Detail'!$B820,'Unit Detail'!$Y$8:$Y$400,1)","v":0},{"$f":"SUMIFS('Unit Detail'!$H$8:$H$400,'Unit Detail'!$D$8:$D$400,'Building Detail'!$B820,'Unit Detail'!$Y$8:$Y$400,3)","v":0},{"$f":"SUMIFS('Unit Detail'!$H$8:$H$400,'Unit Detail'!$D$8:$D$400,'Building Detail'!$B820,'Unit Detail'!$Y$8:$Y$400,2)","v":0},{"$f":"SUMIF('Unit Detail'!$D$8:$D$400,$B820,'Unit Detail'!$H$8:$H$400)","v":0},0,"",{"$f":"COUNTIFS('Unit Detail'!$Y$8:$Y$400,\"1\",'Unit Detail'!$D$8:$D$400,'Building Detail'!$B820)","v":0},{"$f":"COUNTIFS('Unit Detail'!$Y$8:$Y$400,\"3\",'Unit Detail'!$D$8:$D$400,'Building Detail'!$B820)","v":0},{"$f":"COUNTIFS('Unit Detail'!$Y$8:$Y$400,\"2\",'Unit Detail'!$D$8:$D$400,'Building Detail'!$B820)","v":0},0,"",""]
[null,null,null,null,null,null,null,null,null,null,null,null,null,null,{"$f":"SUMIFS('Unit Detail'!$H$8:$H$400,'Unit Detail'!$D$8:$D$400,'Building Detail'!$B821,'Unit Detail'!$Y$8:$Y$400,1)","v":0},{"$f":"SUMIFS('Unit Detail'!$H$8:$H$400,'Unit Detail'!$D$8:$D$400,'Building Detail'!$B821,'Unit Detail'!$Y$8:$Y$400,3)","v":0},{"$f":"SUMIFS('Unit Detail'!$H$8:$H$400,'Unit Detail'!$D$8:$D$400,'Building Detail'!$B821,'Unit Detail'!$Y$8:$Y$400,2)","v":0},{"$f":"SUMIF('Unit Detail'!$D$8:$D$400,$B821,'Unit Detail'!$H$8:$H$400)","v":0},0,"",{"$f":"COUNTIFS('Unit Detail'!$Y$8:$Y$400,\"1\",'Unit Detail'!$D$8:$D$400,'Building Detail'!$B821)","v":0},{"$f":"COUNTIFS('Unit Detail'!$Y$8:$Y$400,\"3\",'Unit Detail'!$D$8:$D$400,'Building Detail'!$B821)","v":0},{"$f":"COUNTIFS('Unit Detail'!$Y$8:$Y$400,\"2\",'Unit Detail'!$D$8:$D$400,'Building Detail'!$B821)","v":0},0,"",""]
[null,null,null,null,null,null,null,null,null,null,null,null,null,null,{"$f":"SUMIFS('Unit Detail'!$H$8:$H$400,'Unit Detail'!$D$8:$D$400,'Building Detail'!$B822,'Unit Detail'!$Y$8:$Y$400,1)","v":0},{"$f":"SUMIFS('Unit Detail'!$H$8:$H$400,'Unit Detail'!$D$8:$D$400,'Building Detail'!$B822,'Unit Detail'!$Y$8:$Y$400,3)","v":0},{"$f":"SUMIFS('Unit Detail'!$H$8:$H$400,'Unit Detail'!$D$8:$D$400,'Building Detail'!$B822,'Unit Detail'!$Y$8:$Y$400,2)","v":0},{"$f":"SUMIF('Unit Detail'!$D$8:$D$400,$B822,'Unit Detail'!$H$8:$H$400)","v":0},0,"",{"$f":"COUNTIFS('Unit Detail'!$Y$8:$Y$400,\"1\",'Unit Detail'!$D$8:$D$400,'Building Detail'!$B822)","v":0},{"$f":"COUNTIFS('Unit Detail'!$Y$8:$Y$400,\"3\",'Unit Detail'!$D$8:$D$400,'Building Detail'!$B822)","v":0},{"$f":"COUNTIFS('Unit Detail'!$Y$8:$Y$400,\"2\",'Unit Detail'!$D$8:$D$400,'Building Detail'!$B822)","v":0},0,"",""]
[null,null,null,null,null,null,null,null,null,null,null,null,null,null,{"$f":"SUMIFS('Unit Detail'!$H$8:$H$400,'Unit Detail'!$D$8:$D$400,'Building Detail'!$B823,'Unit Detail'!$Y$8:$Y$400,1)","v":0},{"$f":"SUMIFS('Unit Detail'!$H$8:$H$400,'Unit Detail'!$D$8:$D$400,'Building Detail'!$B823,'Unit Detail'!$Y$8:$Y$400,3)","v":0},{"$f":"SUMIFS('Unit Detail'!$H$8:$H$400,'Unit Detail'!$D$8:$D$400,'Building Detail'!$B823,'Unit Detail'!$Y$8:$Y$400,2)","v":0},{"$f":"SUMIF('Unit Detail'!$D$8:$D$400,$B823,'Unit Detail'!$H$8:$H$400)","v":0},0,"",{"$f":"COUNTIFS('Unit Detail'!$Y$8:$Y$400,\"1\",'Unit Detail'!$D$8:$D$400,'Building Detail'!$B823)","v":0},{"$f":"COUNTIFS('Unit Detail'!$Y$8:$Y$400,\"3\",'Unit Detail'!$D$8:$D$400,'Building Detail'!$B823)","v":0},{"$f":"COUNTIFS('Unit Detail'!$Y$8:$Y$400,\"2\",'Unit Detail'!$D$8:$D$400,'Building Detail'!$B823)","v":0},0,"",""]
[null,null,null,null,null,null,null,null,null,null,null,null,null,null,{"$f":"SUMIFS('Unit Detail'!$H$8:$H$400,'Unit Detail'!$D$8:$D$400,'Building Detail'!$B824,'Unit Detail'!$Y$8:$Y$400,1)","v":0},{"$f":"SUMIFS('Unit Detail'!$H$8:$H$400,'Unit Detail'!$D$8:$D$400,'Building Detail'!$B824,'Unit Detail'!$Y$8:$Y$400,3)","v":0},{"$f":"SUMIFS('Unit Detail'!$H$8:$H$400,'Unit Detail'!$D$8:$D$400,'Building Detail'!$B824,'Unit Detail'!$Y$8:$Y$400,2)","v":0},{"$f":"SUMIF('Unit Detail'!$D$8:$D$400,$B824,'Unit Detail'!$H$8:$H$400)","v":0},0,"",{"$f":"COUNTIFS('Unit Detail'!$Y$8:$Y$400,\"1\",'Unit Detail'!$D$8:$D$400,'Building Detail'!$B824)","v":0},{"$f":"COUNTIFS('Unit Detail'!$Y$8:$Y$400,\"3\",'Unit Detail'!$D$8:$D$400,'Building Detail'!$B824)","v":0},{"$f":"COUNTIFS('Unit Detail'!$Y$8:$Y$400,\"2\",'Unit Detail'!$D$8:$D$400,'Building Detail'!$B824)","v":0},0,"",""]
[null,null,null,null,null,null,null,null,null,null,null,null,null,null,{"$f":"SUMIFS('Unit Detail'!$H$8:$H$400,'Unit Detail'!$D$8:$D$400,'Building Detail'!$B825,'Unit Detail'!$Y$8:$Y$400,1)","v":0},{"$f":"SUMIFS('Unit Detail'!$H$8:$H$400,'Unit Detail'!$D$8:$D$400,'Building Detail'!$B825,'Unit Detail'!$Y$8:$Y$400,3)","v":0},{"$f":"SUMIFS('Unit Detail'!$H$8:$H$400,'Unit Detail'!$D$8:$D$400,'Building Detail'!$B825,'Unit Detail'!$Y$8:$Y$400,2)","v":0},{"$f":"SUMIF('Unit Detail'!$D$8:$D$400,$B825,'Unit Detail'!$H$8:$H$400)","v":0},0,"",{"$f":"COUNTIFS('Unit Detail'!$Y$8:$Y$400,\"1\",'Unit Detail'!$D$8:$D$400,'Building Detail'!$B825)","v":0},{"$f":"COUNTIFS('Unit Detail'!$Y$8:$Y$400,\"3\",'Unit Detail'!$D$8:$D$400,'Building Detail'!$B825)","v":0},{"$f":"COUNTIFS('Unit Detail'!$Y$8:$Y$400,\"2\",'Unit Detail'!$D$8:$D$400,'Building Detail'!$B825)","v":0},0,"",""]
[null,null,null,null,null,null,null,null,null,null,null,null,null,null,{"$f":"SUMIFS('Unit Detail'!$H$8:$H$400,'Unit Detail'!$D$8:$D$400,'Building Detail'!$B826,'Unit Detail'!$Y$8:$Y$400,1)","v":0},{"$f":"SUMIFS('Unit Detail'!$H$8:$H$400,'Unit Detail'!$D$8:$D$400,'Building Detail'!$B826,'Unit Detail'!$Y$8:$Y$400,3)","v":0},{"$f":"SUMIFS('Unit Detail'!$H$8:$H$400,'Unit Detail'!$D$8:$D$400,'Building Detail'!$B826,'Unit Detail'!$Y$8:$Y$400,2)","v":0},{"$f":"SUMIF('Unit Detail'!$D$8:$D$400,$B826,'Unit Detail'!$H$8:$H$400)","v":0},0,"",{"$f":"COUNTIFS('Unit Detail'!$Y$8:$Y$400,\"1\",'Unit Detail'!$D$8:$D$400,'Building Detail'!$B826)","v":0},{"$f":"COUNTIFS('Unit Detail'!$Y$8:$Y$400,\"3\",'Unit Detail'!$D$8:$D$400,'Building Detail'!$B826)","v":0},{"$f":"COUNTIFS('Unit Detail'!$Y$8:$Y$400,\"2\",'Unit Detail'!$D$8:$D$400,'Building Detail'!$B826)","v":0},0,"",""]
[null,null,null,null,null,null,null,null,null,null,null,null,null,null,{"$f":"SUMIFS('Unit Detail'!$H$8:$H$400,'Unit Detail'!$D$8:$D$400,'Building Detail'!$B827,'Unit Detail'!$Y$8:$Y$400,1)","v":0},{"$f":"SUMIFS('Unit Detail'!$H$8:$H$400,'Unit Detail'!$D$8:$D$400,'Building Detail'!$B827,'Unit Detail'!$Y$8:$Y$400,3)","v":0},{"$f":"SUMIFS('Unit Detail'!$H$8:$H$400,'Unit Detail'!$D$8:$D$400,'Building Detail'!$B827,'Unit Detail'!$Y$8:$Y$400,2)","v":0},{"$f":"SUMIF('Unit Detail'!$D$8:$D$400,$B827,'Unit Detail'!$H$8:$H$400)","v":0},0,"",{"$f":"COUNTIFS('Unit Detail'!$Y$8:$Y$400,\"1\",'Unit Detail'!$D$8:$D$400,'Building Detail'!$B827)","v":0},{"$f":"COUNTIFS('Unit Detail'!$Y$8:$Y$400,\"3\",'Unit Detail'!$D$8:$D$400,'Building Detail'!$B827)","v":0},{"$f":"COUNTIFS('Unit Detail'!$Y$8:$Y$400,\"2\",'Unit Detail'!$D$8:$D$400,'Building Detail'!$B827)","v":0},0,"",""]
[null,null,null,null,null,null,null,null,null,null,null,null,null,null,{"$f":"SUMIFS('Unit Detail'!$H$8:$H$400,'Unit Detail'!$D$8:$D$400,'Building Detail'!$B828,'Unit Detail'!$Y$8:$Y$400,1)","v":0},{"$f":"SUMIFS('Unit Detail'!$H$8:$H$400,'Unit Detail'!$D$8:$D$400,'Building Detail'!$B828,'Unit Detail'!$Y$8:$Y$400,3)","v":0},{"$f":"SUMIFS('Unit Detail'!$H$8:$H$400,'Unit Detail'!$D$8:$D$400,'Building Detail'!$B828,'Unit Detail'!$Y$8:$Y$400,2)","v":0},{"$f":"SUMIF('Unit Detail'!$D$8:$D$400,$B828,'Unit Detail'!$H$8:$H$400)","v":0},0,"",{"$f":"COUNTIFS('Unit Detail'!$Y$8:$Y$400,\"1\",'Unit Detail'!$D$8:$D$400,'Building Detail'!$B828)","v":0},{"$f":"COUNTIFS('Unit Detail'!$Y$8:$Y$400,\"3\",'Unit Detail'!$D$8:$D$400,'Building Detail'!$B828)","v":0},{"$f":"COUNTIFS('Unit Detail'!$Y$8:$Y$400,\"2\",'Unit Detail'!$D$8:$D$400,'Building Detail'!$B828)","v":0},0,"",""]
[null,null,null,null,null,null,null,null,null,null,null,null,null,null,{"$f":"SUMIFS('Unit Detail'!$H$8:$H$400,'Unit Detail'!$D$8:$D$400,'Building Detail'!$B829,'Unit Detail'!$Y$8:$Y$400,1)","v":0},{"$f":"SUMIFS('Unit Detail'!$H$8:$H$400,'Unit Detail'!$D$8:$D$400,'Building Detail'!$B829,'Unit Detail'!$Y$8:$Y$400,3)","v":0},{"$f":"SUMIFS('Unit Detail'!$H$8:$H$400,'Unit Detail'!$D$8:$D$400,'Building Detail'!$B829,'Unit Detail'!$Y$8:$Y$400,2)","v":0},{"$f":"SUMIF('Unit Detail'!$D$8:$D$400,$B829,'Unit Detail'!$H$8:$H$400)","v":0},0,"",{"$f":"COUNTIFS('Unit Detail'!$Y$8:$Y$400,\"1\",'Unit Detail'!$D$8:$D$400,'Building Detail'!$B829)","v":0},{"$f":"COUNTIFS('Unit Detail'!$Y$8:$Y$400,\"3\",'Unit Detail'!$D$8:$D$400,'Building Detail'!$B829)","v":0},{"$f":"COUNTIFS('Unit Detail'!$Y$8:$Y$400,\"2\",'Unit Detail'!$D$8:$D$400,'Building Detail'!$B829)","v":0},0,"",""]
[null,null,null,null,null,null,null,null,null,null,null,null,null,null,{"$f":"SUMIFS('Unit Detail'!$H$8:$H$400,'Unit Detail'!$D$8:$D$400,'Building Detail'!$B830,'Unit Detail'!$Y$8:$Y$400,1)","v":0},{"$f":"SUMIFS('Unit Detail'!$H$8:$H$400,'Unit Detail'!$D$8:$D$400,'Building Detail'!$B830,'Unit Detail'!$Y$8:$Y$400,3)","v":0},{"$f":"SUMIFS('Unit Detail'!$H$8:$H$400,'Unit Detail'!$D$8:$D$400,'Building Detail'!$B830,'Unit Detail'!$Y$8:$Y$400,2)","v":0},{"$f":"SUMIF('Unit Detail'!$D$8:$D$400,$B830,'Unit Detail'!$H$8:$H$400)","v":0},0,"",{"$f":"COUNTIFS('Unit Detail'!$Y$8:$Y$400,\"1\",'Unit Detail'!$D$8:$D$400,'Building Detail'!$B830)","v":0},{"$f":"COUNTIFS('Unit Detail'!$Y$8:$Y$400,\"3\",'Unit Detail'!$D$8:$D$400,'Building Detail'!$B830)","v":0},{"$f":"COUNTIFS('Unit Detail'!$Y$8:$Y$400,\"2\",'Unit Detail'!$D$8:$D$400,'Building Detail'!$B830)","v":0},0,"",""]
[null,null,null,null,null,null,null,null,null,null,null,null,null,null,{"$f":"SUMIFS('Unit Detail'!$H$8:$H$400,'Unit Detail'!$D$8:$D$400,'Building Detail'!$B831,'Unit Detail'!$Y$8:$Y$400,1)","v":0},{"$f":"SUMIFS('Unit Detail'!$H$8:$H$400,'Unit Detail'!$D$8:$D$400,'Building Detail'!$B831,'Unit Detail'!$Y$8:$Y$400,3)","v":0},{"$f":"SUMIFS('Unit Detail'!$H$8:$H$400,'Unit Detail'!$D$8:$D$400,'Building Detail'!$B831,'Unit Detail'!$Y$8:$Y$400,2)","v":0},{"$f":"SUMIF('Unit Detail'!$D$8:$D$400,$B831,'Unit Detail'!$H$8:$H$400)","v":0},0,"",{"$f":"COUNTIFS('Unit Detail'!$Y$8:$Y$400,\"1\",'Unit Detail'!$D$8:$D$400,'Building Detail'!$B831)","v":0},{"$f":"COUNTIFS('Unit Detail'!$Y$8:$Y$400,\"3\",'Unit Detail'!$D$8:$D$400,'Building Detail'!$B831)","v":0},{"$f":"COUNTIFS('Unit Detail'!$Y$8:$Y$400,\"2\",'Unit Detail'!$D$8:$D$400,'Building Detail'!$B831)","v":0},0,"",""]
[null,null,null,null,null,null,null,null,null,null,null,null,null,null,{"$f":"SUMIFS('Unit Detail'!$H$8:$H$400,'Unit Detail'!$D$8:$D$400,'Building Detail'!$B832,'Unit Detail'!$Y$8:$Y$400,1)","v":0},{"$f":"SUMIFS('Unit Detail'!$H$8:$H$400,'Unit Detail'!$D$8:$D$400,'Building Detail'!$B832,'Unit Detail'!$Y$8:$Y$400,3)","v":0},{"$f":"SUMIFS('Unit Detail'!$H$8:$H$400,'Unit Detail'!$D$8:$D$400,'Building Detail'!$B832,'Unit Detail'!$Y$8:$Y$400,2)","v":0},{"$f":"SUMIF('Unit Detail'!$D$8:$D$400,$B832,'Unit Detail'!$H$8:$H$400)","v":0},0,"",{"$f":"COUNTIFS('Unit Detail'!$Y$8:$Y$400,\"1\",'Unit Detail'!$D$8:$D$400,'Building Detail'!$B832)","v":0},{"$f":"COUNTIFS('Unit Detail'!$Y$8:$Y$400,\"3\",'Unit Detail'!$D$8:$D$400,'Building Detail'!$B832)","v":0},{"$f":"COUNTIFS('Unit Detail'!$Y$8:$Y$400,\"2\",'Unit Detail'!$D$8:$D$400,'Building Detail'!$B832)","v":0},0,"",""]
[null,null,null,null,null,null,null,null,null,null,null,null,null,null,{"$f":"SUMIFS('Unit Detail'!$H$8:$H$400,'Unit Detail'!$D$8:$D$400,'Building Detail'!$B833,'Unit Detail'!$Y$8:$Y$400,1)","v":0},{"$f":"SUMIFS('Unit Detail'!$H$8:$H$400,'Unit Detail'!$D$8:$D$400,'Building Detail'!$B833,'Unit Detail'!$Y$8:$Y$400,3)","v":0},{"$f":"SUMIFS('Unit Detail'!$H$8:$H$400,'Unit Detail'!$D$8:$D$400,'Building Detail'!$B833,'Unit Detail'!$Y$8:$Y$400,2)","v":0},{"$f":"SUMIF('Unit Detail'!$D$8:$D$400,$B833,'Unit Detail'!$H$8:$H$400)","v":0},0,"",{"$f":"COUNTIFS('Unit Detail'!$Y$8:$Y$400,\"1\",'Unit Detail'!$D$8:$D$400,'Building Detail'!$B833)","v":0},{"$f":"COUNTIFS('Unit Detail'!$Y$8:$Y$400,\"3\",'Unit Detail'!$D$8:$D$400,'Building Detail'!$B833)","v":0},{"$f":"COUNTIFS('Unit Detail'!$Y$8:$Y$400,\"2\",'Unit Detail'!$D$8:$D$400,'Building Detail'!$B833)","v":0},0,"",""]
[null,null,null,null,null,null,null,null,null,null,null,null,null,null,{"$f":"SUMIFS('Unit Detail'!$H$8:$H$400,'Unit Detail'!$D$8:$D$400,'Building Detail'!$B834,'Unit Detail'!$Y$8:$Y$400,1)","v":0},{"$f":"SUMIFS('Unit Detail'!$H$8:$H$400,'Unit Detail'!$D$8:$D$400,'Building Detail'!$B834,'Unit Detail'!$Y$8:$Y$400,3)","v":0},{"$f":"SUMIFS('Unit Detail'!$H$8:$H$400,'Unit Detail'!$D$8:$D$400,'Building Detail'!$B834,'Unit Detail'!$Y$8:$Y$400,2)","v":0},{"$f":"SUMIF('Unit Detail'!$D$8:$D$400,$B834,'Unit Detail'!$H$8:$H$400)","v":0},0,"",{"$f":"COUNTIFS('Unit Detail'!$Y$8:$Y$400,\"1\",'Unit Detail'!$D$8:$D$400,'Building Detail'!$B834)","v":0},{"$f":"COUNTIFS('Unit Detail'!$Y$8:$Y$400,\"3\",'Unit Detail'!$D$8:$D$400,'Building Detail'!$B834)","v":0},{"$f":"COUNTIFS('Unit Detail'!$Y$8:$Y$400,\"2\",'Unit Detail'!$D$8:$D$400,'Building Detail'!$B834)","v":0},0,"",""]
[null,null,null,null,null,null,null,null,null,null,null,null,null,null,{"$f":"SUMIFS('Unit Detail'!$H$8:$H$400,'Unit Detail'!$D$8:$D$400,'Building Detail'!$B835,'Unit Detail'!$Y$8:$Y$400,1)","v":0},{"$f":"SUMIFS('Unit Detail'!$H$8:$H$400,'Unit Detail'!$D$8:$D$400,'Building Detail'!$B835,'Unit Detail'!$Y$8:$Y$400,3)","v":0},{"$f":"SUMIFS('Unit Detail'!$H$8:$H$400,'Unit Detail'!$D$8:$D$400,'Building Detail'!$B835,'Unit Detail'!$Y$8:$Y$400,2)","v":0},{"$f":"SUMIF('Unit Detail'!$D$8:$D$400,$B835,'Unit Detail'!$H$8:$H$400)","v":0},{"$f":"SUM(M835,N835,R835)","v":0},"",{"$f":"COUNTIFS('Unit Detail'!$Y$8:$Y$400,\"1\",'Unit Detail'!$D$8:$D$400,'Building Detail'!$B835)","v":0},{"$f":"COUNTIFS('Unit Detail'!$Y$8:$Y$400,\"3\",'Unit Detail'!$D$8:$D$400,'Building Detail'!$B835)","v":0},{"$f":"COUNTIFS('Unit Detail'!$Y$8:$Y$400,\"2\",'Unit Detail'!$D$8:$D$400,'Building Detail'!$B835)","v":0},{"$f":"SUM(U835:W835)","v":0},"",""]
[null,null,null,null,null,null,null,null,null,null,null,null,null,null,{"$f":"SUMIFS('Unit Detail'!$H$8:$H$400,'Unit Detail'!$D$8:$D$400,'Building Detail'!$B836,'Unit Detail'!$Y$8:$Y$400,1)","v":0},{"$f":"SUMIFS('Unit Detail'!$H$8:$H$400,'Unit Detail'!$D$8:$D$400,'Building Detail'!$B836,'Unit Detail'!$Y$8:$Y$400,3)","v":0},{"$f":"SUMIFS('Unit Detail'!$H$8:$H$400,'Unit Detail'!$D$8:$D$400,'Building Detail'!$B836,'Unit Detail'!$Y$8:$Y$400,2)","v":0},{"$f":"SUMIF('Unit Detail'!$D$8:$D$400,$B836,'Unit Detail'!$H$8:$H$400)","v":0},0,"",{"$f":"COUNTIFS('Unit Detail'!$Y$8:$Y$400,\"1\",'Unit Detail'!$D$8:$D$400,'Building Detail'!$B836)","v":0},{"$f":"COUNTIFS('Unit Detail'!$Y$8:$Y$400,\"3\",'Unit Detail'!$D$8:$D$400,'Building Detail'!$B836)","v":0},{"$f":"COUNTIFS('Unit Detail'!$Y$8:$Y$400,\"2\",'Unit Detail'!$D$8:$D$400,'Building Detail'!$B836)","v":0},0,"",""]
[null,null,null,null,null,null,null,null,null,null,null,null,null,null,{"$f":"SUMIFS('Unit Detail'!$H$8:$H$400,'Unit Detail'!$D$8:$D$400,'Building Detail'!$B837,'Unit Detail'!$Y$8:$Y$400,1)","v":0},{"$f":"SUMIFS('Unit Detail'!$H$8:$H$400,'Unit Detail'!$D$8:$D$400,'Building Detail'!$B837,'Unit Detail'!$Y$8:$Y$400,3)","v":0},{"$f":"SUMIFS('Unit Detail'!$H$8:$H$400,'Unit Detail'!$D$8:$D$400,'Building Detail'!$B837,'Unit Detail'!$Y$8:$Y$400,2)","v":0},{"$f":"SUMIF('Unit Detail'!$D$8:$D$400,$B837,'Unit Detail'!$H$8:$H$400)","v":0},0,"",{"$f":"COUNTIFS('Unit Detail'!$Y$8:$Y$400,\"1\",'Unit Detail'!$D$8:$D$400,'Building Detail'!$B837)","v":0},{"$f":"COUNTIFS('Unit Detail'!$Y$8:$Y$400,\"3\",'Unit Detail'!$D$8:$D$400,'Building Detail'!$B837)","v":0},{"$f":"COUNTIFS('Unit Detail'!$Y$8:$Y$400,\"2\",'Unit Detail'!$D$8:$D$400,'Building Detail'!$B837)","v":0},0,"",""]
[null,null,null,null,null,null,null,null,null,null,null,null,null,null,{"$f":"SUMIFS('Unit Detail'!$H$8:$H$400,'Unit Detail'!$D$8:$D$400,'Building Detail'!$B838,'Unit Detail'!$Y$8:$Y$400,1)","v":0},{"$f":"SUMIFS('Unit Detail'!$H$8:$H$400,'Unit Detail'!$D$8:$D$400,'Building Detail'!$B838,'Unit Detail'!$Y$8:$Y$400,3)","v":0},{"$f":"SUMIFS('Unit Detail'!$H$8:$H$400,'Unit Detail'!$D$8:$D$400,'Building Detail'!$B838,'Unit Detail'!$Y$8:$Y$400,2)","v":0},{"$f":"SUMIF('Unit Detail'!$D$8:$D$400,$B838,'Unit Detail'!$H$8:$H$400)","v":0},0,"",{"$f":"COUNTIFS('Unit Detail'!$Y$8:$Y$400,\"1\",'Unit Detail'!$D$8:$D$400,'Building Detail'!$B838)","v":0},{"$f":"COUNTIFS('Unit Detail'!$Y$8:$Y$400,\"3\",'Unit Detail'!$D$8:$D$400,'Building Detail'!$B838)","v":0},{"$f":"COUNTIFS('Unit Detail'!$Y$8:$Y$400,\"2\",'Unit Detail'!$D$8:$D$400,'Building Detail'!$B838)","v":0},0,"",""]
[null,null,null,null,null,null,null,null,null,null,null,null,null,null,{"$f":"SUMIFS('Unit Detail'!$H$8:$H$400,'Unit Detail'!$D$8:$D$400,'Building Detail'!$B839,'Unit Detail'!$Y$8:$Y$400,1)","v":0},{"$f":"SUMIFS('Unit Detail'!$H$8:$H$400,'Unit Detail'!$D$8:$D$400,'Building Detail'!$B839,'Unit Detail'!$Y$8:$Y$400,3)","v":0},{"$f":"SUMIFS('Unit Detail'!$H$8:$H$400,'Unit Detail'!$D$8:$D$400,'Building Detail'!$B839,'Unit Detail'!$Y$8:$Y$400,2)","v":0},{"$f":"SUMIF('Unit Detail'!$D$8:$D$400,$B839,'Unit Detail'!$H$8:$H$400)","v":0},0,"",{"$f":"COUNTIFS('Unit Detail'!$Y$8:$Y$400,\"1\",'Unit Detail'!$D$8:$D$400,'Building Detail'!$B839)","v":0},{"$f":"COUNTIFS('Unit Detail'!$Y$8:$Y$400,\"3\",'Unit Detail'!$D$8:$D$400,'Building Detail'!$B839)","v":0},{"$f":"COUNTIFS('Unit Detail'!$Y$8:$Y$400,\"2\",'Unit Detail'!$D$8:$D$400,'Building Detail'!$B839)","v":0},0,"",""]
[null,null,null,null,null,null,null,null,null,null,null,null,null,null,{"$f":"SUMIFS('Unit Detail'!$H$8:$H$400,'Unit Detail'!$D$8:$D$400,'Building Detail'!$B840,'Unit Detail'!$Y$8:$Y$400,1)","v":0},{"$f":"SUMIFS('Unit Detail'!$H$8:$H$400,'Unit Detail'!$D$8:$D$400,'Building Detail'!$B840,'Unit Detail'!$Y$8:$Y$400,3)","v":0},{"$f":"SUMIFS('Unit Detail'!$H$8:$H$400,'Unit Detail'!$D$8:$D$400,'Building Detail'!$B840,'Unit Detail'!$Y$8:$Y$400,2)","v":0},{"$f":"SUMIF('Unit Detail'!$D$8:$D$400,$B840,'Unit Detail'!$H$8:$H$400)","v":0},0,"",{"$f":"COUNTIFS('Unit Detail'!$Y$8:$Y$400,\"1\",'Unit Detail'!$D$8:$D$400,'Building Detail'!$B840)","v":0},{"$f":"COUNTIFS('Unit Detail'!$Y$8:$Y$400,\"3\",'Unit Detail'!$D$8:$D$400,'Building Detail'!$B840)","v":0},{"$f":"COUNTIFS('Unit Detail'!$Y$8:$Y$400,\"2\",'Unit Detail'!$D$8:$D$400,'Building Detail'!$B840)","v":0},0,"",""]
[null,null,null,null,null,null,null,null,null,null,null,null,null,null,{"$f":"SUMIFS('Unit Detail'!$H$8:$H$400,'Unit Detail'!$D$8:$D$400,'Building Detail'!$B841,'Unit Detail'!$Y$8:$Y$400,1)","v":0},{"$f":"SUMIFS('Unit Detail'!$H$8:$H$400,'Unit Detail'!$D$8:$D$400,'Building Detail'!$B841,'Unit Detail'!$Y$8:$Y$400,3)","v":0},{"$f":"SUMIFS('Unit Detail'!$H$8:$H$400,'Unit Detail'!$D$8:$D$400,'Building Detail'!$B841,'Unit Detail'!$Y$8:$Y$400,2)","v":0},{"$f":"SUMIF('Unit Detail'!$D$8:$D$400,$B841,'Unit Detail'!$H$8:$H$400)","v":0},0,"",{"$f":"COUNTIFS('Unit Detail'!$Y$8:$Y$400,\"1\",'Unit Detail'!$D$8:$D$400,'Building Detail'!$B841)","v":0},{"$f":"COUNTIFS('Unit Detail'!$Y$8:$Y$400,\"3\",'Unit Detail'!$D$8:$D$400,'Building Detail'!$B841)","v":0},{"$f":"COUNTIFS('Unit Detail'!$Y$8:$Y$400,\"2\",'Unit Detail'!$D$8:$D$400,'Building Detail'!$B841)","v":0},0,"",""]
[null,null,null,null,null,null,null,null,null,null,null,null,null,null,{"$f":"SUMIFS('Unit Detail'!$H$8:$H$400,'Unit Detail'!$D$8:$D$400,'Building Detail'!$B842,'Unit Detail'!$Y$8:$Y$400,1)","v":0},{"$f":"SUMIFS('Unit Detail'!$H$8:$H$400,'Unit Detail'!$D$8:$D$400,'Building Detail'!$B842,'Unit Detail'!$Y$8:$Y$400,3)","v":0},{"$f":"SUMIFS('Unit Detail'!$H$8:$H$400,'Unit Detail'!$D$8:$D$400,'Building Detail'!$B842,'Unit Detail'!$Y$8:$Y$400,2)","v":0},{"$f":"SUMIF('Unit Detail'!$D$8:$D$400,$B842,'Unit Detail'!$H$8:$H$400)","v":0},0,"",{"$f":"COUNTIFS('Unit Detail'!$Y$8:$Y$400,\"1\",'Unit Detail'!$D$8:$D$400,'Building Detail'!$B842)","v":0},{"$f":"COUNTIFS('Unit Detail'!$Y$8:$Y$400,\"3\",'Unit Detail'!$D$8:$D$400,'Building Detail'!$B842)","v":0},{"$f":"COUNTIFS('Unit Detail'!$Y$8:$Y$400,\"2\",'Unit Detail'!$D$8:$D$400,'Building Detail'!$B842)","v":0},0,"",""]
[null,null,null,null,null,null,null,null,null,null,null,null,null,null,{"$f":"SUMIFS('Unit Detail'!$H$8:$H$400,'Unit Detail'!$D$8:$D$400,'Building Detail'!$B843,'Unit Detail'!$Y$8:$Y$400,1)","v":0},{"$f":"SUMIFS('Unit Detail'!$H$8:$H$400,'Unit Detail'!$D$8:$D$400,'Building Detail'!$B843,'Unit Detail'!$Y$8:$Y$400,3)","v":0},{"$f":"SUMIFS('Unit Detail'!$H$8:$H$400,'Unit Detail'!$D$8:$D$400,'Building Detail'!$B843,'Unit Detail'!$Y$8:$Y$400,2)","v":0},{"$f":"SUMIF('Unit Detail'!$D$8:$D$400,$B843,'Unit Detail'!$H$8:$H$400)","v":0},0,"",{"$f":"COUNTIFS('Unit Detail'!$Y$8:$Y$400,\"1\",'Unit Detail'!$D$8:$D$400,'Building Detail'!$B843)","v":0},{"$f":"COUNTIFS('Unit Detail'!$Y$8:$Y$400,\"3\",'Unit Detail'!$D$8:$D$400,'Building Detail'!$B843)","v":0},{"$f":"COUNTIFS('Unit Detail'!$Y$8:$Y$400,\"2\",'Unit Detail'!$D$8:$D$400,'Building Detail'!$B843)","v":0},0,"",""]
[null,null,null,null,null,null,null,null,null,null,null,null,null,null,{"$f":"SUMIFS('Unit Detail'!$H$8:$H$400,'Unit Detail'!$D$8:$D$400,'Building Detail'!$B844,'Unit Detail'!$Y$8:$Y$400,1)","v":0},{"$f":"SUMIFS('Unit Detail'!$H$8:$H$400,'Unit Detail'!$D$8:$D$400,'Building Detail'!$B844,'Unit Detail'!$Y$8:$Y$400,3)","v":0},{"$f":"SUMIFS('Unit Detail'!$H$8:$H$400,'Unit Detail'!$D$8:$D$400,'Building Detail'!$B844,'Unit Detail'!$Y$8:$Y$400,2)","v":0},{"$f":"SUMIF('Unit Detail'!$D$8:$D$400,$B844,'Unit Detail'!$H$8:$H$400)","v":0},0,"",{"$f":"COUNTIFS('Unit Detail'!$Y$8:$Y$400,\"1\",'Unit Detail'!$D$8:$D$400,'Building Detail'!$B844)","v":0},{"$f":"COUNTIFS('Unit Detail'!$Y$8:$Y$400,\"3\",'Unit Detail'!$D$8:$D$400,'Building Detail'!$B844)","v":0},{"$f":"COUNTIFS('Unit Detail'!$Y$8:$Y$400,\"2\",'Unit Detail'!$D$8:$D$400,'Building Detail'!$B844)","v":0},0,"",""]
[null,null,null,null,null,null,null,null,null,null,null,null,null,null,{"$f":"SUMIFS('Unit Detail'!$H$8:$H$400,'Unit Detail'!$D$8:$D$400,'Building Detail'!$B845,'Unit Detail'!$Y$8:$Y$400,1)","v":0},{"$f":"SUMIFS('Unit Detail'!$H$8:$H$400,'Unit Detail'!$D$8:$D$400,'Building Detail'!$B845,'Unit Detail'!$Y$8:$Y$400,3)","v":0},{"$f":"SUMIFS('Unit Detail'!$H$8:$H$400,'Unit Detail'!$D$8:$D$400,'Building Detail'!$B845,'Unit Detail'!$Y$8:$Y$400,2)","v":0},{"$f":"SUMIF('Unit Detail'!$D$8:$D$400,$B845,'Unit Detail'!$H$8:$H$400)","v":0},0,"",{"$f":"COUNTIFS('Unit Detail'!$Y$8:$Y$400,\"1\",'Unit Detail'!$D$8:$D$400,'Building Detail'!$B845)","v":0},{"$f":"COUNTIFS('Unit Detail'!$Y$8:$Y$400,\"3\",'Unit Detail'!$D$8:$D$400,'Building Detail'!$B845)","v":0},{"$f":"COUNTIFS('Unit Detail'!$Y$8:$Y$400,\"2\",'Unit Detail'!$D$8:$D$400,'Building Detail'!$B845)","v":0},0,"",""]
[null,null,null,null,null,null,null,null,null,null,null,null,null,null,{"$f":"SUMIFS('Unit Detail'!$H$8:$H$400,'Unit Detail'!$D$8:$D$400,'Building Detail'!$B846,'Unit Detail'!$Y$8:$Y$400,1)","v":0},{"$f":"SUMIFS('Unit Detail'!$H$8:$H$400,'Unit Detail'!$D$8:$D$400,'Building Detail'!$B846,'Unit Detail'!$Y$8:$Y$400,3)","v":0},{"$f":"SUMIFS('Unit Detail'!$H$8:$H$400,'Unit Detail'!$D$8:$D$400,'Building Detail'!$B846,'Unit Detail'!$Y$8:$Y$400,2)","v":0},{"$f":"SUMIF('Unit Detail'!$D$8:$D$400,$B846,'Unit Detail'!$H$8:$H$400)","v":0},0,"",{"$f":"COUNTIFS('Unit Detail'!$Y$8:$Y$400,\"1\",'Unit Detail'!$D$8:$D$400,'Building Detail'!$B846)","v":0},{"$f":"COUNTIFS('Unit Detail'!$Y$8:$Y$400,\"3\",'Unit Detail'!$D$8:$D$400,'Building Detail'!$B846)","v":0},{"$f":"COUNTIFS('Unit Detail'!$Y$8:$Y$400,\"2\",'Unit Detail'!$D$8:$D$400,'Building Detail'!$B846)","v":0},0,"",""]
[null,null,null,null,null,null,null,null,null,null,null,null,null,null,{"$f":"SUMIFS('Unit Detail'!$H$8:$H$400,'Unit Detail'!$D$8:$D$400,'Building Detail'!$B847,'Unit Detail'!$Y$8:$Y$400,1)","v":0},{"$f":"SUMIFS('Unit Detail'!$H$8:$H$400,'Unit Detail'!$D$8:$D$400,'Building Detail'!$B847,'Unit Detail'!$Y$8:$Y$400,3)","v":0},{"$f":"SUMIFS('Unit Detail'!$H$8:$H$400,'Unit Detail'!$D$8:$D$400,'Building Detail'!$B847,'Unit Detail'!$Y$8:$Y$400,2)","v":0},{"$f":"SUMIF('Unit Detail'!$D$8:$D$400,$B847,'Unit Detail'!$H$8:$H$400)","v":0},0,"",{"$f":"COUNTIFS('Unit Detail'!$Y$8:$Y$400,\"1\",'Unit Detail'!$D$8:$D$400,'Building Detail'!$B847)","v":0},{"$f":"COUNTIFS('Unit Detail'!$Y$8:$Y$400,\"3\",'Unit Detail'!$D$8:$D$400,'Building Detail'!$B847)","v":0},{"$f":"COUNTIFS('Unit Detail'!$Y$8:$Y$400,\"2\",'Unit Detail'!$D$8:$D$400,'Building Detail'!$B847)","v":0},0,"",""]
[null,null,null,null,null,null,null,null,null,null,null,null,null,null,{"$f":"SUMIFS('Unit Detail'!$H$8:$H$400,'Unit Detail'!$D$8:$D$400,'Building Detail'!$B848,'Unit Detail'!$Y$8:$Y$400,1)","v":0},{"$f":"SUMIFS('Unit Detail'!$H$8:$H$400,'Unit Detail'!$D$8:$D$400,'Building Detail'!$B848,'Unit Detail'!$Y$8:$Y$400,3)","v":0},{"$f":"SUMIFS('Unit Detail'!$H$8:$H$400,'Unit Detail'!$D$8:$D$400,'Building Detail'!$B848,'Unit Detail'!$Y$8:$Y$400,2)","v":0},{"$f":"SUMIF('Unit Detail'!$D$8:$D$400,$B848,'Unit Detail'!$H$8:$H$400)","v":0},0,"",{"$f":"COUNTIFS('Unit Detail'!$Y$8:$Y$400,\"1\",'Unit Detail'!$D$8:$D$400,'Building Detail'!$B848)","v":0},{"$f":"COUNTIFS('Unit Detail'!$Y$8:$Y$400,\"3\",'Unit Detail'!$D$8:$D$400,'Building Detail'!$B848)","v":0},{"$f":"COUNTIFS('Unit Detail'!$Y$8:$Y$400,\"2\",'Unit Detail'!$D$8:$D$400,'Building Detail'!$B848)","v":0},0,"",""]
[null,null,null,null,null,null,null,null,null,null,null,null,null,null,{"$f":"SUMIFS('Unit Detail'!$H$8:$H$400,'Unit Detail'!$D$8:$D$400,'Building Detail'!$B849,'Unit Detail'!$Y$8:$Y$400,1)","v":0},{"$f":"SUMIFS('Unit Detail'!$H$8:$H$400,'Unit Detail'!$D$8:$D$400,'Building Detail'!$B849,'Unit Detail'!$Y$8:$Y$400,3)","v":0},{"$f":"SUMIFS('Unit Detail'!$H$8:$H$400,'Unit Detail'!$D$8:$D$400,'Building Detail'!$B849,'Unit Detail'!$Y$8:$Y$400,2)","v":0},{"$f":"SUMIF('Unit Detail'!$D$8:$D$400,$B849,'Unit Detail'!$H$8:$H$400)","v":0},0,"",{"$f":"COUNTIFS('Unit Detail'!$Y$8:$Y$400,\"1\",'Unit Detail'!$D$8:$D$400,'Building Detail'!$B849)","v":0},{"$f":"COUNTIFS('Unit Detail'!$Y$8:$Y$400,\"3\",'Unit Detail'!$D$8:$D$400,'Building Detail'!$B849)","v":0},{"$f":"COUNTIFS('Unit Detail'!$Y$8:$Y$400,\"2\",'Unit Detail'!$D$8:$D$400,'Building Detail'!$B849)","v":0},0,"",""]
[null,null,null,null,null,null,null,null,null,null,null,null,null,null,{"$f":"SUMIFS('Unit Detail'!$H$8:$H$400,'Unit Detail'!$D$8:$D$400,'Building Detail'!$B850,'Unit Detail'!$Y$8:$Y$400,1)","v":0},{"$f":"SUMIFS('Unit Detail'!$H$8:$H$400,'Unit Detail'!$D$8:$D$400,'Building Detail'!$B850,'Unit Detail'!$Y$8:$Y$400,3)","v":0},{"$f":"SUMIFS('Unit Detail'!$H$8:$H$400,'Unit Detail'!$D$8:$D$400,'Building Detail'!$B850,'Unit Detail'!$Y$8:$Y$400,2)","v":0},{"$f":"SUMIF('Unit Detail'!$D$8:$D$400,$B850,'Unit Detail'!$H$8:$H$400)","v":0},0,"",{"$f":"COUNTIFS('Unit Detail'!$Y$8:$Y$400,\"1\",'Unit Detail'!$D$8:$D$400,'Building Detail'!$B850)","v":0},{"$f":"COUNTIFS('Unit Detail'!$Y$8:$Y$400,\"3\",'Unit Detail'!$D$8:$D$400,'Building Detail'!$B850)","v":0},{"$f":"COUNTIFS('Unit Detail'!$Y$8:$Y$400,\"2\",'Unit Detail'!$D$8:$D$400,'Building Detail'!$B850)","v":0},0,"",{"$f":"IF(Y850<T850,Y850,T850)","v":""}]
[null,null,null,null,null,null,null,null,null,null,null,null,null,null,{"$f":"SUMIFS('Unit Detail'!$H$8:$H$400,'Unit Detail'!$D$8:$D$400,'Building Detail'!$B851,'Unit Detail'!$Y$8:$Y$400,1)","v":0},{"$f":"SUMIFS('Unit Detail'!$H$8:$H$400,'Unit Detail'!$D$8:$D$400,'Building Detail'!$B851,'Unit Detail'!$Y$8:$Y$400,3)","v":0},{"$f":"SUMIFS('Unit Detail'!$H$8:$H$400,'Unit Detail'!$D$8:$D$400,'Building Detail'!$B851,'Unit Detail'!$Y$8:$Y$400,2)","v":0},{"$f":"SUMIF('Unit Detail'!$D$8:$D$400,$B851,'Unit Detail'!$H$8:$H$400)","v":0},0,"",{"$f":"COUNTIFS('Unit Detail'!$Y$8:$Y$400,\"1\",'Unit Detail'!$D$8:$D$400,'Building Detail'!$B851)","v":0},{"$f":"COUNTIFS('Unit Detail'!$Y$8:$Y$400,\"3\",'Unit Detail'!$D$8:$D$400,'Building Detail'!$B851)","v":0},{"$f":"COUNTIFS('Unit Detail'!$Y$8:$Y$400,\"2\",'Unit Detail'!$D$8:$D$400,'Building Detail'!$B851)","v":0},0,{"$f":"IF(B851=\"\",\"\",IF($P$15=0,1,U851/X851))","v":""},""]
[null,null,null,null,null,null,null,null,null,null,null,null,null,null,{"$f":"SUMIFS('Unit Detail'!$H$8:$H$400,'Unit Detail'!$D$8:$D$400,'Building Detail'!$B852,'Unit Detail'!$Y$8:$Y$400,1)","v":0},{"$f":"SUMIFS('Unit Detail'!$H$8:$H$400,'Unit Detail'!$D$8:$D$400,'Building Detail'!$B852,'Unit Detail'!$Y$8:$Y$400,3)","v":0},{"$f":"SUMIFS('Unit Detail'!$H$8:$H$400,'Unit Detail'!$D$8:$D$400,'Building Detail'!$B852,'Unit Detail'!$Y$8:$Y$400,2)","v":0},{"$f":"SUMIF('Unit Detail'!$D$8:$D$400,$B852,'Unit Detail'!$H$8:$H$400)","v":0},0,"",{"$f":"COUNTIFS('Unit Detail'!$Y$8:$Y$400,\"1\",'Unit Detail'!$D$8:$D$400,'Building Detail'!$B852)","v":0},{"$f":"COUNTIFS('Unit Detail'!$Y$8:$Y$400,\"3\",'Unit Detail'!$D$8:$D$400,'Building Detail'!$B852)","v":0},{"$f":"COUNTIFS('Unit Detail'!$Y$8:$Y$400,\"2\",'Unit Detail'!$D$8:$D$400,'Building Detail'!$B852)","v":0},0,"",""]
[null,null,null,null,null,null,null,null,null,null,null,null,null,null,{"$f":"SUMIFS('Unit Detail'!$H$8:$H$400,'Unit Detail'!$D$8:$D$400,'Building Detail'!$B853,'Unit Detail'!$Y$8:$Y$400,1)","v":0},{"$f":"SUMIFS('Unit Detail'!$H$8:$H$400,'Unit Detail'!$D$8:$D$400,'Building Detail'!$B853,'Unit Detail'!$Y$8:$Y$400,3)","v":0},{"$f":"SUMIFS('Unit Detail'!$H$8:$H$400,'Unit Detail'!$D$8:$D$400,'Building Detail'!$B853,'Unit Detail'!$Y$8:$Y$400,2)","v":0},{"$f":"SUMIF('Unit Detail'!$D$8:$D$400,$B853,'Unit Detail'!$H$8:$H$400)","v":0},0,{"$f":"IF(B853=\"\",\"\",IF($P$15=0,1,O853/R853))","v":""},{"$f":"COUNTIFS('Unit Detail'!$Y$8:$Y$400,\"1\",'Unit Detail'!$D$8:$D$400,'Building Detail'!$B853)","v":0},{"$f":"COUNTIFS('Unit Detail'!$Y$8:$Y$400,\"3\",'Unit Detail'!$D$8:$D$400,'Building Detail'!$B853)","v":0},{"$f":"COUNTIFS('Unit Detail'!$Y$8:$Y$400,\"2\",'Unit Detail'!$D$8:$D$400,'Building Detail'!$B853)","v":0},0,"",""]
[null,null,null,null,null,null,null,null,null,null,null,null,null,null,{"$f":"SUMIFS('Unit Detail'!$H$8:$H$400,'Unit Detail'!$D$8:$D$400,'Building Detail'!$B854,'Unit Detail'!$Y$8:$Y$400,1)","v":0},{"$f":"SUMIFS('Unit Detail'!$H$8:$H$400,'Unit Detail'!$D$8:$D$400,'Building Detail'!$B854,'Unit Detail'!$Y$8:$Y$400,3)","v":0},{"$f":"SUMIFS('Unit Detail'!$H$8:$H$400,'Unit Detail'!$D$8:$D$400,'Building Detail'!$B854,'Unit Detail'!$Y$8:$Y$400,2)","v":0},{"$f":"SUMIF('Unit Detail'!$D$8:$D$400,$B854,'Unit Detail'!$H$8:$H$400)","v":0},0,"",{"$f":"COUNTIFS('Unit Detail'!$Y$8:$Y$400,\"1\",'Unit Detail'!$D$8:$D$400,'Building Detail'!$B854)","v":0},{"$f":"COUNTIFS('Unit Detail'!$Y$8:$Y$400,\"3\",'Unit Detail'!$D$8:$D$400,'Building Detail'!$B854)","v":0},{"$f":"COUNTIFS('Unit Detail'!$Y$8:$Y$400,\"2\",'Unit Detail'!$D$8:$D$400,'Building Detail'!$B854)","v":0},0,"",""]
[null,null,null,null,null,null,null,null,null,null,null,null,null,null,{"$f":"SUMIFS('Unit Detail'!$H$8:$H$400,'Unit Detail'!$D$8:$D$400,'Building Detail'!$B855,'Unit Detail'!$Y$8:$Y$400,1)","v":0},{"$f":"SUMIFS('Unit Detail'!$H$8:$H$400,'Unit Detail'!$D$8:$D$400,'Building Detail'!$B855,'Unit Detail'!$Y$8:$Y$400,3)","v":0},{"$f":"SUMIFS('Unit Detail'!$H$8:$H$400,'Unit Detail'!$D$8:$D$400,'Building Detail'!$B855,'Unit Detail'!$Y$8:$Y$400,2)","v":0},{"$f":"SUMIF('Unit Detail'!$D$8:$D$400,$B855,'Unit Detail'!$H$8:$H$400)","v":0},0,"",{"$f":"COUNTIFS('Unit Detail'!$Y$8:$Y$400,\"1\",'Unit Detail'!$D$8:$D$400,'Building Detail'!$B855)","v":0},{"$f":"COUNTIFS('Unit Detail'!$Y$8:$Y$400,\"3\",'Unit Detail'!$D$8:$D$400,'Building Detail'!$B855)","v":0},{"$f":"COUNTIFS('Unit Detail'!$Y$8:$Y$400,\"2\",'Unit Detail'!$D$8:$D$400,'Building Detail'!$B855)","v":0},0,"",""]

{"sheet":"Unit Detail","index":4,"n_rows":400,"n_cols":30,"rows_kept":400,"cut":false,"hidden":false,"merged":[[5,29,6,29],[1,5,1,14],[2,5,2,14],[5,14,5,23],[5,11,5,13],[5,1,5,10],[5,25,6,25],[5,26,5,28]]}
[null,"Form 3345 | Plan Review Worksheet | Unit Detail"]
[null,"Development Name: ",null,null,null,{"$f":"'Development Summary'!F2","v":0}]
[null,"Development Number: ",null,null,null,{"$f":"'Development Summary'!F3","v":0}]
[]
[null,"Residential Unit Detail"]
[null,"Unit Detail",null,null,null,null,null,null,null,null,null,"Primary Unit Designation",null,null,"Secondary Unit Designation",null,null,null,null,null,null,null,null,null,"ApFractionCalc","AMGI Designation","Credit Type",null,null,"Credit Type (Do not need to complete if all units in all buildings are claiming same credit type(s)"]
[null,"Unit Count","Building #",null,"Unit Assignment (Five characters)","# of Bedrooms","# Bathrooms","Sq Ft per Unit","Unit Rent","Utility Allow","Monthly Gross Rent","LIHTC","Market","Employee","HOME","NHTF","AHAP","SA - Vuln. Pop","SA - PSH","Companion Living","IEH","Workforce","PBS8","Accessible",null,null,"New","Acq","Rehab"]
[null,1,null,{"$f":"IF(ISBLANK(C8),D7,C8)","v":0},null,null,null,null,null,null,{"$f":"I8+J8","v":0},null,null,null,null,null,null,null,null,null,null,null,null,null,{"$f":"IF(NOT(ISBLANK(L8)),1,IF(NOT(ISBLANK(N8)),2,IF(NOT(ISBLANK(M8)),3,\"\")))","v":""}]
[null,{"$f":"IF(ISBLANK(F9),\"\",B8+1)","v":""},null,{"$f":"IF(ISBLANK(C9),D8,C9)","v":0},null,null,null,null,null,null,0,null,null,null,null,null,null,null,null,null,null,null,null,null,{"$f":"IF(NOT(ISBLANK(L9)),1,IF(NOT(ISBLANK(N9)),2,IF(NOT(ISBLANK(M9)),3,\"\")))","v":""}]
[null,{"$f":"IF(ISBLANK(F10),\"\",B9+1)","v":""},null,0,null,null,null,null,null,null,0,null,null,null,null,null,null,null,null,null,null,null,null,null,{"$f":"IF(NOT(ISBLANK(L10)),1,IF(NOT(ISBLANK(N10)),2,IF(NOT(ISBLANK(M10)),3,\"\")))","v":""}]
[null,"",null,0,null,null,null,null,null,null,0,null,null,null,null,null,null,null,null,null,null,null,null,null,""]
[null,"",null,0,null,null,null,null,null,null,0,null,null,null,null,null,null,null,null,null,null,null,null,null,""]
[null,"",null,0,null,null,null,null,null,null,0,null,null,null,null,null,null,null,null,null,null,null,null,null,""]
[null,"",null,0,null,null,null,null,null,null,0,null,null,null,null,null,null,null,null,null,null,null,null,null,""]
[null,"",null,0,null,null,null,null,null,null,0,null,null,null,null,null,null,null,null,null,null,null,null,null,""]
[null,"",null,0,null,null,null,null,null,null,0,null,null,null,null,null,null,null,null,null,null,null,null,null,""]
[null,"",null,0,null,null,null,null,null,null,0,null,null,null,null,null,null,null,null,null,null,null,null,null,""]
[null,"",null,0,null,null,null,null,null,null,0,null,null,null,null,null,null,null,null,null,null,null,null,null,""]
[null,"",null,0,null,null,null,null,null,null,0,null,null,null,null,null,null,null,null,null,null,null,null,null,""]
[null,"",null,0,null,null,null,null,null,null,0,null,null,null,null,null,null,null,null,null,null,null,null,null,""]
[null,"",null,0,null,null,null,null,null,null,0,null,null,null,null,null,null,null,null,null,null,null,null,null,""]
[null,"",null,0,null,null,null,null,null,null,0,null,null,null,null,null,null,null,null,null,null,null,null,null,""]
[null,"",null,0,null,null,null,null,null,null,0,null,null,null,null,null,null,null,null,null,null,null,null,null,""]
[null,"",null,0,null,null,null,null,null,null,0,null,null,null,null,null,null,null,null,null,null,null,null,null,""]
[null,"",null,0,null,null,null,null,null,null,0,null,null,null,null,null,null,null,null,null,null,null,null,null,""]
[null,"",null,0,null,null,null,null,null,null,0,null,null,null,null,null,null,null,null,null,null,null,null,null,""]
[null,"",null,0,null,null,null,null,null,null,0,null,null,null,null,null,null,null,null,null,null,null,null,null,""]
[null,"",null,0,null,null,null,null,null,null,0,null,null,null,null,null,null,null,null,null,null,null,null,null,""]
[null,"",null,0,null,null,null,null,null,null,0,null,null,null,null,null,null,null,null,null,null,null,null,null,""]
[null,"",null,0,null,null,null,null,null,null,0,null,null,null,null,null,null,null,null,null,null,null,null,null,""]
[null,"",null,0,null,null,null,null,null,null,0,null,null,null,null,null,null,null,null,null,null,null,null,null,""]
[null,"",null,0,null,null,null,null,null,null,0,null,null,null,null,null,null,null,null,null,null,null,null,null,""]
[null,"",null,0,null,null,null,null,null,null,0,null,null,null,null,null,null,null,null,null,null,null,null,null,""]
[null,"",null,0,null,null,null,null,null,null,0,null,null,null,null,null,null,null,null,null,null,null,null,null,""]
[null,"",null,0,null,null,null,null,null,null,0,null,null,null,null,null,null,null,null,null,null,null,null,null,""]
[null,"",null,0,null,null,null,null,null,null,0,null,null,null,null,null,null,null,null,null,null,null,null,null,""]
[null,"",null,0,null,null,null,null,null,null,0,null,null,null,null,null,null,null,null,null,null,null,null,null,""]
[null,"",null,0,null,null,null,null,null,null,0,null,null,null,null,null,null,null,null,null,null,null,null,null,""]
[null,"",null,0,null,null,null,null,null,null,0,null,null,null,null,null,null,null,null,null,null,null,null,null,""]
[null,"",null,0,null,null,null,null,null,null,0,null,null,null,null,null,null,null,null,null,null,null,null,null,""]
[null,"",null,0,null,null,null,null,null,null,0,null,null,null,null,null,null,null,null,null,null,null,null,null,""]
[null,"",null,0,null,null,null,null,null,null,0,null,null,null,null,null,null,null,null,null,null,null,null,null,""]
[null,"",null,0,null,null,null,null,null,null,0,null,null,null,null,null,null,null,null,null,null,null,null,null,""]
[null,"",null,0,null,null,null,null,null,null,0,null,null,null,null,null,null,null,null,null,null,null,null,null,""]
[null,"",null,0,null,null,null,null,null,null,0,null,null,null,null,null,null,null,null,null,null,null,null,null,""]
[null,"",null,0,null,null,null,null,null,null,0,null,null,null,null,null,null,null,null,null,null,null,null,null,""]
[null,"",null,0,null,null,null,null,null,null,0,null,null,null,null,null,null,null,null,null,null,null,null,null,""]
[null,"",null,0,null,null,null,null,null,null,0,null,null,null,null,null,null,null,null,null,null,null,null,null,""]
[null,"",null,0,null,null,null,null,null,null,0,null,null,null,null,null,null,null,null,null,null,null,null,null,""]
[null,"",null,0,null,null,null,null,null,null,0,null,null,null,null,null,null,null,null,null,null,null,null,null,""]
[null,"",null,0,null,null,null,null,null,null,0,null,null,null,null,null,null,null,null,null,null,null,null,null,""]
[null,"",null,0,null,null,null,null,null,null,0,null,null,null,null,null,null,null,null,null,null,null,null,null,""]
[null,"",null,0,null,null,null,null,null,null,0,null,null,null,null,null,null,null,null,null,null,null,null,null,""]
[null,"",null,0,null,null,null,null,null,null,0,null,null,null,null,null,null,null,null,null,null,null,null,null,""]
[null,"",null,0,null,null,null,null,null,null,0,null,null,null,null,null,null,null,null,null,null,null,null,null,""]
[null,"",null,0,null,null,null,null,null,null,0,null,null,null,null,null,null,null,null,null,null,null,null,null,""]
[null,"",null,0,null,null,null,null,null,null,0,null,null,null,null,null,null,null,null,null,null,null,null,null,""]
[null,"",null,0,null,null,null,null,null,null,0,null,null,null,null,null,null,null,null,null,null,null,null,null,""]
[null,"",null,0,null,null,null,null,null,null,0,null,null,null,null,null,null,null,null,null,null,null,null,null,""]
[null,"",null,0,null,null,null,null,null,null,0,null,null,null,null,null,null,null,null,null,null,null,null,null,""]
[null,"",null,0,null,null,null,null,null,null,0,null,null,null,null,null,null,null,null,null,null,null,null,null,""]
[null,"",null,0,null,null,null,null,null,null,0,null,null,null,null,null,null,null,null,null,null,null,null,null,""]
[null,"",null,0,null,null,null,null,null,null,0,null,null,null,null,null,null,null,null,null,null,null,null,null,""]
[null,"",null,0,null,null,null,null,null,null,0,null,null,null,null,null,null,null,null,null,null,null,null,null,""]
[null,"",null,0,null,null,null,null,null,null,0,null,null,null,null,null,null,null,null,null,null,null,null,null,""]
[null,"",null,0,null,null,null,null,null,null,0,null,null,null,null,null,null,null,null,null,null,null,null,null,""]
[null,"",null,0,null,null,null,null,null,null,0,null,null,null,null,null,null,null,null,null,null,null,null,null,""]
[null,"",null,0,null,null,null,null,null,null,0,null,null,null,null,null,null,null,null,null,null,null,null,null,""]
[null,"",null,0,null,null,null,null,null,null,0,null,null,null,null,null,null,null,null,null,null,null,null,null,""]
[null,"",null,0,null,null,null,null,null,null,0,null,null,null,null,null,null,null,null,null,null,null,null,null,""]
[null,"",null,0,null,null,null,null,null,null,0,null,null,null,null,null,null,null,null,null,null,null,null,null,""]
[null,"",null,0,null,null,null,null,null,null,{"$f":"I72+J72","v":0},null,null,null,null,null,null,null,null,null,null,null,null,null,""]
[null,"",null,{"$f":"IF(ISBLANK(C73),D72,C73)","v":0},null,null,null,null,null,null,0,null,null,null,null,null,null,null,null,null,null,null,null,null,""]
[null,{"$f":"IF(ISBLANK(F74),\"\",B73+1)","v":""},null,0,null,null,null,null,null,null,0,null,null,null,null,null,null,null,null,null,null,null,null,null,{"$f":"IF(NOT(ISBLANK(L74)),1,IF(NOT(ISBLANK(N74)),2,IF(NOT(ISBLANK(M74)),3,\"\")))","v":""}]
[null,"",null,0,null,null,null,null,null,null,0,null,null,null,null,null,null,null,null,null,null,null,null,null,""]
[null,"",null,0,null,null,null,null,null,null,0,null,null,null,null,null,null,null,null,null,null,null,null,null,""]
[null,"",null,0,null,null,null,null,null,null,0,null,null,null,null,null,null,null,null,null,null,null,null,null,""]
[null,"",null,0,null,null,null,null,null,null,0,null,null,null,null,null,null,null,null,null,null,null,null,null,""]
[null,"",null,0,null,null,null,null,null,null,0,null,null,null,null,null,null,null,null,null,null,null,null,null,""]
[null,"",null,0,null,null,null,null,null,null,0,null,null,null,null,null,null,null,null,null,null,null,null,null,""]
[null,"",null,0,null,null,null,null,null,null,0,null,null,null,null,null,null,null,null,null,null,null,null,null,""]
[null,"",null,0,null,null,null,null,null,null,0,null,null,null,null,null,null,null,null,null,null,null,null,null,""]
[null,"",null,0,null,null,null,null,null,null,0,null,null,null,null,null,null,null,null,null,null,null,null,null,""]
[null,"",null,0,null,null,null,null,null,null,0,null,null,null,null,null,null,null,null,null,null,null,null,null,""]
[null,"",null,0,null,null,null,null,null,null,0,null,null,null,null,null,null,null,null,null,null,null,null,null,""]
[null,"",null,0,null,null,null,null,null,null,0,null,null,null,null,null,null,null,null,null,null,null,null,null,""]
[null,"",null,0,null,null,null,null,null,null,0,null,null,null,null,null,null,null,null,null,null,null,null,null,""]
[null,"",null,0,null,null,null,null,null,null,0,null,null,null,null,null,null,null,null,null,null,null,null,null,""]
[null,"",null,0,null,null,null,null,null,null,0,null,null,null,null,null,null,null,null,null,null,null,null,null,""]
[null,"",null,0,null,null,null,null,null,null,0,null,null,null,null,null,null,null,null,null,null,null,null,null,""]
[null,"",null,0,null,null,null,null,null,null,0,null,null,null,null,null,null,null,null,null,null,null,null,null,""]
[null,"",null,0,null,null,null,null,null,null,0,null,null,null,null,null,null,null,null,null,null,null,null,null,""]
[null,"",null,0,null,null,null,null,null,null,0,null,null,null,null,null,null,null,null,null,null,null,null,null,""]
[null,"",null,0,null,null,null,null,null,null,0,null,null,null,null,null,null,null,null,null,null,null,null,null,""]
[null,"",null,0,null,null,null,null,null,null,0,null,null,null,null,null,null,null,null,null,null,null,null,null,""]
[null,"",null,0,null,null,null,null,null,null,0,null,null,null,null,null,null,null,null,null,null,null,null,null,""]
[null,"",null,0,null,null,null,null,null,null,0,null,null,null,null,null,null,null,null,null,null,null,null,null,""]
[null,"",null,0,null,null,null,null,null,null,0,null,null,null,null,null,null,null,null,null,null,null,null,null,""]
[null,"",null,0,null,null,null,null,null,null,0,null,null,null,null,null,null,null,null,null,null,null,null,null,""]
[null,"",null,0,null,null,null,null,null,null,0,null,null,null,null,null,null,null,null,null,null,null,null,null,""]
[null,"",null,0,null,null,null,null,null,null,0,null,null,null,null,null,null,null,null,null,null,null,null,null,""]
[null,"",null,0,null,null,null,null,null,null,0,null,null,null,null,null,null,null,null,null,null,null,null,null,""]
[null,"",null,0,null,null,null,null,null,null,0,null,null,null,null,null,null,null,null,null,null,null,null,null,""]
[null,"",null,0,null,null,null,null,null,null,0,null,null,null,null,null,null,null,null,null,null,null,null,null,""]
[null,"",null,0,null,null,null,null,null,null,0,null,null,null,null,null,null,null,null,null,null,null,null,null,""]
[null,"",null,0,null,null,null,null,null,null,0,null,null,null,null,null,null,null,null,null,null,null,null,null,""]
[null,"",null,0,null,null,null,null,null,null,0,null,null,null,null,null,null,null,null,null,null,null,null,null,""]
[null,"",null,0,null,null,null,null,null,null,0,null,null,null,null,null,null,null,null,null,null,null,null,null,""]
[null,"",null,0,null,null,null,null,null,null,0,null,null,null,null,null,null,null,null,null,null,null,null,null,""]
[null,"",null,0,null,null,null,null,null,null,0,null,null,null,null,null,null,null,null,null,null,null,null,null,""]
[null,"",null,0,null,null,null,null,null,null,0,null,null,null,null,null,null,null,null,null,null,null,null,null,""]
[null,"",null,0,null,null,null,null,null,null,0,null,null,null,null,null,null,null,null,null,null,null,null,null,""]
[null,"",null,0,null,null,null,null,null,null,0,null,null,null,null,null,null,null,null,null,null,null,null,null,""]
[null,"",null,0,null,null,null,null,null,null,0,null,null,null,null,null,null,null,null,null,null,null,null,null,""]
[null,"",null,0,null,null,null,null,null,null,0,null,null,null,null,null,null,null,null,null,null,null,null,null,""]
[null,"",null,0,null,null,null,null,null,null,0,null,null,null,null,null,null,null,null,null,null,null,null,null,""]
[null,"",null,0,null,null,null,null,null,null,0,null,null,null,null,null,null,null,null,null,null,null,null,null,""]
[null,"",null,0,null,null,null,null,null,null,0,null,null,null,null,null,null,null,null,null,null,null,null,null,""]
[null,"",null,0,null,null,null,null,null,null,0,null,null,null,null,null,null,null,null,null,null,null,null,null,""]
[null,"",null,0,null,null,null,null,null,null,0,null,null,null,null,null,null,null,null,null,null,null,null,null,""]
[null,"",null,0,null,null,null,null,null,null,0,null,null,null,null,null,null,null,null,null,null,null,null,null,""]
[null,"",null,0,null,null,null,null,null,null,0,null,null,null,null,null,null,null,null,null,null,null,null,null,""]
[null,"",null,0,null,null,null,null,null,null,0,null,null,null,null,null,null,null,null,null,null,null,null,null,""]
[null,"",null,0,null,null,null,null,null,null,0,null,null,null,null,null,null,null,null,null,null,null,null,null,""]
[null,"",null,0,null,null,null,null,null,null,0,null,null,null,null,null,null,null,null,null,null,null,null,null,""]
[null,"",null,0,null,null,null,null,null,null,0,null,null,null,null,null,null,null,null,null,null,null,null,null,""]
[null,"",null,0,null,null,null,null,null,null,0,null,null,null,null,null,null,null,null,null,null,null,null,null,""]
[null,"",null,0,null,null,null,null,null,null,0,null,null,null,null,null,null,null,null,null,null,null,null,null,""]
[null,"",null,0,null,null,null,null,null,null,0,null,null,null,null,null,null,null,null,null,null,null,null,null,""]
[null,"",null,0,null,null,null,null,null,null,0,null,null,null,null,null,null,null,null,null,null,null,null,null,""]
[null,"",null,0,null,null,null,null,null,null,0,null,null,null,null,null,null,null,null,null,null,null,null,null,{"$f":"IF(NOT(ISBLANK(L131)),1,IF(NOT(ISBLANK(N131)),2,IF(NOT(ISBLANK(M131)),3,\"\")))","v":""}]
[null,"",null,0,null,null,null,null,null,null,0,null,null,null,null,null,null,null,null,null,null,null,null,null,""]
[null,"",null,0,null,null,null,null,null,null,0,null,null,null,null,null,null,null,null,null,null,null,null,null,""]
[null,"",null,0,null,null,null,null,null,null,0,null,null,null,null,null,null,null,null,null,null,null,null,null,""]
[null,"",null,0,null,null,null,null,null,null,0,null,null,null,null,null,null,null,null,null,null,null,null,null,""]
[null,"",null,0,null,null,null,null,null,null,{"$f":"I136+J136","v":0},null,null,null,null,null,null,null,null,null,null,null,null,null,{"$f":"IF(NOT(ISBLANK(L136)),1,IF(NOT(ISBLANK(N136)),2,IF(NOT(ISBLANK(M136)),3,\"\")))","v":""}]
[null,"",null,{"$f":"IF(ISBLANK(C137),D136,C137)","v":0},null,null,null,null,null,null,0,null,null,null,null,null,null,null,null,null,null,null,null,null,""]
[null,{"$f":"IF(ISBLANK(F138),\"\",B137+1)","v":""},null,0,null,null,null,null,null,null,0,null,null,null,null,null,null,null,null,null,null,null,null,null,""]
[null,"",null,0,null,null,null,null,null,null,0,null,null,null,null,null,null,null,null,null,null,null,null,null,""]
[null,"",null,0,null,null,null,null,null,null,0,null,null,null,null,null,null,null,null,null,null,null,null,null,""]
[null,"",null,0,null,null,null,null,null,null,0,null,null,null,null,null,null,null,null,null,null,null,null,null,""]
[null,"",null,0,null,null,null,null,null,null,0,null,null,null,null,null,null,null,null,null,null,null,null,null,""]
[null,"",null,0,null,null,null,null,null,null,0,null,null,null,null,null,null,null,null,null,null,null,null,null,""]
[null,"",null,0,null,null,null,null,null,null,0,null,null,null,null,null,null,null,null,null,null,null,null,null,""]
[null,"",null,0,null,null,null,null,null,null,0,null,null,null,null,null,null,null,null,null,null,null,null,null,""]
[null,"",null,0,null,null,null,null,null,null,0,null,null,null,null,null,null,null,null,null,null,null,null,null,""]
[null,"",null,0,null,null,null,null,null,null,0,null,null,null,null,null,null,null,null,null,null,null,null,null,""]
[null,"",null,0,null,null,null,null,null,null,0,null,null,null,null,null,null,null,null,null,null,null,null,null,""]
[null,"",null,0,null,null,null,null,null,null,0,null,null,null,null,null,null,null,null,null,null,null,null,null,""]
[null,"",null,0,null,null,null,null,null,null,0,null,null,null,null,null,null,null,null,null,null,null,null,null,""]
[null,"",null,0,null,null,null,null,null,null,0,null,null,null,null,null,null,null,null,null,null,null,null,null,""]
[null,"",null,0,null,null,null,null,null,null,0,null,null,null,null,null,null,null,null,null,null,null,null,null,""]
[null,"",null,0,null,null,null,null,null,null,0,null,null,null,null,null,null,null,null,null,null,null,null,null,""]
[null,"",null,0,null,null,null,null,null,null,0,null,null,null,null,null,null,null,null,null,null,null,null,null,""]
[null,"",null,0,null,null,null,null,null,null,0,null,null,null,null,null,null,null,null,null,null,null,null,null,""]
[null,"",null,0,null,null,null,null,null,null,0,null,null,null,null,null,null,null,null,null,null,null,null,null,""]
[null,"",null,0,null,null,null,null,null,null,0,null,null,null,null,null,null,null,null,null,null,null,null,null,""]
[null,"",null,0,null,null,null,null,null,null,0,null,null,null,null,null,null,null,null,null,null,null,null,null,""]
[null,"",null,0,null,null,null,null,null,null,0,null,null,null,null,null,null,null,null,null,null,null,null,null,""]
[null,"",null,0,null,null,null,null,null,null,0,null,null,null,null,null,null,null,null,null,null,null,null,null,""]
[null,"",null,0,null,null,null,null,null,null,0,null,null,null,null,null,null,null,null,null,null,null,null,null,""]
[null,"",null,0,null,null,null,null,null,null,0,null,null,null,null,null,null,null,null,null,null,null,null,null,""]
[null,"",null,0,null,null,null,null,null,null,0,null,null,null,null,null,null,null,null,null,null,null,null,null,""]
[null,"",null,0,null,null,null,null,null,null,0,null,null,null,null,null,null,null,null,null,null,null,null,null,""]
[null,"",null,0,null,null,null,null,null,null,0,null,null,null,null,null,null,null,null,null,null,null,null,null,""]
[null,"",null,0,null,null,null,null,null,null,0,null,null,null,null,null,null,null,null,null,null,null,null,null,""]
[null,"",null,0,null,null,null,null,null,null,0,null,null,null,null,null,null,null,null,null,null,null,null,null,""]
[null,"",null,0,null,null,null,null,null,null,0,null,null,null,null,null,null,null,null,null,null,null,null,null,""]
[null,"",null,0,null,null,null,null,null,null,0,null,null,null,null,null,null,null,null,null,null,null,null,null,""]
[null,"",null,0,null,null,null,null,null,null,0,null,null,null,null,null,null,null,null,null,null,null,null,null,""]
[null,"",null,0,null,null,null,null,null,null,0,null,null,null,null,null,null,null,null,null,null,null,null,null,""]
[null,"",null,0,null,null,null,null,null,null,0,null,null,null,null,null,null,null,null,null,null,null,null,null,""]
[null,"",null,0,null,null,null,null,null,null,0,null,null,null,null,null,null,null,null,null,null,null,null,null,""]
[null,"",null,0,null,null,null,null,null,null,0,null,null,null,null,null,null,null,null,null,null,null,null,null,""]
[null,"",null,0,null,null,null,null,null,null,0,null,null,null,null,null,null,null,null,null,null,null,null,null,""]
[null,"",null,0,null,null,null,null,null,null,0,null,null,null,null,null,null,null,null,null,null,null,null,null,""]
[null,"",null,0,null,null,null,null,null,null,0,null,null,null,null,null,null,null,null,null,null,null,null,null,""]
[null,"",null,0,null,null,null,null,null,null,0,null,null,null,null,null,null,null,null,null,null,null,null,null,""]
[null,"",null,0,null,null,null,null,null,null,0,null,null,null,null,null,null,null,null,null,null,null,null,null,""]
[null,"",null,0,null,null,null,null,null,null,0,null,null,null,null,null,null,null,null,null,null,null,null,null,""]
[null,"",null,0,null,null,null,null,null,null,0,null,null,null,null,null,null,null,null,null,null,null,null,null,""]
[null,"",null,0,null,null,null,null,null,null,0,null,null,null,null,null,null,null,null,null,null,null,null,null,""]
[null,"",null,0,null,null,null,null,null,null,0,null,null,null,null,null,null,null,null,null,null,null,null,null,""]
[null,"",null,0,null,null,null,null,null,null,0,null,null,null,null,null,null,null,null,null,null,null,null,null,""]
[null,"",null,0,null,null,null,null,null,null,0,null,null,null,null,null,null,null,null,null,null,null,null,null,""]
[null,"",null,0,null,null,null,null,null,null,0,null,null,null,null,null,null,null,null,null,null,null,null,null,""]
[null,"",null,0,null,null,null,null,null,null,0,null,null,null,null,null,null,null,null,null,null,null,null,null,""]
[null,"",null,0,null,null,null,null,null,null,0,null,null,null,null,null,null,null,null,null,null,null,null,null,""]
[null,"",null,0,null,null,null,null,null,null,0,null,null,null,null,null,null,null,null,null,null,null,null,null,""]
[null,"",null,0,null,null,null,null,null,null,0,null,null,null,null,null,null,null,null,null,null,null,null,null,""]
[null,"",null,0,null,null,null,null,null,null,0,null,null,null,null,null,null,null,null,null,null,null,null,null,""]
[null,"",null,0,null,null,null,null,null,null,0,null,null,null,null,null,null,null,null,null,null,null,null,null,""]
[null,"",null,0,null,null,null,null,null,null,0,null,null,null,null,null,null,null,null,null,null,null,null,null,""]
[null,"",null,0,null,null,null,null,null,null,0,null,null,null,null,null,null,null,null,null,null,null,null,null,""]
[null,"",null,0,null,null,null,null,null,null,0,null,null,null,null,null,null,null,null,null,null,null,null,null,""]
[null,"",null,0,null,null,null,null,null,null,0,null,null,null,null,null,null,null,null,null,null,null,null,null,""]
[null,"",null,0,null,null,null,null,null,null,0,null,null,null,null,null,null,null,null,null,null,null,null,null,""]
[null,"",null,0,null,null,null,null,null,null,0,null,null,null,null,null,null,null,null,null,null,null,null,null,""]
[null,"",null,0,null,null,null,null,null,null,0,null,null,null,null,null,null,null,null,null,null,null,null,null,""]
[null,"",null,0,null,null,null,null,null,null,{"$f":"I200+J200","v":0},null,null,null,null,null,null,null,null,null,null,null,null,null,{"$f":"IF(NOT(ISBLANK(L200)),1,IF(NOT(ISBLANK(N200)),2,IF(NOT(ISBLANK(M200)),3,\"\")))","v":""}]
[null,"",null,{"$f":"IF(ISBLANK(C201),D200,C201)","v":0},null,null,null,null,null,null,0,null,null,null,null,null,null,null,null,null,null,null,null,null,""]
[null,{"$f":"IF(ISBLANK(F202),\"\",B201+1)","v":""},null,0,null,null,null,null,null,null,0,null,null,null,null,null,null,null,null,null,null,null,null,null,""]
[null,"",null,0,null,null,null,null,null,null,0,null,null,null,null,null,null,null,null,null,null,null,null,null,""]
[null,"",null,0,null,null,null,null,null,null,0,null,null,null,null,null,null,null,null,null,null,null,null,null,""]
[null,"",null,0,null,null,null,null,null,null,0,null,null,null,null,null,null,null,null,null,null,null,null,null,""]
[null,"",null,0,null,null,null,null,null,null,0,null,null,null,null,null,null,null,null,null,null,null,null,null,""]
[null,"",null,0,null,null,null,null,null,null,0,null,null,null,null,null,null,null,null,null,null,null,null,null,""]
[null,{"$f":"IF(ISBLANK(F208),\"\",B207+1)","v":""},null,0,null,null,null,null,null,null,0,null,null,null,null,null,null,null,null,null,null,null,null,null,""]
[null,"",null,0,null,null,null,null,null,null,0,null,null,null,null,null,null,null,null,null,null,null,null,null,""]
[null,"",null,0,null,null,null,null,null,null,0,null,null,null,null,null,null,null,null,null,null,null,null,null,""]
[null,"",null,0,null,null,null,null,null,null,0,null,null,null,null,null,null,null,null,null,null,null,null,null,""]
[null,"",null,0,null,null,null,null,null,null,0,null,null,null,null,null,null,null,null,null,null,null,null,null,""]
[null,"",null,0,null,null,null,null,null,null,0,null,null,null,null,null,null,null,null,null,null,null,null,null,""]
[null,"",null,0,null,null,null,null,null,null,0,null,null,null,null,null,null,null,null,null,null,null,null,null,""]
[null,"",null,0,null,null,null,null,null,null,0,null,null,null,null,null,null,null,null,null,null,null,null,null,""]
[null,"",null,0,null,null,null,null,null,null,0,null,null,null,null,null,null,null,null,null,null,null,null,null,""]
[null,"",null,0,null,null,null,null,null,null,0,null,null,null,null,null,null,null,null,null,null,null,null,null,""]
[null,"",null,0,null,null,null,null,null,null,0,null,null,null,null,null,null,null,null,null,null,null,null,null,""]
[null,"",null,0,null,null,null,null,null,null,0,null,null,null,null,null,null,null,null,null,null,null,null,null,""]
[null,"",null,0,null,null,null,null,null,null,0,null,null,null,null,null,null,null,null,null,null,null,null,null,""]
[null,"",null,0,null,null,null,null,null,null,0,null,null,null,null,null,null,null,null,null,null,null,null,null,""]
[null,"",null,0,null,null,null,null,null,null,0,null,null,null,null,null,null,null,null,null,null,null,null,null,""]
[null,"",null,0,null,null,null,null,null,null,0,null,null,null,null,null,null,null,null,null,null,null,null,null,""]
[null,"",null,0,null,null,null,null,null,null,0,null,null,null,null,null,null,null,null,null,null,null,null,null,""]
[null,"",null,0,null,null,null,null,null,null,0,null,null,null,null,null,null,null,null,null,null,null,null,null,""]
[null,"",null,0,null,null,null,null,null,null,0,null,null,null,null,null,null,null,null,null,null,null,null,null,""]
[null,"",null,0,null,null,null,null,null,null,0,null,null,null,null,null,null,null,null,null,null,null,null,null,""]
[null,"",null,0,null,null,null,null,null,null,0,null,null,null,null,null,null,null,null,null,null,null,null,null,""]
[null,"",null,0,null,null,null,null,null,null,0,null,null,null,null,null,null,null,null,null,null,null,null,null,""]
[null,"",null,0,null,null,null,null,null,null,0,null,null,null,null,null,null,null,null,null,null,null,null,null,""]
[null,"",null,0,null,null,null,null,null,null,0,null,null,null,null,null,null,null,null,null,null,null,null,null,""]
[null,"",null,0,null,null,null,null,null,null,0,null,null,null,null,null,null,null,null,null,null,null,null,null,""]
[null,"",null,0,null,null,null,null,null,null,0,null,null,null,null,null,null,null,null,null,null,null,null,null,""]
[null,"",null,0,null,null,null,null,null,null,0,null,null,null,null,null,null,null,null,null,null,null,null,null,""]
[null,"",null,0,null,null,null,null,null,null,0,null,null,null,null,null,null,null,null,null,null,null,null,null,""]
[null,"",null,0,null,null,null,null,null,null,0,null,null,null,null,null,null,null,null,null,null,null,null,null,""]
[null,"",null,0,null,null,null,null,null,null,0,null,null,null,null,null,null,null,null,null,null,null,null,null,""]
[null,"",null,0,null,null,null,null,null,null,0,null,null,null,null,null,null,null,null,null,null,null,null,null,""]
[null,"",null,0,null,null,null,null,null,null,0,null,null,null,null,null,null,null,null,null,null,null,null,null,""]
[null,"",null,0,null,null,null,null,null,null,0,null,null,null,null,null,null,null,null,null,null,null,null,null,""]
[null,"",null,0,null,null,null,null,null,null,0,null,null,null,null,null,null,null,null,null,null,null,null,null,""]
[null,"",null,0,null,null,null,null,null,null,0,null,null,null,null,null,null,null,null,null,null,null,null,null,""]
[null,"",null,0,null,null,null,null,null,null,0,null,null,null,null,null,null,null,null,null,null,null,null,null,""]
[null,"",null,0,null,null,null,null,null,null,0,null,null,null,null,null,null,null,null,null,null,null,null,null,""]
[null,"",null,0,null,null,null,null,null,null,0,null,null,null,null,null,null,null,null,null,null,null,null,null,""]
[null,"",null,0,null,null,null,null,null,null,0,null,null,null,null,null,null,null,null,null,null,null,null,null,""]
[null,"",null,0,null,null,null,null,null,null,0,null,null,null,null,null,null,null,null,null,null,null,null,null,""]
[null,"",null,0,null,null,null,null,null,null,0,null,null,null,null,null,null,null,null,null,null,null,null,null,""]
[null,"",null,0,null,null,null,null,null,null,0,null,null,null,null,null,null,null,null,null,null,null,null,null,""]
[null,"",null,0,null,null,null,null,null,null,0,null,null,null,null,null,null,null,null,null,null,null,null,null,""]
[null,"",null,0,null,null,null,null,null,null,0,null,null,null,null,null,null,null,null,null,null,null,null,null,""]
[null,"",null,0,null,null,null,null,null,null,0,null,null,null,null,null,null,null,null,null,null,null,null,null,""]
[null,"",null,0,null,null,null,null,null,null,0,null,null,null,null,null,null,null,null,null,null,null,null,null,""]
[null,"",null,0,null,null,null,null,null,null,0,null,null,null,null,null,null,null,null,null,null,null,null,null,""]
[null,"",null,0,null,null,null,null,null,null,0,null,null,null,null,null,null,null,null,null,null,null,null,null,""]
[null,"",null,0,null,null,null,null,null,null,0,null,null,null,null,null,null,null,null,null,null,null,null,null,""]
[null,"",null,0,null,null,null,null,null,null,0,null,null,null,null,null,null,null,null,null,null,null,null,null,""]
[null,"",null,0,null,null,null,null,null,null,0,null,null,null,null,null,null,null,null,null,null,null,null,null,""]
[null,"",null,0,null,null,null,null,null,null,0,null,null,null,null,null,null,null,null,null,null,null,null,null,""]
[null,"",null,0,null,null,null,null,null,null,0,null,null,null,null,null,null,null,null,null,null,null,null,null,""]
[null,"",null,0,null,null,null,null,null,null,0,null,null,null,null,null,null,null,null,null,null,null,null,null,""]
[null,"",null,0,null,null,null,null,null,null,0,null,null,null,null,null,null,null,null,null,null,null,null,null,""]
[null,"",null,0,null,null,null,null,null,null,0,null,null,null,null,null,null,null,null,null,null,null,null,null,""]
[null,"",null,0,null,null,null,null,null,null,{"$f":"I264+J264","v":0},null,null,null,null,null,null,null,null,null,null,null,null,null,{"$f":"IF(NOT(ISBLANK(L264)),1,IF(NOT(ISBLANK(N264)),2,IF(NOT(ISBLANK(M264)),3,\"\")))","v":""}]
[null,"",null,{"$f":"IF(ISBLANK(C265),D264,C265)","v":0},null,null,null,null,null,null,0,null,null,null,null,null,null,null,null,null,null,null,null,null,""]
[null,{"$f":"IF(ISBLANK(F266),\"\",B265+1)","v":""},null,0,null,null,null,null,null,null,0,null,null,null,null,null,null,null,null,null,null,null,null,null,""]
[null,"",null,0,null,null,null,null,null,null,0,null,null,null,null,null,null,null,null,null,null,null,null,null,""]
[null,"",null,0,null,null,null,null,null,null,0,null,null,null,null,null,null,null,null,null,null,null,null,null,""]
[null,"",null,0,null,null,null,null,null,null,0,null,null,null,null,null,null,null,null,null,null,null,null,null,""]
[null,"",null,0,null,null,null,null,null,null,0,null,null,null,null,null,null,null,null,null,null,null,null,null,""]
[null,"",null,0,null,null,null,null,null,null,0,null,null,null,null,null,null,null,null,null,null,null,null,null,""]
[null,"",null,0,null,null,null,null,null,null,0,null,null,null,null,null,null,null,null,null,null,null,null,null,""]
[null,"",null,0,null,null,null,null,null,null,0,null,null,null,null,null,null,null,null,null,null,null,null,null,""]
[null,"",null,0,null,null,null,null,null,null,0,null,null,null,null,null,null,null,null,null,null,null,null,null,""]
[null,"",null,0,null,null,null,null,null,null,0,null,null,null,null,null,null,null,null,null,null,null,null,null,""]
[null,"",null,0,null,null,null,null,null,null,0,null,null,null,null,null,null,null,null,null,null,null,null,null,""]
[null,"",null,0,null,null,null,null,null,null,0,null,null,null,null,null,null,null,null,null,null,null,null,null,""]
[null,"",null,0,null,null,null,null,null,null,0,null,null,null,null,null,null,null,null,null,null,null,null,null,""]
[null,"",null,0,null,null,null,null,null,null,0,null,null,null,null,null,null,null,null,null,null,null,null,null,""]
[null,"",null,0,null,null,null,null,null,null,0,null,null,null,null,null,null,null,null,null,null,null,null,null,""]
[null,"",null,0,null,null,null,null,null,null,0,null,null,null,null,null,null,null,null,null,null,null,null,null,""]
[null,"",null,0,null,null,null,null,null,null,0,null,null,null,null,null,null,null,null,null,null,null,null,null,""]
[null,"",null,0,null,null,null,null,null,null,0,null,null,null,null,null,null,null,null,null,null,null,null,null,""]
[null,"",null,0,null,null,null,null,null,null,0,null,null,null,null,null,null,null,null,null,null,null,null,null,""]
[null,"",null,0,null,null,null,null,null,null,0,null,null,null,null,null,null,null,null,null,null,null,null,null,""]
[null,"",null,0,null,null,null,null,null,null,0,null,null,null,null,null,null,null,null,null,null,null,null,null,""]
[null,"",null,0,null,null,null,null,null,null,0,null,null,null,null,null,null,null,null,null,null,null,null,null,""]
[null,"",null,0,null,null,null,null,null,null,0,null,null,null,null,null,null,null,null,null,null,null,null,null,""]
[null,"",null,0,null,null,null,null,null,null,0,null,null,null,null,null,null,null,null,null,null,null,null,null,""]
[null,"",null,0,null,null,null,null,null,null,0,null,null,null,null,null,null,null,null,null,null,null,null,null,""]
[null,"",null,0,null,null,null,null,null,null,0,null,null,null,null,null,null,null,null,null,null,null,null,null,""]
[null,"",null,0,null,null,null,null,null,null,0,null,null,null,null,null,null,null,null,null,null,null,null,null,""]
[null,"",null,0,null,null,null,null,null,null,0,null,null,null,null,null,null,null,null,null,null,null,null,null,""]
[null,"",null,0,null,null,null,null,null,null,0,null,null,null,null,null,null,null,null,null,null,null,null,null,""]
[null,"",null,0,null,null,null,null,null,null,0,null,null,null,null,null,null,null,null,null,null,null,null,null,""]
[null,"",null,0,null,null,null,null,null,null,0,null,null,null,null,null,null,null,null,null,null,null,null,null,""]
[null,"",null,0,null,null,null,null,null,null,0,null,null,null,null,null,null,null,null,null,null,null,null,null,""]
[null,"",null,0,null,null,null,null,null,null,0,null,null,null,null,null,null,null,null,null,null,null,null,null,""]
[null,"",null,0,null,null,null,null,null,null,0,null,null,null,null,null,null,null,null,null,null,null,null,null,""]
[null,"",null,0,null,null,null,null,null,null,0,null,null,null,null,null,null,null,null,null,null,null,null,null,""]
[null,"",null,0,null,null,null,null,null,null,0,null,null,null,null,null,null,null,null,null,null,null,null,null,""]
[null,"",null,0,null,null,null,null,null,null,{"$f":"I302+J302","v":0},null,null,null,null,null,null,null,null,null,null,null,null,null,""]
[null,"",null,0,null,null,null,null,null,null,{"$f":"I303+J303","v":0},null,null,null,null,null,null,null,null,null,null,null,null,null,""]
[null,"",null,0,null,null,null,null,null,null,0,null,null,null,null,null,null,null,null,null,null,null,null,null,""]
[null,"",null,0,null,null,null,null,null,null,0,null,null,null,null,null,null,null,null,null,null,null,null,null,""]
[null,"",null,0,null,null,null,null,null,null,0,null,null,null,null,null,null,null,null,null,null,null,null,null,""]
[null,"",null,0,null,null,null,null,null,null,0,null,null,null,null,null,null,null,null,null,null,null,null,null,""]
[null,"",null,0,null,null,null,null,null,null,0,null,null,null,null,null,null,null,null,null,null,null,null,null,""]
[null,"",null,0,null,null,null,null,null,null,0,null,null,null,null,null,null,null,null,null,null,null,null,null,""]
[null,"",null,0,null,null,null,null,null,null,0,null,null,null,null,null,null,null,null,null,null,null,null,null,""]
[null,"",null,0,null,null,null,null,null,null,0,null,null,null,null,null,null,null,null,null,null,null,null,null,""]
[null,"",null,0,null,null,null,null,null,null,0,null,null,null,null,null,null,null,null,null,null,null,null,null,""]
[null,"",null,0,null,null,null,null,null,null,0,null,null,null,null,null,null,null,null,null,null,null,null,null,""]
[null,"",null,0,null,null,null,null,null,null,0,null,null,null,null,null,null,null,null,null,null,null,null,null,""]
[null,"",null,0,null,null,null,null,null,null,0,null,null,null,null,null,null,null,null,null,null,null,null,null,""]
[null,"",null,0,null,null,null,null,null,null,0,null,null,null,null,null,null,null,null,null,null,null,null,null,""]
[null,"",null,0,null,null,null,null,null,null,0,null,null,null,null,null,null,null,null,null,null,null,null,null,""]
[null,"",null,0,null,null,null,null,null,null,0,null,null,null,null,null,null,null,null,null,null,null,null,null,""]
[null,"",null,0,null,null,null,null,null,null,0,null,null,null,null,null,null,null,null,null,null,null,null,null,""]
[null,"",null,0,null,null,null,null,null,null,0,null,null,null,null,null,null,null,null,null,null,null,null,null,""]
[null,"",null,0,null,null,null,null,null,null,0,null,null,null,null,null,null,null,null,null,null,null,null,null,""]
[null,"",null,0,null,null,null,null,null,null,0,null,null,null,null,null,null,null,null,null,null,null,null,null,""]
[null,"",null,0,null,null,null,null,null,null,0,null,null,null,null,null,null,null,null,null,null,null,null,null,""]
[null,"",null,0,null,null,null,null,null,null,0,null,null,null,null,null,null,null,null,null,null,null,null,null,""]
[null,"",null,0,null,null,null,null,null,null,0,null,null,null,null,null,null,null,null,null,null,null,null,null,""]
[null,"",null,0,null,null,null,null,null,null,0,null,null,null,null,null,null,null,null,null,null,null,null,null,""]
[null,"",null,0,null,null,null,null,null,null,0,null,null,null,null,null,null,null,null,null,null,null,null,null,""]
[null,"",null,0,null,null,null,null,null,null,0,null,null,null,null,null,null,null,null,null,null,null,null,null,{"$f":"IF(NOT(ISBLANK(L328)),1,IF(NOT(ISBLANK(N328)),2,IF(NOT(ISBLANK(M328)),3,\"\")))","v":""}]
[null,"",null,{"$f":"IF(ISBLANK(C329),D328,C329)","v":0},null,null,null,null,null,null,0,null,null,null,null,null,null,null,null,null,null,null,null,null,""]
[null,{"$f":"IF(ISBLANK(F330),\"\",B329+1)","v":""},null,0,null,null,null,null,null,null,0,null,null,null,null,null,null,null,null,null,null,null,null,null,""]
[null,"",null,0,null,null,null,null,null,null,0,null,null,null,null,null,null,null,null,null,null,null,null,null,""]
[null,"",null,0,null,null,null,null,null,null,0,null,null,null,null,null,null,null,null,null,null,null,null,null,""]
[null,"",null,0,null,null,null,null,null,null,0,null,null,null,null,null,null,null,null,null,null,null,null,null,""]
[null,"",null,0,null,null,null,null,null,null,0,null,null,null,null,null,null,null,null,null,null,null,null,null,""]
[null,"",null,0,null,null,null,null,null,null,0,null,null,null,null,null,null,null,null,null,null,null,null,null,""]
[null,"",null,0,null,null,null,null,null,null,0,null,null,null,null,null,null,null,null,null,null,null,null,null,""]
[null,"",null,0,null,null,null,null,null,null,0,null,null,null,null,null,null,null,null,null,null,null,null,null,""]
[null,"",null,0,null,null,null,null,null,null,0,null,null,null,null,null,null,null,null,null,null,null,null,null,""]
[null,"",null,0,null,null,null,null,null,null,0,null,null,null,null,null,null,null,null,null,null,null,null,null,""]
[null,"",null,0,null,null,null,null,null,null,0,null,null,null,null,null,null,null,null,null,null,null,null,null,""]
[null,"",null,0,null,null,null,null,null,null,0,null,null,null,null,null,null,null,null,null,null,null,null,null,""]
[null,"",null,0,null,null,null,null,null,null,0,null,null,null,null,null,null,null,null,null,null,null,null,null,""]
[null,"",null,0,null,null,null,null,null,null,0,null,null,null,null,null,null,null,null,null,null,null,null,null,""]
[null,"",null,0,null,null,null,null,null,null,0,null,null,null,null,null,null,null,null,null,null,null,null,null,""]
[null,"",null,0,null,null,null,null,null,null,0,null,null,null,null,null,null,null,null,null,null,null,null,null,""]
[null,"",null,0,null,null,null,null,null,null,0,null,null,null,null,null,null,null,null,null,null,null,null,null,""]
[null,"",null,0,null,null,null,null,null,null,0,null,null,null,null,null,null,null,null,null,null,null,null,null,""]
[null,"",null,0,null,null,null,null,null,null,0,null,null,null,null,null,null,null,null,null,null,null,null,null,""]
[null,"",null,0,null,null,null,null,null,null,0,null,null,null,null,null,null,null,null,null,null,null,null,null,""]
[null,"",null,0,null,null,null,null,null,null,0,null,null,null,null,null,null,null,null,null,null,null,null,null,""]
[null,"",null,0,null,null,null,null,null,null,0,null,null,null,null,null,null,null,null,null,null,null,null,null,""]
[null,"",null,0,null,null,null,null,null,null,0,null,null,null,null,null,null,null,null,null,null,null,null,null,""]
[null,"",null,0,null,null,null,null,null,null,0,null,null,null,null,null,null,null,null,null,null,null,null,null,""]
[null,"",null,0,null,null,null,null,null,null,0,null,null,null,null,null,null,null,null,null,null,null,null,null,""]
[null,"",null,0,null,null,null,null,null,null,0,null,null,null,null,null,null,null,null,null,null,null,null,null,""]
[null,"",null,0,null,null,null,null,null,null,0,null,null,null,null,null,null,null,null,null,null,null,null,null,""]
[null,"",null,0,null,null,null,null,null,null,0,null,null,null,null,null,null,null,null,null,null,null,null,null,""]
[null,"",null,0,null,null,null,null,null,null,0,null,null,null,null,null,null,null,null,null,null,null,null,null,""]
[null,"",null,0,null,null,null,null,null,null,0,null,null,null,null,null,null,null,null,null,null,null,null,null,""]
[null,"",null,0,null,null,null,null,null,null,0,null,null,null,null,null,null,null,null,null,null,null,null,null,""]
[null,"",null,0,null,null,null,null,null,null,0,null,null,null,null,null,null,null,null,null,null,null,null,null,""]
[null,"",null,0,null,null,null,null,null,null,0,null,null,null,null,null,null,null,null,null,null,null,null,null,""]
[null,"",null,0,null,null,null,null,null,null,0,null,null,null,null,null,null,null,null,null,null,null,null,null,""]
[null,"",null,0,null,null,null,null,null,null,0,null,null,null,null,null,null,null,null,null,null,null,null,null,""]
[null,"",null,0,null,null,null,null,null,null,0,null,null,null,null,null,null,null,null,null,null,null,null,null,""]
[null,"",null,0,null,null,null,null,null,null,0,null,null,null,null,null,null,null,null,null,null,null,null,null,""]
[null,"",null,0,null,null,null,null,null,null,{"$f":"I367+J367","v":0},null,null,null,null,null,null,null,null,null,null,null,null,null,""]
[null,"",null,0,null,null,null,null,null,null,0,null,null,null,null,null,null,null,null,null,null,null,null,null,""]
[null,"",null,0,null,null,null,null,null,null,0,null,null,null,null,null,null,null,null,null,null,null,null,null,""]
[null,"",null,0,null,null,null,null,null,null,0,null,null,null,null,null,null,null,null,null,null,null,null,null,""]
[null,"",null,0,null,null,null,null,null,null,0,null,null,null,null,null,null,null,null,null,null,null,null,null,""]
[null,"",null,0,null,null,null,null,null,null,0,null,null,null,null,null,null,null,null,null,null,null,null,null,""]
[null,"",null,0,null,null,null,null,null,null,0,null,null,null,null,null,null,null,null,null,null,null,null,null,""]
[null,"",null,0,null,null,null,null,null,null,0,null,null,null,null,null,null,null,null,null,null,null,null,null,""]
[null,"",null,0,null,null,null,null,null,null,0,null,null,null,null,null,null,null,null,null,null,null,null,null,""]
[null,"",null,0,null,null,null,null,null,null,0,null,null,null,null,null,null,null,null,null,null,null,null,null,""]
[null,"",null,0,null,null,null,null,null,null,0,null,null,null,null,null,null,null,null,null,null,null,null,null,""]
[null,"",null,0,null,null,null,null,null,null,0,null,null,null,null,null,null,null,null,null,null,null,null,null,""]
[null,"",null,0,null,null,null,null,null,null,0,null,null,null,null,null,null,null,null,null,null,null,null,null,""]
[null,"",null,0,null,null,null,null,null,null,0,null,null,null,null,null,null,null,null,null,null,null,null,null,""]
[null,"",null,0,null,null,null,null,null,null,0,null,null,null,null,null,null,null,null,null,null,null,null,null,""]
[null,"",null,0,null,null,null,null,null,null,0,null,null,null,null,null,null,null,null,null,null,null,null,null,""]
[null,"",null,0,null,null,null,null,null,null,0,null,null,null,null,null,null,null,null,null,null,null,null,null,""]
[null,"",null,0,null,null,null,null,null,null,0,null,null,null,null,null,null,null,null,null,null,null,null,null,""]
[null,"",null,0,null,null,null,null,null,null,0,null,null,null,null,null,null,null,null,null,null,null,null,null,""]
[null,"",null,0,null,null,null,null,null,null,0,null,null,null,null,null,null,null,null,null,null,null,null,null,""]
[null,"",null,0,null,null,null,null,null,null,0,null,null,null,null,null,null,null,null,null,null,null,null,null,""]
[null,"",null,0,null,null,null,null,null,null,0,null,null,null,null,null,null,null,null,null,null,null,null,null,""]
[null,"",null,0,null,null,null,null,null,null,0,null,null,null,null,null,null,null,null,null,null,null,null,null,""]
[null,"",null,0,null,null,null,null,null,null,0,null,null,null,null,null,null,null,null,null,null,null,null,null,""]
[null,"",null,0,null,null,null,null,null,null,0,null,null,null,null,null,null,null,null,null,null,null,null,null,""]
[null,"",null,0,null,null,null,null,null,null,0,null,null,null,null,null,null,null,null,null,null,null,null,null,{"$f":"IF(NOT(ISBLANK(L392)),1,IF(NOT(ISBLANK(N392)),2,IF(NOT(ISBLANK(M392)),3,\"\")))","v":""}]
[null,"",null,{"$f":"IF(ISBLANK(C393),D392,C393)","v":0},null,null,null,null,null,null,0,null,null,null,null,null,null,null,null,null,null,null,null,null,""]
[null,{"$f":"IF(ISBLANK(F394),\"\",B393+1)","v":""},null,0,null,null,null,null,null,null,0,null,null,null,null,null,null,null,null,null,null,null,null,null,""]
[null,"",null,0,null,null,null,null,null,null,0,null,null,null,null,null,null,null,null,null,null,null,null,null,""]
[null,"",null,0,null,null,null,null,null,null,0,null,null,null,null,null,null,null,null,null,null,null,null,null,""]
[null,"",null,0,null,null,null,null,null,null,0,null,null,null,null,null,null,null,null,null,null,null,null,null,""]
[null,"",null,0,null,null,null,null,null,null,0,null,null,null,null,null,null,null,null,null,null,null,null,null,""]
[null,"",null,0,null,null,null,null,null,null,0,null,null,null,null,null,null,null,null,null,null,null,null,null,""]
[null,"",null,0,null,null,null,null,null,null,0,null,null,null,null,null,null,null,null,null,null,null,null,null,""]

{"sheet":"Unit Summary","index":5,"n_rows":6,"n_cols":13,"rows_kept":6,"cut":false,"hidden":false,"merged":[[1,5,1,14],[5,11,6,11],[5,12,6,12],[5,1,6,1],[5,2,6,2],[5,3,6,3],[5,4,6,4],[5,5,6,5],[5,6,6,6],[5,7,6,7],[5,8,6,8],[5,9,6,9],[5,10,6,10],[2,5,2,14]]}
[null,"Form 3345 | Plan Review Worksheet | Unit Summary"]
[null,"Development Name: ",null,null,null,{"$f":"'Development Summary'!F2","v":0}]
[null,"Development Number: ",null,null,null,{"$f":"'Development Summary'!F3","v":0}]
[]
[null,"Unit Summary"]
[null,"Number of Units","# of Bedrooms","# Bathrooms","Sq Ft per Unit","Unit Rent","Utility Allow","Monthly Gross Rent","LIHTC","Market","Employee","HOME","NHTF"]

{"sheet":"Hidden1","index":6,"n_rows":201,"n_cols":13,"rows_kept":201,"cut":false,"hidden":true,"merged":[]}
["Unit Type",null,"Building Number",null,"Building",null,null,"Unit Designations",null,null,"Yes/NO",null,"Credit Type"]
["Tax Credit",null,1,null,null,null,null,"Market"]
["HOME",null,2,null,null,null,"X","Employee",null,null,"Yes",null,"New"]
["AHAP",null,3,null,null,null,null,0.2,null,null,"No",null,"Rehab"]
["Employee",null,4,null,null,null,null,0.3,null,null,null,null,"Acq/Rehab"]
["Workforce",null,5,null,null,null,null,0.4,null,null,null,null,"New/Acq/Rehab"]
["Market",null,6,null,null,null,null,0.5,null,null,null,null,"New/Rehab"]
[null,null,7,null,null,null,null,0.6]
[null,null,8,null,null,null,null,0.7]
[null,null,9,null,null,null,null,0.8]
[null,null,10]
[null,null,11]
[null,null,12]
[null,null,13]
[null,null,14]
[null,null,15]
[null,null,16]
[null,null,17]
[null,null,18]
[null,null,19]
[null,null,20]
[null,null,21]
[null,null,22]
[null,null,23]
[null,null,24]
[null,null,25]
[null,null,26]
[null,null,27]
[null,null,28]
[null,null,29]
[null,null,30]
[null,null,31]
[null,null,32]
[null,null,33]
[null,null,34]
[null,null,35]
[null,null,36]
[null,null,37]
[null,null,38]
[null,null,39]
[null,null,40]
[null,null,41]
[null,null,42]
[null,null,43]
[null,null,44]
[null,null,45]
[null,null,46]
[null,null,47]
[null,null,48]
[null,null,49]
[null,null,50]
[null,null,51]
[null,null,52]
[null,null,53]
[null,null,54]
[null,null,55]
[null,null,56]
[null,null,57]
[null,null,58]
[null,null,59]
[null,null,60]
[null,null,61]
[null,null,62]
[null,null,63]
[null,null,64]
[null,null,65]
[null,null,66]
[null,null,67]
[null,null,68]
[null,null,69]
[null,null,70]
[null,null,71]
[null,null,72]
[null,null,73]
[null,null,74]
[null,null,75]
[null,null,76]
[null,null,77]
[null,null,78]
[null,null,79]
[null,null,80]
[null,null,81]
[null,null,82]
[null,null,83]
[null,null,84]
[null,null,85]
[null,null,86]
[null,null,87]
[null,null,88]
[null,null,89]
[null,null,90]
[null,null,91]
[null,null,92]
[null,null,93]
[null,null,94]
[null,null,95]
[null,null,96]
[null,null,97]
[null,null,98]
[null,null,99]
[null,null,100]
[null,null,101]
[null,null,102]
[null,null,103]
[null,null,104]
[null,null,105]
[null,null,106]
[null,null,107]
[null,null,108]
[null,null,109]
[null,null,110]
[null,null,111]
[null,null,112]
[null,null,113]
[null,null,114]
[null,null,115]
[null,null,116]
[null,null,117]
[null,null,118]
[null,null,119]
[null,null,120]
[null,null,121]
[null,null,122]
[null,null,123]
[null,null,124]
[null,null,125]
[null,null,126]
[null,null,127]
[null,null,128]
[null,null,129]
[null,null,130]
[null,null,131]
[null,null,132]
[null,null,133]
[null,null,134]
[null,null,135]
[null,null,136]
[null,null,137]
[null,null,138]
[null,null,139]
[null,null,140]
[null,null,141]
[null,null,142]
[null,null,143]
[null,null,144]
[null,null,145]
[null,null,146]
[null,null,147]
[null,null,148]
[null,null,149]
[null,null,150]
[null,null,151]
[null,null,152]
[null,null,153]
[null,null,154]
[null,null,155]
[null,null,156]
[null,null,157]
[null,null,158]
[null,null,159]
[null,null,160]
[null,null,161]
[null,null,162]
[null,null,163]
[null,null,164]
[null,null,165]
[null,null,166]
[null,null,167]
[null,null,168]
[null,null,169]
[null,null,170]
[null,null,171]
[null,null,172]
[null,null,173]
[null,null,174]
[null,null,175]
[null,null,176]
[null,null,177]
[null,null,178]
[null,null,179]
[null,null,180]
[null,null,181]
[null,null,182]
[null,null,183]
[null,null,184]
[null,null,185]
[null,null,186]
[null,null,187]
[null,null,188]
[null,null,189]
[null,null,190]
[null,null,191]
[null,null,192]
[null,null,193]
[null,null,194]
[null,null,195]
[null,null,196]
[null,null,197]
[null,null,198]
[null,null,199]
[null,null,200]